{"text_format":"1","workbook":"xlsx","n_sheets":124,"sheets":["A. NASLOVNA STRAN","B. SKUPNA REK.","AB-C. DODATNE ZAHTEVE","REKAPITULACIJA Objekt A in B","REKAPITULACIA Objekt C, D in E","AB-E. REKAP. PRIPRAVLJALNA DELA","AB-1. PRIPRAVLJALNA DELA","AB-F. REKAP. GRADBENA DELA","AB-1. RUŠITVENA DELA","AB-2. ZEMELJSKA DELA","AB-3. BETONSKA DELA","AB-4. ZIDARSKA DELA","AB-5. TESARSKA DELA","AB-G. REKAP. OBRT. DELA","AB-1. KROVSKO KLEPARSKA","AB-2. KLJUČAVNIČARSKA","AB-3. NOTRANJA VRATA","AB-4. MIZARSKA DELA","AB-5. MONTAŽNA DELA","AB-6. SLIKOPLESKARSKA DELA","AB-7. KERAMIČARSKA DELA","AB-8. PODOPOLAGALSKA DELA","AB-9. OPREMA","ABH. REKAP. ENERGETSKA SANACIJA","AB-1.FASADA ES","AB-2.STREHA ES","AB-3. OKNA, VRATA, FAS. ZAS. ES","AB-I. REKAP. ZUNANJA UREDI","AB-1. SPLOŠNO","AB-1.PREDDELA ZU","AB-2.ZEMELJSKA DELA ZU","AB-3. ZGORNJI USTROJ ZU","AB-4.ODVODNJAVANJE ZU","AB-J. STROJNE INST. REKAP.","AB-1.SPLOŠNO","AB-2.OGREVANJE IN HLAJENJE","AB-3.VODOVOD IN KANALIZACIJA","AB-4.PREZRAČEVANJE","AB-.POŽARNE VODE","AB-PV_ZEMELJSKA DELA ","AB-PV_TESARSKA DELA","AB-PV_BETONSKA DELA","AB-PV_ZIDARSKA DELA","AB-PV_POŽARNA OPREMA","AB-K. REKAP. ELEK. INSTALACIJE","AB-1. REKAPIT. MOČNOSTNE - ŠOLA","AB-UVODNI LIST   ","AB-A.SVETILKE","AB-B.VARNOSTNA ","AB-C.INST MAT","AB-D.RAZDELILNIKI","AB-E.GRETJE ODTOKOV","AB-F.UPS","AB-G.STRELOVOD","AB-H.KOMPENZACIJA","AB-J.POLNILNICA","AB-K.DEMONTAŽA","AB-L. DOKUMENTI","AB-2. REKAPIT. Telekomunikacije","AB-A.SIGNALNO KOM. INŠTALACIJE","AB-B.TEHNIČNO VARNOSTNI SISTEMI","AB-C.MULTIMEDIJSKA OPREMA","AB-REKAPIT. NOTRANJA OPREMA","AB-L.NAVODILA","AB-NOTRANJA OPREMA","CDE-L.NAVODILA","CDE-F. REKAP. GRADBENA DELA","CDE-PRIPRA. IN ZAKLJUČNA DELA","CDE- AO.RUŠITVENA DELA","CDE- A1.ZEMELJSKA DELA","CDE- A2.TESARSKA DELA","CDE- A3.BETONSKA DELA","CDE- A4.ZIDARSKA DELA","CDE-A5.GRADBENI ODER","CDE- A6.KANALIZACIJA ","CDE-G. REKAP. OBRT. DELA","CDE- B1 KROVSKO KLEP. DELA ","CDE-  B2 ESTRIHI","CDE- B3 MIZARSKA DELA","CDE- B3a KLJUČAV. DELA","CDE- B4 PVC IN ALU DELA","CDE- B5 KERAMIČARSKA DELA","CDE-  B6 TLAKARSKA DELA","CDE-  B7 SUHOMONTAŽNA DELA","CDE-  B8 SLIKOPLESKARSKA DELA","CDE-  B9 FASADA","CDE-  B10 DVIGALO","CDE-G. REKAP. ZUNANJA UREDITEV","CDE-  ZUNANJA UREDITEV","CDE-REKAP. STROJNE INST.","CDE- VODA+KANALIZACIJA","CDE- OGRE.PREZ.OHLA.PLIN","CDE-REKAP. ELEKTRO INST.","CDE-SPLOŠNO","CDE-MOČ ","CDE-ŠIBKI TOK ","CDE-STRELOVOD","CDE-CNS","CDE-POŽAR","CDE-VLOM","CDE-VIDEO","CDE-KONTROLA PRISTOPA","CDE-VIDEOMOFON","CDE-MULTIMEDIA","CDE-OZVOČENJE+URE","CDE-ODT","CDE-RUŠITVE","CDE-REKAP. PLINSKI PRIKLJUČ ","CDE-PP GRADBENA DELA","CDE-PP STROJNA DELA ","CDE. REKAP. TOPLOTNA POSTAJA","CDE-Periferna oprema","CDE-Krmilna oprema","CDE-Elektro dela","CDE-REKAP. NN KABELSKI VOD","CDE-NN KABELSKI VOD ","CDE-REKAP. TEHNOLOGIJA","CDE-TEH. KUH. ZAHTEVE ","CDE-TEHNOLOŠKA OPREMA","CDE-REKAP. NOTRANJA OPREMA","CDE-OPREMA KLET","CDE-OPREMA PRITLIČJE ","CDE-OPREMA 1 NADSTROPJE","CDE-OPREMA 2 NADSTROPJE"],"not_rendered":{"charts":0,"images":26,"macros":1,"external_links":2,"defined_names":1233,"comments":3,"pivot_tables":0},"unopened":[],"bounds":{"document_bytes":16777216,"sheet_cells":100000,"rows_first":2000,"rows_last":500,"rows_between":2000,"halvings":0,"cell_chars":16384,"cell_head_chars":4096},"cells_cut":0,"cells_raw":0,"read":"whole","date_system":"1900"}

{"sheet":"A. NASLOVNA STRAN","index":0,"n_rows":22,"n_cols":5,"rows_kept":22,"cut":false,"hidden":false,"merged":[[21,0,21,8]]}
[]
["Investitor:   ",null,"Mestna občina Ljubljana"]
[null,null,"Konzorcij družb Petrol d. d. in Resalta d. o. o. "]
[]
["Objekt:      ",null,"OŠ Savsko naselje, Matjaževa ulica 4, Ljubljana"]
[null,null," Celovita prenova objekta s statično, požarno in energetsko sanacijo."]
[]
[]
["Štev. proj.:     "]
[]
["Datum:      ",null,"April 2022"]
[]
[]
[]
[null,null,null,null,"PONUDBENI PREDRAČUN"]
[]
[null,null,null,null,"CELOVITA PRENOVA OBJEKTA S STATIČNO, POŽARNO IN ENERGETSKO SANACIJO"]
[]
[]
[]
[]
["OŠ Savsko naselje, Matjaževa ulica 4, Ljubljana  -  Celovita prenova objekta  "]

{"sheet":"B. SKUPNA REK.","index":1,"n_rows":24,"n_cols":5,"rows_kept":24,"cut":false,"hidden":false,"merged":[]}
["Investitor:   ","Mestna občina Ljubljana"]
[null,"Konzorcij družb Petrol d. d. in Resalta d. o. o. "]
["Objekt:      ","OŠ Savsko naselje, Matjaževa ulica 4, Ljubljana"]
[null," - Celovita prenova objekta s statično, požarno in energetsko sanacijo."]
["Štev. proj.:     "]
["Datum:      ","April 2022"]
[]
[]
[null,"SKUPNA REKAPITULACIJA objektov A,B in C,D,E"]
[]
[]
[null,"POPUST V %",0]
[null,null,"(vnesi višino popusta)"]
[]
[null,"V rekapitulaciji vrednosti je upoštevan popust."]
[]
[]
[null,"Ponudbena vrednost - skupna rekapitulacija","Vrednost  brez popusta","Popust","Končna vrednost"]
[]
[null,"OBJEKT A, B",{"$f":"'REKAPITULACIJA Objekt A in B'!$C$96","v":27800},{"$f":"'REKAPITULACIJA Objekt A in B'!$D$96","v":0},{"$f":"'REKAPITULACIJA Objekt A in B'!$E$96","v":27800}]
[null,"OBJEKT C, D in E",{"$f":"'REKAPITULACIA Objekt C, D in E'!$C$145","v":27800},{"$f":"'REKAPITULACIA Objekt C, D in E'!$D$145","v":0},{"$f":"'REKAPITULACIA Objekt C, D in E'!$E$145","v":27800}]
[null,"VREDNOST DEL  S POPUSTOM IN BREZ DDV",null,null,{"$f":"SUM(E19:E21)","v":55600}]
[null," DDV 22%",null,null,{"$f":"+E22*0.22","v":12232}]
[null,"SKUPAJ z DDV:",null,null,{"$f":"+E22+E23","v":67832}]

{"sheet":"AB-C. DODATNE ZAHTEVE","index":2,"n_rows":93,"n_cols":2,"rows_kept":93,"cut":false,"hidden":false,"merged":[]}
[]
[null,"DOLOČILA OBLIKOVANJA PONUDBE IN IZVEDBE DEL"]
[]
[null,"SPLOŠNA DOLOČILA "]
[]
[null,"OPOZORILO PONUDNIKU"]
[null,"VSI PONUDNIKI Z ODDAJO PONUDBE IN SVOJIM PODPISOM POTRJUJEJO "]
[null,"DA SO UPOŠTEVALI ZAHTEVANE MATERIALE IN OPREMO, OZIROMA SO "]
[null,"ZAGOTOVILI KVALITETNO IN ESTETSKO ENAKOVREDNOST PONUJENEGA "]
[null,"IZDELKA NAPRAM ZAHTEVANEMU, TER DA SO PRI PRIPRAVI PONUDBE "]
[null,"PREGLEDALI TEKSTUALNI IN GRAFIČNI DEL PROJEKTA ! VSA NAVEDENA "]
[null,"KOMERCIALNA IMENA SO UPORABLJENA ZGOLJ ZARADI DOLOČITVE "]
[null,"ZAHTEVANE KVALITETE, KI JO MORA PONUDNIK IZPOLNITI ! VSI SESTAVNI "]
[null,"ELEMENTI, KAKOR TUDI PREMAZI, LAKI, BARVE IN OSTALA SREDSTVA "]
[null,"UPORABLJENA PRI IZDELAVI IN DOBAVI ZAHTEVANIH SESTAVNIH DELOV "]
[null,"OBJEKTA MORAJO USTREZATI UREDBI O ZELENEM JAVNEM NAROČANJU "]
[]
[null,"Naročnik bo pri pregledu ponudb preveril ustreznost cen in ponujeno kvaliteto. "]
[null,"Morebitne razlike v ceni, ki gredo na račun slabše kvalitete ponujenih elementov, "]
[null,"bo moral ponudnik finančno nadomestiti sam. "]
[null,"Vsi delavniški načrti sodijo v v sklop izvajalčeve ponudbe"]
[null,"Mere prikazane v grafičnih prilogah je potrebno predhodno "]
[null,"preveriti z arhitektom, prav tako je potrebno za vse elemente preveriti na mestu "]
[null,"vgradnje tudi vse dimenzije. V primeru neskladij v projektu ali tiskarskih napak "]
[null,"je ponudnik pred oddajo ponudbe dolžan o tem obvestiti projektanta in investitorja. "]
[null,"Vsi vgrajeni elementi in materiali morajo imeti vsa ustrezna dokazila, ki so zahtevana "]
[null,"po slovenskih predpisih za tozadevno gradnjo. Pri vseh opisih delovnih postavk "]
[null,"smiselno veljajo splošna določila standardiziranih opisov del za  visoko gradnjo "]
[null,"GIPOSS. "]
[null,"Enotne cene morajo vsebovati:"]
["*","snemanje potrebnih izmer na gradbišču in po načrtih, usklajevanje s projektantom, "]
[null,"izris in/ali usklajevanje potrebnih detajlov v primeru sistemskih rešitev dobaviteljev,"]
["*","izdelavo delavniške dokumentacije ter usklajevanje s projektantom do potrditve le-te,"]
["*","dostava vzorcev in/ali izdelava vzorčnih primerov in vgradnja le-teh na objektu "]
[null,"(v obsegu, opredeljenem v teh razpisnih pogojih),"]
["*","vsa potrebna pomožna, pripravljalna in pospravljalna dela,"]
["*","fino čiščenje in priprava podlage pred pričetkom del,"]
["*","pregled in prevzem predhodnih del,"]
["*","zarisovanje, kontrola usklajenosti mer z načrti ter prenos mer iz načrtov na objekt,"]
["*","ves potreben glavni, pomožni, pritrdilni, tesnilni in vezni material,"]
["*","skladiščenje oz. začasno hranjenje materiala na gradbišču,"]
["*","vse potrebne transporte in prenose materiala do mesta vgrajevanja,"]
["*","vse posredne stroške (kot so režijski stroški podjetja, davki in dajatve), vkalkulirane rizike "]
[null,"(vključno riziko spremembe nabavne cene) in/ali stroške zavarovanj le-teh (vključno "]
[null,"zavarovanje odgovornosti in gradbeno zavarovanje) ter dobiček,"]
["*","manipulativni, režijski in podobni stroški za dela, ki jih izvajalec ne izvaja sam s svojimi "]
[null,"delavci (t.j. za podizvajalce),"]
["*","vse potrebno delo in storitve, do končnega izdelka,"]
["*","izdelavo vseh potrebnih detajlov in zaključkov, tudi če niso podrobno navedeni in "]
[null,"opisani v popisu del, če so nujni za pravilno izvedbo ali funkcioniranje posameznih "]
[null,"sistemov in elementov objekta ali če so pogojeni z uporabo sistemske rešitve,"]
["*","razne oteževalne okoliščine, razen če je v pravilih obračuna v teh opisih to posebej navedeno,"]
["*","vsa potrebna delovna sredstva in/ali mehanizacija za izvedbo del, kot tudi vsa potrebna "]
[null,"pomožna sredstva za vgrajevanje oz. montažo in/ali demontažo na objektu kot so delovni, "]
[null,"premični in prevozni lahki odri, konzolni in viseči odri, lovilni in podporni odri, lestve, dvigala, "]
[null,"črpalke in podobno,"]
["*","terminsko usklajevanje del z ostalimi izvajalci na objektu,"]
["*","izvedba v fazah, prilagojena tehnološkim zahtevam, napredovanju ostalih del, zahtevam "]
[null,"Zavoda za varstvo naravne in kulturne dediščine ter faznim prevzemom s strani nadzora, "]
[null,"ki se bo vršil največ 3 × tedensko,"]
["*","dokazovanje skladnosti z veljavnimi standardi in tehničnimi specifikacijami oz. dokazovanje "]
[null,"izpolnjevanja s projektom in soglasji predpisanih zahtev, vključno z izrecno navedenimi "]
[null,"dokazili v teh splošnih opisih,"]
["*","stroški poskusnega obratovanja (delo, storitve, energija) za izvedbo raznih meritev "]
[null,"(za dokazila iz prejšnje alineje),"]
["*","vsa morebitna potrebna dela, aktivnosti in ukrepe (vključno s potrebnim materialom, "]
[null,"dodatki in energenti) za zagotovitev ustreznih pogojev (temperatura, vlaga,...ipd.) za "]
[null,"izvedbo vseh vrst del (npr. prisilno razvlaževanje, začasno zapiranje objekta, ogrevanje "]
[null,"v času gradnje, dodatki k materialom ali uporaba manj občutljivih materialov ipd.),"]
["*","zaščita oz. ustrezni ukrepi za ohranitev vseh izvedenih del in gotovih izdelkov pred "]
[null,"poškodbami ali drugim razvrednotenjem do primopredaje objekta uporabnikom,"]
["*","zaščita oz. ustrezni ukrepi za obvarovanje delov objektov in zunanje ureditve, "]
[null,"v katere se ne posega,"]
["*","sprotno in končno čiščenje prostorov in okolice objekta ter ločeno zbiranje in začasno "]
[null,"hranjenje odpadkov in embalaže do odvoza na stalno deponijo,"]
["*","nakladanje in odvoz odpadkov in embalaže na stalno deponijo, plačilo vseh prispevkov "]
[null,"in dajatev za stalno deponijo odpadnega materiala, vključno s predložitvijo »evidenčnih "]
[null,"listov o ravnanju z odpadki« ter izdelavo »poročila o ravnanju z odpadki«,"]
[null,"Potrditev o primernosti predlaganih proizvodov morajo podati projektant in nadzor "]
[null,"in naročnik. Pomanjkanje na trgu, dolgi dobavni roki, spremembe nabavnih cen ipd. "]
[null,"ne predstavljajo dopustnega razloga za odstopanje od predvidenega proizvoda oz. "]
[null,"kakovosti, roka in cene. V primeru kakršnegakoli neskladja med določili in imenovanimi "]
[null,"proizvodi v popisih del ter projektno dokumentacijo mora izvajalec o tem nemudoma "]
[null,"obvestiti naročnika, ki v soglasju s projektantom določi, katera določila se upoštevajo "]
[null,"oz. kateri proizvod se vgradi."]
[null,"S strani naročnika podana specifikacija zahtevanega predmeta javnega naročila je dokončna in za ponudnike zavajajoča in je v fazi ponujanja ni dovoljeno spreminjati (razen, če jo naročnik spremeni skladno z veljavno zakonodajo)."]
[null," Dovoljena odstopanja  5%"]
[null,"Priložena specifikacija opreme je dokončna in je v fazi ponujanja ni dovoljeno spreminjati (razen, če jo naročnik spremeni preko Portala javnih naročil)."]
[null,"Vsa ponujena oprema mora imeti ES Izjavo o skladnosti, oznako CE in navodila v slovenskem jeziku."]
[null,"Naročnik ne bo priznal ponudbe, ki bo navajala da se bo oprema, ki mora imeti ustrezne tehnične certifikate (CE in podobno), izdelala po naročilu, opisu ali meri. Za tako navedeno ponujeno opremo mora ponudnik takoj predložiti ustrezen certifikat (ES, CE, EN oz. IEC)."]
[null,"Garancija za opremo je minimalno 36 mesecev od primopredajnega zapisnika."]
[null," Rezervni deli morajo biti na voljo najmanj 10 let."]
[null," Ponudnik bo preveril dejanske mere na objektu in temu prilagodil opremo. Mere za opremo so informativne, če je predvidena oprema daljša ali krajša jo je potrebno prilagoditi dejanskemu stanju na objektu."]

{"sheet":"REKAPITULACIJA Objekt A in B","index":3,"n_rows":98,"n_cols":9,"rows_kept":98,"cut":false,"hidden":false,"merged":[]}
["Investitor:   ","Mestna občina Ljubljana"]
[null,"Konzorcij družb Petrol d. d. in Resalta d. o. o. "]
["Objekt:      ","OŠ Savsko naselje, Matjaževa ulica 4, Ljubljana"]
[null," - Celovita prenova objekta s statično, požarno in energetsko sanacijo."]
["Štev. proj.:     "]
["Datum:      ","April 2022"]
[]
[null,"REKAPITULACIJA   A + B"]
[]
[]
[]
[null,"Ponudbena vrednost - skupna rekapitulacija","Vrednost  brez popusta","Popust","Vrednost s popustom"]
[]
["AB-E.","1. PRIPRAVLJALNA DELA"]
["5.","Pripravljalna dela",{"$f":"'AB-1. PRIPRAVLJALNA DELA'!$F$59","v":0},{"$f":"'AB-1. PRIPRAVLJALNA DELA'!$H$59","v":0},{"$f":"'AB-1. PRIPRAVLJALNA DELA'!$J$59","v":0}]
[null,"SKUPAJ GRADBENA DELA",{"$f":"SUM(C15)","v":0},{"$f":"SUM(D15)","v":0},{"$f":"SUM(E15)","v":0}]
[]
["AB-F.","REKAPITULACIJA GRADBENA DELA"]
["1.","Rušitvena dela",{"$f":"'AB-F. REKAP. GRADBENA DELA'!$C$13","v":0},{"$f":"'AB-F. REKAP. GRADBENA DELA'!$D$13","v":0},{"$f":"'AB-F. REKAP. GRADBENA DELA'!$E$13","v":0}]
["2.","Zemeljska dela",{"$f":"'AB-F. REKAP. GRADBENA DELA'!$C$14","v":0},{"$f":"'AB-F. REKAP. GRADBENA DELA'!$D$14","v":0},{"$f":"'AB-F. REKAP. GRADBENA DELA'!$E$14","v":0}]
["3.","Betonska dela",{"$f":"'AB-F. REKAP. GRADBENA DELA'!$C$15","v":0},{"$f":"'AB-F. REKAP. GRADBENA DELA'!$D$15","v":0},{"$f":"'AB-F. REKAP. GRADBENA DELA'!$E$15","v":0}]
["4.","Zidarska dela",{"$f":"'AB-F. REKAP. GRADBENA DELA'!$C$16","v":0},{"$f":"'AB-F. REKAP. GRADBENA DELA'!$D$16","v":0},{"$f":"'AB-F. REKAP. GRADBENA DELA'!$E$16","v":0}]
["5.","Tesarska dela",{"$f":"'AB-F. REKAP. GRADBENA DELA'!$C$17","v":0},{"$f":"'AB-F. REKAP. GRADBENA DELA'!$D$17","v":0},{"$f":"'AB-F. REKAP. GRADBENA DELA'!$E$17","v":0}]
[null,"SKUPAJ GRADBENA DELA",{"$f":"SUM(C19:C23)","v":0},{"$f":"SUM(D19:D23)","v":0},{"$f":"SUM(E19:E23)","v":0}]
[]
["AB-G.","REKAPITULACIJA OBRTNIŠKA DELA"]
["1.","Krovsko kleparska dela",{"$f":"'AB-G. REKAP. OBRT. DELA'!$C$16","v":0},{"$f":"'AB-G. REKAP. OBRT. DELA'!$D$16","v":0},{"$f":"'AB-G. REKAP. OBRT. DELA'!$E$16","v":0}]
["2.","Ključavničarska dela:",{"$f":"'AB-G. REKAP. OBRT. DELA'!$C$17","v":0},{"$f":"'AB-G. REKAP. OBRT. DELA'!$D$17","v":0},{"$f":"'AB-G. REKAP. OBRT. DELA'!$E$17","v":0}]
["3.","Notranja vrata",{"$f":"'AB-G. REKAP. OBRT. DELA'!$C$18","v":0},{"$f":"'AB-G. REKAP. OBRT. DELA'!$D$18","v":0},{"$f":"'AB-G. REKAP. OBRT. DELA'!$E$18","v":0}]
["4.","Mizarska dela",{"$f":"'AB-G. REKAP. OBRT. DELA'!$C$19","v":0},{"$f":"'AB-G. REKAP. OBRT. DELA'!$D$19","v":0},{"$f":"'AB-G. REKAP. OBRT. DELA'!$E$19","v":0}]
["5.","Montažna dela.",{"$f":"'AB-G. REKAP. OBRT. DELA'!$C$20","v":0},{"$f":"'AB-G. REKAP. OBRT. DELA'!$D$20","v":0},{"$f":"'AB-G. REKAP. OBRT. DELA'!$E$20","v":0}]
["6.","Slikopleskarska  dela",{"$f":"'AB-G. REKAP. OBRT. DELA'!$C$21","v":0},{"$f":"'AB-G. REKAP. OBRT. DELA'!$D$21","v":0},{"$f":"'AB-G. REKAP. OBRT. DELA'!$E$21","v":0}]
["8.","Keramičasrka dela",{"$f":"'AB-G. REKAP. OBRT. DELA'!$C$22","v":0},{"$f":"'AB-G. REKAP. OBRT. DELA'!$D$22","v":0},{"$f":"'AB-G. REKAP. OBRT. DELA'!$E$22","v":0}]
["9.","Podopolagalska dela",{"$f":"'AB-G. REKAP. OBRT. DELA'!$C$23","v":0},{"$f":"'AB-G. REKAP. OBRT. DELA'!$D$23","v":0},{"$f":"'AB-G. REKAP. OBRT. DELA'!$E$23","v":0}]
["9.","Oprema",{"$f":"'AB-G. REKAP. OBRT. DELA'!$C$24","v":0},{"$f":"'AB-G. REKAP. OBRT. DELA'!$D$24","v":0},{"$f":"'AB-G. REKAP. OBRT. DELA'!$E$24","v":0}]
[null,"SKUPAJ OBRTNIŠKA DELA",{"$f":"SUM(C27:C35)","v":0},{"$f":"SUM(D27:D35)","v":0},{"$f":"SUM(E27:E35)","v":0}]
[]
["AB-H.","REKAPITULACIJA ENERGETSKA SANACIJA"]
["1.","Fasada",{"$f":"'ABH. REKAP. ENERGETSKA SANACIJA'!$C$17","v":0},{"$f":"'ABH. REKAP. ENERGETSKA SANACIJA'!$D$17","v":0},{"$f":"'ABH. REKAP. ENERGETSKA SANACIJA'!$E$17","v":0},null,null,null,{"$f":"+E39*H39","v":0}]
["2.","Streha",{"$f":"'ABH. REKAP. ENERGETSKA SANACIJA'!$C$18","v":0},{"$f":"'ABH. REKAP. ENERGETSKA SANACIJA'!$D$18","v":0},{"$f":"'ABH. REKAP. ENERGETSKA SANACIJA'!$E$18","v":0},null,null,null,0]
["3.","Okna, Vrata, Fasadne zasteklitve",{"$f":"'ABH. REKAP. ENERGETSKA SANACIJA'!$C$19","v":0},{"$f":"'ABH. REKAP. ENERGETSKA SANACIJA'!$D$19","v":0},{"$f":"'ABH. REKAP. ENERGETSKA SANACIJA'!$E$19","v":0},null,null,null,0]
[null,"SKUPAJ ENERGETSKA SANACIJA",{"$f":"SUM(C39:C41)","v":0},{"$f":"SUM(D39:D41)","v":0},{"$f":"SUM(E39:E41)","v":0},null,null,null,{"$f":"SUM(I39:I41)","v":0}]
[]
["AB-I.","REKAPITULACIJA ZUNANJA UREDITEV"]
["1.","Preddela",{"$f":"'AB-I. REKAP. ZUNANJA UREDI'!$C$19","v":0},{"$f":"'AB-I. REKAP. ZUNANJA UREDI'!$D$19","v":0},{"$f":"'AB-I. REKAP. ZUNANJA UREDI'!$E$19","v":0}]
["2.","Zemeljska dela",{"$f":"'AB-I. REKAP. ZUNANJA UREDI'!$C$20","v":0},{"$f":"'AB-I. REKAP. ZUNANJA UREDI'!$D$20","v":0},{"$f":"'AB-I. REKAP. ZUNANJA UREDI'!$E$20","v":0}]
["3.","Zgornji ustroj",{"$f":"'AB-I. REKAP. ZUNANJA UREDI'!$C$21","v":0},{"$f":"'AB-I. REKAP. ZUNANJA UREDI'!$D$21","v":0},{"$f":"'AB-I. REKAP. ZUNANJA UREDI'!$E$21","v":0}]
["4.","Odvodnjavanje",{"$f":"'AB-I. REKAP. ZUNANJA UREDI'!$C$22","v":0},{"$f":"'AB-I. REKAP. ZUNANJA UREDI'!$D$22","v":0},{"$f":"'AB-I. REKAP. ZUNANJA UREDI'!$E$22","v":0}]
[null,"SKUPAJ ZUNANJA UREDITEV",{"$f":"SUM(C45:C48)","v":0},{"$f":"SUM(D45:D48)","v":0},{"$f":"SUM(E45:E48)","v":0}]
[]
["AB-J.","REKAPITULACIJA STROJNE"]
[{"$f":"'AB-J. STROJNE INST. REKAP.'!$A$16","v":1},{"$f":"'AB-J. STROJNE INST. REKAP.'!$B$16","v":"SPLOŠNO"},{"$f":"'AB-J. STROJNE INST. REKAP.'!$C$16","v":0},{"$f":"'AB-J. STROJNE INST. REKAP.'!$D$16","v":0},{"$f":"'AB-J. STROJNE INST. REKAP.'!$E$16","v":0}]
[{"$f":"'AB-J. STROJNE INST. REKAP.'!$A$17","v":2},{"$f":"'AB-J. STROJNE INST. REKAP.'!$B$17","v":"OGREVANJE IN HLAJENJE"},{"$f":"'AB-J. STROJNE INST. REKAP.'!$C$17","v":0},{"$f":"'AB-J. STROJNE INST. REKAP.'!$D$17","v":0},{"$f":"'AB-J. STROJNE INST. REKAP.'!$E$17","v":0}]
[{"$f":"'AB-J. STROJNE INST. REKAP.'!$A$18","v":3},{"$f":"'AB-J. STROJNE INST. REKAP.'!$B$18","v":"VODOVOD IN KANALIZACIJA"},{"$f":"'AB-J. STROJNE INST. REKAP.'!$C$18","v":0},{"$f":"'AB-J. STROJNE INST. REKAP.'!$D$18","v":0},{"$f":"'AB-J. STROJNE INST. REKAP.'!$E$18","v":0}]
[{"$f":"'AB-J. STROJNE INST. REKAP.'!$A$19","v":4},{"$f":"'AB-J. STROJNE INST. REKAP.'!$B$19","v":"PREZRAČEVANJE"},{"$f":"'AB-J. STROJNE INST. REKAP.'!$C$19","v":0},{"$f":"'AB-J. STROJNE INST. REKAP.'!$D$19","v":0},{"$f":"'AB-J. STROJNE INST. REKAP.'!$E$19","v":0}]
[null,"SKUPAJ STROJNE",{"$f":"SUM(C52:C55)","v":0},{"$f":"SUM(D52:D55)","v":0},{"$f":"SUM(E52:E55)","v":0}]
[]
["AB-","REKAPITULACIJA POŽARNE VODE"]
[null,{"$f":"'AB-.POŽARNE VODE'!$B$16","v":"AB-PV_ZEMELJSKA DELA "},{"$f":"'AB-.POŽARNE VODE'!$C$16","v":0},{"$f":"'AB-.POŽARNE VODE'!$D$16","v":0},{"$f":"'AB-.POŽARNE VODE'!$E$16","v":0}]
[null,{"$f":"'AB-.POŽARNE VODE'!$B$17","v":"AB-PV_TESARSKA DELA"},{"$f":"'AB-.POŽARNE VODE'!$C$17","v":0},{"$f":"'AB-.POŽARNE VODE'!$D$17","v":0},{"$f":"'AB-.POŽARNE VODE'!$E$17","v":0}]
[null,{"$f":"'AB-.POŽARNE VODE'!$B$18","v":"AB-PV_BETONSKA DELA"},{"$f":"'AB-.POŽARNE VODE'!$C$18","v":0},{"$f":"'AB-.POŽARNE VODE'!$D$18","v":0},{"$f":"'AB-.POŽARNE VODE'!$E$18","v":0}]
[null,{"$f":"'AB-.POŽARNE VODE'!$B$19","v":"AB-PV_ZIDARSKA DELA"},{"$f":"'AB-.POŽARNE VODE'!$C$19","v":0},{"$f":"'AB-.POŽARNE VODE'!$D$19","v":0},{"$f":"'AB-.POŽARNE VODE'!$E$19","v":0}]
[null,{"$f":"'AB-.POŽARNE VODE'!$B$20","v":"AB-PV_POŽARNA OPREMA"},{"$f":"'AB-.POŽARNE VODE'!$C$20","v":0},{"$f":"'AB-.POŽARNE VODE'!$D$20","v":0},{"$f":"'AB-.POŽARNE VODE'!$E$20","v":0}]
[null,"SKUPAJ POŽARNE VODE",{"$f":"SUM(C59:C63)","v":0},{"$f":"SUM(D59:D63)","v":0},{"$f":"SUM(E59:E63)","v":0}]
[]
["AB-K.","REKAPITULACIJA ELEKTRO"]
["1.","Močnostne elektroinstalacije - ŠOLA",null,{"$f":"+C67*MM","v":0}]
["a.","Svetilke splošne razsvetljave",{"$f":"'AB-K. REKAP. ELEK. INSTALACIJE'!$C$14","v":0},{"$f":"'AB-K. REKAP. ELEK. INSTALACIJE'!$D$14","v":0},{"$f":"'AB-K. REKAP. ELEK. INSTALACIJE'!$E$14","v":0}]
["b.","Svetilke varnostne razsvetljave",{"$f":"'AB-K. REKAP. ELEK. INSTALACIJE'!$C$15","v":0},{"$f":"'AB-K. REKAP. ELEK. INSTALACIJE'!$D$15","v":0},{"$f":"'AB-K. REKAP. ELEK. INSTALACIJE'!$E$15","v":0}]
["c.","Instalacijski material",{"$f":"'AB-K. REKAP. ELEK. INSTALACIJE'!$C$16","v":0},{"$f":"'AB-K. REKAP. ELEK. INSTALACIJE'!$D$16","v":0},{"$f":"'AB-K. REKAP. ELEK. INSTALACIJE'!$E$16","v":0}]
["d.","Razdelilniki",{"$f":"'AB-K. REKAP. ELEK. INSTALACIJE'!$C$17","v":0},{"$f":"'AB-K. REKAP. ELEK. INSTALACIJE'!$D$17","v":0},{"$f":"'AB-K. REKAP. ELEK. INSTALACIJE'!$E$17","v":0}]
["e.","El. gretje odtokov in žlebov",{"$f":"'AB-K. REKAP. ELEK. INSTALACIJE'!$C$18","v":0},{"$f":"'AB-K. REKAP. ELEK. INSTALACIJE'!$D$18","v":0},{"$f":"'AB-K. REKAP. ELEK. INSTALACIJE'!$E$18","v":0}]
["f.","UPS naprava",{"$f":"'AB-K. REKAP. ELEK. INSTALACIJE'!$C$19","v":0},{"$f":"'AB-K. REKAP. ELEK. INSTALACIJE'!$D$19","v":0},{"$f":"'AB-K. REKAP. ELEK. INSTALACIJE'!$E$19","v":0}]
["g.","Strelovod",{"$f":"'AB-K. REKAP. ELEK. INSTALACIJE'!$C$20","v":0},{"$f":"'AB-K. REKAP. ELEK. INSTALACIJE'!$D$20","v":0},{"$f":"'AB-K. REKAP. ELEK. INSTALACIJE'!$E$20","v":0}]
["h.","Kompenzacija",{"$f":"'AB-K. REKAP. ELEK. INSTALACIJE'!$C$21","v":0},{"$f":"'AB-K. REKAP. ELEK. INSTALACIJE'!$D$21","v":0},{"$f":"'AB-K. REKAP. ELEK. INSTALACIJE'!$E$21","v":0}]
["j.","Polnilnica za el. avtomobile",{"$f":"'AB-K. REKAP. ELEK. INSTALACIJE'!$C$22","v":0},{"$f":"'AB-K. REKAP. ELEK. INSTALACIJE'!$D$22","v":0},{"$f":"'AB-K. REKAP. ELEK. INSTALACIJE'!$E$22","v":0}]
["k.","Demontažna in druga dela",{"$f":"'AB-K. REKAP. ELEK. INSTALACIJE'!$C$23","v":0},{"$f":"'AB-K. REKAP. ELEK. INSTALACIJE'!$D$23","v":0},{"$f":"'AB-K. REKAP. ELEK. INSTALACIJE'!$E$23","v":0}]
["l.","Dokumentacija",{"$f":"'AB-K. REKAP. ELEK. INSTALACIJE'!$C$24","v":0},{"$f":"'AB-K. REKAP. ELEK. INSTALACIJE'!$D$24","v":0},{"$f":"'AB-K. REKAP. ELEK. INSTALACIJE'!$E$24","v":0}]
[]
["2.","Telekomunikacije"]
["a.","Signalno komunikacijske instalacije",{"$f":"'AB-K. REKAP. ELEK. INSTALACIJE'!$C$26","v":0},{"$f":"'AB-K. REKAP. ELEK. INSTALACIJE'!$D$26","v":0},{"$f":"'AB-K. REKAP. ELEK. INSTALACIJE'!$E$26","v":0}]
["b.","Tehnično varnostni sistem",{"$f":"'AB-K. REKAP. ELEK. INSTALACIJE'!$C$27","v":0},{"$f":"'AB-K. REKAP. ELEK. INSTALACIJE'!$D$27","v":0},{"$f":"'AB-K. REKAP. ELEK. INSTALACIJE'!$E$27","v":0}]
["c.","Multimedijska oprema",{"$f":"'AB-K. REKAP. ELEK. INSTALACIJE'!$C$28","v":0},{"$f":"'AB-K. REKAP. ELEK. INSTALACIJE'!$D$28","v":0},{"$f":"'AB-K. REKAP. ELEK. INSTALACIJE'!$E$28","v":0}]
[null,"SKUPAJ ELEKTRO",{"$f":"SUM(C67:C83)","v":0},{"$f":"SUM(D67:D83)","v":0},{"$f":"SUM(E67:E83)","v":0}]
[]
["AB-L.","REKAPITULACIJA NOTRANJA OPREMA"]
["1.","Omare, stoli, mize, obloge",{"$f":"'AB-REKAPIT. NOTRANJA OPREMA'!$C$18","v":0},{"$f":"'AB-REKAPIT. NOTRANJA OPREMA'!$D$18","v":0},{"$f":"'AB-REKAPIT. NOTRANJA OPREMA'!$E$18","v":0}]
[null,"SKUPAJ NOTRANJA OPREMA",{"$f":"SUM(C87:C87)","v":0},{"$f":"SUM(D87:D87)","v":0},{"$f":"SUM(E87:E87)","v":0}]
[]
["AB-M.","OSTALI STROŠKI IZVEDBE"]
["1.","PRESEŽENA IN POZNEJŠA DELA. Obračun po dejanskih količinah, ki izhajajo iz potrjenega gradbenega dnevnika in ob upoštevanju kalkulativnih osnov.",{"$f":"(+C84+C56+C49+C42+C36+C24+C16+C64)*0.05","v":0},{"$f":"+C91*MM","v":0},{"$f":"+C91-D91","v":0}]
["2.","IZDELAVA PID DOKUMENTACIJE. Izbrani izvajalec je dolžan pri uvedbi v delo izročiti naročilnico za izdelavo PID dokumentacije",27800,null,{"$f":"+C92","v":27800}]
[null,"SKUPAJ OSTALI STROŠKI IZVEDBE",{"$f":"SUM(C91:C92)","v":27800},{"$f":"SUM(D91:D92)","v":0},{"$f":"SUM(E91:E92)","v":27800}]
[]
[null,null,"Vrednost brez popusta","Popust","Vrednost s popustom"]
[null," SKUPAJ:",{"$f":"+C93+C88+C84+C56+C49+C42+C36+C24+C16+C64+C64","v":27800},{"$f":"+D93+D88+D84+D56+D49+D42+D36+D24+D16+D64+D64","v":0},{"$f":"+E93+E88+E84+E56+E49+E42+E36+E24+E16+E64+E64","v":27800}]
[null," DDV 22%",null,null,{"$f":"+E96*0.22","v":6116}]
[null,"SKUPAJ z DDV:",null,null,{"$f":"SUM(E96:E97)","v":33916}]

{"sheet":"REKAPITULACIA Objekt C, D in E","index":4,"n_rows":147,"n_cols":5,"rows_kept":147,"cut":false,"hidden":false,"merged":[]}
[]
["Investitor:   ","Mestna občina Ljubljana"]
[null,"Konzorcij družb Petrol d. d. in Resalta d. o. o. "]
[]
["Objekt:      ","OŠ Savsko naselje, Matjaževa ulica 4, Ljubljana"]
["Investitor:   ","Mestna občina Ljubljana"]
[null,"Konzorcij družb Petrol d. d. in Resalta d. o. o. "]
["Objekt:      ","OŠ Savsko naselje, Matjaževa ulica 4, Ljubljana"]
[null," - Celovita prenova objekta s statično, požarno in energetsko sanacijo."]
["Štev. proj.:     "]
["Datum:      ","April 2022"]
[]
[null,"SKUPNA REKAPITULACIJA objekta C, D in E"]
[]
[null,"Ponudbena vrednost - skupna rekapitulacija","Vrednost  brez popusta","Popust","Vrednost s popustom"]
[]
["F."," C+D+E GRADBENA DELA"]
[{"$f":"'CDE-F. REKAP. GRADBENA DELA'!$A$14","v":0},{"$f":"'CDE-F. REKAP. GRADBENA DELA'!$B$14","v":"Objekt C, D in E,  PRIPRAVLJALNA IN ZAKLJUČNA DELA"},{"$f":"'CDE-F. REKAP. GRADBENA DELA'!$C$14","v":0},{"$f":"'CDE-F. REKAP. GRADBENA DELA'!$D$14","v":0},{"$f":"'CDE-F. REKAP. GRADBENA DELA'!$E$14","v":0}]
[{"$f":"'CDE-F. REKAP. GRADBENA DELA'!$A$15","v":"AO"},{"$f":"'CDE-F. REKAP. GRADBENA DELA'!$B$15","v":"RUŠITVENA DELA"},{"$f":"'CDE-F. REKAP. GRADBENA DELA'!$C$15","v":0},{"$f":"'CDE-F. REKAP. GRADBENA DELA'!$D$15","v":0},{"$f":"'CDE-F. REKAP. GRADBENA DELA'!$E$15","v":0}]
[{"$f":"'CDE-F. REKAP. GRADBENA DELA'!$A$16","v":"A1"},{"$f":"'CDE-F. REKAP. GRADBENA DELA'!$B$16","v":"ZEMELJSKA DELA"},{"$f":"'CDE-F. REKAP. GRADBENA DELA'!$C$16","v":0},{"$f":"'CDE-F. REKAP. GRADBENA DELA'!$D$16","v":0},{"$f":"'CDE-F. REKAP. GRADBENA DELA'!$E$16","v":0}]
[{"$f":"'CDE-F. REKAP. GRADBENA DELA'!$A$17","v":"A2"},{"$f":"'CDE-F. REKAP. GRADBENA DELA'!$B$17","v":" TESARSKA DELA"},{"$f":"'CDE-F. REKAP. GRADBENA DELA'!$C$17","v":0},{"$f":"'CDE-F. REKAP. GRADBENA DELA'!$D$17","v":0},{"$f":"'CDE-F. REKAP. GRADBENA DELA'!$E$17","v":0}]
[{"$f":"'CDE-F. REKAP. GRADBENA DELA'!$A$18","v":"A3"},{"$f":"'CDE-F. REKAP. GRADBENA DELA'!$B$18","v":"BETONSKA DELA"},{"$f":"'CDE-F. REKAP. GRADBENA DELA'!$C$18","v":0},{"$f":"'CDE-F. REKAP. GRADBENA DELA'!$D$18","v":0},{"$f":"'CDE-F. REKAP. GRADBENA DELA'!$E$18","v":0}]
[{"$f":"'CDE-F. REKAP. GRADBENA DELA'!$A$19","v":"A4"},{"$f":"'CDE-F. REKAP. GRADBENA DELA'!$B$19","v":"ZIDARSKA DELA"},{"$f":"'CDE-F. REKAP. GRADBENA DELA'!$C$19","v":0},{"$f":"'CDE-F. REKAP. GRADBENA DELA'!$D$19","v":0},{"$f":"'CDE-F. REKAP. GRADBENA DELA'!$E$19","v":0}]
[{"$f":"'CDE-F. REKAP. GRADBENA DELA'!$A$20","v":"A5"},{"$f":"'CDE-F. REKAP. GRADBENA DELA'!$B$20","v":"GRADBENI ODER"},{"$f":"'CDE-F. REKAP. GRADBENA DELA'!$C$20","v":0},{"$f":"'CDE-F. REKAP. GRADBENA DELA'!$D$20","v":0},{"$f":"'CDE-F. REKAP. GRADBENA DELA'!$E$20","v":0}]
[{"$f":"'CDE-F. REKAP. GRADBENA DELA'!$A$21","v":"A6"},{"$f":"'CDE-F. REKAP. GRADBENA DELA'!$B$21","v":"KANALIZACIJA"},{"$f":"'CDE-F. REKAP. GRADBENA DELA'!$C$21","v":0},{"$f":"'CDE-F. REKAP. GRADBENA DELA'!$D$21","v":0},{"$f":"'CDE-F. REKAP. GRADBENA DELA'!$E$21","v":0}]
[null,"SKUPAJ GRADBENA DELA  C+D+E  ",{"$f":"SUM(C18:C25)","v":0},{"$f":"SUM(D18:D25)","v":0},{"$f":"SUM(E18:E25)","v":0}]
[]
["G."," C+D+E OBRTNIŠKA DELA "]
[null,{"$f":"'CDE-G. REKAP. OBRT. DELA'!$B$16","v":"B1. KROVSKO KLEPARSKA DELA"},{"$f":"'CDE-G. REKAP. OBRT. DELA'!$C$16","v":0},{"$f":"'CDE-G. REKAP. OBRT. DELA'!$D$16","v":0},{"$f":"'CDE-G. REKAP. OBRT. DELA'!$E$16","v":0}]
[null,{"$f":"'CDE-G. REKAP. OBRT. DELA'!$B$17","v":"B2 ESTRIHI"},{"$f":"'CDE-G. REKAP. OBRT. DELA'!$C$17","v":0},{"$f":"'CDE-G. REKAP. OBRT. DELA'!$D$17","v":0},{"$f":"'CDE-G. REKAP. OBRT. DELA'!$E$17","v":0}]
[null,{"$f":"'CDE-G. REKAP. OBRT. DELA'!$B$18","v":"B3 MIZARSKA DELA"},{"$f":"'CDE-G. REKAP. OBRT. DELA'!$C$18","v":0},{"$f":"'CDE-G. REKAP. OBRT. DELA'!$D$18","v":0},{"$f":"'CDE-G. REKAP. OBRT. DELA'!$E$18","v":0}]
[null,{"$f":"'CDE-G. REKAP. OBRT. DELA'!$B$19","v":"B3a KLJUČAV. DELA"},{"$f":"'CDE-G. REKAP. OBRT. DELA'!$C$19","v":0},{"$f":"'CDE-G. REKAP. OBRT. DELA'!$D$19","v":0},{"$f":"'CDE-G. REKAP. OBRT. DELA'!$E$19","v":0}]
[null,{"$f":"'CDE-G. REKAP. OBRT. DELA'!$B$20","v":"B4 PVC IN ALU DELA"},{"$f":"'CDE-G. REKAP. OBRT. DELA'!$C$20","v":0},{"$f":"'CDE-G. REKAP. OBRT. DELA'!$D$20","v":0},{"$f":"'CDE-G. REKAP. OBRT. DELA'!$E$20","v":0}]
[null,{"$f":"'CDE-G. REKAP. OBRT. DELA'!$B$21","v":"B5. KERAMIČARSKA DELA"},{"$f":"'CDE-G. REKAP. OBRT. DELA'!$C$21","v":0},{"$f":"'CDE-G. REKAP. OBRT. DELA'!$D$21","v":0},{"$f":"'CDE-G. REKAP. OBRT. DELA'!$E$21","v":0}]
[null,{"$f":"'CDE-G. REKAP. OBRT. DELA'!$B$22","v":"B6. TLAKARSKA DELA"},{"$f":"'CDE-G. REKAP. OBRT. DELA'!$C$22","v":0},{"$f":"'CDE-G. REKAP. OBRT. DELA'!$D$22","v":0},{"$f":"'CDE-G. REKAP. OBRT. DELA'!$E$22","v":0}]
[null,{"$f":"'CDE-G. REKAP. OBRT. DELA'!$B$23","v":" B7. SUHOMONTAŽNA DELA"},{"$f":"'CDE-G. REKAP. OBRT. DELA'!$C$23","v":0},{"$f":"'CDE-G. REKAP. OBRT. DELA'!$D$23","v":0},{"$f":"'CDE-G. REKAP. OBRT. DELA'!$E$23","v":0}]
[null,{"$f":"'CDE-G. REKAP. OBRT. DELA'!$B$24","v":"B8. SLIKOPLESKARSKA DELA"},{"$f":"'CDE-G. REKAP. OBRT. DELA'!$C$24","v":0},{"$f":"'CDE-G. REKAP. OBRT. DELA'!$D$24","v":0},{"$f":"'CDE-G. REKAP. OBRT. DELA'!$E$24","v":0}]
[null,{"$f":"'CDE-G. REKAP. OBRT. DELA'!$B$25","v":"B9. FASADA"},{"$f":"'CDE-G. REKAP. OBRT. DELA'!$C$25","v":0},{"$f":"'CDE-G. REKAP. OBRT. DELA'!$D$25","v":0},{"$f":"'CDE-G. REKAP. OBRT. DELA'!$E$25","v":0}]
[null,{"$f":"'CDE-G. REKAP. OBRT. DELA'!$B$26","v":"B10. DVIGALO"},{"$f":"'CDE-G. REKAP. OBRT. DELA'!$C$26","v":0},{"$f":"'CDE-G. REKAP. OBRT. DELA'!$D$26","v":0},{"$f":"'CDE-G. REKAP. OBRT. DELA'!$E$26","v":0}]
[null,"SKUPAJ OBRTNIŠKA DELA  C+D+E  ",{"$f":"SUM(C29:C39)","v":0},{"$f":"SUM(D29:D39)","v":0},{"$f":"SUM(E29:E39)","v":0}]
[]
["H.","C + D + E  ZUNANJA UREDITEV "]
[{"$f":"'CDE-G. REKAP. ZUNANJA UREDITEV'!$A$16","v":"1."},{"$f":"'CDE-G. REKAP. ZUNANJA UREDITEV'!$B$16","v":"PREDDELA"},{"$f":"'CDE-G. REKAP. ZUNANJA UREDITEV'!$C$16","v":0},{"$f":"'CDE-G. REKAP. ZUNANJA UREDITEV'!$D$16","v":0},{"$f":"'CDE-G. REKAP. ZUNANJA UREDITEV'!$E$16","v":0}]
[{"$f":"'CDE-G. REKAP. ZUNANJA UREDITEV'!$A$17","v":"2."},{"$f":"'CDE-G. REKAP. ZUNANJA UREDITEV'!$B$17","v":"ZEMELJSKA DELA"},{"$f":"'CDE-G. REKAP. ZUNANJA UREDITEV'!$C$17","v":0},{"$f":"'CDE-G. REKAP. ZUNANJA UREDITEV'!$D$17","v":0},{"$f":"'CDE-G. REKAP. ZUNANJA UREDITEV'!$E$17","v":0}]
[{"$f":"'CDE-G. REKAP. ZUNANJA UREDITEV'!$A$18","v":3},{"$f":"'CDE-G. REKAP. ZUNANJA UREDITEV'!$B$18","v":"VOZIŠČNE KONSTRUKCIJE"},{"$f":"'CDE-G. REKAP. ZUNANJA UREDITEV'!$C$18","v":0},{"$f":"'CDE-G. REKAP. ZUNANJA UREDITEV'!$D$18","v":0},{"$f":"'CDE-G. REKAP. ZUNANJA UREDITEV'!$E$18","v":0}]
[{"$f":"'CDE-G. REKAP. ZUNANJA UREDITEV'!$A$19","v":4},{"$f":"'CDE-G. REKAP. ZUNANJA UREDITEV'!$B$19","v":"ODVODNJAVANJE"},{"$f":"'CDE-G. REKAP. ZUNANJA UREDITEV'!$C$19","v":0},{"$f":"'CDE-G. REKAP. ZUNANJA UREDITEV'!$D$19","v":0},{"$f":"'CDE-G. REKAP. ZUNANJA UREDITEV'!$E$19","v":0}]
[{"$f":"'CDE-G. REKAP. ZUNANJA UREDITEV'!$A$20","v":5},{"$f":"'CDE-G. REKAP. ZUNANJA UREDITEV'!$B$20","v":"GRADBENO OBRTNIŠKA DELA"},{"$f":"'CDE-G. REKAP. ZUNANJA UREDITEV'!$C$20","v":0},{"$f":"'CDE-G. REKAP. ZUNANJA UREDITEV'!$D$20","v":0},{"$f":"'CDE-G. REKAP. ZUNANJA UREDITEV'!$E$20","v":0}]
[{"$f":"'CDE-G. REKAP. ZUNANJA UREDITEV'!$A$21","v":6},{"$f":"'CDE-G. REKAP. ZUNANJA UREDITEV'!$B$21","v":"OPREMA"},{"$f":"'CDE-G. REKAP. ZUNANJA UREDITEV'!$C$21","v":0},{"$f":"'CDE-G. REKAP. ZUNANJA UREDITEV'!$D$21","v":0},{"$f":"'CDE-G. REKAP. ZUNANJA UREDITEV'!$E$21","v":0}]
[{"$f":"'CDE-G. REKAP. ZUNANJA UREDITEV'!$A$22","v":7},{"$f":"'CDE-G. REKAP. ZUNANJA UREDITEV'!$B$22","v":"TUJE STORITVE"},{"$f":"'CDE-G. REKAP. ZUNANJA UREDITEV'!$C$22","v":0},{"$f":"'CDE-G. REKAP. ZUNANJA UREDITEV'!$D$22","v":0},{"$f":"'CDE-G. REKAP. ZUNANJA UREDITEV'!$E$22","v":0}]
[null,"SKUPAJ ZUNANJA UREDITEV   C+D+E  ",{"$f":"SUM(C43:C49)","v":0},{"$f":"SUM(D43:D49)","v":0},{"$f":"SUM(E43:E49)","v":0}]
[]
["I.","C + D + E  STROJNE INSTALACIJE "]
[{"$f":"'CDE-REKAP. STROJNE INST.'!$A$16","v":"A"},{"$f":"'CDE-REKAP. STROJNE INST.'!$B$16","v":"VODA + KANALIZACIJA"},{"$f":"'CDE-REKAP. STROJNE INST.'!$C$16","v":0},{"$f":"'CDE-REKAP. STROJNE INST.'!$D$16","v":0},{"$f":"'CDE-REKAP. STROJNE INST.'!$E$16","v":0}]
[{"$f":"'CDE-REKAP. STROJNE INST.'!$A$17","v":".2.1.  "},{"$f":"'CDE-REKAP. STROJNE INST.'!$B$17","v":"VODOVODNA INSTALACIJA"},{"$f":"'CDE-REKAP. STROJNE INST.'!$C$17","v":0},{"$f":"'CDE-REKAP. STROJNE INST.'!$D$17","v":0},{"$f":"'CDE-REKAP. STROJNE INST.'!$E$17","v":0}]
[{"$f":"'CDE-REKAP. STROJNE INST.'!$A$18","v":".2.2. "},{"$f":"'CDE-REKAP. STROJNE INST.'!$B$18","v":"ODTOČNA KANALIZACIJA"},{"$f":"'CDE-REKAP. STROJNE INST.'!$C$18","v":0},{"$f":"'CDE-REKAP. STROJNE INST.'!$D$18","v":0},{"$f":"'CDE-REKAP. STROJNE INST.'!$E$18","v":0}]
[{"$f":"'CDE-REKAP. STROJNE INST.'!$A$19","v":".2.3. "},{"$f":"'CDE-REKAP. STROJNE INST.'!$B$19","v":" SANITARNA OPREMA"},{"$f":"'CDE-REKAP. STROJNE INST.'!$C$19","v":0},{"$f":"'CDE-REKAP. STROJNE INST.'!$D$19","v":0},{"$f":"'CDE-REKAP. STROJNE INST.'!$E$19","v":0}]
[{"$f":"'CDE-REKAP. STROJNE INST.'!$A$20","v":".2.4. "},{"$f":"'CDE-REKAP. STROJNE INST.'!$B$20","v":"SPLOŠNO"},{"$f":"'CDE-REKAP. STROJNE INST.'!$C$20","v":0},{"$f":"'CDE-REKAP. STROJNE INST.'!$D$20","v":0},{"$f":"'CDE-REKAP. STROJNE INST.'!$E$20","v":0}]
[{"$f":"'CDE-REKAP. STROJNE INST.'!$A$23","v":"B"},{"$f":"'CDE-REKAP. STROJNE INST.'!$B$23","v":"OGREVANJE, PREZRAČEVANJE, OHLAJEVANJE, PLIN"},{"$f":"'CDE-REKAP. STROJNE INST.'!$C$23","v":0},{"$f":"'CDE-REKAP. STROJNE INST.'!$D$23","v":0},{"$f":"'CDE-REKAP. STROJNE INST.'!$E$23","v":0}]
[{"$f":"'CDE-REKAP. STROJNE INST.'!$A$24","v":"1.0"},{"$f":"'CDE-REKAP. STROJNE INST.'!$B$24","v":"RADIATORSKO OGREVANJE Z  RAZVODI  DO  T.P."},{"$f":"'CDE-REKAP. STROJNE INST.'!$C$24","v":0},{"$f":"'CDE-REKAP. STROJNE INST.'!$D$24","v":0},{"$f":"'CDE-REKAP. STROJNE INST.'!$E$24","v":0}]
[{"$f":"'CDE-REKAP. STROJNE INST.'!$A$25","v":"2.0"},{"$f":"'CDE-REKAP. STROJNE INST.'!$B$25","v":"TALNO OGREVANJE Z  RAZVODI DO ENERG. PROSTORA"},{"$f":"'CDE-REKAP. STROJNE INST.'!$C$25","v":0},{"$f":"'CDE-REKAP. STROJNE INST.'!$D$25","v":0},{"$f":"'CDE-REKAP. STROJNE INST.'!$E$25","v":0}]
[{"$f":"'CDE-REKAP. STROJNE INST.'!$A$26","v":"3.0"},{"$f":"'CDE-REKAP. STROJNE INST.'!$B$26","v":"REGULACIJSKE POSTAJE IN RAZVODI ZA KLIMATE OD ENERG. PROSTORA"},{"$f":"'CDE-REKAP. STROJNE INST.'!$C$26","v":0},{"$f":"'CDE-REKAP. STROJNE INST.'!$D$26","v":0},{"$f":"'CDE-REKAP. STROJNE INST.'!$E$26","v":0}]
[{"$f":"'CDE-REKAP. STROJNE INST.'!$A$27","v":"4.0."},{"$f":"'CDE-REKAP. STROJNE INST.'!$B$27","v":"ENERGETSKE  POSTAJE"},{"$f":"'CDE-REKAP. STROJNE INST.'!$C$27","v":0},{"$f":"'CDE-REKAP. STROJNE INST.'!$D$27","v":0},{"$f":"'CDE-REKAP. STROJNE INST.'!$E$27","v":0}]
[{"$f":"'CDE-REKAP. STROJNE INST.'!$A$28","v":"5.0"},{"$f":"'CDE-REKAP. STROJNE INST.'!$B$28","v":"PREZRAČEVANJE  IN  HLAJENJE ŠOLSKIH  PROSTOROV"},{"$f":"'CDE-REKAP. STROJNE INST.'!$C$28","v":0},{"$f":"'CDE-REKAP. STROJNE INST.'!$D$28","v":0},{"$f":"'CDE-REKAP. STROJNE INST.'!$E$28","v":0}]
[{"$f":"'CDE-REKAP. STROJNE INST.'!$A$29","v":"6.0"},{"$f":"'CDE-REKAP. STROJNE INST.'!$B$29","v":"KOMPRESORSKE-KONDENZATORSKE ENOTE  (toplotne črpalke)"},{"$f":"'CDE-REKAP. STROJNE INST.'!$C$29","v":0},{"$f":"'CDE-REKAP. STROJNE INST.'!$D$29","v":0},{"$f":"'CDE-REKAP. STROJNE INST.'!$E$29","v":0}]
[{"$f":"'CDE-REKAP. STROJNE INST.'!$A$30","v":"7.0"},{"$f":"'CDE-REKAP. STROJNE INST.'!$B$30","v":"LOKALNO  HLAJENJE - VRV SISTEM"},{"$f":"'CDE-REKAP. STROJNE INST.'!$C$30","v":0},{"$f":"'CDE-REKAP. STROJNE INST.'!$D$30","v":0},{"$f":"'CDE-REKAP. STROJNE INST.'!$E$30","v":0}]
[{"$f":"'CDE-REKAP. STROJNE INST.'!$A$31","v":"8.0"},{"$f":"'CDE-REKAP. STROJNE INST.'!$B$31","v":"PREZRAČEVANJE  IN  HLAJENJE  KUHINJE"},{"$f":"'CDE-REKAP. STROJNE INST.'!$C$31","v":0},{"$f":"'CDE-REKAP. STROJNE INST.'!$D$31","v":0},{"$f":"'CDE-REKAP. STROJNE INST.'!$E$31","v":0}]
[{"$f":"'CDE-REKAP. STROJNE INST.'!$A$32","v":"9.0"},{"$f":"'CDE-REKAP. STROJNE INST.'!$B$32","v":"GASILNI SISTEM ANSUL (kuhinja)"},{"$f":"'CDE-REKAP. STROJNE INST.'!$C$32","v":0},{"$f":"'CDE-REKAP. STROJNE INST.'!$D$32","v":0},{"$f":"'CDE-REKAP. STROJNE INST.'!$E$32","v":0}]
[{"$f":"'CDE-REKAP. STROJNE INST.'!$A$33","v":"10.0"},{"$f":"'CDE-REKAP. STROJNE INST.'!$B$33","v":"PLINSKA  NAPELJAVA"},{"$f":"'CDE-REKAP. STROJNE INST.'!$C$33","v":0},{"$f":"'CDE-REKAP. STROJNE INST.'!$D$33","v":0},{"$f":"'CDE-REKAP. STROJNE INST.'!$E$33","v":0}]
[null,"SKUPAJ STROJNE INSTALACIJE   C+D+E  ",{"$f":"SUM(C54:C68)","v":0},{"$f":"SUM(D54:D68)","v":0},{"$f":"SUM(E53:E68)","v":0}]
[]
["J.","C + D + E  ELEKTROINŠTALACIJSKA  DELA  "]
[{"$f":"'CDE-REKAP. ELEKTRO INST.'!$A$16","v":"A1"},{"$f":"'CDE-REKAP. ELEKTRO INST.'!$B$16","v":"RAZSVETLJAVA, MOČNOSTNE INSTALACIJE - SKUPAJ"},{"$f":"'CDE-REKAP. ELEKTRO INST.'!$C$16","v":0},{"$f":"'CDE-REKAP. ELEKTRO INST.'!$D$16","v":0},{"$f":"'CDE-REKAP. ELEKTRO INST.'!$E$16","v":0}]
[{"$f":"'CDE-REKAP. ELEKTRO INST.'!$A$17","v":"A2"},{"$f":"'CDE-REKAP. ELEKTRO INST.'!$B$17","v":"SKUPAJ  - SIGNALNE IN TELEKOMUNIKACIJSKE INSTALACIJE"},{"$f":"'CDE-REKAP. ELEKTRO INST.'!$C$17","v":0},{"$f":"'CDE-REKAP. ELEKTRO INST.'!$D$17","v":0},{"$f":"'CDE-REKAP. ELEKTRO INST.'!$E$17","v":0}]
[{"$f":"'CDE-REKAP. ELEKTRO INST.'!$A$18","v":"A3"},{"$f":"'CDE-REKAP. ELEKTRO INST.'!$B$18","v":"SKUPAJ STRELOVODNA INSTALACIJA"},{"$f":"'CDE-REKAP. ELEKTRO INST.'!$C$18","v":0},{"$f":"'CDE-REKAP. ELEKTRO INST.'!$D$18","v":0},{"$f":"'CDE-REKAP. ELEKTRO INST.'!$E$18","v":0}]
[{"$f":"'CDE-REKAP. ELEKTRO INST.'!$A$19","v":"A4"},{"$f":"'CDE-REKAP. ELEKTRO INST.'!$B$19","v":"CNS SKUPAJ"},{"$f":"'CDE-REKAP. ELEKTRO INST.'!$C$19","v":0},{"$f":"'CDE-REKAP. ELEKTRO INST.'!$D$19","v":0},{"$f":"'CDE-REKAP. ELEKTRO INST.'!$E$19","v":0}]
[{"$f":"'CDE-REKAP. ELEKTRO INST.'!$A$20","v":"A5"},{"$f":"'CDE-REKAP. ELEKTRO INST.'!$B$20","v":"JAVLJANJE POŽARA SKUPAJ"},{"$f":"'CDE-REKAP. ELEKTRO INST.'!$C$20","v":0},{"$f":"'CDE-REKAP. ELEKTRO INST.'!$D$20","v":0},{"$f":"'CDE-REKAP. ELEKTRO INST.'!$E$20","v":0}]
[{"$f":"'CDE-REKAP. ELEKTRO INST.'!$A$21","v":"A6"},{"$f":"'CDE-REKAP. ELEKTRO INST.'!$B$21","v":"JAVLJANJE VLOMA SKUPAJ"},{"$f":"'CDE-REKAP. ELEKTRO INST.'!$C$21","v":0},{"$f":"'CDE-REKAP. ELEKTRO INST.'!$D$21","v":0},{"$f":"'CDE-REKAP. ELEKTRO INST.'!$E$21","v":0}]
[{"$f":"'CDE-REKAP. ELEKTRO INST.'!$A$22","v":"A7"},{"$f":"'CDE-REKAP. ELEKTRO INST.'!$B$22","v":"SISTEM VIDEO NADZORA SKUPAJ"},{"$f":"'CDE-REKAP. ELEKTRO INST.'!$C$22","v":0},{"$f":"'CDE-REKAP. ELEKTRO INST.'!$D$22","v":0},{"$f":"'CDE-REKAP. ELEKTRO INST.'!$E$22","v":0}]
[{"$f":"'CDE-REKAP. ELEKTRO INST.'!$A$23","v":"A8"},{"$f":"'CDE-REKAP. ELEKTRO INST.'!$B$23","v":"SISTEM KONTROLE PRISTOPA SKUPAJ"},{"$f":"'CDE-REKAP. ELEKTRO INST.'!$C$23","v":0},{"$f":"'CDE-REKAP. ELEKTRO INST.'!$D$23","v":0},{"$f":"'CDE-REKAP. ELEKTRO INST.'!$E$23","v":0}]
[{"$f":"'CDE-REKAP. ELEKTRO INST.'!$A$24","v":"A9"},{"$f":"'CDE-REKAP. ELEKTRO INST.'!$B$24","v":"SISTEM VIDEODOMOFONA SKUPAJ"},{"$f":"'CDE-REKAP. ELEKTRO INST.'!$C$24","v":0},{"$f":"'CDE-REKAP. ELEKTRO INST.'!$D$24","v":0},{"$f":"'CDE-REKAP. ELEKTRO INST.'!$E$24","v":0}]
[{"$f":"'CDE-REKAP. ELEKTRO INST.'!$A$25","v":"A10"},{"$f":"'CDE-REKAP. ELEKTRO INST.'!$B$25","v":"MULTIMEDIJA SKUPAJ"},{"$f":"'CDE-REKAP. ELEKTRO INST.'!$C$25","v":0},{"$f":"'CDE-REKAP. ELEKTRO INST.'!$D$25","v":0},{"$f":"'CDE-REKAP. ELEKTRO INST.'!$E$25","v":0}]
[{"$f":"'CDE-REKAP. ELEKTRO INST.'!$A$26","v":"A11"},{"$f":"'CDE-REKAP. ELEKTRO INST.'!$B$26","v":"OPREMA ŠOLSKEGA OZVOČENJA IN PRIKAZOVANJA ČASA SKUPAJ"},{"$f":"'CDE-REKAP. ELEKTRO INST.'!$C$26","v":0},{"$f":"'CDE-REKAP. ELEKTRO INST.'!$D$26","v":0},{"$f":"'CDE-REKAP. ELEKTRO INST.'!$E$26","v":0}]
[{"$f":"'CDE-REKAP. ELEKTRO INST.'!$A$27","v":"A12"},{"$f":"'CDE-REKAP. ELEKTRO INST.'!$B$27","v":"NARAVNI ODVOD DIMA IN TOPLOTE TER NARAVNA VENTILACIJA"},{"$f":"'CDE-REKAP. ELEKTRO INST.'!$C$27","v":0},{"$f":"'CDE-REKAP. ELEKTRO INST.'!$D$27","v":0},{"$f":"'CDE-REKAP. ELEKTRO INST.'!$E$27","v":0}]
[{"$f":"'CDE-REKAP. ELEKTRO INST.'!$A$28","v":"A13"},{"$f":"'CDE-REKAP. ELEKTRO INST.'!$B$28","v":"DEMONTAŽA IN ODVOZ NA DEPONIJO / RECIKLAŽO SKUPAJ"},{"$f":"'CDE-REKAP. ELEKTRO INST.'!$C$28","v":0},{"$f":"'CDE-REKAP. ELEKTRO INST.'!$D$28","v":0},{"$f":"'CDE-REKAP. ELEKTRO INST.'!$E$28","v":0}]
[null,"SKUPAJ ELEKTROINŠTALACIJSKA  DELA    C+D+E  ",{"$f":"SUM(C72:C84)","v":0},{"$f":"SUM(D72:D84)","v":0},{"$f":"SUM(E72:E84)","v":0}]
[]
["K.","C+D+E   PLINSKI PRIKLJUČEK  "]
[null,{"$f":"'CDE-REKAP. PLINSKI PRIKLJUČ '!$B$16","v":"PRIKLJUČNI PLINOVOD - GRADBENA DELA"},{"$f":"'CDE-REKAP. PLINSKI PRIKLJUČ '!$C$16","v":0},{"$f":"'CDE-REKAP. PLINSKI PRIKLJUČ '!$D$16","v":0},{"$f":"'CDE-REKAP. PLINSKI PRIKLJUČ '!$E$16","v":0}]
[null,{"$f":"'CDE-REKAP. PLINSKI PRIKLJUČ '!$B$17","v":"PRIKLJUČNI PLINOVOD - STROJNA DELA"},{"$f":"'CDE-REKAP. PLINSKI PRIKLJUČ '!$C$17","v":0},{"$f":"'CDE-REKAP. PLINSKI PRIKLJUČ '!$D$17","v":0},{"$f":"'CDE-REKAP. PLINSKI PRIKLJUČ '!$E$17","v":0}]
[null,"SKUPAJ PLINSKI PRIKLJUČEK    C+D+E  ",{"$f":"SUM(C88:C89)","v":0},{"$f":"SUM(D88:D89)","v":0},{"$f":"SUM(E88:E89)","v":0}]
[]
[null,"C+D+E   TOPLOTNA POSTAJA"]
["1.","PERIFERNA OPREMA",{"$f":"'CDE. REKAP. TOPLOTNA POSTAJA'!$C$16","v":0},{"$f":"'CDE. REKAP. TOPLOTNA POSTAJA'!$D$16","v":0},{"$f":"'CDE. REKAP. TOPLOTNA POSTAJA'!$E$16","v":0}]
["2.","KRMILNA OPREMA",{"$f":"'CDE. REKAP. TOPLOTNA POSTAJA'!$C$17","v":0},{"$f":"'CDE. REKAP. TOPLOTNA POSTAJA'!$D$17","v":0},{"$f":"'CDE. REKAP. TOPLOTNA POSTAJA'!$E$17","v":0}]
["3.","ELEKTRO DELA",{"$f":"'CDE. REKAP. TOPLOTNA POSTAJA'!$C$18","v":0},{"$f":"'CDE. REKAP. TOPLOTNA POSTAJA'!$D$18","v":0},{"$f":"'CDE. REKAP. TOPLOTNA POSTAJA'!$E$18","v":0}]
[null,"SKUPAJ TOPLOTNA POSTAJA  C+D+E  ",{"$f":"SUM(C94:C95)","v":0},{"$f":"SUM(D94:D95)","v":0},{"$f":"SUM(E94:E95)","v":0}]
[]
["L.","C+D+E   NN KABELSKI VOD "]
[null,{"$f":"'CDE-REKAP. NN KABELSKI VOD'!$B$16","v":"1. Gradbena obrtniška dela "},{"$f":"'CDE-REKAP. NN KABELSKI VOD'!$C$16","v":0},{"$f":"'CDE-REKAP. NN KABELSKI VOD'!$D$16","v":0},{"$f":"'CDE-REKAP. NN KABELSKI VOD'!$E$16","v":0}]
[null,{"$f":"'CDE-REKAP. NN KABELSKI VOD'!$B$17","v":"2. Elektromontažna dela NN kablovod"},{"$f":"'CDE-REKAP. NN KABELSKI VOD'!$C$17","v":0},{"$f":"'CDE-REKAP. NN KABELSKI VOD'!$D$17","v":0},{"$f":"'CDE-REKAP. NN KABELSKI VOD'!$E$17","v":0}]
[null,"SKUPAJ NN KABELSKI VOD   C+D+E  ",{"$f":"SUM(C99:C100)","v":0},{"$f":"SUM(D99:D100)","v":0},{"$f":"SUM(E99:E100)","v":0}]
[]
["M.","C+D+E  TEHNOLOŠKA OPREMA KUHINJE "]
[{"$f":"'CDE-REKAP. TEHNOLOGIJA'!$A$16","v":0},{"$f":"'CDE-REKAP. TEHNOLOGIJA'!$B$16","v":"KLET"},{"$f":"'CDE-REKAP. TEHNOLOGIJA'!$C$16","v":0},{"$f":"'CDE-REKAP. TEHNOLOGIJA'!$D$16","v":0},{"$f":"'CDE-REKAP. TEHNOLOGIJA'!$E$16","v":0}]
[{"$f":"'CDE-REKAP. TEHNOLOGIJA'!$A$17","v":"A"},{"$f":"'CDE-REKAP. TEHNOLOGIJA'!$B$17","v":"VHOD ZA ZAPOSLENE"},{"$f":"'CDE-REKAP. TEHNOLOGIJA'!$C$17","v":0},{"$f":"'CDE-REKAP. TEHNOLOGIJA'!$D$17","v":0},{"$f":"'CDE-REKAP. TEHNOLOGIJA'!$E$17","v":0}]
[{"$f":"'CDE-REKAP. TEHNOLOGIJA'!$A$18","v":"B"},{"$f":"'CDE-REKAP. TEHNOLOGIJA'!$B$18","v":"SANITARIJE IN GARDEROBE ZA ZAPOSLENE V KUHINJI"},{"$f":"'CDE-REKAP. TEHNOLOGIJA'!$C$18","v":0},{"$f":"'CDE-REKAP. TEHNOLOGIJA'!$D$18","v":0},{"$f":"'CDE-REKAP. TEHNOLOGIJA'!$E$18","v":0}]
[{"$f":"'CDE-REKAP. TEHNOLOGIJA'!$A$19","v":"C"},{"$f":"'CDE-REKAP. TEHNOLOGIJA'!$B$19","v":"MANIPULACIJA"},{"$f":"'CDE-REKAP. TEHNOLOGIJA'!$C$19","v":0},{"$f":"'CDE-REKAP. TEHNOLOGIJA'!$D$19","v":0},{"$f":"'CDE-REKAP. TEHNOLOGIJA'!$E$19","v":0}]
[{"$f":"'CDE-REKAP. TEHNOLOGIJA'!$A$20","v":"D"},{"$f":"'CDE-REKAP. TEHNOLOGIJA'!$B$20","v":"SUHO SKLADIŠČE"},{"$f":"'CDE-REKAP. TEHNOLOGIJA'!$C$20","v":0},{"$f":"'CDE-REKAP. TEHNOLOGIJA'!$D$20","v":0},{"$f":"'CDE-REKAP. TEHNOLOGIJA'!$E$20","v":0}]
[{"$f":"'CDE-REKAP. TEHNOLOGIJA'!$A$21","v":"E"},{"$f":"'CDE-REKAP. TEHNOLOGIJA'!$B$21","v":"PRIPRAVA SLAŠČIC"},{"$f":"'CDE-REKAP. TEHNOLOGIJA'!$C$21","v":0},{"$f":"'CDE-REKAP. TEHNOLOGIJA'!$D$21","v":0},{"$f":"'CDE-REKAP. TEHNOLOGIJA'!$E$21","v":0}]
[{"$f":"'CDE-REKAP. TEHNOLOGIJA'!$A$22","v":"F"},{"$f":"'CDE-REKAP. TEHNOLOGIJA'!$B$22","v":"PRIPRAVA ZELENJAVE"},{"$f":"'CDE-REKAP. TEHNOLOGIJA'!$C$22","v":0},{"$f":"'CDE-REKAP. TEHNOLOGIJA'!$D$22","v":0},{"$f":"'CDE-REKAP. TEHNOLOGIJA'!$E$22","v":0}]
[{"$f":"'CDE-REKAP. TEHNOLOGIJA'!$A$23","v":"G"},{"$f":"'CDE-REKAP. TEHNOLOGIJA'!$B$23","v":"KOMORA"},{"$f":"'CDE-REKAP. TEHNOLOGIJA'!$C$23","v":0},{"$f":"'CDE-REKAP. TEHNOLOGIJA'!$D$23","v":0},{"$f":"'CDE-REKAP. TEHNOLOGIJA'!$E$23","v":0}]
[{"$f":"'CDE-REKAP. TEHNOLOGIJA'!$A$24","v":"H"},{"$f":"'CDE-REKAP. TEHNOLOGIJA'!$B$24","v":"STOPNIŠČE / POVEZAVA Z NADSTROPJEM "},{"$f":"'CDE-REKAP. TEHNOLOGIJA'!$C$24","v":0},{"$f":"'CDE-REKAP. TEHNOLOGIJA'!$D$24","v":0},{"$f":"'CDE-REKAP. TEHNOLOGIJA'!$E$24","v":0}]
[{"$f":"'CDE-REKAP. TEHNOLOGIJA'!$A$25","v":"I"},{"$f":"'CDE-REKAP. TEHNOLOGIJA'!$B$25","v":"TOVORNO DVIGALO"},{"$f":"'CDE-REKAP. TEHNOLOGIJA'!$C$25","v":0},{"$f":"'CDE-REKAP. TEHNOLOGIJA'!$D$25","v":0},{"$f":"'CDE-REKAP. TEHNOLOGIJA'!$E$25","v":0}]
[{"$f":"'CDE-REKAP. TEHNOLOGIJA'!$A$26","v":0},{"$f":"'CDE-REKAP. TEHNOLOGIJA'!$B$26","v":"PRITLIČJE"},{"$f":"'CDE-REKAP. TEHNOLOGIJA'!$C$26","v":0},{"$f":"'CDE-REKAP. TEHNOLOGIJA'!$D$26","v":0},{"$f":"'CDE-REKAP. TEHNOLOGIJA'!$E$26","v":0}]
[{"$f":"'CDE-REKAP. TEHNOLOGIJA'!$A$27","v":"H"},{"$f":"'CDE-REKAP. TEHNOLOGIJA'!$B$27","v":"STOPNIŠČE / POVEZAVA Z NADSTROPJEM "},{"$f":"'CDE-REKAP. TEHNOLOGIJA'!$C$27","v":0},{"$f":"'CDE-REKAP. TEHNOLOGIJA'!$D$27","v":0},{"$f":"'CDE-REKAP. TEHNOLOGIJA'!$E$27","v":0}]
[{"$f":"'CDE-REKAP. TEHNOLOGIJA'!$A$28","v":"I"},{"$f":"'CDE-REKAP. TEHNOLOGIJA'!$B$28","v":"TOVORNO DVIGALO"},{"$f":"'CDE-REKAP. TEHNOLOGIJA'!$C$28","v":0},{"$f":"'CDE-REKAP. TEHNOLOGIJA'!$D$28","v":0},{"$f":"'CDE-REKAP. TEHNOLOGIJA'!$E$28","v":0}]
[{"$f":"'CDE-REKAP. TEHNOLOGIJA'!$A$29","v":"J"},{"$f":"'CDE-REKAP. TEHNOLOGIJA'!$B$29","v":"SPREJEM"},{"$f":"'CDE-REKAP. TEHNOLOGIJA'!$C$29","v":0},{"$f":"'CDE-REKAP. TEHNOLOGIJA'!$D$29","v":0},{"$f":"'CDE-REKAP. TEHNOLOGIJA'!$E$29","v":0}]
[{"$f":"'CDE-REKAP. TEHNOLOGIJA'!$A$30","v":"K"},{"$f":"'CDE-REKAP. TEHNOLOGIJA'!$B$30","v":"PREDPROSTOR"},{"$f":"'CDE-REKAP. TEHNOLOGIJA'!$C$30","v":0},{"$f":"'CDE-REKAP. TEHNOLOGIJA'!$D$30","v":0},{"$f":"'CDE-REKAP. TEHNOLOGIJA'!$E$30","v":0}]
[{"$f":"'CDE-REKAP. TEHNOLOGIJA'!$A$31","v":"L"},{"$f":"'CDE-REKAP. TEHNOLOGIJA'!$B$31","v":"FINA PRIPRAVA/PRIPRAVA MALIC"},{"$f":"'CDE-REKAP. TEHNOLOGIJA'!$C$31","v":0},{"$f":"'CDE-REKAP. TEHNOLOGIJA'!$D$31","v":0},{"$f":"'CDE-REKAP. TEHNOLOGIJA'!$E$31","v":0}]
[{"$f":"'CDE-REKAP. TEHNOLOGIJA'!$A$32","v":"M"},{"$f":"'CDE-REKAP. TEHNOLOGIJA'!$B$32","v":"FINA PRIPRAVA / DIETE"},{"$f":"'CDE-REKAP. TEHNOLOGIJA'!$C$32","v":0},{"$f":"'CDE-REKAP. TEHNOLOGIJA'!$D$32","v":0},{"$f":"'CDE-REKAP. TEHNOLOGIJA'!$E$32","v":0}]
[{"$f":"'CDE-REKAP. TEHNOLOGIJA'!$A$33","v":"N"},{"$f":"'CDE-REKAP. TEHNOLOGIJA'!$B$33","v":"TERMIČNA PRIPRAVA "},{"$f":"'CDE-REKAP. TEHNOLOGIJA'!$C$33","v":0},{"$f":"'CDE-REKAP. TEHNOLOGIJA'!$D$33","v":0},{"$f":"'CDE-REKAP. TEHNOLOGIJA'!$E$33","v":0}]
[{"$f":"'CDE-REKAP. TEHNOLOGIJA'!$A$34","v":"O"},{"$f":"'CDE-REKAP. TEHNOLOGIJA'!$B$34","v":"IZDAJNA LINIJA"},{"$f":"'CDE-REKAP. TEHNOLOGIJA'!$C$34","v":0},{"$f":"'CDE-REKAP. TEHNOLOGIJA'!$D$34","v":0},{"$f":"'CDE-REKAP. TEHNOLOGIJA'!$E$34","v":0}]
[{"$f":"'CDE-REKAP. TEHNOLOGIJA'!$A$35","v":"P"},{"$f":"'CDE-REKAP. TEHNOLOGIJA'!$B$35","v":"JEDILNICA"},{"$f":"'CDE-REKAP. TEHNOLOGIJA'!$C$35","v":0},{"$f":"'CDE-REKAP. TEHNOLOGIJA'!$D$35","v":0},{"$f":"'CDE-REKAP. TEHNOLOGIJA'!$E$35","v":0}]
[{"$f":"'CDE-REKAP. TEHNOLOGIJA'!$A$36","v":"R"},{"$f":"'CDE-REKAP. TEHNOLOGIJA'!$B$36","v":"VRAČANJE POSODE / SORTIRANJE ODPADKOV"},{"$f":"'CDE-REKAP. TEHNOLOGIJA'!$C$36","v":0},{"$f":"'CDE-REKAP. TEHNOLOGIJA'!$D$36","v":0},{"$f":"'CDE-REKAP. TEHNOLOGIJA'!$E$36","v":0}]
[{"$f":"'CDE-REKAP. TEHNOLOGIJA'!$A$37","v":"S"},{"$f":"'CDE-REKAP. TEHNOLOGIJA'!$B$37","v":"POMIVANJE JEDILNE POSODE"},{"$f":"'CDE-REKAP. TEHNOLOGIJA'!$C$37","v":0},{"$f":"'CDE-REKAP. TEHNOLOGIJA'!$D$37","v":0},{"$f":"'CDE-REKAP. TEHNOLOGIJA'!$E$37","v":0}]
[{"$f":"'CDE-REKAP. TEHNOLOGIJA'!$A$38","v":"T"},{"$f":"'CDE-REKAP. TEHNOLOGIJA'!$B$38","v":"POMIVANJE KUHINJSKE POSODE"},{"$f":"'CDE-REKAP. TEHNOLOGIJA'!$C$38","v":0},{"$f":"'CDE-REKAP. TEHNOLOGIJA'!$D$38","v":0},{"$f":"'CDE-REKAP. TEHNOLOGIJA'!$E$38","v":0}]
[{"$f":"'CDE-REKAP. TEHNOLOGIJA'!$A$39","v":"U"},{"$f":"'CDE-REKAP. TEHNOLOGIJA'!$B$39","v":"PROSTOR ZA ČISTILA"},{"$f":"'CDE-REKAP. TEHNOLOGIJA'!$C$39","v":0},{"$f":"'CDE-REKAP. TEHNOLOGIJA'!$D$39","v":0},{"$f":"'CDE-REKAP. TEHNOLOGIJA'!$E$39","v":0}]
[{"$f":"'CDE-REKAP. TEHNOLOGIJA'!$A$40","v":0},{"$f":"'CDE-REKAP. TEHNOLOGIJA'!$B$40","v":"DODATNA OPREMA  SKUPAJ"},{"$f":"'CDE-REKAP. TEHNOLOGIJA'!$C$40","v":0},{"$f":"'CDE-REKAP. TEHNOLOGIJA'!$D$40","v":0},{"$f":"'CDE-REKAP. TEHNOLOGIJA'!$E$40","v":0}]
[{"$f":"'CDE-REKAP. TEHNOLOGIJA'!$A$41","v":0},{"$f":"'CDE-REKAP. TEHNOLOGIJA'!$B$41","v":"IZVEDBENI STROŠKI  SKUPAJ"},{"$f":"'CDE-REKAP. TEHNOLOGIJA'!$C$41","v":0},{"$f":"'CDE-REKAP. TEHNOLOGIJA'!$D$41","v":0},{"$f":"'CDE-REKAP. TEHNOLOGIJA'!$E$41","v":0}]
[null,"SKUPAJ TEHNOLOŠKA OPREMA KUHINJE   C+D+E  ",{"$f":"SUM(C104:C129)","v":0},{"$f":"SUM(D104:D129)","v":0},{"$f":"SUM(E104:E129)","v":0}]
[]
["N.","C+D+E  NOTRANJA OPREMA "]
[null,{"$f":"'CDE-REKAP. NOTRANJA OPREMA'!$B$16","v":"OPREMA KLETI"},{"$f":"'CDE-REKAP. NOTRANJA OPREMA'!$C$16","v":0},{"$f":"'CDE-REKAP. NOTRANJA OPREMA'!$D$16","v":0},{"$f":"'CDE-REKAP. NOTRANJA OPREMA'!$E$16","v":0}]
[null,{"$f":"'CDE-REKAP. NOTRANJA OPREMA'!$B$17","v":"OPREMA PRITLIČJA"},{"$f":"'CDE-REKAP. NOTRANJA OPREMA'!$C$17","v":0},{"$f":"'CDE-REKAP. NOTRANJA OPREMA'!$D$17","v":0},{"$f":"'CDE-REKAP. NOTRANJA OPREMA'!$E$17","v":0}]
[null,{"$f":"'CDE-REKAP. NOTRANJA OPREMA'!$B$18","v":"OPREMA PRVEGA NADSTROPJA"},{"$f":"'CDE-REKAP. NOTRANJA OPREMA'!$C$18","v":0},{"$f":"'CDE-REKAP. NOTRANJA OPREMA'!$D$18","v":0},{"$f":"'CDE-REKAP. NOTRANJA OPREMA'!$E$18","v":0}]
[null,{"$f":"'CDE-REKAP. NOTRANJA OPREMA'!$B$19","v":"OPREMA DRUGEGA NADSTROPJA"},{"$f":"'CDE-REKAP. NOTRANJA OPREMA'!$C$19","v":0},{"$f":"'CDE-REKAP. NOTRANJA OPREMA'!$D$19","v":0},{"$f":"'CDE-REKAP. NOTRANJA OPREMA'!$E$19","v":0}]
[null,"SKUPAJ NOTRANJA OPREMA   C+D+E  ",{"$f":"SUM(C133:C136)","v":0},{"$f":"SUM(D133:D136)","v":0},{"$f":"SUM(E133:E136)","v":0}]
[]
["M.","OSTALI STROŠKI IZVEDBE"]
["1.","5% PRESEŽENA IN POZNEJŠA DELA. Obračun po dejanskih količinah, ki izhajajo iz potrjenega gradbenega dnevnika in ob upoštevanju kalkulativnih osnov.",{"$f":"(+C137+C130+C101+C96+C90+C85+C69+C50+C40+C26)*0.05","v":0},{"$f":"+C140*MM","v":0},{"$f":"+C140-D140","v":0}]
["2.","IZDELAVA PID DOKUMENTACIJE. Izbrani izvajalec je dolžan pri uvedbi v delo izročiti naročilnico za izdelavo PID dokumentacije",27800,{"$f":"+C141*MM","v":0},{"$f":"+C141-D141","v":27800}]
[null,"SKUPAJ OSTALI STROŠKI IZVEDBE",{"$f":"SUM(C140:C141)","v":27800},{"$f":"SUM(D140:D141)","v":0},{"$f":"SUM(E140:E141)","v":27800}]
[]
[null,null,"Vrednost brez popusta","Popust","Vrednost s popustom"]
[null," SKUPAJ:",{"$f":"+C142+C137+C130+C101+C101+C96+C90+C90+C85+C69+C50+C40+C26","v":27800},{"$f":"+D142+D137+D130+D101+D101+D96+D90+D85+D69+D50+D40+D26","v":0},{"$f":"+E142+E137+E130+E101+E101+E96+E90+E90+E85+E69+E50+E40+E26","v":27800}]
[null," DDV 22%",null,null,{"$f":"+E145*0.22","v":6116}]
[null,"SKUPAJ z DDV:",null,null,{"$f":"SUM(E145:E146)","v":33916}]

{"sheet":"AB-E. REKAP. PRIPRAVLJALNA DELA","index":5,"n_rows":20,"n_cols":5,"rows_kept":20,"cut":false,"hidden":false,"merged":[]}
["Investitor:   ","Mestna občina Ljubljana"]
[null,"Konzorcij družb Petrol d. d. in Resalta d. o. o. "]
["Objekt:      ","OŠ Savsko naselje, Matjaževa ulica 4, Ljubljana"]
[null," - Celovita prenova objekta s statično, požarno in energetsko sanacijo."]
["Štev. proj.:     "]
["Datum:      ","April 2022"]
[]
[]
[]
[]
[]
[]
[]
[null,"REKAPITULACIJA"]
[null,"PRIPRAVLJALNA DELA Objekt A in B,   "]
[]
[null,"Ponudbena vrednost - skupna rekapitulacija","Vrednost  brez popusta","Popust","Vrednost s popustom"]
[null,"SKUPAJ PRIPRAVLJALNA DELA",{"$f":"'AB-1. PRIPRAVLJALNA DELA'!$F$59","v":0},{"$f":"'AB-1. PRIPRAVLJALNA DELA'!$H$59","v":0},{"$f":"'AB-1. PRIPRAVLJALNA DELA'!$J$59","v":0}]
[null,"22% DDV",null,null,{"$f":"+E18*0.22","v":0}]
[null,"Objekt A in B  PRIPRAVLJALNA DELA  SKUPAJ Z DDV",null,null,{"$f":"SUM(E18:E19)","v":0}]

{"sheet":"AB-1. PRIPRAVLJALNA DELA","index":6,"n_rows":59,"n_cols":10,"rows_kept":59,"cut":false,"hidden":false,"merged":[]}
[]
[null,"Objekt A in B,   PRIPRAVLJALNA  DELA"]
[]
["ZAP. ŠT.","OPIS","     ME","KOLIČUNA","CENA/ENOTO","SKUPAJ","POPUST","POPUST SKUPAJ","CENA/ENOTO S POPUSTOM","SKUPAJ S POPUSTOM"]
[]
["A.","Dela, ki so v obligaciji investitorja oziroma naročnika :"]
[null,"Opomba:  ta dela načeloma niso predmet ponudbe, razen na posebno zahtevo naročnika ali če investitor s posebnim pooblastilom to prenese na izvajalca!"]
[]
["1.","Izdelava PGD in PZI dokumentacije, z vsemi potrebnimi elaborati"]
[]
["2.","Izdelava PID dokumentacije vključno z izdelavo Požarnega izkaza."]
[]
["3.","Izvajanje nadzora pri gradnji, za vse  vrste del "]
[]
["4.","Nadzor odgovornega Projektanta"]
[]
["5.","Priprava varnostnega načrta v skladu z uredbo o zagotavljanju varnostni in zdravja pri delu na začasnih in premičnih gradbiščih - Ur. list RS 3/2002 ter izvajanje nadzora Koordinatorja za varno delo"]
[]
["6.","Izdelava načrta za ravnanje z odpadki ter pooblastiti izvajalca  za pridobitev evidenčnih listov  ter vodenje evidence  o vrstah in količinah gradbenih odpadkov "]
[]
["7.","Vpis objekta v uradne evidence:"]
[null," -vpis objekta v zemljiški kataster"]
[null," -vpis stavbe v kataster stavb"]
[null," -vpis  GJI v zbirni kataster gospodarske javne infrastrukture"]
[]
[]
["B.","Dela, ki so v obligaciji izvajalca :"]
[]
["1.","ORGANIZACIJA  GRADBIŠČA:"]
[null,"Ureditev gradbišča z vsemi spremljajočimi deli, izdelava, dobava, montaža, vzdrževanje v času gradnje in odstranitev po koncu gradnje, izvedba po potrjenem načrtu gradbišča vključno:"]
[null," -načrt organizacije gradbišča"]
[null," -gradbiščne barake ali kontejnerji za pisarne in garderobe"]
[null," -sanitarne kabine"]
[null," -skladiščne barake ali kontejnerji"]
[null," -gradbiščna ograja iz kovinskih panelov višine 2,00m z podkonstrukcijo"]
[null," -Vrata za osebni dostopa s ključavnico"]
[null," -vrata velikosti do 6,00 m2 s ključavnico"]
[null," -gradbiščna tabla z nosilno podkonstrukcijo, osvetlitvijo  in oznakami "]
[null," -dvigalo in gradbeni žerjav "]
[null," -transportne poti"]
[null," - instalacijski priključki:"]
[null,"**gradbiščni vodovodni priključek s števcem in gradbiščna vodovodna napeljava"]
[null,"**gradbiščni telefonski priključek in aparati"]
[null,"**gradbiščna elektro omarica s priključno varovalko 40A in števcem in začasni kabelski razvod po gradbišču"]
[null," -varovanje gradbišča"]
[null," -sklenjeno zavarovanje za  škodo, ki bi utegnila nastati investitorjem in tretjim osebam v zvezi z opravljanjem njihove dejavnosti"]
[null," -ravnanje z gradbenimi odpadki in zemeljskimi izkopi v skladu z Uredbo o ravnanju z odpadki, ki nastanejo pri gradbenih delih -izvajalec je dolžan investitorju pred pričetkom del posredovati podatke o prevzemniku odpadkov ter sprotno  posredovati evidenčne liste, voditi evidenco  o vrstah in količinah gradbenih odpadkov  ter izdelati Poročilo o  gospodarjenju z gradbenimi odpadki za potrebe  pridobitve uporabnega dovoljenja","kpl",1,null,{"$f":"+D47*E47","v":0},{"$f":"+E47*MM","v":0},{"$f":"+G47*D47","v":0},{"$f":"+E47-G47","v":0},{"$f":"+I47*D47","v":0}]
[]
["2.","Izvajanje geodetskih storitev  med samo gradnjo, ki vsebujejo: zakoličba osi stavbe, podajanje višin, kontrola vertikalnosti  konstrukcije, ustreznih naklonov ipd., postavitev gradbenih profilov, zaščita zakoličbe, vse  za ves čas gradnje in za vsa dela ","kpl",1,null,{"$f":"+D49*E49","v":0},{"$f":"+E49*MM","v":0},{"$f":"+G49*D49","v":0},{"$f":"+E49-G49","v":0},{"$f":"+I49*D49","v":0}]
[]
["3.","Izdelava certificiranega geodetskega posnetka po končanih delih","kpl",1,null,{"$f":"+D51*E51","v":0},{"$f":"+E51*MM","v":0},{"$f":"+G51*D51","v":0},{"$f":"+E51-G51","v":0},{"$f":"+I51*D51","v":0}]
[]
["4.","Čiščenje objekta v času gradnje in zaključno čiščenje pred predajo oz. tehničnim prevzemom","kpl",1,null,{"$f":"+D53*E53","v":0},{"$f":"+E53*MM","v":0},{"$f":"+G53*D53","v":0},{"$f":"+E53-G53","v":0},{"$f":"+I53*D53","v":0}]
[]
["5.","V času izvajanja del (Obdobje, za ves čas izvedbe del)   je izvajalec dolžan zagotoviti ustrezen prostor in varovanje za shranjevanje opreme in rekvizitov. Najemu šatora cca 300 m2. Ustreznost prostora za shranjevanje potrdi nadzor in investitor.","kpl",1,null,{"$f":"+D55*E55","v":0},{"$f":"+E55*MM","v":0},{"$f":"+G55*D55","v":0},{"$f":"+E55-G55","v":0},{"$f":"+I55*D55","v":0}]
[]
["6.","Prestavitev kipa Borisa Kidriča iz lokacije pred objektov v avlo objekta. Prestavitev zajema, demontažo kamnitega podstavka, izdelava temeljen na novi lokaciji, transport in ponovna montaža obstoječega podstavka, ustrezno čiščenje ter izvedba zaščite. Montaža kipa Borisa Kidriča na montiran podstavek.","kpl",1,null,{"$f":"+D57*E57","v":0},{"$f":"+E57*MM","v":0},{"$f":"+G57*D57","v":0},{"$f":"+E57-G57","v":0},{"$f":"+I57*D57","v":0}]
[]
[null,"SKUPAJ PRIPRAVLJALNA DELA:",null,null,null,{"$f":"SUM(F28:F58)","v":0},null,{"$f":"SUM(H28:H58)","v":0},null,{"$f":"SUM(J28:J58)","v":0}]

{"sheet":"AB-F. REKAP. GRADBENA DELA","index":7,"n_rows":36,"n_cols":16,"rows_kept":36,"cut":false,"hidden":false,"merged":[]}
["Investitor:   ","Mestna občina Ljubljana"]
[null,"Konzorcij družb Petrol d. d. in Resalta d. o. o. "]
["Objekt:      ","OŠ Savsko naselje, Matjaževa ulica 4, Ljubljana"]
[null," - Celovita prenova objekta s statično, požarno in energetsko sanacijo."]
["Štev. proj.:     "]
["Datum:      ","April 2022"]
[]
[null,"REKAPITULACIJA"]
[null,"GRADBENA DELA Objekt A in B,   "]
[]
[]
[null,"Ponudbena vrednost - skupna rekapitulacija","Vrednost  brez popusta","Popust","Vrednost s popustom"]
["1.","Rušitvena dela",{"$f":"'AB-1. RUŠITVENA DELA'!$F$107","v":0},{"$f":"'AB-1. RUŠITVENA DELA'!$H$107","v":0},{"$f":"'AB-1. RUŠITVENA DELA'!$J$107","v":0}]
["2.","Zemeljska dela",{"$f":"'AB-2. ZEMELJSKA DELA'!$F$25","v":0},{"$f":"'AB-2. ZEMELJSKA DELA'!$H$25","v":0},{"$f":"'AB-2. ZEMELJSKA DELA'!$J$25","v":0}]
["3.","Betonska dela",{"$f":"'AB-3. BETONSKA DELA'!$F$59","v":0},{"$f":"'AB-3. BETONSKA DELA'!$H$59","v":0},{"$f":"'AB-3. BETONSKA DELA'!$J$59","v":0}]
["4.","Zidarska dela",{"$f":"'AB-4. ZIDARSKA DELA'!$F$155","v":0},{"$f":"'AB-4. ZIDARSKA DELA'!$H$155","v":0},{"$f":"'AB-4. ZIDARSKA DELA'!$J$155","v":0}]
["5.","Tesarska dela",{"$f":"'AB-5. TESARSKA DELA'!$F$36","v":0},{"$f":"'AB-5. TESARSKA DELA'!$H$36","v":0},{"$f":"'AB-5. TESARSKA DELA'!$J$36","v":0}]
[null,"SKUPAJ",{"$f":"SUM(C13:C17)","v":0},{"$f":"SUM(D13:D17)","v":0},{"$f":"SUM(E13:E17)","v":0}]
[null,"22% DDV",null,null,{"$f":"+E18*0.22","v":0}]
[null,"Objekt A in B   GRADBENA DELA  SKUPAJ Z DDV",null,null,{"$f":"+E18+E19","v":0}]
[]
[]
[]
[]
[]
[]
[]
[]
[]
[]
[]
[]
[]
[]
[]
[null,null,null,null,null,null,null,null,null,null,null,null,null,null,null,"¸¸"]

{"sheet":"AB-1. RUŠITVENA DELA","index":8,"n_rows":107,"n_cols":10,"rows_kept":107,"cut":false,"hidden":false,"merged":[]}
[]
["I.","Objekt A in B,   RUŠITVENA DELA"]
[]
[]
["ZAP. ŠT.","OPIS","     ME","KOLIČUNA","CENA/ENOTO","SKUPAJ","POPUST","POPUST SKUPAJ","CENA/ENOTO S POPUSTOM","SKUPAJ S POPUSTOM"]
[]
[null,"OPOMBA! Vsa rušitvena dela je potrebno izvajat ob upoštevanja varstva pri delu!!"]
[]
[null,"Ves rušeni material se mora sproti sortirati - pred odvozom na deponijo!"]
[]
[]
[null,"OPOMBA! Rušitev celotnega objekta pri novem prizidku zajeta v sklopu novogradnje!!"]
[]
[]
["1.","Predhodna prekinitev električne energije do vseh elementov, ki so priklopljeni na električno omrežje (opravi elektroinstalater in ni predmet tega popisa) . "]
[]
[]
["2.","Zaščita vseh prostorov, ki niso predmet adaptacije, zaščita pred prašenjem . ","kpl",1,null,{"$f":"+E18*D18","v":0},{"$f":"+E18*MM","v":0},{"$f":"+G18*D18","v":0},{"$f":"+E18-G18","v":0},{"$f":"+I18*D18","v":0}]
[]
[]
["3.","Zaščita tlaka telovadnice","m2",1084.9000000000001,null,{"$f":"+E21*D21","v":0},{"$f":"+E21*MM","v":0},{"$f":"+G21*D21","v":0},{"$f":"+E21-G21","v":0},{"$f":"+I21*D21","v":0}]
[]
[]
["4.","Demontaža vse opreme v prostorih na mestu izvedbe (mize, stopli, omare,…) s prestavitvijo na začasno deponijo ter zaščito proti poškodbami. Vse v dogovoru z naročnikom.","kpl",1,null,{"$f":"+E24*D24","v":0},{"$f":"+E24*MM","v":0},{"$f":"+G24*D24","v":0},{"$f":"+E24-G24","v":0},{"$f":"+I24*D24","v":0}]
[]
[]
["5.","Izvedba zaščite vse opreme katera ostane v prostorih kjer se izvajajo adaptacijska dela - potrebno je izvesti kvalitetno zaščito proti poškodbam in prašenju.","kpl",1,null,{"$f":"+E27*D27","v":0},{"$f":"+E27*MM","v":0},{"$f":"+G27*D27","v":0},{"$f":"+E27-G27","v":0},{"$f":"+I27*D27","v":0}]
[]
[]
["6.","Demontaža vseh sanitarnih elementov, kompletno z blindiranjem vseh cevi, iznosom iz objekta. (šola,tehnični prostori, garderobe/telovadnica)"]
["a."," - WC","kos",26,null,{"$f":"+E31*D31","v":0},{"$f":"+E31*MM","v":0},{"$f":"+G31*D31","v":0},{"$f":"+E31-G31","v":0},{"$f":"+I31*D31","v":0}]
["b."," - umivalniki","kos",52,null,0,0,0,0,0]
["c."," - tuši","kos",6,null,0,0,0,0,0]
["d."," - trokadero","kos",6,null,0,0,0,0,0]
["e."," - pisoar","kos",14,null,0,0,0,0,0]
["f."," - kad","kos",1,null,0,0,0,0,0]
[]
[]
["7.","Demontaža vseh ogledal, luči, ... z  iznosom iz objekta, nakladanjem in odvozom v začasno ali trajno deponijo. "]
["a."," - luči","kos",828,null,{"$f":"+E40*D40","v":0},{"$f":"+E40*MM","v":0},{"$f":"+G40*D40","v":0},{"$f":"+E40-G40","v":0},{"$f":"+I40*D40","v":0}]
["b."," - ogledala","kos",24,null,{"$f":"+E41*D41","v":0},{"$f":"+E41*MM","v":0},{"$f":"+G41*D41","v":0},{"$f":"+E41-G41","v":0},{"$f":"+I41*D41","v":0}]
[]
[]
["8.","Odstranitev obstoječih notranjih vrat, kompletno z iznosom in objekta: (šola, tehnični prostor in telovadnica/garderobe)"]
["a."," - enokrilna vrata","kos",118,null,{"$f":"+E45*D45","v":0},{"$f":"+E45*MM","v":0},{"$f":"+G45*D45","v":0},{"$f":"+E45-G45","v":0},{"$f":"+I45*D45","v":0}]
["b."," - dvokrilna vrata ","kos",9,null,{"$f":"+E46*D46","v":0},{"$f":"+E46*MM","v":0},{"$f":"+G46*D46","v":0},{"$f":"+E46-G46","v":0},{"$f":"+I46*D46","v":0}]
[]
[]
["9.","Odstranitev obstoječih finalnih tlakov, vključno  z obstenskimi obrobami ter z očiščenjem do čiste podlage, po potrebi obrušenje."]
[]
["a.","šola pritličje, talna obloga","m2",1465.76,null,{"$f":"+E51*D51","v":0},{"$f":"+E51*MM","v":0},{"$f":"+G51*D51","v":0},{"$f":"+E51-G51","v":0},{"$f":"+I51*D51","v":0}]
["b.","šola 1N, talna obloga","m2",1000.3,null,{"$f":"+E52*D52","v":0},{"$f":"+E52*MM","v":0},{"$f":"+G52*D52","v":0},{"$f":"+E52-G52","v":0},{"$f":"+I52*D52","v":0}]
["c.","šola 2N, talna obloga","m2",904.5,null,{"$f":"+E53*D53","v":0},{"$f":"+E53*MM","v":0},{"$f":"+G53*D53","v":0},{"$f":"+E53-G53","v":0},{"$f":"+I53*D53","v":0}]
["d.","sanitarije 1N, talna keramika","m2",46.3,null,{"$f":"+E54*D54","v":0},{"$f":"+E54*MM","v":0},{"$f":"+G54*D54","v":0},{"$f":"+E54-G54","v":0},{"$f":"+I54*D54","v":0}]
["e.","razna lokalna odstranjevanja tlakov v območjih raznih sanacij, razni tlaki","m2",227.5,null,{"$f":"+E55*D55","v":0},{"$f":"+E55*MM","v":0},{"$f":"+G55*D55","v":0},{"$f":"+E55-G55","v":0},{"$f":"+I55*D55","v":0}]
[]
[]
["10.","Odstranitev obstoječih tlakov pritličja v območju izvedbe novih kinet (kjer se tlaki odstranjujejo le linijsko zaradi izvedeb obnove kinet), v kompletni sestavi, v pasu širine 1m, kompletno z iznosom ruševin iz objekta."]
[]
["a.","rezanje  tlaka v ravni liniji, debeline do 10cm","m1",147.6,null,{"$f":"+E60*D60","v":0},{"$f":"+E60*MM","v":0},{"$f":"+G60*D60","v":0},{"$f":"+E60-G60","v":0},{"$f":"+I60*D60","v":0}]
[]
["11.","Odstranitev obstoječih tlakov  v kompletni sestavi, kompletno z iznosom ruševin iz objekta, "]
[]
["a.","Pritličje šola - učilnice ipd., v sestavi:","m2",637.70000000000005,null,{"$f":"+E64*D64","v":0},{"$f":"+E64*MM","v":0},{"$f":"+G64*D64","v":0},{"$f":"+E64-G64","v":0},{"$f":"+I64*D64","v":0}]
[null," -betonski tlak deb.10,0cm"]
[null," -toplotna izolacija"]
[null," -obstoječe nasutje (upoštevano v ločeni postavki)"]
[]
["b.","1.nadstropje šola:","m2",635.29999999999995,null,{"$f":"+E69*D69","v":0},{"$f":"+E69*MM","v":0},{"$f":"+G69*D69","v":0},{"$f":"+E69-G69","v":0},{"$f":"+I69*D69","v":0}]
[null," -deske 22mm na lesenih gredicah 55/60mm"]
[null," -gramozno nasutje deb.7,5cm"]
[]
["c."," 2.nadstropje šola:","m2",670.3,null,{"$f":"+E73*D73","v":0},{"$f":"+E73*MM","v":0},{"$f":"+G73*D73","v":0},{"$f":"+E73-G73","v":0},{"$f":"+I73*D73","v":0}]
[null," -deske 22mm na lesenih gredicah 55/60mm"]
[null," -gramozno nasutje deb.7,5cm"]
[]
["12.","Odstranitev obstoječe stenske keramike, kompletno z iznosom ruševin iz objekta.","m2",477.7,null,{"$f":"+E77*D77","v":0},{"$f":"+E77*MM","v":0},{"$f":"+G77*D77","v":0},{"$f":"+E77-G77","v":0},{"$f":"+I77*D77","v":0}]
[]
[]
["13.","Rušenje obstoječih sten na mestu izvedbo niše za kasnejšo prestavitev hidranta in gasilnika, kompletno z iznosom ruševin iz objekta, ","m3",0.66,null,{"$f":"+E80*D80","v":0},{"$f":"+E80*MM","v":0},{"$f":"+G80*D80","v":0},{"$f":"+E80-G80","v":0},{"$f":"+I80*D80","v":0}]
[]
[]
["14.","Rušenje obstoječih zidanih  sten, vključno z ometi in oblogami,  z odstranitvijo ruševin iz objekta. Stene so različnih debelin (rušenje glede na načrt rušitev)."]
[null,"Podana količina v m3!","m3",499.8,null,{"$f":"+E84*D84","v":0},{"$f":"+E84*MM","v":0},{"$f":"+G84*D84","v":0},{"$f":"+E84-G84","v":0},{"$f":"+I84*D84","v":0}]
[]
[]
["15.","Izvedba prebojev v obstoječi opečnati steni za nove prehode, vključno z ometi,  z odstranitvijo ruševin iz objekta.  Stene so različnih debelin (rušenje glede na načrt rušitev).","m3",27.7,null,{"$f":"+E87*D87","v":0},{"$f":"+E87*MM","v":0},{"$f":"+G87*D87","v":0},{"$f":"+E87-G87","v":0},{"$f":"+I87*D87","v":0}]
[]
[]
["16.","Rušenje obstoječih AB preklad in zidu v območju izvedbe novih montažnih preklad nad vrati, z izsekavanjem ležišča za naleganje novih preklad. Obračun po m3 izvedenega rušenja","m3",7.8,null,{"$f":"+E90*D90","v":0},{"$f":"+E90*MM","v":0},{"$f":"+G90*D90","v":0},{"$f":"+E90-G90","v":0},{"$f":"+I90*D90","v":0}]
[]
[]
["17.","Izvedba odstranitve ometa v območju izvedbe novega ojačitvenega ometa. \nZa zagotavljanje dobre sprijemnosti s podlago, mora biti le-ta ustrezno pripravljena. Pazljivo se izvede odstranitev\nobstoječih ometov in čiščenje površin opečnih zidov, s katerih odstranimo vse nevezane delce vse do povsem čiste\nin zdrave osnove. Celotna površina se pred nadgradnjo opere/saturira z vodo, ki mora pred nanašanjem malte\npovršinsko odteči. Očistiti je potrebno tudi vse poškodovane rege v zidu, do zdrave in čiste osnove"]
[null,"Podana količina v m2!","m2",148.5,null,{"$f":"+E94*D94","v":0},{"$f":"+E94*MM","v":0},{"$f":"+G94*D94","v":0},{"$f":"+E94-G94","v":0},{"$f":"+I94*D94","v":0}]
[]
[]
["18.","Odstranitev raznih dotrajanih ometov, kompletno z iznosom ruševin iz objekta. Količina je ocenjena!","m2",203.5,null,{"$f":"+E97*D97","v":0},{"$f":"+E97*MM","v":0},{"$f":"+G97*D97","v":0},{"$f":"+E97-G97","v":0},{"$f":"+I97*D97","v":0}]
[]
[]
["19.","Odstranitev oziroma rušenje obstoječega dimnika, kompletno z iznosom ruševin. Količina je ocenjena!","m3",66.5,null,{"$f":"+E100*D100","v":0},{"$f":"+E100*MM","v":0},{"$f":"+G100*D100","v":0},{"$f":"+E100-G100","v":0},{"$f":"+I100*D100","v":0}]
[]
[]
["21.","Odvoz vseh ruševin v trajno deponijo s plačilom vseh taks in pristojbin","m3",1202.1291999999999,null,{"$f":"+E103*D103","v":0},{"$f":"+E103*MM","v":0},{"$f":"+G103*D103","v":0},{"$f":"+E103-G103","v":0},{"$f":"+I103*D103","v":0}]
[]
["22","Obračun po količinah, ki izhajajo iz potrjenega gradbenega dnevnika in ob upoštevanju kalkulativnih osnov","kpl",1,{"$f":"SUM(F18:F103)*0.1","v":0},{"$f":"+E105*D105","v":0},{"$f":"+E105*MM","v":0},{"$f":"+G105*D105","v":0},{"$f":"+E105-G105","v":0},{"$f":"+I105*D105","v":0}]
[]
[null,"RUŠITVENA DELA SKUPAJ:",null,null,null,{"$f":"SUM(F6:F106)","v":0},null,{"$f":"SUM(H6:H106)","v":0},null,{"$f":"SUM(J6:J106)","v":0}]

{"sheet":"AB-2. ZEMELJSKA DELA","index":9,"n_rows":25,"n_cols":10,"rows_kept":25,"cut":false,"hidden":false,"merged":[]}
[]
["II.","Objekt A in B,   ZEMELJSKA DELA IN GLOBOKO TEMELJENJE"]
[]
[]
["ZAP. ŠT.","OPIS","     ME","KOLIČUNA","CENA/ENOTO","SKUPAJ","POPUST","POPUST SKUPAJ","CENA/ENOTO S POPUSTOM","SKUPAJ S POPUSTOM"]
[]
[]
["1.","Ročni odkop nasutja pod obstoječimi tlaki v območju pritličja, z odmetom ob rob izkopa ali odvozom iz objekta. Izkop za kanalizacijo, ostale instalacije ter ev. potrebna odstranitev viška materiala zaradi večje debeline novih tlakov (ocenjeno povprečno 5cm). Obračun po m3 v raščenem stanju :\nOpomba: če se ugotovi, da je material uporaben pri izvedbi zasipov pri zunanji ureditve, se uporabi tam, po dogovoru z nadzorom!"]
[]
["a.","izkop,  odmet ob rob izkopa ter ponovni zasip s planiranjem in utrjevanjem","m3",19.8,null,{"$f":"+D10*E10","v":0},{"$f":"+E10*MM","v":0},{"$f":"+G10*D10","v":0},{"$f":"+E10-G10","v":0},{"$f":"+I10*D10","v":0}]
[]
["b.","izkop, izvoz iz objekta, nakladanje na kamion in odvoz v trajno deponijo","m3",244.95,null,{"$f":"+D12*E12","v":0},{"$f":"+E12*MM","v":0},{"$f":"+G12*D12","v":0},{"$f":"+E12-G12","v":0},{"$f":"+I12*D12","v":0}]
[]
[]
["2.","Kombinirani izkop za izdelavo točkovnih temeljev z odvozom  v trajno deponijo. Obračun po m3 v raščenem stanju.","m3",16.5,null,{"$f":"+D15*E15","v":0},{"$f":"+E15*MM","v":0},{"$f":"+G15*D15","v":0},{"$f":"+E15-G15","v":0},{"$f":"+I15*D15","v":0}]
[]
[]
["3.","Kombinirani izkop in demontaža obstoječega kanalizacijskega jaška v knjižnici in izkop za nov kanalizacijski jašek, globine do 1,00 m v avli (prestavitev), izvoz iz objekta, nakladanje in odvoz na trajno deponijo. Obračun po m3  v raščenem stanju.","m3",3.85,null,{"$f":"+D18*E18","v":0},{"$f":"+E18*MM","v":0},{"$f":"+G18*D18","v":0},{"$f":"+E18-G18","v":0},{"$f":"+I18*D18","v":0}]
[]
[]
["4.","Dobava in vgrajevanje tamponskega materiala pod točkovne temelje ter zasip točkovnih temeljev, s planiranjem in utrjevanjem po slojih","m3",62.1,null,{"$f":"+D21*E21","v":0},{"$f":"+E21*MM","v":0},{"$f":"+G21*D21","v":0},{"$f":"+E21-G21","v":0},{"$f":"+I21*D21","v":0}]
[]
["5","Obračun po količinah, ki izhajajo iz potrjenega gradbenega dnevnika in ob upoštevanju kalkulativnih osnov","kpl",1,{"$f":"SUM(F10:F21)*0.05","v":0},{"$f":"+D23*E23","v":0},{"$f":"+E23*MM","v":0},{"$f":"+G23*D23","v":0},{"$f":"+E23-G23","v":0},{"$f":"+I23*D23","v":0}]
[]
[null,"ZEMELJSKA DELA SKUPAJ:",null,null,null,{"$f":"SUM(F8:F22)","v":0},null,{"$f":"SUM(H8:H22)","v":0},null,{"$f":"SUM(J8:J22)","v":0}]

{"sheet":"AB-3. BETONSKA DELA","index":10,"n_rows":59,"n_cols":10,"rows_kept":59,"cut":false,"hidden":false,"merged":[]}
[]
["III.","Objekt A in B,   BETONSKA DELA"]
[]
[]
["ZAP. ŠT.","OPIS","     ME","KOLIČUNA","CENA/ENOTO","SKUPAJ","POPUST","POPUST SKUPAJ","CENA/ENOTO S POPUSTOM","SKUPAJ S POPUSTOM"]
[]
[]
[null,"OPOMBA 3!! Karakteristike betonov po podatkih statika!  "]
[]
[null,"Po podatku statika:"]
[null,"Z analizo je bilo ugotovljeno, da obstoječe stanje ne izpolnjuje pogojev potresne odpornosti. Z namenom povečanja odpornosti, smo predvideli nove AB stene debeline d=30cm v obeh glavnih smereh, ter ojačanje 4 opečnatih sten s sistemom FRCM – naprimer z materiali podjetja Mapei - več o predlaganem sistemu ojačitve v priloženi smernici.  "]
[null,"Model za dinamično analizo je povezana AB konstrukcija.  Temu primerno je v fazi izvedbe potrebno nove konstrukcijske elemente med seboj povezati z namenskimi detajli in povezavami (sidranje armature novih AB elementov v obstoječe, vijačenje jeklenih konstrukcij…)"]
[]
[]
["1.","Dobava in vgrajevanje betona  C16/20, prereza 0,08-0,12m3/m2-m1.                     Podložni beton debeline 10 cm."]
[null," -podložni beton pod novimi tlaki v pritličju, deb. 10cm,  zalikano kot podlaga za polaganje hidroizolacije","m3",57.98,null,{"$f":"+E16*D16","v":0},{"$f":"+E16*MM","v":0},{"$f":"+G16*D16","v":0},{"$f":"+E16-G16","v":0},{"$f":"+I16*D16","v":0}]
[]
[]
["2.","Dobava in vgrajevanje betona, prereza 0,20-0,30 m3/m2-m1.  (C25/30, XC1, C1 0.2, Cmax16, S3, armatura BST 500 S, B500B)                                                      "]
["a."," - AB stene - nove ojačitvene stene objekta","m3",399.83,null,{"$f":"+E20*D20","v":0},{"$f":"+E20*MM","v":0},{"$f":"+G20*D20","v":0},{"$f":"+E20-G20","v":0},{"$f":"+I20*D20","v":0}]
[]
[]
["3.","Dobava in vgrajevanje betona, prereza 0,12-0,20 m3/m2-m1. (C25/30, XC1, C1 0.2, Cmax16, S3, armatura BST 500 S, B500B)                                                                                                    "]
["a."," - kineta - obvod kinete\nOPOMBA! Vse dimenzije naj se preveri in prilagodi obstoječi kineti na licu mesta - izvede se obvod kinete zaradi novega dvigalnega jaška","m3",2.2000000000000002,null,{"$f":"+E24*D24","v":0},{"$f":"+E24*MM","v":0},{"$f":"+G24*D24","v":0},{"$f":"+E24-G24","v":0},{"$f":"+I24*D24","v":0}]
[]
[]
["4.","Dobava in vgrajevanje  betona C16/20 za zalivanje odprtin po končanih instalacisjkih delih","m3",2.2000000000000002,null,{"$f":"+E27*D27","v":0},{"$f":"+E27*MM","v":0},{"$f":"+G27*D27","v":0},{"$f":"+E27-G27","v":0},{"$f":"+I27*D27","v":0}]
[]
[]
["5.","Dobava in vgrajevanje  betona C 25/30 za zalivanje, podlivanje raznih elementov, po katerih se pokaže nujnost ob odprtju tlakov, rušenju sten, izvedbi prebojev.","m3",8.8000000000000007,null,{"$f":"+E30*D30","v":0},{"$f":"+E30*MM","v":0},{"$f":"+G30*D30","v":0},{"$f":"+E30-G30","v":0},{"$f":"+I30*D30","v":0}]
[]
[]
[null,"Armatura na podlagi izvlečkov iz armaturnega načrta!!"]
[]
["6.","Dobava, polaganje in vezanje srednje komplicirane armature do fi 12 mm (armatura BST 500 S, B500B)                   ","kg",14392.22,null,{"$f":"+E35*D35","v":0},{"$f":"+E35*MM","v":0},{"$f":"+G35*D35","v":0},{"$f":"+E35-G35","v":0},{"$f":"+I35*D35","v":0}]
[]
[]
["7.","Dobava, polaganje in vezanje srednje komplicirane armature nad fi 12 mm (armatura BST 500 S, B500B)                   ","kg",18588.34,null,{"$f":"+E38*D38","v":0},{"$f":"+E38*MM","v":0},{"$f":"+G38*D38","v":0},{"$f":"+E38-G38","v":0},{"$f":"+I38*D38","v":0}]
[]
[]
["8.","Dobava, polaganje armaturnih mrež (armatura BST 500 S, B500B)              ","kg",21596.6,null,{"$f":"+E41*D41","v":0},{"$f":"+E41*MM","v":0},{"$f":"+G41*D41","v":0},{"$f":"+E41-G41","v":0},{"$f":"+I41*D41","v":0}]
[]
[]
["9.","Dobava in montaža manjših armaturnih elementov, kateri niso zajeti v sklopu armaturnih načrtov (kot npr. mozniki za povezavo stikov, distančniki v stenah, jahači v ploščah, …). Izvajalec določi po lastni tehnologiji oz. po dogovoru s statikom!!","kg",1650,null,{"$f":"+E44*D44","v":0},{"$f":"+E44*MM","v":0},{"$f":"+G44*D44","v":0},{"$f":"+E44-G44","v":0},{"$f":"+I44*D44","v":0}]
[]
[]
[null,"POZOR: Pri vrtanju vrtin za sidra je potrebno paziti, da ne  prevrtamo oz. poškodujemo obstoječe armature v obstoječih AB elementih"]
[]
["10.","Izvedba vrtanja in sidranja armature v obstoječe stene, nosilce, plošče, temelje, kompletno izvrtina, očiščenje in injektirna masa kot npr. Hilti HIT HY 200. Armaturne palice so upoštevane  v poziciji armatura!"]
[null," - sidranje globine 125mm - fi 16 sidro","kos",4227,null,{"$f":"+E50*D50","v":0},{"$f":"+E50*MM","v":0},{"$f":"+G50*D50","v":0},{"$f":"+E50-G50","v":0},{"$f":"+I50*D50","v":0}]
[null," - sidranje globine 170mm - fi 20  sidro","kos",1328,null,{"$f":"+E51*D51","v":0},{"$f":"+E51*MM","v":0},{"$f":"+G51*D51","v":0},{"$f":"+E51-G51","v":0},{"$f":"+I51*D51","v":0}]
[null," - sidranje globine 110mm - fi 12 sidro","kos",2574,null,{"$f":"+E52*D52","v":0},{"$f":"+E52*MM","v":0},{"$f":"+G52*D52","v":0},{"$f":"+E52-G52","v":0},{"$f":"+I52*D52","v":0}]
[null," - sidranje globine 150mm - fi 10 sidro","kos",248,null,{"$f":"+E53*D53","v":0},{"$f":"+E53*MM","v":0},{"$f":"+G53*D53","v":0},{"$f":"+E53-G53","v":0},{"$f":"+I53*D53","v":0}]
[]
["11.","Izvedba sanacije betonske konzole nad vhodom v bazen na način; visokotlačno čiščenje obstoječe betonske površine, sanacija korodiranih delov armature z odstranitvijo rje iz armature z žično ščetko ali peskanjem do zdrave površine, nanos antikorozijskega epoksi premaza ( kot. EPOXYCOAT -AC ali FERROSEAL). Očiščeno oz. olupljeno betonsko površino saniramo z uporabo sanirne visokozmogljive malte kot MEGACRET 40 ali podobno.","m2",4.26,0,{"$f":"+E55*D55","v":0},{"$f":"+E55*MM","v":0},{"$f":"+G55*D55","v":0},{"$f":"+E55-G55","v":0},{"$f":"+I55*D55","v":0}]
[]
["12","Obračun po količinah, ki izhajajo iz potrjenega gradbenega dnevnika in ob upoštevanju kalkulativnih osnov","kpl",1,{"$f":"SUM(F6:F55)*0.1","v":0},{"$f":"+E57*D57","v":0},{"$f":"+E57*MM","v":0},{"$f":"+G57*D57","v":0},{"$f":"+E57-G57","v":0},{"$f":"+I57*D57","v":0}]
[]
[null,"BETONSKA DELA SKUPAJ:",null,null,null,{"$f":"SUM(F6:F57)","v":0},null,{"$f":"SUM(H6:H57)","v":0},null,{"$f":"SUM(J6:J57)","v":0}]

{"sheet":"AB-4. ZIDARSKA DELA","index":11,"n_rows":155,"n_cols":10,"rows_kept":155,"cut":false,"hidden":false,"merged":[]}
[]
["IV.  ","Objekt A in B,   ZIDARSKA DELA"]
[]
[]
["ZAP. ŠT.","OPIS","     ME","KOLIČUNA","CENA/ENOTO","SKUPAJ","POPUST","POPUST SKUPAJ","CENA/ENOTO S POPUSTOM","SKUPAJ S POPUSTOM"]
[]
[]
[null,"OPOMBA!"]
[null,"V ceni obloge vertikalnih konstrukcij je potrebno upoštevati tudi vsa potrebna odra, varovalne ograje... Izvedeno v skladu predpisov varstva pri delu!!"]
[]
[]
["1.","Dobava in polaganje horizontalne bitumenske hidroizolacije kot npr. Izotekt P4 ali enakovredno, točkovno zavarjen na podlago, vključno z hladnim bitumenskim premazom 0.3 kg/m2. Obračun po m2  narisne  površine izvedene izolacije.","m2",723.88,null,{"$f":"+E12*D12","v":0},{"$f":"+E12*MM","v":0},{"$f":"+G12*D12","v":0},{"$f":"+E12-G12","v":0},{"$f":"+I12*D12","v":0}]
[]
[]
["2.","Dobava materiala in pozidava s siporeks zidakom, obloga obstoječe stene z 10 cm (kabinet/tehnični pouk)"]
["a."," - zidak debeline 10,0 cm","m2",10.34,null,{"$f":"+E16*D16","v":0},{"$f":"+E16*MM","v":0},{"$f":"+G16*D16","v":0},{"$f":"+E16-G16","v":0},{"$f":"+I16*D16","v":0}]
["b."," - zidak debeline večje od 10 cm (ne glede na debelino)","m3",64.61,null,{"$f":"+E17*D17","v":0},{"$f":"+E17*MM","v":0},{"$f":"+G17*D17","v":0},{"$f":"+E17-G17","v":0},{"$f":"+I17*D17","v":0}]
[]
[]
["3.","Dobava materiala in izvedba ojačitvenega ometa po sistemu FRG, kompletno z upoštevanjem vsega dela in materiala:"]
[null," - PRIPRAVA PODLAGE - upoštevano v  ločeni postavki\nZa zagotavljanje dobre sprijemnosti s podlago, mora biti le-ta ustrezno pripravljena. Pazljivo se izvede odstranitev obstoječih ometov in čiščenje površin opečnih zidov, s katerih odstranimo vse nevezane delce vse do povsem čiste\nin zdrave osnove. Celotna površina se pred nadgradnjo opere/saturira z vodo, ki mora pred nanašanjem malte\npovršinsko odteči. Očistiti je potrebno tudi vse poškodovane rege v zidu, do zdrave in čiste osnove. "]
[null," -izvedba  temeljno sprijemnega premaza Primer 3296."]
[null,"  -IZVEDBA IZRAVNAVE PRED OJAČITVIJO\nMorebitne zapolnitve, izravnave in dimenzijska odstopanja v podlagi, katera je ustrezno pripravljena in odprašena, se s kovinsko gladilko ali strojno nanese z dvokomponentno, visoko duktilno malto Planitop HDM Maxi, do debeline\nnajveč 25 mm. Nadgradnja je možna po osušitvi cca. 18-24 urah. Upoštevati 10% površine"]
[null," 4. OJAČITVENI OMET\nZa izvedba armirnega/ojačitvenega sloja se nanese prvi enakomerni sloj malte Planitop HDM Maxi v debelini 5-6mm in se še v svežo malto vtisne mrežica Mapegrid G 220, ki se mora utopiti v malto. Nanos drugega enakomernega\nsloj malte Planitop HDM Maxi v debelini 5-6 mm, da popolnoma prekrijete mrežico. Površina malte se zagladi z gladilko.\nVsi preklopi mreže Mapegrid G220 morajo biti izvedeni v širini vsaj 15 cm."]
[null," - SIDRANJE/POVEZOVANJE OJAČITVENEGA OMETA Z VRVICO - OBOJESTRANSKO\nMapeWrap G Fiocco je vrvica iz enosmernih steklenih vlaken na razpolago v različnih premerih (6, 8,10 in 12 mm)."]
[null,"V primeru obojestranske ojačitve je potrebno MapeWrap G Fiooco odrezati na dolžino vsaj 40 cm + debelina zidu.\nSrednji del vrvice (debelina zidu), katera bo v zidu se prepoji z redko tekočo, dvokomponentno epoksidno smolo MapeWrap 21, ter polno posuje s suhim kremenčevim peskom Quarzo 1,2. Po osušitvi se vrvice vstavijo v predhodno izvrtane, očiščene in z temeljnim premazom MapeWrap Primer 1 obdelane luknje. (Potrebno je izvesti\n2 luknji/m2). Luknje v katere so vgrajena sidra z Mapewrap G Fiocco se zapolnijo / injektirajo z dvokoponentno maso na osnovi vinil-estreskih smol brez stirena za izvedbo kemičnega sidranja Mapefix VE SF."]
[null,"Na mestih priključitve vrvice na zid se konca vrvice razprostreta v obliki pahljače ter vtisne v srednje viskozno, dvokomponentno epoksidno\nsmolo brez organskih topil MapeWrap 31 s predhodnim nanosom MapeWrap Primer-ja 1 in posujeta s suhim kremenčevim peskom Quarzo 1,2. Po osušitvi se celotna površina obdela zgladi s slojem Planitop HDM Maxi."]
[null,"Obračun po m2 razvite površine izvedenega  ojačitvenega ometa  na eni strani!","m2",297,null,{"$f":"+E28*D28","v":0},{"$f":"+E28*MM","v":0},{"$f":"+G28*D28","v":0},{"$f":"+E28-G28","v":0},{"$f":"+I28*D28","v":0}]
[]
[]
["5.","Izvedba odprtin v obstoječih stenah, ploščah - za potrebe instalacij, kompletno z zidarsko obdelavo vseh prehodov, z upoštevanjem vsega dela in materiala:Izvedba odprtin v obstoječih stenah, ploščah - za potrebe instalacij, kompletno z zidarsko obdelavo vseh prehodov, z upoštevanjem vsega dela in materiala:"]
["a."," - preboj fi 10 cm v plošči nad pritličjem in 1.nadstropjem","kos",5,null,{"$f":"+E32*D32","v":0},{"$f":"+E32*MM","v":0},{"$f":"+G32*D32","v":0},{"$f":"+E32-G32","v":0},{"$f":"+I32*D32","v":0}]
["b."," - preboj fi 20 cm v plošči nad pritličjem, 1.nadstropjem in 2.nadstropjem","kos",4,null,0,0,0,0,0]
["c."," - preboj skozi konstrukcijo(ploščo) N1 in N2 - fi 30 cm","kos",6,null,0,0,0,0,0]
["d."," - preboj v steni deb. 15,0 cm - dim. Preboja 20/15 cm","kos",4,null,0,0,0,0,0]
["e."," - preboj v steni deb. 15,0 cm - dim. Preboja 30/15 cm","kos",4,null,0,0,0,0,0]
["f."," - preboj v steni deb. 20,0 cm, dim. preboja 30/20 cm","kos",1,null,0,0,0,0,0]
["g."," - preboj v steni deb. 20,0 cm, dim. preboja 60/60 cm","kos",1,null,0,0,0,0,0]
["h."," - preboj v steni deb. 20,0 cm, dim. preboja 160/70 cm","kos",1,null,0,0,0,0,0]
["i."," - preboj v steni deb. 25,0 cm, dim. preboja 30/15 cm","kos",4,null,0,0,0,0,0]
["j."," - preboj v steni deb. 25,0 cm, dim. preboja 85/8 cm","kos",3,null,0,0,0,0,0]
["k."," - preboj v steni deb. 25,0 cm, dim. preboja 65/8 cm","kos",5,null,0,0,0,0,0]
["l."," - preboj v steni deb. 30,0 cm, dim. preboja fi 20 cm","kos",2,null,0,0,0,0,0]
["m."," - preboj v steni deb. 30,0 cm, dim. preboja fi 15 cm","kos",1,null,0,0,0,0,0]
["n."," - preboj v steni deb. 30,0 cm, dim. preboja 30/20 cm","kos",1,null,0,0,0,0,0]
["o."," - preboj v steni deb. 30,0 cm, dim. preboja 60/60 cm","kos",1,null,0,0,0,0,0]
["p."," - preboj v steni deb. 30,0 cm, dim. preboja 95/40 cm","kos",1,null,0,0,0,0,0]
["r."," - preboj v steni deb. 30,0 cm, dim. preboja 105/40 cm","kos",1,null,0,0,0,0,0]
["s."," - preboj v steni deb. 30,0 cm, dim. preboja 390/120 cm","kos",1,null,0,0,0,0,0]
["š."," - preboj v steni deb. 30,0 cm, dim. preboja 160/70 cm","kos",1,null,0,0,0,0,0]
["t."," - preboj v steni deb. 30,0 cm, dim. preboja 50/15 cm","kos",2,null,0,0,0,0,0]
["u."," - preboj v steni deb. 30,0 cm, dim. preboja 70/15 cm","kos",1,null,0,0,0,0,0]
["v."," - preboj v steni deb. 40,0 cm, dim. preboja fi 40,0 cm","kos",4,null,0,0,0,0,0]
["z."," - preboj v monti plošči nad pritličjem, dim. Preboja 95/40 cm","kos",1,null,0,0,0,0,0]
["ž."," - preboj v monti plošči nad pritličjem, dim. Preboja 105/40 cm","kos",1,null,0,0,0,0,0]
["x."," -razni manjši preboji za potrebe instalacij","m3",4.5,null,0,0,0,0,0]
[]
[]
["6.","Odstranitev montažnega pokrova obstoječe kinete ter izdelava,  dobava in montaža novega AB montažnega pokrova deb. 10,0 cm, širine 58 cm, montirano po končanih instalacijskih delih, kompletno z izvedbo vseh revizijskih odprtin - število zajeto posebej, vsem delom in materialom. Pred pričetkom izdelave je potrebno preveriti obstoječe stanje in naredite pokrove ustreznih dim. glede na obstoječe stanje!"]
[null,"Podana količina v m2 pokrova kinete.","m2",132,null,{"$f":"+E60*D60","v":0},{"$f":"+E60*MM","v":0},{"$f":"+G60*D60","v":0},{"$f":"+E60-G60","v":0},{"$f":"+I60*D60","v":0}]
[]
[]
["7.","Dobava materiala, izdelava in montaža revizijskih odprtin v kinetah, vključno z vgradnjo INOX  pokrovov z okvirjem , pokrov  za vgradnjo talne obloge, kompletno z vsem delom in materialom. "]
["a."," - dim. 60/60 cm - šola","kos",5.5,null,{"$f":"+E64*D64","v":0},{"$f":"+E64*MM","v":0},{"$f":"+G64*D64","v":0},{"$f":"+E64-G64","v":0},{"$f":"+I64*D64","v":0}]
[]
[]
["8.","Dobava materiala in izvedba krpanja ometov (po montaži preklad, po menjavi oken, …) , razne manjše zazidave po končanih rušitvenih delin, kompletno z upoštevanjem vsega dela in materiala:"]
["a."," - krpanje ometov","m2",552,null,{"$f":"+E68*D68","v":0},{"$f":"+E68*MM","v":0},{"$f":"+G68*D68","v":0},{"$f":"+E68-G68","v":0},{"$f":"+I68*D68","v":0}]
["b."," - razne manjše zazidave - ne glede na debelino zidu/opeke","m3",127.5,null,{"$f":"+E69*D69","v":0},{"$f":"+E69*MM","v":0},{"$f":"+G69*D69","v":0},{"$f":"+E69-G69","v":0},{"$f":"+I69*D69","v":0}]
[]
[]
["9.","Dobava materiala in izvedba hidroizolacijskega premaza stika talna plošča in nove AB stene s premazi kot npr. Hidrostop ali enakovredno. ","m1",187,null,{"$f":"+E72*D72","v":0},{"$f":"+E72*MM","v":0},{"$f":"+G72*D72","v":0},{"$f":"+E72-G72","v":0},{"$f":"+I72*D72","v":0}]
[]
[]
["10.","Sanacija tlaka v območju obnove talnih kinet v prostorih, kjer se  talne konstrukcije v celoti odstranjujejo le delno zaradi izvedbe obnove kinete. Sanacija tlaka se izvede v sestavi:"]
[null," - folija kot npr. Gefitass, preko plošče kinete"]
[null," - toplotna izolacija XPS deb. Cca 4cm"]
[null," -mikroarmirani cementni estrih deb. cca 7cm, estrih z dodatkom za hitro sušenje (14 dni) kot npr. Contopp Accelerator 10"]
[null," -premaz za sprijem spoja z obstoječim tlakom "]
[null," -pritličje šola","m2",146.19999999999999,null,{"$f":"+E80*D80","v":0},{"$f":"+E80*MM","v":0},{"$f":"+G80*D80","v":0},{"$f":"+E80-G80","v":0},{"$f":"+I80*D80","v":0}]
[]
[]
["11.","Kompletna izdelava plavajočih podov vključno z armaturo armiranih estrihov, z izdelavo dilatacij ob zidovih s stiropor trakom in s polaganjem toplotne izolacije - po sestavah. Obračun v m2."]
[null,"Opomba: vsi estrihi in betoni so dilatirani na ustrezne površine in estrihi izvedeni po veljavnih predpisih o zvočni izolativnosti (plavajoči estrihi)."]
[null,"Vsi estrihi so izdelani s dodatkom za hitro sušenje (14 dni) , kot npr. Contopp Accelerator 10, kar je potrebno upoštevati v ceni!"]
[]
[null,"SESTAVE HORIZONTALNIH IN VERTIKALNIH KONSTRUKCIJ"]
[null,"MEDETAŽNA KONSTRUKCIJA"]
[]
["a.","Tlak v pritličju"]
[null," - podlaga: mikroarmirani beton C 16/20, mikroarmatura: PES vlakna tip STRUX 40/90, vsebnost min. 2.3 kg/m3, deb. 10,00 cm"]
[null," - ločilni sloj: PE folija min. 0,2 mm"]
[null," - toplotna izolacija: ekspandirani polistiren EPS [λD = max.0.034 W/(m.K),σ10%def.= 100 kPa], deb. 18,00 cm"]
[null,"Podana količina v m2!","m2",679.83,null,{"$f":"+E94*D94","v":0},{"$f":"+E94*MM","v":0},{"$f":"+G94*D94","v":0},{"$f":"+E94-G94","v":0},{"$f":"+I94*D94","v":0}]
[]
[]
["f.","Tlak v 1. nadstropju"]
[null," - podlaga: mikroarmirani beton C 16/20, mikroarmatura: PES vlakna tip STRUX 40/90, vsebnost min. 2.3 kg/m3, deb. 6,5 cm"]
[null," - PE ekspandirana folija, deb. 0,2 cm"]
[null," - toplotna izolacija: ekspandirani polistiren EPS [λD = max.0.034 W/(m.K),σ10%def.= 100 kPa], deb. 7,0 cm"]
[null,"Podana količina v m2!","m2",635.30999999999995,null,{"$f":"+E101*D101","v":0},{"$f":"+E101*MM","v":0},{"$f":"+G101*D101","v":0},{"$f":"+E101-G101","v":0},{"$f":"+I101*D101","v":0}]
[]
[]
["k.","Tlak v 2. nadstropju"]
[null," - podlaga: mikroarmirani beton C 16/20\n  mikroarmatura: PES vlakna tip STRUX 40/90\n  vsebnost min. 2.3 kg/m3, deb. 6,5 cm"]
[null," - PE ekspandirana folija, deb. 0,2 cm"]
[null," - toplotna izolacija: ekspandirani polistiren EPS [λD = max.0.034 W/(m.K),σ10%def.= 100 kPa], deb. 3,0 cm"]
[null," - konstrukcija: obostoječa plošča, deb. 4,00 cm"]
[null," - obstoječa monta, deb. 16,00 cm"]
[null,"Podana količina v m2!","m2",670.32,null,{"$f":"+E110*D110","v":0},{"$f":"+E110*MM","v":0},{"$f":"+G110*D110","v":0},{"$f":"+E110-G110","v":0},{"$f":"+I110*D110","v":0}]
[]
[]
["12.","Izdelava utorov in prebojev v AB elementih  za potrebe istalacij ter dobava materiala in krpanje utorov/prebojev  po končanih instalacijskih delih, kompletno z vsem potrebnim materialom in delom. "]
[null,"Ocena m1 utorov - po dejanskem stanju glede na zahteve instalaterjev! V ceni je potrebno upoštevati dolblenje utorov in krpanje!"]
[]
[null," - dim. Utora 5/5 cm","m1",990,null,{"$f":"+E116*D116","v":0},{"$f":"+E116*MM","v":0},{"$f":"+G116*D116","v":0},{"$f":"+E116-G116","v":0},{"$f":"+I116*D116","v":0}]
[null," - dim. Utora 10/5 cm","m1",935,null,{"$f":"+E117*D117","v":0},{"$f":"+E117*MM","v":0},{"$f":"+G117*D117","v":0},{"$f":"+E117-G117","v":0},{"$f":"+I117*D117","v":0}]
[null," - dim. Utora 20/10 cm","m1",110,null,{"$f":"+E118*D118","v":0},{"$f":"+E118*MM","v":0},{"$f":"+G118*D118","v":0},{"$f":"+E118-G118","v":0},{"$f":"+I118*D118","v":0}]
[null," - dim. Utora 20/20 cm","m1",155,null,{"$f":"+E119*D119","v":0},{"$f":"+E119*MM","v":0},{"$f":"+G119*D119","v":0},{"$f":"+E119-G119","v":0},{"$f":"+I119*D119","v":0}]
[null," - razni utori za vgradnjo omaric za potrebe instalacij","m1",64,null,{"$f":"+E120*D120","v":0},{"$f":"+E120*MM","v":0},{"$f":"+G120*D120","v":0},{"$f":"+E120-G120","v":0},{"$f":"+I120*D120","v":0}]
[]
[]
["13.","Vzidava omaric za potrebe instalacij, kompletno z vsem potrebnim delom in materialom.","kos",11,null,{"$f":"+E123*D123","v":0},{"$f":"+E123*MM","v":0},{"$f":"+G123*D123","v":0},{"$f":"+E123-G123","v":0},{"$f":"+I123*D123","v":0}]
[]
[]
["14.","Zidarska pomoč obrtnikom, strojnim instalaterjem in elektro instalaterjem, z delovno silo in gradbenim materialom, obračunana na osnovi vpisa v gradbeni dnevnik:"]
[null," - izdelava manjših utorov in prebojev, s kasnejšo zidarsko obdelavo"]
[null," - transport elementov obrtniških in inštalacijskih del do mesta vgradnje ali montaže"]
[null," - vzidave elementov, katerih dobava je zajeta v postavkah obrtniških in instalacijskih del"]
[null," - ostala drobna dela kot pomoč obrtnikom in inštalaterjem"]
[null,"Obračun se bo vršil na podlagi dejansko porabljenaga časa in materiala evidentiranega v gradbenem dnevniku in potrjenega od strani nadzornega organa"]
["a."," - PK delavec ocena ur","ur",200,null,{"$f":"+E132*D132","v":0},{"$f":"+E132*MM","v":0},{"$f":"+G132*D132","v":0},{"$f":"+E132-G132","v":0},{"$f":"+I132*D132","v":0}]
["b."," - KV delavec ocena ur","ur",200,null,{"$f":"+E133*D133","v":0},{"$f":"+E133*MM","v":0},{"$f":"+G133*D133","v":0},{"$f":"+E133-G133","v":0},{"$f":"+I133*D133","v":0}]
["c."," - ocena materiala","ocena",1,null,{"$f":"+E134*D134","v":0},{"$f":"+E134*MM","v":0},{"$f":"+G134*D134","v":0},{"$f":"+E134-G134","v":0},{"$f":"+I134*D134","v":0}]
[]
[]
["15.","Dobava in montaža toplotne izolacije EPS  raznih dimenzij , debeline do 5 cm, za preprečitev toplotnih mostov, … kompletno z vsem potrebnim delom in pritrdilnim materialom. V količini je zajeta toplotna izolacija, po kateri se pokaže potreba med samo gradnjo zaradi kvalitetne izvedbe objekta.","m3",3.3,null,{"$f":"+E137*D137","v":0},{"$f":"+E137*MM","v":0},{"$f":"+G137*D137","v":0},{"$f":"+E137-G137","v":0},{"$f":"+I137*D137","v":0}]
[]
[]
["16.","Požarno tesnenje prehodov instalacij skozi stene - skozi požarno zatesnjene odprtine. Požarna odpornost prehodov kablov in cevi mora biti enaka požarni odpornosti, ki je zahtevana za element, skozi katerega prehaja napeljava  - REI60. Za tesnenje upoštevati material ki izpolnjuje pogojem iz požarnega elaborata !! - UPOŠTEVATI V SKLOPU IZVEDBE  INSTALACIJSKIH DEL"]
[]
[]
["17.","Dobava materiala in izvedba kitanja stikov s trajno-odpornim kitom, odpornim na UV žarke, kompletno s pripravo podlage (očiščenje stika, ..) Potrebno je izbrati tudi pravo obliko fuge - Zato je zaželjeno razmerje višina * širina fuge 1:2. Z manjšanjem tega razmerja do 1:1, to je kvadratne oblike fuge, se znatno povečuje sila na vogalih večinoma do te mere, da začne masa na tem delu odstopati .","m1",1589,null,{"$f":"+E143*D143","v":0},{"$f":"+E143*MM","v":0},{"$f":"+G143*D143","v":0},{"$f":"+E143-G143","v":0},{"$f":"+I143*D143","v":0}]
[]
[]
["18.","Čiščenje prostorov med gradnjo ter finalno čiščenje po končanih delih s čiščenjem oken in vrat ter vseh oblog.(terase, notranji prostori,..) Obračun po m2 enkratne tlorisne površine."]
[null," - šola","m2",3218.3,null,{"$f":"+E147*D147","v":0},{"$f":"+E147*MM","v":0},{"$f":"+G147*D147","v":0},{"$f":"+E147-G147","v":0},{"$f":"+I147*D147","v":0}]
[null," - telovadnica","m2",662.31,null,{"$f":"+E148*D148","v":0},{"$f":"+E148*MM","v":0},{"$f":"+G148*D148","v":0},{"$f":"+E148-G148","v":0},{"$f":"+I148*D148","v":0}]
[]
[]
["20.","Pregled obstoječega razvoda horizontalne kanalizacije. Prevezava novih in prenovljenih vertikal na zunanjo kanalizacijo.","kpl",1,null,{"$f":"+E151*D151","v":0},{"$f":"+E151*MM","v":0},{"$f":"+G151*D151","v":0},{"$f":"+E151-G151","v":0},{"$f":"+I151*D151","v":0}]
[]
["21","Obračun po količinah, ki izhajajo iz potrjenega gradbenega dnevnika in ob upoštevanju kalkulativnih osnov","kpl",1,{"$f":"SUM(F6:F151)*0.1","v":0},{"$f":"+E153*D153","v":0},{"$f":"+E153*MM","v":0},{"$f":"+G153*D153","v":0},{"$f":"+E153-G153","v":0},{"$f":"+I153*D153","v":0}]
[]
[null,"ZIDARSKA DELA SKUPAJ:",null,null,null,{"$f":"SUM(F6:F154)","v":0},null,{"$f":"SUM(H6:H154)","v":0},null,{"$f":"SUM(J6:J154)","v":0}]

{"sheet":"AB-5. TESARSKA DELA","index":12,"n_rows":36,"n_cols":10,"rows_kept":36,"cut":false,"hidden":false,"merged":[]}
[]
["V.","Objekt A in B,   TESARSKA DELA"]
[]
[]
["ZAP. ŠT.","OPIS","     ME","KOLIČUNA","CENA/ENOTO","SKUPAJ","POPUST","POPUST SKUPAJ","CENA/ENOTO S POPUSTOM","SKUPAJ S POPUSTOM"]
[]
[]
[null,"Izvajalec del je pred betoniranjem dolžan skupaj z nadzorom pregledati načrte instalacij in tehnologije in vgraditi vse razvode instalacij, vložke in škatle za preboje instalacij skozi AB konstrukcije skladno z načrtom instalacij in tehnologije, po tedaj razpoložljivih podatkih"]
[]
[]
["1.","Dobava, montaža in demontaža opaža sten in dna nove kinete\nOPOMBA! Vse dimenzije naj se preveri in prilagodi obstoječi kineti na licu mesta - izvede se obvod kinete zaradi novega dvigalnega jaška","m2",27.6,null,{"$f":"+E11*D11","v":0},{"$f":"+E11*MM","v":0},{"$f":"+G11*D11","v":0},{"$f":"+E11-G11","v":0},{"$f":"+I11*D11","v":0}]
[]
[]
["2.","Dobava, montaža in demontaža opaža talnega jaška, kompletno z vsem delom in materialom. Jašek notranje dim. 80/80/80cm.","m2",9,null,{"$f":"+E14*D14","v":0},{"$f":"+E14*MM","v":0},{"$f":"+G14*D14","v":0},{"$f":"+E14-G14","v":0},{"$f":"+I14*D14","v":0}]
[]
[]
["3.","Dobava, montaža in demontaža dvostranskega opaža AB sten, z višino podpiranja 3-6 m1. \n(opaž za vidne betone)","m2",2207.52,null,{"$f":"+E17*D17","v":0},{"$f":"+E17*MM","v":0},{"$f":"+G17*D17","v":0},{"$f":"+E17-G17","v":0},{"$f":"+I17*D17","v":0}]
[]
[]
["4.","Dobava, montaža in demontaža opaža  prehodov  v AB elementih, obračun po m2 razvite površine opaža - predvideni dodatni prehodi - vskladiti z načrtom elektro in strojnih instalacij","m2",18,null,{"$f":"+E20*D20","v":0},{"$f":"+E20*MM","v":0},{"$f":"+G20*D20","v":0},{"$f":"+E20-G20","v":0},{"$f":"+I20*D20","v":0}]
[]
[]
["5.","Dobava, montaža in demontaža opaža  prehodov  v AB elementih za okna in vrata. Obračun po m2 razvite površine opaža. ","m2",25.2,null,{"$f":"+E23*D23","v":0},{"$f":"+E23*MM","v":0},{"$f":"+G23*D23","v":0},{"$f":"+E23-G23","v":0},{"$f":"+I23*D23","v":0}]
[]
[]
["6.","Postavitev, amortizacija in odstranitev premičnih delovnih odrov za vsa gradbena, zaključna gradbena dela in instalacijska dela. Obračun po m2, enkratna tlorisna površina"]
[null," - šola, višine do 3m","m2",3510.8,null,{"$f":"+E27*D27","v":0},{"$f":"+E27*MM","v":0},{"$f":"+G27*D27","v":0},{"$f":"+E27-G27","v":0},{"$f":"+I27*D27","v":0}]
[null," - telovadnica, višine do 6m","m2",722.52,null,{"$f":"+E28*D28","v":0},{"$f":"+E28*MM","v":0},{"$f":"+G28*D28","v":0},{"$f":"+E28-G28","v":0},{"$f":"+I28*D28","v":0}]
[null,"OPOMBA! V postavko postavitev odrov ni upoštevana jedlinica, zaklonišče!"]
[]
[]
["7.","Dobava in montaža OSB vlagoodbojnih plošč, potrebnih za  podkonstrukcije in zaporo pri manjših elementih, po katrih se pokaže potreba med samo gradnjo. Podana količina v m2! Debelina OSB plošč 18mm.","m2",42,null,{"$f":"+E32*D32","v":0},{"$f":"+E32*MM","v":0},{"$f":"+G32*D32","v":0},{"$f":"+E32-G32","v":0},{"$f":"+I32*D32","v":0}]
[]
["8","Obračun po količinah, ki izhajajo iz potrjenega gradbenega dnevnika in ob upoštevanju kalkulativnih osnov","kpl",1,{"$f":"SUM(F6:F32)*0.05","v":0},{"$f":"+E34*D34","v":0},{"$f":"+E34*MM","v":0},{"$f":"+G34*D34","v":0},{"$f":"+E34-G34","v":0},{"$f":"+I34*D34","v":0}]
[]
[null,"TESARSKA DELA SKUPAJ:",null,null,null,{"$f":"SUM(F6:F34)","v":0},null,{"$f":"SUM(H6:H34)","v":0},null,{"$f":"SUM(J6:J34)","v":0}]

{"sheet":"AB-G. REKAP. OBRT. DELA","index":13,"n_rows":27,"n_cols":5,"rows_kept":27,"cut":false,"hidden":false,"merged":[]}
["Investitor:   ","Mestna občina Ljubljana"]
[null,"Konzorcij družb Petrol d. d. in Resalta d. o. o. "]
["Objekt:      ","OŠ Savsko naselje, Matjaževa ulica 4, Ljubljana"]
[null," - Celovita prenova objekta s statično, požarno in energetsko sanacijo."]
["Štev. proj.:     "]
["Datum:      ","April 2022"]
[]
[]
[]
[]
[null,"REKAPITULACIJA"]
[null,"OBRTNIŠKA DELA Objekt A in B,   "]
[]
[]
[null,"Ponudbena vrednost - skupna rekapitulacija","Vrednost  brez popusta","Popust","Vrednost s popustom"]
["1.","Krovsko kleparska dela:",{"$f":"'AB-1. KROVSKO KLEPARSKA'!$F$58","v":0},{"$f":"'AB-1. KROVSKO KLEPARSKA'!$H$58","v":0},{"$f":"'AB-1. KROVSKO KLEPARSKA'!$J$58","v":0}]
["2.","Ključavničarska dela:",{"$f":"'AB-2. KLJUČAVNIČARSKA'!$F$22","v":0},{"$f":"'AB-2. KLJUČAVNIČARSKA'!$H$22","v":0},{"$f":"'AB-2. KLJUČAVNIČARSKA'!$J$22","v":0}]
["3.","Notranja vrata:",{"$f":"'AB-3. NOTRANJA VRATA'!$F$941","v":0},{"$f":"'AB-3. NOTRANJA VRATA'!$H$941","v":0},{"$f":"'AB-3. NOTRANJA VRATA'!$J$941","v":0}]
["4.","Mizarska dela",{"$f":"'AB-4. MIZARSKA DELA'!$F$39","v":0},{"$f":"'AB-4. MIZARSKA DELA'!$H$39","v":0},{"$f":"'AB-4. MIZARSKA DELA'!$J$39","v":0}]
["5.","Montažna dela.",{"$f":"'AB-5. MONTAŽNA DELA'!$F$81","v":0},{"$f":"'AB-5. MONTAŽNA DELA'!$H$81","v":0},{"$f":"'AB-5. MONTAŽNA DELA'!$J$81","v":0}]
["6.","Slikopleskarska  dela",{"$f":"'AB-6. SLIKOPLESKARSKA DELA'!$F$49","v":0},{"$f":"'AB-6. SLIKOPLESKARSKA DELA'!$H$49","v":0},{"$f":"'AB-6. SLIKOPLESKARSKA DELA'!$J$49","v":0}]
["7.","Keramičasrka dela",{"$f":"'AB-7. KERAMIČARSKA DELA'!$F$50","v":0},{"$f":"'AB-7. KERAMIČARSKA DELA'!$H$50","v":0},{"$f":"'AB-7. KERAMIČARSKA DELA'!$J$50","v":0}]
["8.","Podopolagalska dela",{"$f":"'AB-8. PODOPOLAGALSKA DELA'!$F$47","v":0},{"$f":"'AB-8. PODOPOLAGALSKA DELA'!$H$47","v":0},{"$f":"'AB-8. PODOPOLAGALSKA DELA'!$J$47","v":0}]
["9.","Oprema",{"$f":"'AB-9. OPREMA'!$F$32","v":0},{"$f":"'AB-9. OPREMA'!$H$32","v":0},{"$f":"'AB-9. OPREMA'!$J$32","v":0}]
[null,"SKUPAJ",{"$f":"SUM(C16:C24)","v":0},{"$f":"SUM(D16:D24)","v":0},{"$f":"SUM(E16:E24)","v":0}]
[null,"22% DDV",null,null,{"$f":"+E25*0.22","v":0}]
[null,"Objekt A in B   OBRTNIŠKA DELA  SKUPAJ Z DDV",null,null,{"$f":"+E25+E26","v":0}]

{"sheet":"AB-1. KROVSKO KLEPARSKA","index":14,"n_rows":58,"n_cols":10,"rows_kept":58,"cut":false,"hidden":false,"merged":[]}
[]
["I.","Objekt A in B,   KROVSKO KLEPARSKA DELA"]
[]
[]
["ZAP. ŠT.","OPIS","     ME","KOLIČUNA","CENA/ENOTO","SKUPAJ","POPUST","POPUST SKUPAJ","CENA/ENOTO S POPUSTOM","SKUPAJ S POPUSTOM"]
[]
[null,"A. RUŠITVENA DELA"]
[]
[null,"Uvodno pojasnilo:"]
[null,"Pri izvajanju del je treba upoštevati vsa  določila s področja varnosti in zdravja pri delu, opredeljena v Varnostnem načrtu za zagotavljanje varnosti in zdravja pri delu na gradbišču, izdelanega skladno z določili 4. člena Uredbe (Ur.l.RS št. 83/05)."]
[null,"Pri izvajanju del je treba upoštevati vsa zakonska določila s področja varnosti in zdravja pri delu, Pravilnik o varstvu pri gradbenem delu, Zakon o varstvu pred požarom in Zakon o varstvu okolja, predpise o ravnanju z gradbenimi odpadki, Pravilnik o obremenjevanju tal z vnašanjem odpadkov in Uredbo o ravnanju z odpadki."]
[null,"Pred začetkom rušitvenih del je treba opraviti pripravljalna dela, odklopiti elektriko, plin in vodo, iz prostorov odstraniti nepotreben material, opremo in stavbno pohištvo. Priprava zgradbe je odvisna od obsega rušitvenih posegov"]
[null,"Pod pripravo zgradbe lahko spadajo tudi priprava začasnih dovozov in delovnih odrov, odstranitev dreves in grmovja, v kolikor to ni zajeto v popisu del ali začasna sprememba režima lokalnega prometa"]
[null,"Rušitvena dela naj bi se izvajala v čim manj vetrovnem vremenu. Pri čezmernem prašenju ob rušenju je treba poskrbeti za vlaženje objekta, ki ga rušimo."]
[null,"Obvezno je ločevanje vgrajenih materialov: beton in armiran beton, pločevina, les, steklo, plastika, kovinski izdelki, opeka... "]
[null,"Ob izvajanju rušitvenih del je upoštevati določila Uredbe o ravnanju z odpadki, ki vsebujejo azbest (Ur.l.RS št. 34/08); preprečevanje emisije azbestnih vlaken v okolje, obdelava azbestnih odpadkov, …."]
[null,"Vse gradbene odpadke in ruševine je potrebno odpeljati na deponijo komunalnih odpadkov v skladu z Odlokom o ravnanju s komunalnimi odpadki na območju občine in v skladu z Uredbo o ravnanju z odpadki (Uradni list RS št. 103/2011) in pred primopredajo del predati Poročilo o ravnanju z gradbenimi odpadki."]
[null,"V ceni na enoto posamezne postavke je potrebno upoštevati vse stroške in takse deponij."]
[]
[]
["1.","Odstranitev in obstoječe kritine in letev strehe, vključno z nakladanjem in odvozom na trajno deponijo","m2",1342,null,{"$f":"D21*E21","v":0},{"$f":"+E21*MM","v":0},{"$f":"+G21*D21","v":0},{"$f":"+E21-G21","v":0},{"$f":"+I21*D21","v":0}]
[]
[]
["2.","Demontaža žlebov, vključno z odvozom na trajno deponijo","m'","458,81",null,{"$f":"D24*E24","v":0},{"$f":"+E24*MM","v":0},{"$f":"+G24*D24","v":0},{"$f":"+E24-G24","v":0},{"$f":"+I24*D24","v":0}]
[]
[]
["3.","Demontaža strešne kapne obrobe ter zaključnih profilov, vključno z odvozom na trajno deponijo","m2",154,null,{"$f":"D27*E27","v":0},{"$f":"+E27*MM","v":0},{"$f":"+G27*D27","v":0},{"$f":"+E27-G27","v":0},{"$f":"+I27*D27","v":0}]
[]
[]
[null,"B. KROVSKO KLEPARSKA DELA"]
[]
[null,"Uvodno pojasnilo:"]
[null,"Krovska in kleparska dela morajo biti izvedena po opisih in detajlih iz kvalitetnega materiala in v skladu z veljavnimi tehničnimi predpisi in standardi za ta dela. Vsa dela je izdelati tehnično pravilno in po pravilih stroke."]
[null,"Pred pričetkom izvajanja izolacijskih del je preveriti kvaliteto predhodno izvršenih del, ki bi lahko vplivala na kvaliteto, sigurnost in trajnost izolacije, ki je predvidena z elaboratom fizikalne in zvočne zaščite."]
[null,"Dela morajo biti izvedena tako, da posamezni deli in sloji izolacij kakor tudi celoten sestav ustrezajo namenu, zahtevam, varnosti in dolgotrajnosti. Posebno pazljivo je izvesti streho okrog zbirnih kotličev, dilatacijskih stikov in zaključkov strehe."]
[null,"Zaključne obrobe se izvedejo po detajlih. "]
[null,"Hidroizolacijska dela se sme izvajati samo na kvalitetno izvedeno čvrsto, ravno in suho podlogo. Med izvajanjem in po končani izvedbi hidroizolacijskih del, se ne sme po njej hoditi. Vsa ostala gradbena in obrtniška dela se smejo izvajati samo, če je hidroizolacija zaščitena z ustrezno zaščito."]
[null,"Za vse vgrajene materiale mora izvajalec predložiti ateste o kvaliteti materialov, ki jih izda pooblaščeni zavod za tovrstne dejavnosti. "]
[null,"Izvedba TI in HI po detajlih izvajalca z ustreznim certifikatom."]
[null,"Enotna cena mora zajeti izdelavo vseh potrebnih detajlov in dopolnilnih del, ki jih je potrebno izvesti za dokončanje posameznih del, tudi če potrebni detajli in zaključki niso podrobno navedeni in opisani v popisu del, in so ta dopolnila nujna za pravilno funkcioniranje posameznih sistemov."]
[]
[]
["1.","Dobava in montaža strešne kritine, sestava strehe izvede po detajlu, izvedeno v sestavi:"]
[null," - letev 5/8 (razmak letev na 80 cm)"]
[null," - kritina - pločevinasti izolacijski strešni panel, debelina pločevine zgoraj 0,5 mm in spodaj 0,4 mm, polnilo kamena volna debeline 5 cm"]
[null,"Podana skupna količina, potrebno upoštevati vsa potrebna pritrdila in vezni material. ","m2",1837,null,{"$f":"D46*E46","v":0},{"$f":"+E46*MM","v":0},{"$f":"+G46*D46","v":0},{"$f":"+E46-G46","v":0},{"$f":"+I46*D46","v":0}]
[]
[]
["2.","Dobava in montaža kleparskih izdelkov na strehi objekta, vključno z morebitnim podaljšanjem obstoječih nosilcev in dodelavo kolen. Kleparski izdelki izdelani iz pocinkane barvane pločevine deb. 0,6mm, z vsem pritrdilnim materialom in tesnenji. Po detajlu projektanta arhitekture."]
[]
["a.","slemenska obroba, r.š. 50 cm ","m2","109,34",null,{"$f":"D51*E51","v":0},{"$f":"+E51*MM","v":0},{"$f":"+G51*D51","v":0},{"$f":"+E51-G51","v":0},{"$f":"+I51*D51","v":0}]
["b.","kapna obroba, r.š. 40 cm ","m2","109,34",null,{"$f":"D52*E52","v":0},{"$f":"+E52*MM","v":0},{"$f":"+G52*D52","v":0},{"$f":"+E52-G52","v":0},{"$f":"+I52*D52","v":0}]
["c.","žlebovi r.š. 33 cm, vključno nosilne kljuke, ki se vijačijo v lesene morale 18/6 cm, vstavljene v utor g=5mm, š=30mm na 100 cm - po detajlu v fasadnih pasovih ter iztočni kotlički (1kos = 1m1)","m'","458,81",null,{"$f":"D53*E53","v":0},{"$f":"+E53*MM","v":0},{"$f":"+G53*D53","v":0},{"$f":"+E53-G53","v":0},{"$f":"+I53*D53","v":0}]
["d.","mrežica proti pticam - po detajlu","m'","326,81",null,{"$f":"D54*E54","v":0},{"$f":"+E54*MM","v":0},{"$f":"+G54*D54","v":0},{"$f":"+E54-G54","v":0},{"$f":"+I54*D54","v":0}]
[null,null,null,null,0]
["3","Obračun po količinah, ki izhajajo iz potrjenega gradbenega dnevnika in ob upoštevanju kalkulativnih osnov","kpl",1,{"$f":"SUM(F7:F54)*0.05","v":0},{"$f":"D56*E56","v":0},{"$f":"+E56*MM","v":0},{"$f":"+G56*D56","v":0},{"$f":"+E56-G56","v":0},{"$f":"+I56*D56","v":0}]
[]
[null,"SKUPAJ KROVSKO KLEPARSKA DELA:",null,null,null,{"$f":"SUM(F10:F56)","v":0},null,{"$f":"SUM(H10:H56)","v":0},null,{"$f":"SUM(J10:J56)","v":0}]

{"sheet":"AB-2. KLJUČAVNIČARSKA","index":15,"n_rows":22,"n_cols":10,"rows_kept":22,"cut":false,"hidden":false,"merged":[]}
[]
["II.","Objekt A in B,   KLJUČAVNIČARSKA DELA"]
[]
[]
["ZAP. ŠT.","OPIS","     ME","KOLIČUNA","CENA/ENOTO","SKUPAJ","POPUST","POPUST SKUPAJ","CENA/ENOTO S POPUSTOM","SKUPAJ S POPUSTOM"]
[]
[]
["1.","Dobava in vgradnja novih nadstreškov. Vse po načrtu gradbenih konstrukcij. Konstrukcijsko jeklo S325 vročecinkano. Pritrjevanje v nove AB steno. Vsa konstrukcija je dodatno barvana. Barva iz kataloga RAL. Priprava podlage in nanosi barve po specifikaciji proizvajalca. Vključno izdelava delavniške dokumentacije, vezni in pritrdilni material. Kritina pločevina d=100 mm. Vključena vgradnja obrob in odtočnih žlebov in odtokov."]
[null,"nadstrešek pri glavnem vhodu","kpl",1,null,{"$f":"+E9*D9","v":0},{"$f":"+E9*MM","v":0},{"$f":"+G9*D9","v":0},{"$f":"+E9-G9","v":0},{"$f":"+I9*D9","v":0}]
[null,"nadstrešek pri bazenu","kpl",1,null,{"$f":"+E10*D10","v":0},{"$f":"+E10*MM","v":0},{"$f":"+G10*D10","v":0},{"$f":"+E10-G10","v":0},{"$f":"+I10*D10","v":0}]
[null,"nadstrešek pri garderobah","kpl",1,null,{"$f":"+E11*D11","v":0},{"$f":"+E11*MM","v":0},{"$f":"+G11*D11","v":0},{"$f":"+E11-G11","v":0},{"$f":"+I11*D11","v":0}]
[]
[]
["2.","Dobava materiala in izvedba nadvišanja obstoječe kovinske ograje glavnega stopnišča Ograja se nadviša do višine 110 cm. Lesen ročaj ograje se odstrani in nadviša, vertikale nadvišanja sovpadajo s pozicijami pritrditve ograje, varjen stik med zgornjo prečko obstoječe ograje in novimi vertikalami nadvišanja. (glej detajl - nadviša za 15,0 cm od linije lesenega ročaja). V spodnjem pasu ograje se dodajo horizontalne prečke kot je razvidno iz sheme.","m1","0"]
[]
[]
["3.","Dobava in montaža  ključavničarskih izdelkov za potrebe kvalitetne izvedba objekta, kompletno z antikorozijsko zaščito in finalno obdelavo. "]
[null,"Tu je zajeta konstrukcije/profili, kotniki, .. kateri niso detaljno popisai, so pa nujno potrebni za kvalitetno izvedbo objekta! Obračun po dejanskih količinah vpisanih v gradbeni dnevnik in priznanih s strani nadzornega organa!","kg",2925,null,{"$f":"+E18*D18","v":0},{"$f":"+E18*MM","v":0},{"$f":"+G18*D18","v":0},{"$f":"+E18-G18","v":0},{"$f":"+I18*D18","v":0}]
[null,null,null,null,0]
["4","Obračun po količinah, ki izhajajo iz potrjenega gradbenega dnevnika in ob upoštevanju kalkulativnih osnov","kpl",1,{"$f":"SUM(F9:F18)*0.05","v":0},{"$f":"+E20*D20","v":0},{"$f":"+E20*MM","v":0},{"$f":"+G20*D20","v":0},{"$f":"+E20-G20","v":0},{"$f":"+I20*D20","v":0}]
[]
[null,"SKUPAJ KLJUČAVNIČARSKA DELA:",null,null,null,{"$f":"SUM(F8:F20)","v":0},null,{"$f":"SUM(H8:H20)","v":0},null,{"$f":"SUM(J8:J20)","v":0}]

{"sheet":"AB-3. NOTRANJA VRATA","index":16,"n_rows":941,"n_cols":10,"rows_kept":941,"cut":false,"hidden":false,"merged":[]}
[]
["III.","Objekt A in B,    NOTRANJA VRATA"]
[]
[]
["ZAP. ŠT.","OPIS","     ME","KOLIČUNA","CENA/ENOTO","SKUPAJ","POPUST","POPUST SKUPAJ","CENA/ENOTO S POPUSTOM","SKUPAJ S POPUSTOM"]
[]
[]
[null,"Dobava in montaža notranjih vrat, izdelanih po shemah projektanta arhitekture, kompletno z upoštevanjem vseh nasadil, tesnil, okovja, štoperji, talni ali stenski vsem delom in vgradnim materialom. "]
[null,"Vrata izdelana na podlagi zadnjeveljavnih shem projektanta arhitekture! Vse vgradne mere vrat je potrebno preveriti na gradbišču in vrata pred izdelavo prilagoditi izmerjenim dimenzijam!"]
[]
[]
[]
[null,"SEZNAM NOTRANJIH VRAT"]
[]
["1.","Vn 01 - vrata"]
[null," - svetla širina x svetla višina: 100 x 210 cm"]
[null," - zidarska širina x zidarska višina: 110 x 215 cm"]
[null," - stena: AB stena, 25,00 cm"]
[null," - stran odpiranja: desno"]
[null," - tip krila: enokrilna, polno krilo z odprtino"]
[null," - material krila: leseno krilo, odprtina kaljeno steklo"]
[null," - obdelava krila: obdelava po izboru arhitekta"]
[null," - tip podboja: podboj v ravnini s steno"]
[null," - material podboja: kovinski podboj"]
[null," - obdelava podboja: po izboru arhitekta"]
[null," - material nadsvetlobe: /"]
[null," - okovje: tritočkovna skrita nasadila"]
[null," - kljuka: navadna INOX kljuka"]
[null," - ključavnica: električna ključavnica v skladu s projektom kontrole pristopa"]
[null," - požarna zahteve: EI 30"]
[null," - zvočne zahteve: 38 dB"]
[null," - dodatne zahteve: samozapiralo, tablica za oznako prostora"]
[]
[null,"Podati ceno glede na zgornji popis, kompletno z upoštevanjem vseh elementov za pritrditev, dobavo in montažo","kos",13,null,{"$f":"+D34*E34","v":0},{"$f":"+E34*MM","v":0},{"$f":"+G34*D34","v":0},{"$f":"+E34-G34","v":0},{"$f":"+I34*D34","v":0}]
[]
[]
["2.","Vn 02 - vrata"]
[null," - svetla širina x svetla višina: 100 x 210 cm"]
[null," - zidarska širina x zidarska višina: 110 x 215 cm"]
[null," - stena: AB stena, 25,00 cm"]
[null," - stran odpiranja: levo"]
[null," - tip krila: enokrilna, polno krilo z odprtino"]
[null," - material krila: leseno krilo, odprtina kaljeno steklo"]
[null," - obdelava krila: obdelava po izboru arhitekta"]
[null," - tip podboja: podboj v ravnini s steno"]
[null," - material podboja: kovinski podboj"]
[null," - obdelava podboja: po izboru arhitekta"]
[null," - material nadsvetlobe: /"]
[null," - okovje: tritočkovna skrita nasadila"]
[null," - kljuka: navadna INOX kljuka"]
[null," - ključavnica: električna ključavnica v skladu s projektom kontrole pristopa"]
[null," - požarna zahteve: EI 30"]
[null," - zvočne zahteve: 38 dB"]
[null," - dodatne zahteve: samozapiralo, tablica za oznako prostora"]
[]
[null,"Podati ceno glede na zgornji popis, kompletno z upoštevanjem vseh elementov za pritrditev, dobavo in montažo","kos",7,null,{"$f":"+D56*E56","v":0},{"$f":"+E56*MM","v":0},{"$f":"+G56*D56","v":0},{"$f":"+E56-G56","v":0},{"$f":"+I56*D56","v":0}]
[]
[]
["3.","Vn 03 - vrata"]
[null," - svetla širina x svetla višina: 100 x 210 cm"]
[null," - zidarska širina x zidarska višina: 110 x 215 cm"]
[null," - stena: MK stena, 15,00 cm"]
[null," - stran odpiranja: levo"]
[null," - tip krila: enokrilna, polno krilo z odprtino"]
[null," - material krila: leseno krilo, odprtina kaljeno steklo"]
[null," - obdelava krila: obdelava po izboru arhitekta"]
[null," - tip podboja: podboj v ravnini s steno"]
[null," - material podboja: kovinski podboj"]
[null," - obdelava podboja: po izboru arhitekta"]
[null," - material nadsvetlobe: /"]
[null," - okovje: tritočkovna skrita nasadila"]
[null," - kljuka: navadna INOX kljuka"]
[null," - ključavnica: cilindrična ključavnica, sistemski ključ"]
[null," - požarna zahteve: /"]
[null," - zvočne zahteve: 38 dB"]
[null," - dodatne zahteve: tablica za oznako prostora"]
[]
[null,"Podati ceno glede na zgornji popis, kompletno z upoštevanjem vseh elementov za pritrditev, dobavo in montažo","kos",1,null,{"$f":"+D78*E78","v":0},{"$f":"+E78*MM","v":0},{"$f":"+G78*D78","v":0},{"$f":"+E78-G78","v":0},{"$f":"+I78*D78","v":0}]
[]
[]
["4.","Vn 04 - vrata"]
[null," - svetla širina x svetla višina: 97 x 210 cm"]
[null," - zidarska širina x zidarska višina: 107x 215 cm"]
[null," - stena: opečna stena, 20,00 cm"]
[null," - stran odpiranja: levo"]
[null," - tip krila: enokrilna, polno krilo z odprtino"]
[null," - material krila: leseno krilo, odprtina kaljeno steklo"]
[null," - obdelava krila: obdelava po izboru arhitekta"]
[null," - tip podboja: podboj v ravnini s steno"]
[null," - material podboja: kovinski podboj"]
[null," - obdelava podboja: po izboru arhitekta"]
[null," - material nadsvetlobe: /"]
[null," - okovje: tritočkovna skrita nasadila"]
[null," - kljuka: navadna INOX kljuka"]
[null," - ključavnica: električna ključavnica v skladu s projektom kontrole pristopa"]
[null," - požarna zahteve: EI 30"]
[null," - zvočne zahteve: 38 dB"]
[null," - dodatne zahteve: samozapiralo, tablica za oznako prostora, dimenzije vrat kot obstoječa vrata"]
[]
[null,"Podati ceno glede na zgornji popis, kompletno z upoštevanjem vseh elementov za pritrditev, dobavo in montažo","kos",1,null,{"$f":"+D100*E100","v":0},{"$f":"+E100*MM","v":0},{"$f":"+G100*D100","v":0},{"$f":"+E100-G100","v":0},{"$f":"+I100*D100","v":0}]
[]
[]
["5.","Vn 05 - vrata"]
[null," - svetla širina x svetla višina: 97 x 210 cm"]
[null," - zidarska širina x zidarska višina: 107 x 215 cm"]
[null," - stena: opečna stena, 25,00 cm"]
[null," - stran odpiranja: desno"]
[null," - tip krila: enokrilna, polno krilo z odprtino"]
[null," - material krila: leseno krilo, odprtina kaljeno steklo"]
[null," - obdelava krila: obdelava po izboru arhitekta"]
[null," - tip podboja: podboj v ravnini s steno"]
[null," - material podboja: kovinski podboj"]
[null," - obdelava podboja: po izboru arhitekta"]
[null," - material nadsvetlobe: /"]
[null," - okovje: tritočkovna skrita nasadila"]
[null," - kljuka: navadna INOX kljuka"]
[null," - ključavnica: električna ključavnica v skladu s projektom kontrole pristopa"]
[null," - požarna zahteve: EI 30"]
[null," - zvočne zahteve: 38 dB"]
[null," - dodatne zahteve: samozapiralo, tablica za oznako prostora, dimenzije vrat kot obstoječa vrata"]
[]
[null,"Podati ceno glede na zgornji popis, kompletno z upoštevanjem vseh elementov za pritrditev, dobavo in montažo","kos",1,null,{"$f":"+D122*E122","v":0},{"$f":"+E122*MM","v":0},{"$f":"+G122*D122","v":0},{"$f":"+E122-G122","v":0},{"$f":"+I122*D122","v":0}]
[]
[]
["6.","Vn 06 - vrata"]
[null," - svetla širina x svetla višina: 100 x 210 cm"]
[null," - zidarska širina x zidarska višina: 110 x 215 cm"]
[null," - stena: MK stena, 15,00 cm"]
[null," - stran odpiranja: desno"]
[null," - tip krila: enokrilna"]
[null," - material krila: leseno krilo"]
[null," - obdelava krila: obdelava po izboru arhitekta"]
[null," - tip podboja: podboj v ravnini s steno"]
[null," - material podboja: kovinski podboj"]
[null," - obdelava podboja: po izboru arhitekta"]
[null," - material nadsvetlobe: /"]
[null," - okovje: tritočkovna skrita nasadila"]
[null," - kljuka: evakuacijski antipanik drog SIST EN 1125"]
[null," - ključavnica: električna ključavnica v skladu s projektom kontrole pristopa"]
[null," - požarna zahteve: EI 30"]
[null," - zvočne zahteve: /"]
[null," - dodatne zahteve: samozapiralo"]
[]
[null,"Podati ceno glede na zgornji popis, kompletno z upoštevanjem vseh elementov za pritrditev, dobavo in montažo","kos",1,null,{"$f":"+D144*E144","v":0},{"$f":"+E144*MM","v":0},{"$f":"+G144*D144","v":0},{"$f":"+E144-G144","v":0},{"$f":"+I144*D144","v":0}]
[]
[]
["7.","Vn 07 - vrata"]
[null," - svetla širina x svetla višina: 100 x 210 cm"]
[null," - zidarska širina x zidarska višina: 110 x 215 cm"]
[null," - stena: AB stena, 25,00 cm"]
[null," - stran odpiranja: levo"]
[null," - tip krila: enokrilna"]
[null," - material krila: leseno krilo"]
[null," - obdelava krila: obdelava po izboru arhitekta"]
[null," - tip podboja: podboj v ravnini s steno"]
[null," - material podboja: kovinski podboj"]
[null," - obdelava podboja: po izboru arhitekta"]
[null," - material nadsvetlobe: /"]
[null," - okovje: tritočkovna skrita nasadila"]
[null," - kljuka: navadna INOX kljuka"]
[null," - ključavnica: električna ključavnica v skladu s projektom kontrole pristopa"]
[null," - požarna zahteve: EI 30"]
[null," - zvočne zahteve: 38 dB"]
[null," - dodatne zahteve: samozapiralo, tablica za oznako prostora"]
[]
[null,"Podati ceno glede na zgornji popis, kompletno z upoštevanjem vseh elementov za pritrditev, dobavo in montažo","kos",2,null,{"$f":"+D166*E166","v":0},{"$f":"+E166*MM","v":0},{"$f":"+G166*D166","v":0},{"$f":"+E166-G166","v":0},{"$f":"+I166*D166","v":0}]
[]
[]
["8.","Vn 08 - vrata"]
[null," - svetla širina x svetla višina: 100 x 205 cm"]
[null," - zidarska širina x zidarska višina: 110 x 210 cm"]
[null," - stena: MK stena, 15,00 cm"]
[null," - stran odpiranja: levo"]
[null," - tip krila: enokrilna"]
[null," - material krila: leseno krilo"]
[null," - obdelava krila: obdelava po izboru arhitekta"]
[null," - tip podboja: podboj v ravnini s steno"]
[null," - material podboja: kovinski podboj"]
[null," - obdelava podboja: po izboru arhitekta"]
[null," - material nadsvetlobe: /"]
[null," - okovje: tritočkovna skrita nasadila"]
[null," - kljuka: navadna INOX kljuka"]
[null," - ključavnica: cilindrična ključavnica, sistemski ključ"]
[null," - požarna zahteve: /"]
[null," - zvočne zahteve: 38 dB"]
[null," - dodatne zahteve: /"]
[]
[null,"Podati ceno glede na zgornji popis, kompletno z upoštevanjem vseh elementov za pritrditev, dobavo in montažo","kos",1,null,{"$f":"+D188*E188","v":0},{"$f":"+E188*MM","v":0},{"$f":"+G188*D188","v":0},{"$f":"+E188-G188","v":0},{"$f":"+I188*D188","v":0}]
[]
[]
["9.","Vn 09 - vrata"]
[null," - svetla širina x svetla višina: 100 x 210 cm"]
[null," - zidarska širina x zidarska višina: 110 x 215 cm"]
[null," - stena: AB stena, 25,00 cm"]
[null," - stran odpiranja: desno"]
[null," - tip krila: enokrilna"]
[null," - material krila: leseno krilo"]
[null," - obdelava krila: obdelava po izboru arhitekta"]
[null," - tip podboja: podboj v ravnini s steno"]
[null," - material podboja: kovinski podboj"]
[null," - obdelava podboja: po izboru arhitekta"]
[null," - material nadsvetlobe: /"]
[null," - okovje: tritočkovna skrita nasadila"]
[null," - kljuka: navadna INOX kljuka"]
[null," - ključavnica: električna ključavnica v skladu s projektom kontrole pristopa"]
[null," - požarna zahteve: EI 30"]
[null," - zvočne zahteve: 38 dB"]
[null," - dodatne zahteve: samozapiralo, tablica za oznako prostora"]
[]
[null,"Podati ceno glede na zgornji popis, kompletno z upoštevanjem vseh elementov za pritrditev, dobavo in montažo","kos",2,null,{"$f":"+D210*E210","v":0},{"$f":"+E210*MM","v":0},{"$f":"+G210*D210","v":0},{"$f":"+E210-G210","v":0},{"$f":"+I210*D210","v":0}]
[]
[]
["10.","Vn 10 - vrata"]
[null," - svetla širina x svetla višina: 100 x 205 cm"]
[null," - zidarska širina x zidarska višina: 110 x 210 cm"]
[null," - stena: AB stena, 25,00 cm"]
[null," - stran odpiranja: desno"]
[null," - tip krila: enokrilna"]
[null," - material krila: leseno krilo"]
[null," - obdelava krila: obdelava po izboru arhitekta"]
[null," - tip podboja: podboj v ravnini s steno"]
[null," - material podboja: kovinski podboj"]
[null," - obdelava podboja: po izboru arhitekta"]
[null," - material nadsvetlobe: /"]
[null," - okovje: tritočkovna skrita nasadila"]
[null," - kljuka: navadna INOX kljuka"]
[null," - ključavnica: cilindrična ključavnica, sistemski ključ"]
[null," - požarna zahteve: /"]
[null," - zvočne zahteve: 38 dB"]
[null," - dodatne zahteve: /"]
[]
[null,"Podati ceno glede na zgornji popis, kompletno z upoštevanjem vseh elementov za pritrditev, dobavo in montažo","kos",1,null,{"$f":"+D232*E232","v":0},{"$f":"+E232*MM","v":0},{"$f":"+G232*D232","v":0},{"$f":"+E232-G232","v":0},{"$f":"+I232*D232","v":0}]
[]
[]
["11.","Vn 11 - vrata"]
[null," - svetla širina x svetla višina: 94 x 210 cm"]
[null," - zidarska širina x zidarska višina: 104 x 215 cm"]
[null," - stena: opečna stena, 20,00 cm"]
[null," - stran odpiranja: levo"]
[null," - tip krila: enokrilna"]
[null," - material krila: zastekljeno krilo z lesenim okvirjem"]
[null," - obdelava krila: obdelava po izboru arhitekta"]
[null," - tip podboja: podboj v ravnini s steno"]
[null," - material podboja: kovinski podboj"]
[null," - obdelava podboja: po izboru arhitekta"]
[null," - material nadsvetlobe: /"]
[null," - okovje: tritočkovna skrita nasadila"]
[null," - kljuka: evakuacijski antipanik drog SIST EN 1125"]
[null," - ključavnica: električna ključavnica v skladu s projektom kontrole pristopa"]
[null," - požarna zahteve: EI 30"]
[null," - zvočne zahteve: /"]
[null," - dodatne zahteve: samozapiralo"]
[]
[null,"Podati ceno glede na zgornji popis, kompletno z upoštevanjem vseh elementov za pritrditev, dobavo in montažo","kos",1,null,{"$f":"+D254*E254","v":0},{"$f":"+E254*MM","v":0},{"$f":"+G254*D254","v":0},{"$f":"+E254-G254","v":0},{"$f":"+I254*D254","v":0}]
[]
[]
["12.","Vn 12 - vrata"]
[null," - svetla širina x svetla višina: 90 x 210 cm"]
[null," - zidarska širina x zidarska višina: 100 x 215 cm"]
[null," - stena: AB stena, 25,00 cm"]
[null," - stran odpiranja: desno"]
[null," - tip krila: enokrilna"]
[null," - material krila: leseno krilo"]
[null," - obdelava krila: obdelava po izboru arhitekta"]
[null," - tip podboja: podboj v ravnini s steno"]
[null," - material podboja: kovinski podboj"]
[null," - obdelava podboja: po izboru arhitekta"]
[null," - material nadsvetlobe: /"]
[null," - okovje: tritočkovna skrita nasadila"]
[null," - kljuka: navadna INOX kljuka"]
[null," - ključavnica: cilindrična ključavnica, sistemski ključ"]
[null," - požarna zahteve: /"]
[null," - zvočne zahteve: 38 dB"]
[null," - dodatne zahteve: /"]
[]
[null,"Podati ceno glede na zgornji popis, kompletno z upoštevanjem vseh elementov za pritrditev, dobavo in montažo","kos",1,null,{"$f":"+D276*E276","v":0},{"$f":"+E276*MM","v":0},{"$f":"+G276*D276","v":0},{"$f":"+E276-G276","v":0},{"$f":"+I276*D276","v":0}]
[]
[]
["13.","Vn 13 - vrata"]
[null," - svetla širina x svetla višina: 87 x 210 cm"]
[null," - zidarska širina x zidarska višina: 97 x 215 cm"]
[null," - stena: MK stena, 15,00 cm"]
[null," - stran odpiranja: levo"]
[null," - tip krila: enokrilna"]
[null," - material krila: leseno krilo"]
[null," - obdelava krila: obdelava po izboru arhitekta"]
[null," - tip podboja: podboj v ravnini s steno"]
[null," - material podboja: kovinski podboj"]
[null," - obdelava podboja: po izboru arhitekta"]
[null," - material nadsvetlobe: /"]
[null," - okovje: tritočkovna skrita nasadila"]
[null," - kljuka: navadna INOX kljuka"]
[null," - ključavnica: cilindrična ključavnica, sistemski ključ"]
[null," - požarna zahteve: /"]
[null," - zvočne zahteve: /"]
[null," - dodatne zahteve: /"]
[]
[null,"Podati ceno glede na zgornji popis, kompletno z upoštevanjem vseh elementov za pritrditev, dobavo in montažo","kos",1,null,{"$f":"+D298*E298","v":0},{"$f":"+E298*MM","v":0},{"$f":"+G298*D298","v":0},{"$f":"+E298-G298","v":0},{"$f":"+I298*D298","v":0}]
[]
[]
["14.","Vn 14 - vrata"]
[null," - svetla širina x svetla višina: 81 x 210 cm"]
[null," - zidarska širina x zidarska višina: 91 x 215 cm"]
[null," - stena: opečna stena, 25,00 cm"]
[null," - stran odpiranja: levo"]
[null," - tip krila: enokrilna"]
[null," - material krila: leseno krilo"]
[null," - obdelava krila: obdelava po izboru arhitekta"]
[null," - tip podboja: podboj v ravnini s steno"]
[null," - material podboja: kovinski podboj"]
[null," - obdelava podboja: po izboru arhitekta"]
[null," - material nadsvetlobe: /"]
[null," - okovje: tritočkovna skrita nasadila"]
[null," - kljuka: navadna INOX kljuka"]
[null," - ključavnica: cilindrična ključavnica, sistemski ključ"]
[null," - požarna zahteve: /"]
[null," - zvočne zahteve: 38 dB"]
[null," - dodatne zahteve: tablica za oznako prostora"]
[]
[null,"Podati ceno glede na zgornji popis, kompletno z upoštevanjem vseh elementov za pritrditev, dobavo in montažo","kos",1,null,{"$f":"+D320*E320","v":0},{"$f":"+E320*MM","v":0},{"$f":"+G320*D320","v":0},{"$f":"+E320-G320","v":0},{"$f":"+I320*D320","v":0}]
[]
[]
["15.","Vn 15 - vrata"]
[null," - svetla širina x svetla višina: 80 x 210 cm"]
[null," - zidarska širina x zidarska višina: 90 x 215 cm"]
[null," - stena: AB stena, 30,00 cm"]
[null," - stran odpiranja: levo"]
[null," - tip krila: enokrilna"]
[null," - material krila: leseno krilo"]
[null," - obdelava krila: obdelava po izboru arhitekta"]
[null," - tip podboja: podboj v ravnini s steno"]
[null," - material podboja: kovinski podboj"]
[null," - obdelava podboja: po izboru arhitekta"]
[null," - material nadsvetlobe: /"]
[null," - okovje: tritočkovna skrita nasadila"]
[null," - kljuka: navadna INOX kljuka"]
[null," - ključavnica: cilindrična ključavnica, sistemski ključ"]
[null," - požarna zahteve: /"]
[null," - zvočne zahteve: /"]
[null," - dodatne zahteve: tablica za oznako prostora"]
[]
[null,"Podati ceno glede na zgornji popis, kompletno z upoštevanjem vseh elementov za pritrditev, dobavo in montažo","kos",2,null,{"$f":"+D342*E342","v":0},{"$f":"+E342*MM","v":0},{"$f":"+G342*D342","v":0},{"$f":"+E342-G342","v":0},{"$f":"+I342*D342","v":0}]
[]
[]
["16.","Vn 16 - vrata"]
[null," - svetla širina x svetla višina: 80 x 210 cm"]
[null," - zidarska širina x zidarska višina: 90 x 215 cm"]
[null," - stena: AB stena, 20,00 cm"]
[null," - stran odpiranja: levo"]
[null," - tip krila: enokrilna"]
[null," - material krila: leseno krilo"]
[null," - obdelava krila: obdelava po izboru arhitekta"]
[null," - tip podboja: podboj v ravnini s steno"]
[null," - material podboja: kovinski podboj"]
[null," - obdelava podboja: po izboru arhitekta"]
[null," - material nadsvetlobe: /"]
[null," - okovje: tritočkovna skrita nasadila"]
[null," - kljuka: navadna INOX kljuka"]
[null," - ključavnica: cilindrična ključavnica, sistemski ključ"]
[null," - požarna zahteve: /"]
[null," - zvočne zahteve: /"]
[null," - dodatne zahteve: tablica za oznako prostora"]
[]
[null,"Podati ceno glede na zgornji popis, kompletno z upoštevanjem vseh elementov za pritrditev, dobavo in montažo","kos",3,null,{"$f":"+D364*E364","v":0},{"$f":"+E364*MM","v":0},{"$f":"+G364*D364","v":0},{"$f":"+E364-G364","v":0},{"$f":"+I364*D364","v":0}]
[]
[]
["17.","Vn 17 - vrata"]
[null," - svetla širina x svetla višina: 80 x 195 cm"]
[null," - zidarska širina x zidarska višina: 90 x 200 cm"]
[null," - stena: opečna stena, 12,00 cm"]
[null," - stran odpiranja: levo"]
[null," - tip krila: enokrilna"]
[null," - material krila: leseno krilo"]
[null," - obdelava krila: obdelava po izboru arhitekta"]
[null," - tip podboja: podboj v ravnini s steno"]
[null," - material podboja: kovinski podboj"]
[null," - obdelava podboja: po izboru arhitekta"]
[null," - material nadsvetlobe: /"]
[null," - okovje: tritočkovna skrita nasadila"]
[null," - kljuka: navadna INOX kljuka"]
[null," - ključavnica: električna ključavnica v skladu s projektom kontrole pristopa"]
[null," - požarna zahteve: EI 30"]
[null," - zvočne zahteve: /"]
[null," - dodatne zahteve: samozapiralo, tablica za oznako prostora, dimenzije vrat kot obstoječa vrata"]
[]
[null,"Podati ceno glede na zgornji popis, kompletno z upoštevanjem vseh elementov za pritrditev, dobavo in montažo","kos",2,null,{"$f":"+D386*E386","v":0},{"$f":"+E386*MM","v":0},{"$f":"+G386*D386","v":0},{"$f":"+E386-G386","v":0},{"$f":"+I386*D386","v":0}]
[]
[]
["18.","Vn 18 - vrata"]
[null," - svetla širina x svetla višina: 80 x 210 cm"]
[null," - zidarska širina x zidarska višina: 90 x 215 cm"]
[null," - stena: opečna stena, 10,00 cm"]
[null," - stran odpiranja: levo"]
[null," - tip krila: enokrilna"]
[null," - material krila: leseno krilo"]
[null," - obdelava krila: obdelava po izboru arhitekta"]
[null," - tip podboja: podboj v ravnini s steno"]
[null," - material podboja: kovinski podboj"]
[null," - obdelava podboja: po izboru arhitekta"]
[null," - material nadsvetlobe: /"]
[null," - okovje: tritočkovna skrita nasadila"]
[null," - kljuka: navadna INOX kljuka"]
[null," - ključavnica: električna ključavnica v skladu s projektom kontrole pristopa"]
[null," - požarna zahteve: EI 30"]
[null," - zvočne zahteve: /"]
[null," - dodatne zahteve: samozapiralo, tablica za oznako prostora, dimenzije vrat kot obstoječa vrata"]
[]
[null,"Podati ceno glede na zgornji popis, kompletno z upoštevanjem vseh elementov za pritrditev, dobavo in montažo","kos",1,null,{"$f":"+D408*E408","v":0},{"$f":"+E408*MM","v":0},{"$f":"+G408*D408","v":0},{"$f":"+E408-G408","v":0},{"$f":"+I408*D408","v":0}]
[]
[]
["19.","Vn 19 - vrata"]
[null," - svetla širina x svetla višina: 80 x 210 cm"]
[null," - zidarska širina x zidarska višina: 90 x 215 cm"]
[null," - stena: opečna stena, 10,00 cm"]
[null," - stran odpiranja: levo"]
[null," - tip krila: enokrilna"]
[null," - material krila: leseno krilo"]
[null," - obdelava krila: obdelava po izboru arhitekta"]
[null," - tip podboja: podboj v ravnini s steno"]
[null," - material podboja: kovinski podboj"]
[null," - obdelava podboja: po izboru arhitekta"]
[null," - material nadsvetlobe: /"]
[null," - okovje: tritočkovna skrita nasadila"]
[null," - kljuka: navadna INOX kljuka"]
[null," - ključavnica: električna ključavnica v skladu s projektom kontrole pristopa"]
[null," - požarna zahteve: EI 30"]
[null," - zvočne zahteve: 38 dB"]
[null," - dodatne zahteve: samozapiralo, tablica za oznako prostora, dimenzije vrat kot obstoječa vrata"]
[]
[null,"Podati ceno glede na zgornji popis, kompletno z upoštevanjem vseh elementov za pritrditev, dobavo in montažo","kos",1,null,{"$f":"+D430*E430","v":0},{"$f":"+E430*MM","v":0},{"$f":"+G430*D430","v":0},{"$f":"+E430-G430","v":0},{"$f":"+I430*D430","v":0}]
[]
[]
["20.","Vn 20 - vrata"]
[null," - svetla širina x svetla višina: 80 x 210 cm"]
[null," - zidarska širina x zidarska višina: 90 x 215 cm"]
[null," - stena: AB stena, 25,00 cm"]
[null," - stran odpiranja: levo"]
[null," - tip krila: enokrilna"]
[null," - material krila: leseno krilo"]
[null," - obdelava krila: obdelava po izboru arhitekta"]
[null," - tip podboja: podboj v ravnini s steno"]
[null," - material podboja: kovinski podboj"]
[null," - obdelava podboja: po izboru arhitekta"]
[null," - material nadsvetlobe: /"]
[null," - okovje: tritočkovna skrita nasadila"]
[null," - kljuka: navadna INOX kljuka"]
[null," - ključavnica: cilindrična ključavnica, sistemski ključ"]
[null," - požarna zahteve: /"]
[null," - zvočne zahteve: /"]
[null," - dodatne zahteve: /"]
[]
[null,"Podati ceno glede na zgornji popis, kompletno z upoštevanjem vseh elementov za pritrditev, dobavo in montažo","kos",1,null,{"$f":"+D452*E452","v":0},{"$f":"+E452*MM","v":0},{"$f":"+G452*D452","v":0},{"$f":"+E452-G452","v":0},{"$f":"+I452*D452","v":0}]
[]
[]
["21.","Vn 21 - vrata"]
[null," - svetla širina x svetla višina: 80 x 210 cm"]
[null," - zidarska širina x zidarska višina: 90 x 215 cm"]
[null," - stena: AB stena, 20,00 cm"]
[null," - stran odpiranja: levo"]
[null," - tip krila: enokrilna"]
[null," - material krila: leseno krilo"]
[null," - obdelava krila: obdelava po izboru arhitekta"]
[null," - tip podboja: podboj v ravnini s steno"]
[null," - material podboja: kovinski podboj"]
[null," - obdelava podboja: po izboru arhitekta"]
[null," - material nadsvetlobe: /"]
[null," - okovje: tritočkovna skrita nasadila"]
[null," - kljuka: navadna INOX kljuka"]
[null," - ključavnica: cilindrična ključavnica, sistemski ključ"]
[null," - požarna zahteve: /"]
[null," - zvočne zahteve: /"]
[null," - dodatne zahteve: /"]
[]
[null,"Podati ceno glede na zgornji popis, kompletno z upoštevanjem vseh elementov za pritrditev, dobavo in montažo","kos",2,null,{"$f":"+D474*E474","v":0},{"$f":"+E474*MM","v":0},{"$f":"+G474*D474","v":0},{"$f":"+E474-G474","v":0},{"$f":"+I474*D474","v":0}]
[]
[]
["22.","Vn 22 - vrata"]
[null," - svetla širina x svetla višina: 80 x 210 cm"]
[null," - zidarska širina x zidarska višina: 90 x 215 cm"]
[null," - stena: AB stena, 30,00 cm"]
[null," - stran odpiranja: desno"]
[null," - tip krila: enokrilna"]
[null," - material krila: leseno krilo"]
[null," - obdelava krila: obdelava po izboru arhitekta"]
[null," - tip podboja: podboj v ravnini s steno"]
[null," - material podboja: kovinski podboj"]
[null," - obdelava podboja: po izboru arhitekta"]
[null," - material nadsvetlobe: /"]
[null," - okovje: tritočkovna skrita nasadila"]
[null," - kljuka: navadna INOX kljuka"]
[null," - dodatne zahteve: tablica za oznako prostora"]
[null," - požarna zahteve: /"]
[null," - zvočne zahteve: /"]
[null," - dodatne zahteve: samozapiralo, tablica za oznako prostora"]
[]
[null,"Podati ceno glede na zgornji popis, kompletno z upoštevanjem vseh elementov za pritrditev, dobavo in montažo","kos",2,null,{"$f":"+D496*E496","v":0},{"$f":"+E496*MM","v":0},{"$f":"+G496*D496","v":0},{"$f":"+E496-G496","v":0},{"$f":"+I496*D496","v":0}]
[]
[]
[]
["23.","Vn 23 - vrata"]
[null," - svetla širina x svetla višina: 80 x 210 cm"]
[null," - zidarska širina x zidarska višina: 90 x 215 cm"]
[null," - stena: AB stena, 20,00 cm"]
[null," - stran odpiranja: desno"]
[null," - tip krila: enokrilna"]
[null," - material krila: leseno krilo"]
[null," - obdelava krila: obdelava po izboru arhitekta"]
[null," - tip podboja: podboj v ravnini s steno"]
[null," - material podboja: kovinski podboj"]
[null," - obdelava podboja: po izboru arhitekta"]
[null," - material nadsvetlobe: /"]
[null," - okovje: tritočkovna skrita nasadila"]
[null," - kljuka: navadna INOX kljuka"]
[null," - dodatne zahteve: tablica za oznako prostora"]
[null," - požarna zahteve: /"]
[null," - zvočne zahteve: /"]
[null," - dodatne zahteve: samozapiralo, tablica za oznako prostora"]
[]
[null,"Podati ceno glede na zgornji popis, kompletno z upoštevanjem vseh elementov za pritrditev, dobavo in montažo","kos",1,null,{"$f":"+D519*E519","v":0},{"$f":"+E519*MM","v":0},{"$f":"+G519*D519","v":0},{"$f":"+E519-G519","v":0},{"$f":"+I519*D519","v":0}]
[]
[]
["24.","Vn 24 - vrata"]
[null," - svetla širina x svetla višina: 80 x 195 cm"]
[null," - zidarska širina x zidarska višina: 90 x 200 cm"]
[null," - stena: opečna stena, 12,00 cm"]
[null," - stran odpiranja: desno"]
[null," - tip krila: enokrilna"]
[null," - material krila: leseno krilo"]
[null," - obdelava krila: obdelava po izboru arhitekta"]
[null," - tip podboja: podboj v ravnini s steno"]
[null," - material podboja: kovinski podboj"]
[null," - obdelava podboja: po izboru arhitekta"]
[null," - material nadsvetlobe: /"]
[null," - okovje: tritočkovna skrita nasadila"]
[null," - kljuka: navadna INOX kljuka"]
[null," - ključavnica: električna ključavnica v skladu s projektom kontrole pristopa"]
[null," - požarna zahteve: EI 30"]
[null," - zvočne zahteve: /"]
[null," - dodatne zahteve: samozapiralo, tablica za oznako prostora, dimenzije vrat kot obstoječa vrata"]
[]
[null,"Podati ceno glede na zgornji popis, kompletno z upoštevanjem vseh elementov za pritrditev, dobavo in montažo","kos",1,null,{"$f":"+D541*E541","v":0},{"$f":"+E541*MM","v":0},{"$f":"+G541*D541","v":0},{"$f":"+E541-G541","v":0},{"$f":"+I541*D541","v":0}]
[]
[]
["25.","Vn 25 - vrata"]
[null," - svetla širina x svetla višina: 80 x 210 cm"]
[null," - zidarska širina x zidarska višina: 90 x 215 cm"]
[null," - stena: opečna stena, 10,00 cm"]
[null," - stran odpiranja: desno"]
[null," - tip krila: enokrilna"]
[null," - material krila: leseno krilo"]
[null," - obdelava krila: obdelava po izboru arhitekta"]
[null," - tip podboja: podboj v ravnini s steno"]
[null," - material podboja: kovinski podboj"]
[null," - obdelava podboja: po izboru arhitekta"]
[null," - material nadsvetlobe: /"]
[null," - okovje: tritočkovna skrita nasadila"]
[null," - kljuka: navadna INOX kljuka"]
[null," - ključavnica: električna ključavnica v skladu s projektom kontrole pristopa"]
[null," - požarna zahteve: EI 30"]
[null," - zvočne zahteve: 38 dB"]
[null," - dodatne zahteve: samozapiralo, tablica za oznako prostora, dimenzije vrat kot obstoječa vrata"]
[]
[null,"Podati ceno glede na zgornji popis, kompletno z upoštevanjem vseh elementov za pritrditev, dobavo in montažo","kos",1,null,{"$f":"+D563*E563","v":0},{"$f":"+E563*MM","v":0},{"$f":"+G563*D563","v":0},{"$f":"+E563-G563","v":0},{"$f":"+I563*D563","v":0}]
[]
[]
["26.","Vn 26 - vrata"]
[null," - svetla širina x svetla višina: 71 x 210 cm"]
[null," - zidarska širina x zidarska višina: 810 x 215 cm"]
[null," - stena: opečna stena, 17,00 cm"]
[null," - stran odpiranja: levo"]
[null," - tip krila: enokrilna"]
[null," - material krila: leseno krilo"]
[null," - obdelava krila: obdelava po izboru arhitekta"]
[null," - tip podboja: podboj v ravnini s steno"]
[null," - material podboja: kovinski podboj"]
[null," - obdelava podboja: po izboru arhitekta"]
[null," - material nadsvetlobe: /"]
[null," - okovje: tritočkovna skrita nasadila"]
[null," - kljuka: navadna INOX kljuka"]
[null," - ključavnica: električna ključavnica v skladu s projektom kontrole pristopa"]
[null," - požarna zahteve: EI 60"]
[null," - zvočne zahteve: /"]
[null," - dodatne zahteve: samozapiralo, tablica za oznako prostora, dimenzije vrat kot obstoječa vrata"]
[]
[null,"Podati ceno glede na zgornji popis, kompletno z upoštevanjem vseh elementov za pritrditev, dobavo in montažo","kos",1,null,{"$f":"+D585*E585","v":0},{"$f":"+E585*MM","v":0},{"$f":"+G585*D585","v":0},{"$f":"+E585-G585","v":0},{"$f":"+I585*D585","v":0}]
[]
[]
["27.","Vn 27 - vrata"]
[null," - svetla širina x svetla višina: 71 x 210 cm"]
[null," - zidarska širina x zidarska višina: 810 x 215 cm"]
[null," - stena: opečna stena, 10,00 cm"]
[null," - stran odpiranja: desno"]
[null," - tip krila: enokrilna"]
[null," - material krila: leseno krilo"]
[null," - obdelava krila: obdelava po izboru arhitekta"]
[null," - tip podboja: podboj v ravnini s steno"]
[null," - material podboja: kovinski podboj"]
[null," - obdelava podboja: po izboru arhitekta"]
[null," - material nadsvetlobe: /"]
[null," - okovje: tritočkovna skrita nasadila"]
[null," - kljuka: navadna INOX kljuka"]
[null," - ključavnica: električna ključavnica v skladu s projektom kontrole pristopa"]
[null," - požarna zahteve: EI 30"]
[null," - zvočne zahteve: /"]
[null," - dodatne zahteve: samozapiralo, tablica za oznako prostora, dimenzije vrat kot obstoječa vrata"]
[]
[null,"Podati ceno glede na zgornji popis, kompletno z upoštevanjem vseh elementov za pritrditev, dobavo in montažo","kos",1,null,{"$f":"+D607*E607","v":0},{"$f":"+E607*MM","v":0},{"$f":"+G607*D607","v":0},{"$f":"+E607-G607","v":0},{"$f":"+I607*D607","v":0}]
[]
[]
["28.","Vn 28 - vrata"]
[null," - svetla širina x svetla višina: 91 x 210 cm"]
[null," - zidarska širina x zidarska višina: 101 x 266 cm"]
[null," - stena: opečna stena, 12,00 cm"]
[null," - stran odpiranja: levo"]
[null," - tip krila: enokrilna, polno krilo z nadsvetlobo"]
[null," - material krila: leseno krilo"]
[null," - obdelava krila: obdelava po izboru arhitekta"]
[null," - tip podboja: podboj v ravnini s steno"]
[null," - material podboja: kovinski podboj"]
[null," - obdelava podboja: po izboru arhitekta"]
[null," - material nadsvetlobe: lepljeno brezbarvno, prozorno steklo"]
[null," - okovje: tritočkovna skrita nasadila"]
[null," - kljuka: evakuacijski antipanik drog SIST EN 179"]
[null," - ključavnica: cilindrična ključavnica, sistemski ključ"]
[null," - požarna zahteve: /"]
[null," - zvočne zahteve: /"]
[null," - dodatne zahteve: dimenzije vrat kot obstoječa vrata"]
[]
[null,"Podati ceno glede na zgornji popis, kompletno z upoštevanjem vseh elementov za pritrditev, dobavo in montažo","kos",1,null,{"$f":"+D629*E629","v":0},{"$f":"+E629*MM","v":0},{"$f":"+G629*D629","v":0},{"$f":"+E629-G629","v":0},{"$f":"+I629*D629","v":0}]
[]
[]
["29.","Vn 29 - vrata"]
[null," - svetla širina x svetla višina: 90 x 210 cm"]
[null," - zidarska širina x zidarska višina: 100 x 270 cm"]
[null," - stena: MK stena, 12,50 cm"]
[null," - stran odpiranja: levo"]
[null," - material krila: leseno krilo"]
[null," - material krila: leseno krilo, odprtina kaljeno steklo"]
[null," - obdelava krila: obdelava po izboru arhitekta"]
[null," - tip podboja: podboj v ravnini s steno"]
[null," - material podboja: kovinski podboj"]
[null," - obdelava podboja: po izboru arhitekta"]
[null," - material nadsvetlobe: lepljeno brezbarvno, prozorno steklo"]
[null," - okovje: tritočkovna skrita nasadila"]
[null," - kljuka: navadna INOX kljuka"]
[null," - ključavnica: cilindrična ključavnica, sistemski ključ"]
[null," - požarna zahteve: /"]
[null," - zvočne zahteve: /"]
[null," - dodatne zahteve: /"]
[]
[null,"Podati ceno glede na zgornji popis, kompletno z upoštevanjem vseh elementov za pritrditev, dobavo in montažo","kos",1,null,{"$f":"+D651*E651","v":0},{"$f":"+E651*MM","v":0},{"$f":"+G651*D651","v":0},{"$f":"+E651-G651","v":0},{"$f":"+I651*D651","v":0}]
[]
[]
["30.","Vn 30 - vrata"]
[null," - svetla širina x svetla višina: 90 x 210 cm"]
[null," - zidarska širina x zidarska višina: 100 x 270 cm"]
[null," - stena: MK stena, 15,00 cm"]
[null," - stran odpiranja: levo"]
[null," - tip krila: enokrilna, polno krilo z nadsvetlobo"]
[null," - material krila: leseno krilo"]
[null," - obdelava krila: obdelava po izboru arhitekta"]
[null," - tip podboja: podboj v ravnini s steno"]
[null," - material podboja: kovinski podboj"]
[null," - obdelava podboja: po izboru arhitekta"]
[null," - material nadsvetlobe: lepljeno brezbarvno, prozorno steklo"]
[null," - okovje: tritočkovna skrita nasadila"]
[null," - kljuka: navadna INOX kljuka"]
[null," - ključavnica: cilindrična ključavnica, sistemski ključ"]
[null," - požarna zahteve: /"]
[null," - zvočne zahteve: 38 dB"]
[null," - dodatne zahteve: tablica za oznako prostora"]
[]
[null,"Podati ceno glede na zgornji popis, kompletno z upoštevanjem vseh elementov za pritrditev, dobavo in montažo","kos",1,null,{"$f":"+D673*E673","v":0},{"$f":"+E673*MM","v":0},{"$f":"+G673*D673","v":0},{"$f":"+E673-G673","v":0},{"$f":"+I673*D673","v":0}]
[]
[]
["31.","Vn 31 - vrata"]
[null," - svetla širina x svetla višina: 60 x 210 cm"]
[null," - zidarska širina x zidarska višina: 70 x 215 cm"]
[null," - stena: opečna stena, 10,00 cm"]
[null," - stran odpiranja: desno"]
[null," - tip krila: enokrilna"]
[null," - material krila: leseno krilo"]
[null," - obdelava krila: obdelava po izboru arhitekta"]
[null," - tip podboja: podboj v ravnini s steno"]
[null," - material podboja: kovinski podboj"]
[null," - obdelava podboja: po izboru arhitekta"]
[null," - material nadsvetlobe: /"]
[null," - okovje: tritočkovna skrita nasadila"]
[null," - kljuka: navadna INOX kljuka"]
[null," - ključavnica: cilindrična ključavnica, sistemski ključ"]
[null," - požarna zahteve: /"]
[null," - zvočne zahteve: /"]
[null," - dodatne zahteve: spodrezana vrata"]
[]
[null,"Podati ceno glede na zgornji popis, kompletno z upoštevanjem vseh elementov za pritrditev, dobavo in montažo","kos",4,null,{"$f":"+D695*E695","v":0},{"$f":"+E695*MM","v":0},{"$f":"+G695*D695","v":0},{"$f":"+E695-G695","v":0},{"$f":"+I695*D695","v":0}]
[]
[]
["32.","Vn 32 - vrata"]
[null," - svetla širina x svetla višina: 60 x 210 cm"]
[null," - zidarska širina x zidarska višina: 70 x 215 cm"]
[null," - stena: opečna stena, 10,00 cm"]
[null," - stran odpiranja: levo"]
[null," - tip krila: enokrilna"]
[null," - material krila: leseno krilo"]
[null," - obdelava krila: obdelava po izboru arhitekta"]
[null," - tip podboja: podboj v ravnini s steno"]
[null," - material podboja: kovinski podboj"]
[null," - obdelava podboja: po izboru arhitekta"]
[null," - material nadsvetlobe: /"]
[null," - okovje: tritočkovna skrita nasadila"]
[null," - kljuka: navadna INOX kljuka"]
[null," - ključavnica: cilindrična ključavnica, sistemski ključ"]
[null," - požarna zahteve: /"]
[null," - zvočne zahteve: /"]
[null," - dodatne zahteve: spodrezana vrata"]
[]
[null,"Podati ceno glede na zgornji popis, kompletno z upoštevanjem vseh elementov za pritrditev, dobavo in montažo","kos",1,null,{"$f":"+D717*E717","v":0},{"$f":"+E717*MM","v":0},{"$f":"+G717*D717","v":0},{"$f":"+E717-G717","v":0},{"$f":"+I717*D717","v":0}]
[]
[]
["33.","Vn 33 - vrata"]
[null," - svetla širina x svetla višina: 194 x 210 cm"]
[null," - zidarska širina x zidarska višina: 204 x 215 cm"]
[null," - stena: opečna stena, 15,00 cm"]
[null," - stran odpiranja: levo"]
[null," - tip krila: dvokrilna"]
[null," - material krila: zastekljeno krilo z lesenim okvirjem"]
[null," - obdelava krila: obdelava po izboru arhitekta"]
[null," - tip podboja: podboj v ravnini s steno"]
[null," - material podboja: kovinski podboj"]
[null," - obdelava podboja: po izboru arhitekta"]
[null," - material nadsvetlobe: /"]
[null," - okovje: tritočkovna skrita nasadila"]
[null," - kljuka: evakuacijski antipanik drog SIST EN 1125"]
[null," - ključavnica: električna ključavnica v skladu s projektom kontrole pristopa"]
[null," - požarna zahteve: /"]
[null," - zvočne zahteve: /"]
[null," - dodatne zahteve: dimenzije vrat kot obstoječa vrata"]
[]
[null,"Podati ceno glede na zgornji popis, kompletno z upoštevanjem vseh elementov za pritrditev, dobavo in montažo","kos",1,null,{"$f":"+D739*E739","v":0},{"$f":"+E739*MM","v":0},{"$f":"+G739*D739","v":0},{"$f":"+E739-G739","v":0},{"$f":"+I739*D739","v":0}]
[]
[]
["34.","Vn 34 - vrata"]
[null," - svetla širina x svetla višina: 184 x 210 cm"]
[null," - zidarska širina x zidarska višina: 194 x 215 cm"]
[null," - stena: MK stena, 15,00 cm"]
[null," - stran odpiranja: desno"]
[null," - tip krila: dvokrilna"]
[null," - material krila: leseno krilo"]
[null," - obdelava krila: obdelava po izboru arhitekta"]
[null," - tip podboja: podboj v ravnini s steno"]
[null," - material podboja: kovinski podboj"]
[null," - obdelava podboja: po izboru arhitekta"]
[null," - material nadsvetlobe: /"]
[null," - okovje: tritočkovna skrita nasadila"]
[null," - kljuka: evakuacijski antipanik drog SIST EN 1125"]
[null," - ključavnica: električna ključavnica v skladu s projektom kontrole pristopa"]
[null," - požarna zahteve: EI 30"]
[null," - zvočne zahteve: /"]
[null," - dodatne zahteve: samozapiralo"]
[]
[null,"Podati ceno glede na zgornji popis, kompletno z upoštevanjem vseh elementov za pritrditev, dobavo in montažo","kos",1,null,{"$f":"+D761*E761","v":0},{"$f":"+E761*MM","v":0},{"$f":"+G761*D761","v":0},{"$f":"+E761-G761","v":0},{"$f":"+I761*D761","v":0}]
[]
[]
["35.","Vn 35 - vrata"]
[null," - svetla širina x svetla višina: 180 x 210 cm"]
[null," - zidarska širina x zidarska višina: 190 x 215 cm"]
[null," - stena: opečna stena, 25,00 cm"]
[null," - stran odpiranja: levo"]
[null," - tip krila: dvokrilna"]
[null," - material krila: leseno krilo"]
[null," - obdelava krila: obdelava po izboru arhitekta"]
[null," - tip podboja: podboj v ravnini s steno"]
[null," - material podboja: kovinski podboj"]
[null," - obdelava podboja: po izboru arhitekta"]
[null," - material nadsvetlobe: /"]
[null," - okovje: tritočkovna skrita nasadila"]
[null," - kljuka: evakuacijski antipanik drog SIST EN 1125"]
[null," - ključavnica: električna ključavnica v skladu s projektom kontrole pristopa"]
[null," - požarna zahteve: /"]
[null," - zvočne zahteve: /"]
[null," - dodatne zahteve: samozapiralo, tablica za oznako prostora"]
[]
[null,"Podati ceno glede na zgornji popis, kompletno z upoštevanjem vseh elementov za pritrditev, dobavo in montažo","kos",1,null,{"$f":"+D783*E783","v":0},{"$f":"+E783*MM","v":0},{"$f":"+G783*D783","v":0},{"$f":"+E783-G783","v":0},{"$f":"+I783*D783","v":0}]
[]
[]
["36.","Vn 36 - vrata"]
[null," - svetla širina x svetla višina: 170 x 260 cm"]
[null," - zidarska širina x zidarska višina: 180 x 265 cm"]
[null," - stena: opečna stena, 40,00 cm"]
[null," - stran odpiranja: levo"]
[null," - tip krila: dvokrilna, zastekljena z nadsvetlobo"]
[null," - material krila: zastekljeno krilo z lesenim okvirjem"]
[null," - obdelava krila: obdelava po izboru arhitekta"]
[null," - tip podboja: podboj v ravnini s steno"]
[null," - material podboja: kovinski podboj"]
[null," - obdelava podboja: po izboru arhitekta"]
[null," - material nadsvetlobe: leseno polnilo"]
[null," - okovje: tritočkovna skrita nasadila"]
[null," - kljuka: evakuacijski antipanik drog SIST EN 1125"]
[null," - ključavnica: električna ključavnica v skladu s projektom kontrole pristopa"]
[null," - požarna zahteve: EI 30"]
[null," - zvočne zahteve: /"]
[null," - dodatne zahteve: samozapiralo, dimenzije vrat kot obstoječa vrata"]
[]
[null,"Podati ceno glede na zgornji popis, kompletno z upoštevanjem vseh elementov za pritrditev, dobavo in montažo","kos",1,null,{"$f":"+D805*E805","v":0},{"$f":"+E805*MM","v":0},{"$f":"+G805*D805","v":0},{"$f":"+E805-G805","v":0},{"$f":"+I805*D805","v":0}]
[]
[]
["37.","Vn 37 - vrata"]
[null," - svetla širina x svetla višina: 170 x 210 cm"]
[null," - zidarska širina x zidarska višina: 180 x 215 cm"]
[null," - stena: opečna stena, 15,00 cm"]
[null," - stran odpiranja: levo"]
[null," - tip krila: dvokrilna"]
[null," - material krila: zastekljeno krilo z lesenim okvirjem"]
[null," - obdelava krila: obdelava po izboru arhitekta"]
[null," - tip podboja: podboj v ravnini s steno"]
[null," - material podboja: kovinski podboj"]
[null," - obdelava podboja: po izboru arhitekta"]
[null," - material nadsvetlobe: /"]
[null," - okovje: tritočkovna skrita nasadila"]
[null," - kljuka: evakuacijski antipanik drog SIST EN 1125"]
[null," - ključavnica: električna ključavnica v skladu s projektom kontrole pristopa"]
[null," - požarna zahteve: /"]
[null," - zvočne zahteve: /"]
[null," - dodatne zahteve: zaskočka proti zapiranju"]
[]
[null,"Podati ceno glede na zgornji popis, kompletno z upoštevanjem vseh elementov za pritrditev, dobavo in montažo","kos",1,null,{"$f":"+D827*E827","v":0},{"$f":"+E827*MM","v":0},{"$f":"+G827*D827","v":0},{"$f":"+E827-G827","v":0},{"$f":"+I827*D827","v":0}]
[]
[]
["38.","Vn 38 - vrata"]
[null," - svetla širina x svetla višina: 170 x 210 cm"]
[null," - zidarska širina x zidarska višina: 180 x 215 cm"]
[null," - stena: opečna stena, 20,00 cm"]
[null," - stran odpiranja: levo"]
[null," - tip krila: enokrilna"]
[null," - material krila: leseno krilo"]
[null," - obdelava krila: obdelava po izboru arhitekta"]
[null," - tip podboja: podboj v ravnini s steno"]
[null," - material podboja: kovinski podboj"]
[null," - obdelava podboja: po izboru arhitekta"]
[null," - material nadsvetlobe: /"]
[null," - okovje: tritočkovna skrita nasadila"]
[null," - kljuka: evakuacijski antipanik drog SIST EN 179"]
[null," - ključavnica: cilindrična ključavnica, sistemski ključ"]
[null," - požarna zahteve: EI 30"]
[null," - zvočne zahteve: /"]
[null," - dodatne zahteve: samozapiralo, tablica za oznako prostora, dimenzije vrat kot obstoječa vrata"]
[]
[null,"Podati ceno glede na zgornji popis, kompletno z upoštevanjem vseh elementov za pritrditev, dobavo in montažo","kos",1,null,{"$f":"+D849*E849","v":0},{"$f":"+E849*MM","v":0},{"$f":"+G849*D849","v":0},{"$f":"+E849-G849","v":0},{"$f":"+I849*D849","v":0}]
[]
[]
["39.","Vn 39 - vrata"]
[null," - svetla širina x svetla višina: 170 x 210 cm"]
[null," - zidarska širina x zidarska višina: 180 x 215 cm"]
[null," - stena: opečna stena, 35,00 cm"]
[null," - stran odpiranja: levo"]
[null," - tip krila: dvokrilna"]
[null," - material krila: leseno krilo"]
[null," - obdelava krila: obdelava po izboru arhitekta"]
[null," - tip podboja: podboj v ravnini s steno"]
[null," - material podboja: kovinski podboj"]
[null," - obdelava podboja: po izboru arhitekta"]
[null," - material nadsvetlobe: /"]
[null," - okovje: tritočkovna skrita nasadila"]
[null," - kljuka: evakuacijski antipanik drog SIST EN 1125"]
[null," - ključavnica: električna ključavnica v skladu s projektom kontrole pristopa"]
[null," - požarna zahteve: EI 30"]
[null," - zvočne zahteve: /"]
[null," - dodatne zahteve: samozapiralo, tablica za oznako prostora, dimenzije vrat kot obstoječa vrata"]
[]
[null,"Podati ceno glede na zgornji popis, kompletno z upoštevanjem vseh elementov za pritrditev, dobavo in montažo","kos",1,null,{"$f":"+D871*E871","v":0},{"$f":"+E871*MM","v":0},{"$f":"+G871*D871","v":0},{"$f":"+E871-G871","v":0},{"$f":"+I871*D871","v":0}]
[]
[]
["40.","Vn 40 - vrata"]
[null," - svetla širina x svetla višina: 170 x 210 cm"]
[null," - zidarska širina x zidarska višina: 180 x 215 cm"]
[null," - stena: opečna stena, 20,00 cm"]
[null," - stran odpiranja: desno"]
[null," - tip krila: dvokrilna"]
[null," - material krila: zastekljeno krilo z lesenim okvirjem"]
[null," - obdelava krila: obdelava po izboru arhitekta"]
[null," - tip podboja: podboj v ravnini s steno"]
[null," - material podboja: kovinski podboj"]
[null," - obdelava podboja: po izboru arhitekta"]
[null," - material nadsvetlobe: /"]
[null," - okovje: tritočkovna skrita nasadila"]
[null," - kljuka: navadna INOX kljuka"]
[null," - ključavnica: električna ključavnica v skladu s projektom kontrole pristopa"]
[null," - požarna zahteve: EI 30"]
[null," - zvočne zahteve: /"]
[null," - dodatne zahteve: samozapiralo"]
[]
[null,"Podati ceno glede na zgornji popis, kompletno z upoštevanjem vseh elementov za pritrditev, dobavo in montažo","kos",1,null,{"$f":"+D893*E893","v":0},{"$f":"+E893*MM","v":0},{"$f":"+G893*D893","v":0},{"$f":"+E893-G893","v":0},{"$f":"+I893*D893","v":0}]
[]
[]
["41.","Vn 41 - vrata"]
[null," - svetla širina x svetla višina: 150 x 274 cm"]
[null," - zidarska širina x zidarska višina: 160 x 279 cm"]
[null," - stena: opečna stena, 12,00 cm"]
[null," - stran odpiranja: levo"]
[null," - tip krila: dvokrilna, zastekljena z nadsvetlobo"]
[null," - material krila: zastekljeno krilo z lesenim okvirjem"]
[null," - obdelava krila: obdelava po izboru arhitekta"]
[null," - tip podboja: podboj v ravnini s steno"]
[null," - material podboja: kovinski podboj"]
[null," - obdelava podboja: po izboru arhitekta"]
[null," - material nadsvetlobe: lepljeno brezbarvno, prozorno steklo"]
[null," - okovje: tritočkovna skrita nasadila"]
[null," - kljuka: evakuacijski antipanik drog SIST EN 1125"]
[null," - ključavnica: električna ključavnica v skladu s projektom kontrole pristopa"]
[null," - požarna zahteve: /"]
[null," - zvočne zahteve: /"]
[null," - dodatne zahteve: dimenzije vrat kot obstoječa vrata"]
[]
[null,"Podati ceno glede na zgornji popis, kompletno z upoštevanjem vseh elementov za pritrditev, dobavo in montažo","kos",1,null,{"$f":"+D915*E915","v":0},{"$f":"+E915*MM","v":0},{"$f":"+G915*D915","v":0},{"$f":"+E915-G915","v":0},{"$f":"+I915*D915","v":0}]
[]
[]
["42.","Vn 42 - vrata"]
[null," - svetla širina x svetla višina: 130 x 210 cm"]
[null," - zidarska širina x zidarska višina: 140 x 215 cm"]
[null," - stena: opečna stena, 20,00 cm"]
[null," - stran odpiranja: levo"]
[null," - tip krila: dvokrilna"]
[null," - material krila: zastekljeno krilo z lesenim okvirjem"]
[null," - obdelava krila: obdelava po izboru arhitekta"]
[null," - tip podboja: podboj v ravnini s steno"]
[null," - material podboja: kovinski podboj"]
[null," - obdelava podboja: po izboru arhitekta"]
[null," - material nadsvetlobe: /"]
[null," - okovje: tritočkovna skrita nasadila"]
[null," - kljuka: evakuacijski antipanik drog SIST EN 1125"]
[null," - ključavnica: električna ključavnica v skladu s projektom kontrole pristopa"]
[null," - požarna zahteve: EI 30"]
[null," - zvočne zahteve: /"]
[null," - dodatne zahteve: samozapiralo, dimenzije vrat kot obstoječa vrata"]
[]
[null,"Podati ceno glede na zgornji popis, kompletno z upoštevanjem vseh elementov za pritrditev, dobavo in montažo","kos",1,null,{"$f":"+D937*E937","v":0},{"$f":"+E937*MM","v":0},{"$f":"+G937*D937","v":0},{"$f":"+E937-G937","v":0},{"$f":"+I937*D937","v":0}]
[]
["43","Obračun po količinah, ki izhajajo iz potrjenega gradbenega dnevnika in ob upoštevanju kalkulativnih osnov","kpl",1,{"$f":"SUM(F6:F937)*0.05","v":0},{"$f":"+D939*E939","v":0},{"$f":"+E939*MM","v":0},{"$f":"+G939*D939","v":0},{"$f":"+E939-G939","v":0},{"$f":"+I939*D939","v":0}]
[]
[null,"SKUPAJ NOTRANJA VRATA",null,null,null,{"$f":"SUM(F8:F940)","v":0},null,{"$f":"SUM(H8:H940)","v":0},null,{"$f":"SUM(J8:J940)","v":0}]

{"sheet":"AB-4. MIZARSKA DELA","index":17,"n_rows":39,"n_cols":10,"rows_kept":39,"cut":false,"hidden":false,"merged":[]}
[]
["IV.","Objekt A in B,   MIZARSKA DELA"]
[]
[]
["ZAP. ŠT.","OPIS","     ME","KOLIČUNA","CENA/ENOTO","SKUPAJ","POPUST","POPUST SKUPAJ","CENA/ENOTO S POPUSTOM","SKUPAJ S POPUSTOM"]
[]
[]
["1.","Dobava materiala in izvedba sanitarnih predelnih sten,  izdelano in kompatnih laminatnih plošč ter INOX okovjem, kompletno z vsem delom in materialom:"]
[]
[null,"1_4_2_4_5-SHEME SANITARNIH STEN"]
[]
["a.","sanitarna stena - tuši"]
[null," - dimenzija: 100 x 210 cm"]
[null," - oblika stene: spodrezana stena na podstavkih, do določene višine z vrati"]
[null," - material stene: MAX plošča"]
[null," - obdelava stene: barvano po izboru arhitekta"]
[null," - material podstavka: inox nogice, fi=1 cm, h=10 cm"]
[null," - obdelava podstavka: po izboru arhitekta"]
[null," - požarne zahteve: brez zahteve"]
[null," - zvočne zahteve: brez zahteve"]
[null," - dodatne zahteve: brez zahteve"]
[null,"Podati ceno glede na zgornji popis, kompletno z upoštevanjem vseh elementov za pritrditev, dobavo in montažo","kos",7,null,{"$f":"+D22*E22","v":0},{"$f":"+E22*MM","v":0},{"$f":"+G22*D22","v":0},{"$f":"+E22-G22","v":0},{"$f":"+I22*D22","v":0}]
[]
[]
["b.","sanitarna stena med pisoarji"]
[null," - dimenzija: 60 x 210 cm"]
[null," - oblika stene: spodrezana stena na podstavkih, do določene višine z vrati"]
[null," - material stene: MAX plošča"]
[null," - obdelava stene: barvano po izboru arhitekta"]
[null," - material podstavka: inox nogice, fi=1 cm, h=10 cm"]
[null," - obdelava podstavka: po izboru arhitekta"]
[null," - požarne zahteve: brez zahteve"]
[null," - zvočne zahteve: brez zahteve"]
[null," - dodatne zahteve: brez zahteve"]
[null,"Podati ceno glede na zgornji popis, kompletno z upoštevanjem vseh elementov za pritrditev, dobavo in montažo","kos",1,null,{"$f":"+D35*E35","v":0},{"$f":"+E35*MM","v":0},{"$f":"+G35*D35","v":0},{"$f":"+E35-G35","v":0},{"$f":"+I35*D35","v":0}]
[]
["2","Obračun po količinah, ki izhajajo iz potrjenega gradbenega dnevnika in ob upoštevanju kalkulativnih osnov","kpl",1,{"$f":"SUM(F7:F35)*0.05","v":0},{"$f":"+D37*E37","v":0},{"$f":"+E37*MM","v":0},{"$f":"+G37*D37","v":0},{"$f":"+E37-G37","v":0},{"$f":"+I37*D37","v":0}]
[]
[null,"SKUPAJ MIZARSKA DELA:",null,null,null,{"$f":"SUM(F20:F38)","v":0},null,{"$f":"SUM(H20:H38)","v":0},null,{"$f":"SUM(J20:J38)","v":0}]

{"sheet":"AB-5. MONTAŽNA DELA","index":18,"n_rows":81,"n_cols":10,"rows_kept":81,"cut":false,"hidden":false,"merged":[]}
[]
["V. ","Objekt A in B,   SUHOMONTAŽNA DELA "]
[]
[]
["ZAP. ŠT.","OPIS","     ME","KOLIČUNA","CENA/ENOTO","SKUPAJ","POPUST","POPUST SKUPAJ","CENA/ENOTO S POPUSTOM","SKUPAJ S POPUSTOM"]
[]
[null,"Opomba:"]
[null," - v ceni je potrebno upoštevati izdelavo sestave v celoti, kompletno z vgradnjo vogalnikov ter bandažiranjem!"]
[]
[]
[null,"Dobava in montaža oblog, sten ali stropov sistema Knauf ali enakovredno, kompletno z vso potrebno podkonstrukcijo, bandažiranje stikov, delom in materialom."]
[]
[null,"ŠOLA"]
[]
[null,"STENE"]
[]
["1.","MK obloga, debeline 7,50 cm"]
[null," - znotraj: /"]
[null," - enojna kovinska podkonstrukcija z vmesno zvočno/ognjevarno izolacijo iz mineralne volne v celotnem volumnu podkonstrukcije, deb. 5,00 cm"]
[null," - zunaj - dvoslojna obloga iz mavčnih plošč GKF, 2×1,25 cm, deb. 2,50 cm"]
[null," - požarne zahteve: EI 60"]
[null," - zvočne zahteve: /"]
[null,"Podana količina v m2!","m2",150.76,null,{"$f":"+D23*E23","v":0},{"$f":"+E23*MM","v":0},{"$f":"+G23*D23","v":0},{"$f":"+E23-G23","v":0},{"$f":"+I23*D23","v":0}]
[]
[]
["2.","MK04 - MK stena, debeline 15,00 cm"]
[null," - znotraj -  dvoslojna obloga iz mavčnih plošč GKB, 2×1,25 cm, deb. 2,50 cm"]
[null," - enojna kovinska podkonstrukcija z vmesno zvočno/ognjevarno izolacijo iz mineralne volne v celotnem volumnu podkonstrukcije, deb. 10,00 cm"]
[null," - zunaj - dvoslojna obloga iz mavčnih plošč  GKB, 2×1,25 cm, deb. 2,50 cm"]
[null," - požarne zahteve: /"]
[null," - zvočne zahteve: /"]
[null,"Podana količina v m2!","m2",222.18,null,{"$f":"+D32*E32","v":0},{"$f":"+E32*MM","v":0},{"$f":"+G32*D32","v":0},{"$f":"+E32-G32","v":0},{"$f":"+I32*D32","v":0}]
[]
[]
[null,"STROPOVI"]
[]
[null,"Akustični stropovi"]
[]
[null,"Dobava materiala in izdelava/montaža akustičnega stropa na kovinski podkonstrukciji pritrjeni v obstoječo konstrukcijo, izdelano iz monta elementov. \nTip sidrnega vijaka za pritrditev obešal mora ustrezati medetažni konstruciji in sicer sidrni klin za AB konstrukcije. Nosilnost obešal: ≥ 0,4 kN (40 kg)Dobava materiala in izdelava/montaža akustičnega stropa na kovinski podkonstrukciji pritrjeni v kot monta medetažno konstrukcijo \nTip sidrnega vijaka za pritrditev obešal mora ustrezati medetažni konstruciji in sicer sidrni klin za konstrukcije. Nosilnost obešal: ≥ 0,4 kN (40 kg)Dobava materiala in izdelava/montaža akustičnega stropa na kovinski podkonstrukciji pritrjeni v medetažno konstrukcijo kot monta\nTip sidrnega vijaka za pritrditev obešal mora ustrezati medetažni konstruciji in sicer sidrni klin za AB konstrukcije. Nosilnost obešal: ≥ 0,4 kN (40 kg)Dobava materiala in izdelava/montaža akustičnega stropa na kovinski podkonstrukciji pritrjeni v AB medetažno konstrukcijo \nTip sidrnega vijaka za pritrditev obešal mora ustrezati medetažni konstruciji in sicer sidrni klin za AB konstrukcije. Nosilnost obešal: ≥ 0,4 kN (40 kg)"]
[null,"Na vrhnji strani je potrebno upoštevati izolacijo iz mineralne volne\nStiki med ploščami: fugirani s fugirno maso Jet-Filler \nStiki med ploščami Diamant: Uniflott + fugirni trak iz steklenih vlaken \nRobni friz se izvede s samolepilnim trakom Cleaneo Tape , drsni stik \nTip robov plošč Cleaneo Akustik : stopničasti rob (UFF)\nTip robov plošč Diamant na stiku s ploščami Cleaneo Akustik : ravno odrezan rob (SK) \nZa predviden spuščen strop v telovadnice je potrebno priložiti dokazilo o izpolnjevanju standarda »Odpornost na udarec žoge«: DA, certificirano po DIN 18032-3 / EN 13964, dodatek D\nRobni friz se izvede s ploščami Diamant DFH2Ir \nali enakovredno\nVse kompletno z vsemi kaskadami, izrezi, odprtinami in preboji ter izrezi za svetila in instalacije, stranskimi zaporami, stiki in zaključki ter revizijskimi vratci in trasami za razvod kablov. Vgradnja po navodilih dobavitelja gradbenih elementov. Bandažirano, kitano in glajeno.Na vrhnji strani je potrebno upoštevati izolacijo iz mineralne volne\nStiki med ploščami: fugirani s fugirno maso Jet-Filler \nStiki med ploščami Diamant: Uniflott + fugirni trak iz steklenih vlaken \nRobni friz se izvede s samolepilnim trakom Cleaneo Tape , drsni stik \nTip robov plošč Cleaneo Akustik : stopničasti rob (UFF)\nTip robov plošč Diamant na stiku s ploščami Cleaneo Akustik : ravno odrezan rob (SK) \nZa predviden spuščen strop v telovadnice je potrebno priložiti dokazilo o izpolnjevanju standarda »Odpornost na udarec žoge«: DA, certificirano po DIN 18032-3 / EN 13964, dodatek D\nRobni friz se izvede s ploščami Diamant DFH2Ir \nali enakovredno\nVse kompletno z vsemi kaskadami, izrezi, odprtinami in preboji ter izrezi za svetila in instalacije, stranskimi zaporami, stiki in zaključki ter revizijskimi vratci in trasami za razvod kablov. Vgradnja po navodilih dobavitelja gradbenih elementov. Bandažirano, kitano in glajeno.Na vrhnji strani je potrebno upoštevati izolacijo iz mineralne volne\nStiki med ploščami: fugirani s fugirno maso Jet-Filler \nStiki med ploščami Diamant: Uniflott + fugirni trak iz steklenih vlaken \nRobni friz se izvede s samolepilnim trakom Cleaneo Tape , drsni stik \nTip robov plošč Cleaneo Akustik : stopničasti rob (UFF)\nTip robov plošč Diamant na stiku s ploščami Cleaneo Akustik : ravno odrezan rob (SK) \nZa predviden spuščen strop v telovadnice je potrebno priložiti dokazilo o izpolnjevanju standarda »Odpornost na udarec žoge«: DA, certificirano po DIN 18032-3 / EN 13964, dodatek D\nRobni friz se izvede s ploščami Diamant DFH2Ir \nali enakovredno\nVse kompletno z vsemi kaskadami, izrezi, odprtinami in preboji ter izrezi za svetila in instalacije, stranskimi zaporami, stiki in zaključki ter revizijskimi vratci in trasami za razvod kablov. Vgradnja po navodilih dobavitelja gradbenih elementov. Bandažirano, kitano in glajeno.Na vrhnji strani je potrebno upoštevati izolacijo iz mineralne volne\nStiki med ploščami: fugirani s fugirno maso Jet-Filler \nStiki med ploščami Diamant: Uniflott + fugirni trak iz steklenih vlaken \nRobni friz se izvede s samolepilnim trakom Cleaneo Tape , drsni stik \nTip robov plošč Cleaneo Akustik : stopničasti rob (UFF)\nTip robov plošč Diamant na stiku s ploščami Cleaneo Akustik : ravno odrezan rob (SK) \nZa predviden spuščen strop v telovadnice je potrebno priložiti dokazilo o izpolnjevanju standarda »Odpornost na udarec žoge«: DA, certificirano po DIN 18032-3 / EN 13964, dodatek D\nRobni friz se izvede s ploščami Diamant DFH2Ir \nali enakovredno\nVse kompletno z vsemi kaskadami, izrezi, odprtinami in preboji ter izrezi za svetila in instalacije, stranskimi zaporami, stiki in zaključki ter revizijskimi vratci in trasami za razvod kablov. Vgradnja po navodilih dobavitelja gradbenih elementov. Bandažirano, kitano in glajeno."]
[]
[]
["3.","1.a - Spuščeni strop"]
[null," - Sestava:\n- Podkonstrukcija iz profilov UD/CD, togih obešal nosilnosti ≥ 0,4 kN, pritrjenih v nosilno konstrukcijo s sidrnimi vijaki za monta konstrukcije, tesnilni trak pod križnimi spojniki\n- Izolacija Knauf Insulation Unifit 035, d = 50 mm\n- Akustične plošče Diamant DFH2IR d = 12,5 mm\nali enakovredno","m2",809.14,null,{"$f":"+D44*E44","v":0},{"$f":"+E44*MM","v":0},{"$f":"+G44*D44","v":0},{"$f":"+E44-G44","v":0},{"$f":"+I44*D44","v":0}]
[]
[]
["4.","1.a - Spuščeni strop"]
[null," - Sestava:\n- Podkonstrukcija iz profilov UD/CD, togih obešal nosilnosti ≥ 0,4 kN, pritrjenih v nosilno konstrukcijo s sidrnimi vijaki za kot monta konstrukcije, tesnilni trak pod križnimi spojniki\n- Izolacija Knauf Insulation Unifit 035, d = 50 mm\n- Akustične plošče Cleaneo Akustik UFF 8/12/50 R, črna akustična tkanina (ali bela)","m2",2126.91,null,{"$f":"+D48*E48","v":0},{"$f":"+E48*MM","v":0},{"$f":"+G48*D48","v":0},{"$f":"+E48-G48","v":0},{"$f":"+I48*D48","v":0}]
[null," - doplačilo za izreze za vgradnjo utopljenih stropnih svetilk","kos",126,null,{"$f":"+D49*E49","v":0},{"$f":"+E49*MM","v":0},{"$f":"+G49*D49","v":0},{"$f":"+E49-G49","v":0},{"$f":"+I49*D49","v":0}]
[]
[]
["5.","2.b - Spuščeni strop"]
[null," - Dobava materiala in izdelava/montaža spuščenega stropa na kovinski podkonstrukciji.  Rasterski strop 60x60cm, z vidnim  profilom","m2",28.75,null,{"$f":"+D53*E53","v":0},{"$f":"+E53*MM","v":0},{"$f":"+G53*D53","v":0},{"$f":"+E53-G53","v":0},{"$f":"+I53*D53","v":0}]
[]
[]
["6.","3.c - Spuščeni strop"]
[null," - Gladek vlagoodporen mavčno kartonski strop brez vidnih stikov, slikan"]
[null," - Dobava materiala in izdelava/montaža spuščenega stropa  iz gipskartonskih plošč na kovinski podkonstrukciji. GK plošče 1x12,5 mm na kovinski podkonstrukciji pritrjeni neposredno na konstrukcijo kot monta. Vse kompletno z vsemi kaskadami, izrezi, odprtinami in preboji ter izrezi za svetila in instalacije, stranskimi zaporami, stiki in zaključki ter revizijskimi vratci. Vgradnja po navodilih dobavitelja gradbenih elementov. Bandažirano. Uporaba tipskih zaključnih profilov. ","m2",62.15,null,{"$f":"+D58*E58","v":0},{"$f":"+E58*MM","v":0},{"$f":"+G58*D58","v":0},{"$f":"+E58-G58","v":0},{"$f":"+I58*D58","v":0}]
[]
[]
["7.","Dobava materiala in izdelava/montaža za revizijske odprtine v stropu, tipska suhomontažna s polnilom iz GKB plošč"]
[null," - dim 60x60cm","kom",12,null,{"$f":"+D62*E62","v":0},{"$f":"+E62*MM","v":0},{"$f":"+G62*D62","v":0},{"$f":"+E62-G62","v":0},{"$f":"+I62*D62","v":0}]
[null," - dim 40x40cm","kom",21,null,{"$f":"+D63*E63","v":0},{"$f":"+E63*MM","v":0},{"$f":"+G63*D63","v":0},{"$f":"+E63-G63","v":0},{"$f":"+I63*D63","v":0}]
[null," - dim 30x30cm","kom",8,null,{"$f":"+D64*E64","v":0},{"$f":"+E64*MM","v":0},{"$f":"+G64*D64","v":0},{"$f":"+E64-G64","v":0},{"$f":"+I64*D64","v":0}]
[]
[]
["8.","Dobava materiala in izdelava ojačitev za vrata v mavčnokartonski steni, kompletno z vsem delom in pritrdilnim materialom. Upoštevati tipske ojačitve s profili UA!!"]
[null," - enokrilna vrata","kos",4,null,{"$f":"+D68*E68","v":0},{"$f":"+E68*MM","v":0},{"$f":"+G68*D68","v":0},{"$f":"+E68-G68","v":0},{"$f":"+I68*D68","v":0}]
[]
[]
["9.","Dobava materiala in izdelava ojačitev za sanitarne elemente v mavčnokartonski steni, kompletno z vsem delom in pritrdilnim materialom. Upoštevati tipske ojačitve s profili UA!!","kos",15,null,{"$f":"+D71*E71","v":0},{"$f":"+E71*MM","v":0},{"$f":"+G71*D71","v":0},{"$f":"+E71-G71","v":0},{"$f":"+I71*D71","v":0}]
[]
[]
["10.","Izdelava notranje obloge vertikalnih špalet po zamenjavi oken, špalete širine 30-35 cm. V ceni upoštevati: "]
[null," - dobava in vgradnja MK plošče deb. 15mm, lepljeno na podlago"]
[null," - vgradnja PVC vogalnika z mrežico "]
[null," - obdelava špalete v r.š. do 50 cm z izravnalno maso, beljenje zajeto v slikopleskarskih delih","m1","0"]
[]
["11","Obračun po količinah, ki izhajajo iz potrjenega gradbenega dnevnika in ob upoštevanju kalkulativnih osnov","kpl",1,{"$f":"SUM(F6:F77)*0.1","v":0},{"$f":"+D79*E79","v":0},{"$f":"+E79*MM","v":0},{"$f":"+G79*D79","v":0},{"$f":"+E79-G79","v":0},{"$f":"+I79*D79","v":0}]
[]
[null,"SUHOMONTAŽNA DELA SKUPAJ:",null,null,null,{"$f":"SUM(F7:F80)","v":0},null,{"$f":"SUM(H7:H80)","v":0},null,{"$f":"SUM(J7:J80)","v":0}]

{"sheet":"AB-6. SLIKOPLESKARSKA DELA","index":19,"n_rows":49,"n_cols":11,"rows_kept":49,"cut":false,"hidden":false,"merged":[]}
[]
["VI.  ","Objekt A in B,   SLIKOPLESKARSKA DELA",null,null,null,null,null,null,null,null,{"$f":"UPPER(B2)","v":"OBJEKT A IN B,   SLIKOPLESKARSKA DELA"}]
[]
[]
["ZAP. ŠT.","OPIS","     ME","KOLIČUNA","CENA/ENOTO","SKUPAJ","POPUST","POPUST SKUPAJ","CENA/ENOTO S POPUSTOM","SKUPAJ S POPUSTOM"]
[]
[]
["1.","Dobava materiala in izvedba sanacije sten/stropov na mestu plesnenja, kompletno z upoštevanjem vsega dela in materiala. Sanacija se izvede po  postopku:"]
[null," -očiščenje podlage s pranjem in drgnjenjem"]
[null," -dezinficiranje okuženih površin - posušene površine se premaže z razredčenim izdelkom ALGICIDE (ALGICIDE : voda = 1 : 5). Pripravek nanesemo v dveh slojih"]
[null," -barvanje -  ko so površine popolnoma suhese izvede barvanje s  specialno notranjo zidno barvo kot npr.  JUPOL Citro. "]
[null,"Obračun po m2 dejansko izvedenega očiščenja, količina je ocenjena ","m2",82.5,null,{"$f":"+E12*D12","v":0},{"$f":"+E12*MM","v":0},{"$f":"+G12*D12","v":0},{"$f":"+E12-G12","v":0},{"$f":"+I12*D12","v":0}]
[]
[]
["2.","Odstranitev dotrajane/odstopljene stenske- stropne barve, kompletno z izvedbo kitanja in pripravo površine pred novim slikanjem sten/stropov","m2",550,null,{"$f":"+E15*D15","v":0},{"$f":"+E15*MM","v":0},{"$f":"+G15*D15","v":0},{"$f":"+E15-G15","v":0},{"$f":"+I15*D15","v":0}]
[]
[]
["3.","Slikanje notranjih sten in stropov z barvo po izboru arhitekta, v postavki je zajeto:"]
[null," - površina se očisti prahu, madežev in drugih nečistoč in impregnira "]
[null," - dvakratno glajenje in brušenje sten z notranjim kitom"]
[null," - dvakratno slikanje sten in stropov z barvo "]
[null,"Podana količina v m2! "]
[]
["A."," * pralna barva"]
["a.","pralna barva, do višine vrat - šola","m2",2841.02,null,{"$f":"+D25*E25","v":0},{"$f":"+E25*MM","v":0},{"$f":"+G25*D25","v":0},{"$f":"+E25-G25","v":0},{"$f":"+I25*D25","v":0}]
["b."," - barvanje obstoječih okroglih stebrov s pralno barvo","m2",27.5,null,{"$f":"+D26*E26","v":0},{"$f":"+E26*MM","v":0},{"$f":"+G26*D26","v":0},{"$f":"+E26-G26","v":0},{"$f":"+I26*D26","v":0}]
[null," - slikanje obstoječih sten male telovadnice ","m2",683.81,null,{"$f":"+D27*E27","v":0},{"$f":"+E27*MM","v":0},{"$f":"+G27*D27","v":0},{"$f":"+E27-G27","v":0},{"$f":"+I27*D27","v":0}]
[]
["B."," * disperzijska barva "]
["a.","disperzijska barva - šola","m2",1997.72,null,{"$f":"+D30*E30","v":0},{"$f":"+E30*MM","v":0},{"$f":"+G30*D30","v":0},{"$f":"+E30-G30","v":0},{"$f":"+I30*D30","v":0}]
["b."," - barvanje sten z disperzijsko barvo (stanovanje hišnik)","m2",403.98,null,{"$f":"+D31*E31","v":0},{"$f":"+E31*MM","v":0},{"$f":"+G31*D31","v":0},{"$f":"+E31-G31","v":0},{"$f":"+I31*D31","v":0}]
["c."," - barvanje obstoječih okroglih stebrov z disperzijsko barvo (nad pralno barvo)","m2",19.8,null,{"$f":"+D32*E32","v":0},{"$f":"+E32*MM","v":0},{"$f":"+G32*D32","v":0},{"$f":"+E32-G32","v":0},{"$f":"+I32*D32","v":0}]
["d."," - slikanje obstoječih sten z disperzijsko barvo - garderoba","m2",428.24,null,{"$f":"+D33*E33","v":0},{"$f":"+E33*MM","v":0},{"$f":"+G33*D33","v":0},{"$f":"+E33-G33","v":0},{"$f":"+I33*D33","v":0}]
[null," - slikanje obstoječih sten male telovadnice ","m2",1403.17,null,{"$f":"+D34*E34","v":0},{"$f":"+E34*MM","v":0},{"$f":"+G34*D34","v":0},{"$f":"+E34-G34","v":0},{"$f":"+I34*D34","v":0}]
[]
["C."," *  stropovi"]
["a."," - slikanje stropov","m2",656.38,null,{"$f":"+D37*E37","v":0},{"$f":"+E37*MM","v":0},{"$f":"+G37*D37","v":0},{"$f":"+E37-G37","v":0},{"$f":"+I37*D37","v":0}]
["b.","akustični strop, kot npr. Cleaneo Akustik 8/12/50 R - stike kitati","m2",4034.43,null,{"$f":"+D38*E38","v":0},{"$f":"+E38*MM","v":0},{"$f":"+G38*D38","v":0},{"$f":"+E38-G38","v":0},{"$f":"+I38*D38","v":0}]
["c.","Gladek vlagoodporen mavčno kartonski strop brez vidnih stikov, slikan","m2",59.31,null,{"$f":"+D39*E39","v":0},{"$f":"+E39*MM","v":0},{"$f":"+G39*D39","v":0},{"$f":"+E39-G39","v":0},{"$f":"+I39*D39","v":0}]
["d.","STROP, kot npr. Diamant 12,5 mm","m2",773.96,null,{"$f":"+D40*E40","v":0},{"$f":"+E40*MM","v":0},{"$f":"+G40*D40","v":0},{"$f":"+E40-G40","v":0},{"$f":"+I40*D40","v":0}]
[]
[]
["4.","Izvedba očiščenja obstoječe kovinske ograje glavnega stopnišča, razmestitev in ponovno pleskanje. Ograja se nadviša do višine 120 cm - kar je zajeto pri ključavničarskih delih. V tej postavki je potrebno upoštevati odstranitev stare barve in ponovno pleskanje kompletne nadvišane ograje stopnišča.","m1",132,null,{"$f":"+D43*E43","v":0},{"$f":"+E43*MM","v":0},{"$f":"+G43*D43","v":0},{"$f":"+E43-G43","v":0},{"$f":"+I43*D43","v":0}]
[]
["5.","Barvanje špalet","m1","0"]
[]
["6.","Obračun po količinah, ki izhajajo iz potrjenega gradbenega dnevnika in ob upoštevanju kalkulativnih osnov","kpl",1,{"$f":"SUM(F6:F43)*0.05","v":0},{"$f":"+D47*E47","v":0},{"$f":"+E47*MM","v":0},{"$f":"+G47*D47","v":0},{"$f":"+E47-G47","v":0},{"$f":"+I47*D47","v":0}]
[]
[null,"SLIKOPLESKARSKA DELA SKUPAJ:",null,null,null,{"$f":"SUM(F10:F48)","v":0},null,{"$f":"SUM(H10:H48)","v":0},null,{"$f":"SUM(J10:J48)","v":0}]

{"sheet":"AB-7. KERAMIČARSKA DELA","index":20,"n_rows":50,"n_cols":10,"rows_kept":50,"cut":false,"hidden":false,"merged":[]}
[]
["VII.","Objekt A in B,   KERAMIČARSKA DELA"]
[]
[]
["ZAP. ŠT.","OPIS","     ME","KOLIČUNA","CENA/ENOTO","SKUPAJ","POPUST","POPUST SKUPAJ","CENA/ENOTO S POPUSTOM","SKUPAJ S POPUSTOM"]
[]
[]
["1.","Dobava in polaganje talne in stenske keramike po izboru projektanta arhitekture, kompletno s stičenjem stikov, tipskimi vogalniki, vsem delom in veznim materialom (V ceni je zajeta neto kvadratura, brez upoštevanja rezerve!!)"]
[]
[null,"Upoštevati nabavno ceni keramike do 20€/m2!"]
[]
["A.","***talna keramika"]
[]
["a.","Tlak v sanitarije za hišnika, prostori čistilke"]
[null," - talna obloga (T9.6): keramične ploščice, nedrsne R11, vodotesne fuge, 1 cmm, deb. 1,00 cm"]
[null," - tip, format in tekstura: po izbiri arhitekta, lepljen na s poliuretanskim lepilom, npr.: MUREXIN PU 560 ali enakovredno"]
[null," - izravanva: izravnalna masa, kot npr. Mapei Ultratop, deb. 0,50 cm"]
[null,"Podana količina v m2!","m2",132.6,null,{"$f":"+E18*D18","v":0},{"$f":"+E18*MM","v":0},{"$f":"+G18*D18","v":0},{"$f":"+E18-G18","v":0},{"$f":"+I18*D18","v":0}]
[]
[]
["b.","Tlak v učilnicah ob umivalniku"]
[null," - talna obloga (T9.1): keramične ploščice, nedrsne  R11, vodotesne fuge, 1cm, deb. 1,00 cm"]
[null," - vezni sloj: fleksibilno lepilo, deb. 0,50 cm"]
[null,"Podana količina v m2!","m2",22,null,{"$f":"+E24*D24","v":0},{"$f":"+E24*MM","v":0},{"$f":"+G24*D24","v":0},{"$f":"+E24-G24","v":0},{"$f":"+I24*D24","v":0}]
[]
[]
["c.","Tlak v sanitarijah"]
[null," - hidroizolacija: dvokomponentni hidroizolacijski premaz na bazi cementnih veziv sintetičnih polimerov in posebnih dodatkov, npr.: Mapelastic ali enakovredno, izveden tudi na vznožje obodnih sten in pri vratih s flexibilnim Mapeband trakom po detajlu"]
[null,"Podana količina v m2!","m2",37.31,null,{"$f":"+E29*D29","v":0},{"$f":"+E29*MM","v":0},{"$f":"+G29*D29","v":0},{"$f":"+E29-G29","v":0},{"$f":"+I29*D29","v":0}]
[]
[]
["B.","*** stenska keramika"]
[]
[null," - upoštevana stenska keramika - po izboru projektanta oz. investitorja "]
[null," - zaščitni sloj: vodoodbojni premaz"]
[null," - vezni sloj: cement-akrilatno lepilo (tip lepila in način nanosa lepila določiti glede na končni izbor keramike in kvaliteto podlage), deb. 0,30 cm"]
[null," - finalni sloj: po izboru arhitekta"]
[null,"Podana količina v m2!"]
[]
[null,"stenske ploščice za mokre prostore:"]
["a."," - šola","m2",395.02,null,{"$f":"+E41*D41","v":0},{"$f":"+E41*MM","v":0},{"$f":"+G41*D41","v":0},{"$f":"+E41-G41","v":0},{"$f":"+I41*D41","v":0}]
["b."," - hišnik","m2",50.62,null,{"$f":"+E42*D42","v":0},{"$f":"+E42*MM","v":0},{"$f":"+G42*D42","v":0},{"$f":"+E42-G42","v":0},{"$f":"+I42*D42","v":0}]
[]
[]
[null,"stenske ploščice v učilnicah ob umivalniku:"]
["a."," - šola","m2",170.22,null,{"$f":"+E46*D46","v":0},{"$f":"+E46*MM","v":0},{"$f":"+G46*D46","v":0},{"$f":"+E46-G46","v":0},{"$f":"+I46*D46","v":0}]
[]
["2","Obračun po količinah, ki izhajajo iz potrjenega gradbenega dnevnika in ob upoštevanju kalkulativnih osnov","kpl",1,{"$f":"SUM(F6:F46)*0.05","v":0},{"$f":"+E48*D48","v":0},{"$f":"+E48*MM","v":0},{"$f":"+G48*D48","v":0},{"$f":"+E48-G48","v":0},{"$f":"+I48*D48","v":0}]
[]
[null,"KERAMIČARSKA DELA SKUPAJ:",null,null,null,{"$f":"SUM(F15:F49)","v":0},null,{"$f":"SUM(H15:H49)","v":0},null,{"$f":"SUM(J15:J49)","v":0}]

{"sheet":"AB-8. PODOPOLAGALSKA DELA","index":21,"n_rows":47,"n_cols":10,"rows_kept":47,"cut":false,"hidden":false,"merged":[]}
[]
["VIII. "," Objekt A in B,   PODOPOLAGALSKA DELA"]
[]
[]
["ZAP. ŠT.","OPIS","     ME","KOLIČUNA","CENA/ENOTO","SKUPAJ","POPUST","POPUST SKUPAJ","CENA/ENOTO S POPUSTOM","SKUPAJ S POPUSTOM"]
[]
[]
["1.","Dobava in polaganje talne obloge, vključno z obstenskimi letvami, pripravo podlage ter vsemi finalnimi obdelavami,  v sestavi:"]
[]
["a.","Tlak v učilnicah, knjižnici in čitalnici, zbornici, kabinetih, in pisarnah"]
[null," - talna obloga: lamelni parket  hrast Natur +, tip, format in tekstura: po izbiri arhitekta, lepljen s poliuretanskim lepilom, npr.: MUREXIN PU 560 ali enakovrednodeb. Deb 8 mm, brušenjem in lakiranjem"]
[null,"Podana količina v m2!","m2",2296.4299999999998,null,{"$f":"+E12*D12","v":0},{"$f":"+E12*MM","v":0},{"$f":"+G12*D12","v":0},{"$f":"+E12-G12","v":0},{"$f":"+I12*D12","v":0}]
[]
[]
["b.","Tlak v avlah in hodnikih"]
[null," - talna obloga: antistatičen tlak, sintetična talna obloga, odziv na ogenj BFL-S1, kot npr. vinilna talna obloga Norament Satura, deb. 0,30 cm"]
[null," - vezni sloj: elektroprevodno lepilo, deb. 0,20 cm"]
[null," - izravnava: izravnalna masa, kot npr. Mapei Ultratop, deb.  do 1,00 cm","m2",1399.96,null,{"$f":"+E18*D18","v":0},{"$f":"+E18*MM","v":0},{"$f":"+G18*D18","v":0},{"$f":"+E18-G18","v":0},{"$f":"+I18*D18","v":0}]
[null,"Podana količina v m2!"]
[]
["c.","Tlak v stanovanju hišnika"]
[null," - talna obloga: antistatičen tlak, sintetična talna obloga, odziv na ogenj BFL-S1, kot npr. vinilna talna obloga Norament Satura, deb. 0,30 cm"]
[null," - vezni sloj: elektroprevodno lepilo, deb. 0,20 cm"]
[null," - izravnava: izravnalna masa, kot npr. Mapei Ultratop, deb. 1,00 cm"]
[null,"Podana količina v m2!","m2",156.63999999999999,null,{"$f":"+E25*D25","v":0},{"$f":"+E25*MM","v":0},{"$f":"+G25*D25","v":0},{"$f":"+E25-G25","v":0},{"$f":"+I25*D25","v":0}]
[]
[]
["3.","Izdelava epoxi premaza tlaka servisnega prostora, vključno z vretikalnim premazom do višine 10cm. Premaz deb.0,2-0,3mm, nedrseča izvedba, barva po izboru projektanta. ","m2",62.7,null,{"$f":"+E28*D28","v":0},{"$f":"+E28*MM","v":0},{"$f":"+G28*D28","v":0},{"$f":"+E28-G28","v":0},{"$f":"+I28*D28","v":0}]
[]
[]
["4.","Dobava materiala in izvedba novega predpražnika v avli/vetrolovi, kompletno z vsemi okvirji, delom in pritrdilni materialom."]
["a."," - dimenzija predpražnika kot.npr. EMCO Diplomat ali enakovredno 220/230 cm","kos",2,null,{"$f":"+E32*D32","v":0},{"$f":"+E32*MM","v":0},{"$f":"+G32*D32","v":0},{"$f":"+E32-G32","v":0},{"$f":"+I32*D32","v":0}]
["b."," - dimenzija predpražnika kot.npr. EMCO Diplomat  ali enakovredno 200/300 cm","kos",2,null,{"$f":"+E33*D33","v":0},{"$f":"+E33*MM","v":0},{"$f":"+G33*D33","v":0},{"$f":"+E33-G33","v":0},{"$f":"+I33*D33","v":0}]
[]
[]
["c.","Tlak v veliki telovadnici"]
[null," - brušenje in lakiranje obstoječega parketa z zamenjavo zaključnih letev","m2",961.27,null,{"$f":"+E37*D37","v":0},{"$f":"+E37*MM","v":0},{"$f":"+G37*D37","v":0},{"$f":"+E37-G37","v":0},{"$f":"+I37*D37","v":0}]
[null," - označbe igrišča oz. risanje črt kot obstoječe","kpl",1,null,{"$f":"+E38*D38","v":0},{"$f":"+E38*MM","v":0},{"$f":"+G38*D38","v":0},{"$f":"+E38-G38","v":0},{"$f":"+I38*D38","v":0}]
[]
[]
["d.","Tlak v mali telovadnici"]
[null," - brušenje in lakiranje obstoječega parketa z zamenjavo zaključnih letev","m2",500.89,null,{"$f":"+E42*D42","v":0},{"$f":"+E42*MM","v":0},{"$f":"+G42*D42","v":0},{"$f":"+E42-G42","v":0},{"$f":"+I42*D42","v":0}]
[null," - označbe igrišča oz. risanje črt kot obstoječe","kpl",1,null,{"$f":"+E43*D43","v":0},{"$f":"+E43*MM","v":0},{"$f":"+G43*D43","v":0},{"$f":"+E43-G43","v":0},{"$f":"+I43*D43","v":0}]
[]
["2","Obračun po količinah, ki izhajajo iz potrjenega gradbenega dnevnika in ob upoštevanju kalkulativnih osnov","kpl",1,{"$f":"SUM(F6:F43)*0.05","v":0},{"$f":"+E45*D45","v":0},{"$f":"+E45*MM","v":0},{"$f":"+G45*D45","v":0},{"$f":"+E45-G45","v":0},{"$f":"+I45*D45","v":0}]
[]
[null,"PODOPOLAGALSKA DELA:",null,null,null,{"$f":"SUM(F11:F46)","v":0},null,{"$f":"SUM(H11:H46)","v":0},null,{"$f":"SUM(J11:J46)","v":0}]

{"sheet":"AB-9. OPREMA","index":22,"n_rows":32,"n_cols":10,"rows_kept":32,"cut":false,"hidden":false,"merged":[]}
[]
["IX.","Objekt A in B,    OPREMA"]
[]
[]
["ZAP. ŠT.","OPIS","     ME","KOLIČUNA","CENA/ENOTO","SKUPAJ","POPUST","POPUST SKUPAJ","CENA/ENOTO S POPUSTOM","SKUPAJ S POPUSTOM"]
[]
["1.","Dobava in montaža vseh oznak/nalepk po požarnem elaboratu, ki oznacijejo smer izhoda, namestitav gasilnikov, … Potrebno je upoštevati kompletno dobava in pritrditev oznak."]
[null,"Znaki za označitev izhodov in smeri evakuacije morajo biti nameščeni na vseh glavnih in zasilnih izhodih ter evakuacijskih poteh, na vseh mestih spremembe nivoja npr. stopnice ipd.. V primeru požara morajo znaki nedvoumno usmerjati k izhodom na varno. Znaki naj bodo nameščeni na steni ali obešeni s stropa pravokotno na smer gibanja. Spodnji rob znaka naj bo na višini 2,0 do 2,5 m od tal. Dimenzije znakov v odvisnosti od razdalje razpoznavnosti podaja standard SIST 1013. Znaki za označitev evakuacijskih poti morajo biti v primeru izpada omrežne napetosti osvetljeni najmanj 60 minut."]
[]
[]
[]
[]
[]
[]
[]
[]
[]
[]
[]
[]
[]
[]
[]
[]
[null,"Po elaboratu požarne varnosti!!","kpl",184,null,{"$f":"+E25*D25","v":0},{"$f":"+E25*MM","v":0},{"$f":"+G25*D25","v":0},{"$f":"+E25-G25","v":0},{"$f":"+I25*D25","v":0}]
[]
[]
[null,"Gasilni aparati","kom",23,null,{"$f":"+E28*D28","v":0},{"$f":"+E28*MM","v":0},{"$f":"+G28*D28","v":0},{"$f":"+E28-G28","v":0},{"$f":"+I28*D28","v":0}]
[]
["2","Obračun po količinah, ki izhajajo iz potrjenega gradbenega dnevnika in ob upoštevanju kalkulativnih osnov","kpl",1,{"$f":"SUM(F28,F25)*0.05","v":0},{"$f":"+E30*D30","v":0},{"$f":"+E30*MM","v":0},{"$f":"+G30*D30","v":0},{"$f":"+E30-G30","v":0},{"$f":"+I30*D30","v":0}]
[]
[null,"SKUPAJ OPREMA:",null,null,null,{"$f":"SUM(F10:F31)","v":0},null,{"$f":"SUM(H10:H31)","v":0},null,{"$f":"SUM(J10:J31)","v":0}]

{"sheet":"ABH. REKAP. ENERGETSKA SANACIJA","index":23,"n_rows":22,"n_cols":5,"rows_kept":22,"cut":false,"hidden":false,"merged":[]}
["Investitor:   ","Mestna občina Ljubljana"]
[null,"Konzorcij družb Petrol d. d. in Resalta d. o. o. "]
["Objekt:      ","OŠ Savsko naselje, Matjaževa ulica 4, Ljubljana"]
[null," - Celovita prenova objekta s statično, požarno in energetsko sanacijo."]
["Štev. proj.:     "]
["Datum:      ","April 2022"]
[]
[]
[]
[]
[]
[null,"REKAPITULACIJA"]
[null,"ENERGETSKA SANACIJA Objekt A in B,   "]
[]
[]
[null,"Ponudbena vrednost - skupna rekapitulacija","Vrednost  brez popusta","Popust","Vrednost s popustom"]
["1.","Fasada",{"$f":"'AB-1.FASADA ES'!$F$274","v":0},{"$f":"'AB-1.FASADA ES'!$H$274","v":0},{"$f":"'AB-1.FASADA ES'!$J$274","v":0}]
["2.","Streha",{"$f":"'AB-2.STREHA ES'!$F$67","v":0},{"$f":"'AB-2.STREHA ES'!$H$67","v":0},{"$f":"'AB-2.STREHA ES'!$J$67","v":0}]
["3.","Okna, Vrata, Fasadne zasteklitve",{"$f":"'AB-3. OKNA, VRATA, FAS. ZAS. ES'!$F$763","v":0},{"$f":"'AB-3. OKNA, VRATA, FAS. ZAS. ES'!$H$763","v":0},{"$f":"'AB-3. OKNA, VRATA, FAS. ZAS. ES'!$J$763","v":0}]
[null,"SKUPAJ",{"$f":"SUM(C17:C19)","v":0},{"$f":"SUM(D17:D19)","v":0},{"$f":"SUM(E17:E19)","v":0}]
[null,"22% DDV",null,null,{"$f":"+E20*0.22","v":0}]
[null,"Objekt A in B   ENERGETSKA SANACIJA  SKUPAJ Z DDV",null,null,{"$f":"+E20+E21","v":0}]

{"sheet":"AB-1.FASADA ES","index":24,"n_rows":274,"n_cols":10,"rows_kept":274,"cut":false,"hidden":false,"merged":[]}
[]
[null,"Objekt A in B,   I. FASADA"]
[]
[]
["ZAP. ŠT.","OPIS","     ME","KOLIČUNA","CENA/ENOTO","SKUPAJ","POPUST","POPUST SKUPAJ","CENA/ENOTO S POPUSTOM","SKUPAJ S POPUSTOM"]
[]
[null,"A. PRIPRAVLJALNA DELA"]
[]
[null,"Upoštevano v sklopu celotne gradnje!"]
[]
[]
[null,"B. RUŠITVENA DELA"]
[]
[null,"Uvodno pojasnilo:"]
[null,"Pri izvajanju del je treba upoštevati vsa  določila s področja varnosti in zdravja pri delu, opredeljena v Varnostnem načrtu za zagotavljanje varnosti in zdravja pri delu na gradbišču, izdelanega skladno z določili 4. člena Uredbe (Ur.l.RS št. 83/05)."]
[null,"Pri izvajanju del je treba upoštevati vsa zakonska določila s področja varnosti in zdravja pri delu, Pravilnik o varstvu pri gradbenem delu, Zakon o varstvu pred požarom in Zakon o varstvu okolja, predpise o ravnanju z gradbenimi odpadki, Pravilnik o obremenjevanju tal z vnašanjem odpadkov in Uredbo o ravnanju z odpadki."]
[null,"Pred začetkom rušitvenih del je treba opraviti pripravljalna dela, odklopiti elektriko, plin in vodo, iz prostorov odstraniti nepotreben material, opremo in stavbno pohištvo. Priprava zgradbe je odvisna od obsega rušitvenih posegov"]
[null,"Pod pripravo zgradbe lahko spadajo tudi priprava začasnih dovozov in delovnih odrov, odstranitev dreves in grmovja, v kolikor to ni zajeto v popisu del ali začasna sprememba režima lokalnega prometa"]
[null,"Rušitvena dela naj bi se izvajala v čim manj vetrovnem vremenu. Pri čezmernem prašenju ob rušenju je treba poskrbeti za vlaženje objekta, ki ga rušimo."]
[null,"Obvezno je ločevanje vgrajenih materialov: beton in armiran beton, pločevina, les, steklo, plastika, kovinski izdelki, opeka... "]
[null,"Ob izvajanju rušitvenih del je upoštevati določila Uredbe o ravnanju z odpadki, ki vsebujejo azbest (Ur.l.RS št. 34/08); preprečevanje emisije azbestnih vlaken v okolje, obdelava azbestnih odpadkov, …."]
[null,"Vse gradbene odpadke in ruševine je potrebno odpeljati na deponijo komunalnih odpadkov v skladu z Odlokom o ravnanju s komunalnimi odpadki na območju občine in v skladu z Uredbo o ravnanju z odpadki (Uradni list RS št. 103/2011) in pred primopredajo del predati Poročilo o ravnanju z gradbenimi odpadki."]
[null,"V ceni na enoto posamezne postavke je potrebno upoštevati vse stroške in takse deponij."]
[]
["1.","Demontaža elementov na fasadi, z odvozom na trajno deponijo oz skladiščenjem na objektu ter ponovna montaža (v dogovoru z naročnikom)"]
["a.","Demontaža drobnih elementov na fasadi (hišna številka, kamnita info tabla, drog za zastave…) - Šola","kpl","0"]
["b.","Demontaža rešetk pri vhodu v bazen","kom","0"]
[]
[]
["2.","Demontaža obstoječih elektro elementov na fasadi, skladiščenje na objektu in ponovna montaža le-teh po končanih delih. Upoštevati tudi vse potrebne prevezave in popravila. Elementi kot npr. luč, reflektor, zvonec, senzorji, kamere itd.)\nObračun po dejansko porabljenem času in materialu, na podlagi potrditve nadzora. V popisu podana ocena!"]
["a.","Delavec VKV - električar","ur","0"]
["b.","Razni material","kpl","0"]
[]
[]
["3.","Demontaža obstoječih zunanjih betonskih elementov z luknjami na oknih WC-jev, hramba na začasni deponiji in ponovna montaž po izvedbi fasaderskih del","kom","0"]
[]
[]
["4.","Demontaža zunanjih okenskih polic, vključno z odvozom na trajno deponijo"]
["a.","Aluminijaste police","m1","0"]
["b.","Kamnite police","m1","0"]
[]
[]
["5.","Rušenje zunanjih okenskih in vratnih špalet vključno s odvozom ruševin v trajno deponijo in plačilom vseh potrebnih taks in pristojbin. Opečne špalete deb. do 5 cm in globine 6 do 35 cm, po detajlu projektanta","m1","0"]
[]
[]
["6.","Rušenje obstoječega ometa vključno s odvozom ruševin v trajno deponijo. Upoštevana ocena 7% celote","m2","0"]
[]
[]
["7.","Demontaža kleparskih izdelkov na fasadi objekta (montaža novih po dokončanju kontaktne fasade upoštevana v krovsko-kleparskih delih)"]
[]
["a.","Demontaža odtočnih cevi, pločevinaste do fi 120mm, vključno z odvozom na trajno deponijo - Šola","m'","0"]
[]
["b.","Demontaža odtočnih cevi, LTŽ dolžine 200cm + kolena za priklop na peskolov, vključno z odvozom na trajno deponijo","kos","0"]
[]
["c.","Demontaža kritine nadstreškov, izvedena iz alu pločevine","m2","0"]
[]
[]
["8.","Odstranitev betonskih pranih plošč 40*40, z odvozom v trajno deponijo, zaradi izkopa okoli objekta za izoiliranje fasade v terenu","m2","0"]
[]
[]
["9.","Odstranitev ter skladiščenje na gradbišču panelne ograje, ki se stika z fasado, za potrebe postavitve delovnega odra. Vključno predelava panela in stebra na novo situacijo ter ponovna montaža. Višina ograje do 2m","kpl","0"]
[]
[]
["10.","Rušitev obstoječih peskolovov, vključno s pokrovi.","kos","0"]
[]
[]
["11.","Izvedba \"PULL-OFF\"  testa obstoječe fasade - dogovor z naročnikom/projektantom/nadzorom po izvedenem testu.","kpl","0"]
[]
[]
[null,"C. ZEMELJSKA DELA"]
[]
[null,"Uvodno pojasnilo:"]
[null,"Dela pri izkopih morajo biti opravljena kakovostno in skladno s predpisi, projektom in zahtevami teh tehničnih pogojev. Vse končne površine izkopov morajo biti izvedene po zahtevah v projektih. Odstopanja so lahko določena v projektu"]
[null,"V ta dela spadajo: opravila, določena z veljavnimi predpisi o varstvu pri delu, kot je opiranje (skupaj s projektom in statičnim izračunom), nakloni, razširitve ipd in vse potrebno za dviganje izkopnega materiala na potrebno višino"]
[null,"dela v zvezi z odvodnjavanjem meteorne in talne vode med gradnjo in njeno odvodnjo, skupaj s črpanjem (če ni s projektom drugače predvideno in z deli zaradi preusmerjanja vodnih tokov; zagotoviti se mora stalno in zadostno odvodnjavanje brez škodljivih vplivov na okoliške objekte"]
[null,"nakladanje, odvoz in razgrinjanje materiala na mestu vgradnje v nasipe ali odlaganje in razgrinjanje materiala na stalni ali začasni deponiji, skupaj z ureditvijo deponije (zatravitev)"]
[null,"Osnovni materiali so zemljine in kamnine. Vse vrste zemljin in hribin razvrščamo v te nazivne kategorije:\n-- Plodna zemljina kategorija 1\n-- slabo nosilna zemljina kategorija 2\n-- vezljiva in nevezljiva zrnata zemljina kategorija 3\n-- mehka kamnina kategorija 4\n-- trda kamnina kategorija 5"]
[null,"Izkope je treba opraviti po profilih, vpisanih kotah, naklonih in do globin po projektu. Pri tem je treba upoštevati lastnosti posameznih kategorij materiala in zahtevane lastnosti za namensko uporabo izkopanega materiala"]
[null,"Izkope je treba načeloma delati z mehanizacijo, tako da se ročno delo omeji na minimum in izvaja le tam, kjer s strojno opremo ni mogoče doseči zahtevane kakovosti ali pa to zahtevajo geomehanske lastnosti tal"]
[null,"Izvajalec mora pri izvajanju izkopa opozoriti nadzor na morebitne težave, ki bi se lahko pojavile in ki bi lahko vplivali na kakovost izvedenih del, zahtevano s temi tehničnimi pogoji. Če izvajalec ne opozori nadzora, prevzame odgovornost in stroške popravil"]
[null," *Opomba: v popisu upoštevan izkop za izvedbo toplotne izolacije v terenu. Zasip izkopa ter odvoz viška izkopanega materiala zajet v zunanji ureditvi!"]
[]
["1.","Kombiniran izkop za izoliranje stene v terenu"]
[null,"Delo zajema izkop z nakladanjem na kamion in odvozom v trajno deponijo."]
[null,"Izkop ob objektu za izvedbo podzidka kontaktne fasade do globine cca 70 cm z deponiranjem materiala 1,00 m od roba izkopa, po detajlu projektanta.","m3","0"]
[]
[]
["2.","Ročni izkop za nove peskolove in vezno kanalizacijo z odmetom materiala ob rob izkopa ter ponovnim zasipom s planiranjem in utrjevanjem.","m3","0"]
[]
[]
[null,"D. FASADNI ODRI"]
[]
[null,"Splošno:"]
[null,"V kolikor v posameznih pozicijah ni drugače podano, veljajo v nadaljevanju navedena določila:"]
[null,"Varnostni odri:"]
[null,"Varovalni odri, ki služiju varovanju življenja ali zdravja zaposlenih Izvajalca ter ostalih na Gradbišču zaposlenih oseb, se za čas izvajanja del ne obračunavajo posebej. V kolikor so po dokončanju del ti odri še potrebni, se po naročilu Naročnika obračunajo posebej."]
[null,"Obseg storitve:"]
[null,"V kolikor v posameznih pozicijah ni drugače podano, je v c.e.m. v nadaljevanju navedenih postavk vkalkulirati: do in odvoz, montažo in demontažo ter stojnino za uporabo za trajanje izvajanja lastne storitve. Naročnika je o nameravani demontaži odra obvestiti vsaj 7 dni prej. V kolikor se bo oder potreboval po zahtevi Naročnika tudi po dokončanju lastnih storitev, bo stojnina od tega dneva dalje obračunana posebej."]
[null,"Statične presoje in preizkusi:"]
[null,"Stroške za morebitne statične presoje stabilnosti, sidranja in preiskuse delovnega odra, varovalnih ali pomičnih odrov je vkalkulirati v c.e.m.."]
[null,"Souporaba drugih Izvajalcev:"]
[null,"Souporaba odrov s strani drugih Izvajalcev v času izvajanja vseh naročnikovih del e uskalajuje med Izvajalcema z ozirom na obremenitve odra, koordinacijo souporabe in podobno."]
[null,"Obračun:"]
[null,"V predizmerah je prikazana vertikalna ploskev  lahkih fasadnih odrov. Merimo horizontalni zunanjo konturo odra, vertiklano pa od tal do 1 m nad najvišjim delovnim odrom. Nepomične  lahke odre obračunavamo po horizontalni projekciji stropa, ki se obdeluje."]
[]
["1.","Delovni odri za dela na fasadah zgradb"]
[null,"Oder po izboru izvajalca, za prevzem obremenitev, potrebnih za izvedbo lastnih del. Na osončenih delih fasade je po potrebi predvideti namestitev sintetičnih zaves."]
[null,"Na vhodih v šolo je zagotoviti nemoten in varem dostop šolarjem in zaposlenim z namestitivijo ustrezne nadglavne zaščite "]
["a.","Oder šole, postavljen na strehah nižjih objektov, višine do 20 m","m2","0"]
[]
[]
["2.","Izdelava varovalnih nadstrešnic za dostop do objekta izven gabarita fasadnega odra nad vhodi in izhodi šole, kompletno konstrukcija, streha iz plohov, PVC folija in filc. ","m2","0"]
[]
[]
[]
[null,"E. ZIDARSKA DELA"]
[]
[null,"Uvodno pojasnilo:"]
[null,"Zidanje mora biti čisto, s pravilno vezavo opeke. Stiki morajo biti dobro zaliti z malto, vrste popolnoma horizontalne, malta pa ne sme biti v debelejšem sloju kot 15 mm. Vse površine morajo biti popolnoma ravne in navpične, malta iz stikov se mora odstraniti dokler je še sveža."]
[null,"Zidanje opečnih zidov v skladu SIST EN 711-1:2011."]
[null,"Vsi bitumenski  materiali uporabljeni za hidroizolacije morajo po kvaliteti in izvedbi ustrezati standardom DIN 18.195, 1-10 del fizikalne karakteristike proizvodov morajo ustrezati zahtevam DIN 52133."]
[null,"Pri vseh talnih hidroizolacijah morajo biti vsi preboji izvedeni s prirobnicami."]
[]
["1.","Izdelava grobega ometa, kjer se obstoječ omet odstrani. Obrizg in grobi omet. OCENA.","m2","0"]
[]
[]
["2.","Fina izravnava obstoječe podlage za vgradnjo dodatne hidroizolacije na stiku podzidka in temeljev. Industrijsko pripravljena mešanica cementne malte. Vključno priprava podlage -visokotlačno pranje alg in mahov, biocidni premaz, in premaz za boljši oprijem. Obračun m2","m2","0"]
[]
[]
["3.","Dobava in polaganje vertikalne hidroizolacije iz bitumenskih trakov kot npr. General Membran Auriga FC 4 , na že pripravljeno izravnano očiščeno podlago, z bitumenskim premazom.\nPas izolacije na podzidek  fasade po celotnem obodu objekta, do višine +40cm  nad gotovi teren","m2","0"]
[]
[]
["4.","Dobava in vgradnja  toplotne izolacije iz plošč XPS, kot npr. Thegotherm TIP B, 300kpa, lepljenih s PUR lepilom. Izolacija vkopanega dela v višini po detajlu arhitekta (cca 60cm do kote finalnega tlaka). Stik med vkopano izolacijo in izolacijo fasade se izvede s hidroizolacijskim premazom, za preprečevanje dviga vlage. "]
[null," - XPS deb. 14 cm","m2","0"]
[]
[]
["5.","Dobava in vgradnja zaščite toplotne izolacije v terenu okoli šole, izvedene s trdo čepasto folijo.","m2","0"]
[]
[]
["6.","Dobava materiala in izvedba pozidave s siporexom različnih debelin, z vsem potrebnim delom in veznim materialom. Upoštevati tudi izvedbo sidranja v obstoječo nosilno konstrukcijo, izvedbo vertikalnih vezi.","m2","0"]
[]
[]
["7.","Izdelava novih peskolovov iz betonske cevi fi40/100 cm, kompletno betonsko dno, izdelava stranskih priključkov, obbetoniranje ter pohodni LTŽ pokrov 40/40 cm. V ceni upoštevati tudi prilagoditev odvodne cevi kanalizacije na novo situacijo v dolžini do 2m. ","kos","0"]
[]
[]
["8.","Dobava in betoniranje betonskih robnikov 5*25, vključno s pripravo terena in fugiranjem","m1","0"]
[]
[]
["9.","Dobava in vgradnja betonskih pranih plošč 40*40, vključno z dobavo materiala in izdelavo posteljice, utrjevanjem terena in fugiranjem plošč","m1","0"]
[]
[]
[null,"F. KROVSKO KLEPARSKA DELA"]
[]
[null,"Uvodno pojasnilo:"]
[null,"Krovska in kleparska dela morajo biti izvedena po opisih in detajlih iz kvalitetnega materiala in v skladu z veljavnimi tehničnimi predpisi in standardi za ta dela. Vsa dela je izdelati tehnično pravilno in po pravilih stroke."]
[null,"Pred pričetkom izvajanja izolacijskih del je preveriti kvaliteto predhodno izvršenih del, ki bi lahko vplivala na kvaliteto, sigurnost in trajnost izolacije, ki je predvidena z elaboratom fizikalne in zvočne zaščite."]
[null,"Dela morajo biti izvedena tako, da posamezni deli in sloji izolacij kakor tudi celoten sestav ustrezajo namenu, zahtevam, varnosti in dolgotrajnosti. Posebno pazljivo je izvesti streho okrog zbirnih kotličev, dilatacijskih stikov in zaključkov strehe."]
[null,"Zaključne obrobe se izvedejo po detajlih. "]
[null,"Hidroizolacijska dela se sme izvajati samo na kvalitetno izvedeno čvrsto, ravno in suho podlogo. Med izvajanjem in po končani izvedbi hidroizolacijskih del, se ne sme po njej hoditi. Vsa ostala gradbena in obrtniška dela se smejo izvajati samo, če je hidroizolacija zaščitena z ustrezno zaščito."]
[null,"Za vse vgrajene materiale mora izvajalec predložiti ateste o kvaliteti materialov, ki jih izda pooblaščeni zavod za tovrstne dejavnosti. "]
[null,"Izvedba TI in HI po detajlih izvajalca z ustreznim certifikatom."]
[null,"Enotna cena mora zajeti izdelavo vseh potrebnih detajlov in dopolnilnih del, ki jih je potrebno izvesti za dokončanje posameznih del, tudi če potrebni detajli in zaključki niso podrobno navedeni in opisani v popisu del, in so ta dopolnila nujna za pravilno funkcioniranje posameznih sistemov."]
[]
[]
["1.","Dobava in montaža kleparskih izdelkov na fasadi objekta po dokončanju kontaktne fasade vključno z morebitnim podaljšanjem obstoječih nosilcev in dodelavo kolen. Kleparski izdelki izdelani iz pocinkane barvane pločevine deb. 0,6mm, z vsem pritrdilnim materialom in tesnenji. Po detajlu projektanta arhitekture."]
[]
["a.","Odtočne cevi, pločevinaste do fi 100-120mm, vključno vsa kolena (eno koleno je enako 0,5m) ter prirobnico za priključitev na LTŽ cev (1kos = 1m1), vključno obešalne kljuke.","m'","0"]
[]
[]
["2.","Dobava in montaža novih odtočnih LTŽ cevi, dolžine 200cm + koleno za priklop na peskolov, v črni barvi, vključno nosilne kljuke","kos","0"]
[]
[]
["3.","Barvanje obstoječih kovinskih elementov na fasadi, kompletno z očiščenjem podlage, antikorozijsko zaščito in finalnim premazom v barvi po izboru naročnika. Količina je ocenjena:","m2","0"]
[]
[]
[null,"G. KLJUČAVNIČARSKA DELA"]
[]
[null,"Uvodno pojasnilo:"]
[null,"Vsi elementi  ključavničarskih del morajo biti izdelani strokovno in kvalitetno po detajlih in iz materialov kot je navedeno v opisih in detajlih.  Ves vgrajeni material mora po kvaliteti ustrezati veljavnim tehničnim predpisom in standardom."]
[null,"Elementi za vgrajevanje ključavničarskih izdelkov (vijaki, sidra in drugo) morajo biti takih dimenzij in nosilnosti, da ustrezajo obremenitvam, za katere so namenjeni. Vse nosilne elemente je dimenzionirati z analizo konstrukcij. "]
[null,"Površina posameznih elementov na varjenih stikih mora biti ravna in gladka, brez vzboklin ali vdolbin ter brušena. V vsaki postavki posebej je navedena tudi kvaliteta finalne površinske obdelave. "]
[null,"Barvne efekte, vse morebitne spremembe ali dopolnitve je potrebno reševati z arhitektom. "]
[null,"Izdelki iz nerjavecega materiala morajo biti nepoškodovani in izdelan v delavnici, na stavbi pa montirani brez eventuelnega varjenje oz. brušenja."]
[null,"V tej vrsti del so zajeta tudi kovinska vrata. Poleg osnovnega, so sestavni del pločevinastih vrat vsi elementi, ki so potrebni za zahtevan namen vrat in so navedeni v detajlnejšem opisu za vsako vrsto posebej:"]
[null,"Ojačitve robov v stenah; kovinski profili za izvedbo praga, v kolikor ni nivo tlaka na obeh straneh vrat v isti višini; zunanji mehanizmi za samodejno zapiranje vrat; neoprenska tesnila za tesnenje; funkcionalni in estetski zaključki vrat, ki jih potrdi arhitekt; finalna površinska obdelava s prašno barvo."]
[null,"Vsa protipožarna vrata se izdelajo skladno s študijo požarne varnosti; vgradnja v skladu z zahtevami o požarni odpornosti."]
[null,"Vsa vrata morajo ustrezati vsem zahtevam iz veljavnih standardov in pravilnikov glede zvočne izolativnosti in drugih zahtev glede na namembnost vrat."]
[null,"V ceni vseh postavk, morajo biti zajeta vsa dela, dobava in montaža, osnovni material, steklo, pritrdilni in tesnilni material, okovje, zapiralno okovje ter material za vse zaključke (določi arhitekt)."]
[null,"Vso okovje in kljuke izbrano na podlagi vzorcev, po potrditvi arhitekta. Vsi ključi morajo imeti oznake prostorov."]
[null,"Izvajalec del izdela delavniške načrte za vse končne pozicije, ki jih morata pred izvedbo potrditi odgovorni vodja projekta ter odgovorni nadzornik z vpisom v gradbeni dnevnik."]
[null,"Enotna cena mora zajeti izdelavo vseh potrebnih detajlov in dopolnilnih del, ki jih je potrebno izvesti za dokončanje posameznih del, tudi če potrebni detajli in zaključki niso podrobno navedeni in opisani v popisu del, in so ta dopolnila nujna za pravilno funkcioniranje posameznih sistemov."]
[null,"Izvajalec del mora ravnati z odpadki, ki nastanejo pri izvajanju del zaradi gradnje, v skladu z Uredbo o ravnanju z odpadki (Uradni list RS št. 103/2011). "]
[null,"Vsa vrata so opremljena z Alu tablico z natisnjeno številko sobe oz. prostora, z zamenljivim napisom uporabnika."]
[null,"EI-C velja za vsa požarna vrata s to oznako. Vrata imajo samozapiralo."]
[]
["1.","Kovinski izdelki"]
[null,"Izdelava raznih jeklenih ojačitev, okvirjev, nosilcev pri rešetkah, sider, drugih manjših kovinskih konstrukcij, iz kovinskih profilov vključno s sidernimi ploščami in drugim sidernim materialom, s peskanjem in protikorozijskim premazom epocolor special B (100 mikronov), vsi elementi finalno barvani ali lakirani po navodilih arhitekta, po detajlih"]
[]
["a.","Zračniki s protipovratno loputo, do velikosti 25/25 cm, vključno s podaljški za debelino fasadne izolacije","kos","0"]
[]
["b.","Rešetka dim. 300/85 cm, vključno z okvirjem in protimrčesno mrežico","kos","0"]
[]
["c.","Talna rešetka, dim. 180/50 cm, vključno z okvirjem, montirana v novo izvedeno stopnico pred vhodom v bazen. ","kos","0"]
[]
[]
[]
[null,"H. FASADA"]
[]
[null,"Uvodno pojasnilo:"]
[null,"Izolacijska dela morajo biti izvedena po opisih in detajlih iz kvalitetnega materiala in v skladu z veljavnimi tehničnimi predpisi in standardi za ta dela. Vsa dela je izdelati tehnično pravilno in po pravilih stroke."]
[null,"Za kakovostno izvedbo toplotne izolacije morajo biti materiali in postopek vgradnje skladni s tehničnimi pogoji in navodili proizvajalca materiala. Toplotna izolacija mora biti položena v ravnini in kontinuirano, pritrditev z mehanskimi pritrdili pa ustrezno razporejena (gosteje na mestih s povečanim srkom vetra).\nUporaba toplotne izolacije mora biti skladna z zahtevami Pravilnika o učinkoviti rabi energije v stavbah (Uradni list RS, št. 93/2008)"]
[null,"Pred pričetkom izvajanja izolacijskih del je preveriti kvaliteto predhodno izvršenih del, ki bi lahko vplivala na kvaliteto, sigurnost in trajnost izolacije, ki je predvidena z elaboratom fizikalne in zvočne zaščite."]
[null,"Za vse vgrajene materiale mora izvajalec predložiti ateste o kvaliteti materialov, ki jih izda pooblaščeni zavod za tovrstne dejavnosti. "]
[null,"Enotna cena mora zajeti izdelavo vseh potrebnih detajlov in dopolnilnih del, ki jih je potrebno izvesti za dokončanje posameznih del, tudi če potrebni detajli in zaključki niso podrobno navedeni in opisani v popisu del, in so ta dopolnila nujna za pravilno funkcioniranje posameznih sistemov."]
[null,"Toplotnoizolacijske materiale na gradbišču hranimo skladno z navodili proizvajalca, v pokritem prostoru (zaščitene pred dežjem in snegom) ali vsaj povsem pokrite s folijo za preprečevanje navlaževanja materiala z meteorno in drugo vodo ter dvignjene od tal, da niso v stiku s stoječo vodo. Slednji način je dopusten le za kratkotrajno hranjenje materialov, ki so za vlago neobčutljivi (recimo ekstrudirani polistiren, nekateri tipi ekspandiranega polistirena, izjemoma tudi preostali tipi ekspandiranega polistirena ter težki izdelki mineralne volne (strešne plošče). Hranjenje lahkih in srednje težkih vlaknatih izolacijskih materialov zunaj pokritega skladišča ni dopustno."]
[null,"Med hranjenjem materialov, katerih odziv na ogenj je slabši od razreda A1/A2, je treba posebej paziti na možnost vžiga teh materialov, če je v bližini ogenj"]
[null,"Metode vgradnje: toplotne izolacije vgrajujemo s polaganjem in po potrebi dodatnim pritrjevanjem, lepljenjem ali zagozdenjem"]
[null,"Osnovni proizvodi, ki se uporabljajo pri izvedbi hidro- in toplotnoizolacijskih del, so navedeni v standardih, naštetih v nadaljevanju:"]
[null,"Mineralna volna (MW − SIST EN 13162),\nekspandirani polistiren (EPS − SIST EN 13163),\nekstrudirani polistiren (XPS − SIST EN 13164),\nvečslojne plošče z izolacijo iz lesnih vlaken (WW-MW-WW ali WW-EPS-WW – SIST EN 13168)"]
[]
[]
["1.","Izvedba zaščite oken in vrat na fasadi, odstranitev zaščite in finalno čiščenje po končanih delih, vključno z roletami in žaluzijami, obračun po m2 narisne površine.","m2","0"]
[]
[]
["2.","Čiščenje obstoječe fasade z vodo pod močnim pritiskom","m2","0"]
[]
[]
["3.","Izvedba odstranitve alg, mahu in podobne nečistoče s premazom kot npr. Weber G610."]
[null,"Najprej nečistoče odstranimo mehansko s pomočjo krtače. V odvisnosti od jakosti in gostote škodljivcev suho podlago premažemo ali popršimo z nerazredčeno  raztopino. Po 24 oziroma 48 urah (odvisno od stopnje okuženosti) površino speremo s pomočjo visokotlačnega čistilca. Po osušitvi površino ponovno premažemo ali popršimo z nerazredčeno ali razredčeno (redčimo z vodo v razmerju do 1 : 4) raztopino.  Izogibamo se delu ob neposrednem osončenju in nevarnosti omočenja površin. Količina je ocenjena.","m2","0"]
[]
[]
["4.","Izdelava kontaktne tankoslojne fasade, montirane na obstoječo podlago, kompletno z vsemi potrebnimi materiali in deli, pritrjevanji ter finalno obdelavo. Skladno s smernicami ETICS ter zahtevami EKOSKLADa."]
[null,"Vsi zaključnimi in fazonskimi elementi (vogalniki, odkapniki., okenski profili... ) morajo biti upoštevani pri izvedbi fasade v enotni ceni. Sidranje se izvede s  PSK  sidri z jeklenim vijačnim žebljem ter pokrivnimi čepi  iz MW.  Izvedba oblog v sestavi:"]
[]
["a.","Podzidek fasade - višine 40-60 cm (kot obstoječe), po detajlu"]
[null," -dekorativni zaključni omet, kulir, visoko odbojen, struktura 2mm, barva po izboru naročnika"]
[null," -predpremaz "]
[null," -armirna mrežica iz steklenih vlaken, alkalno obstojna in plastificirana"]
[null," -visoko elastična in s polimernimi vezivi oplemenitena mineralna malta, debeline 4-5mm"]
[null," -toplotna izolacija  iz plošče ekspandiranega polistirena XPS, debeline 14,0cm, sidrano s PSK  sidri z jeklenim vijačnim žebljem, 6kos/m2"]
[null," -lepljenje z visoko elastično in s polimernimi vezivi oplemeniteno mineralno malto - lepilo za lepljenje izolacijske plošče na bitumenske podlage"]
[null," -predpremaz ","m2","0"]
[]
["b.","Fasadna obloga glavne fasade šole:"]
[null," - zaključni omet: dekorativni omet, struktura 2mm v barvi po izboru projektanta"]
[null," - osnovni nanos, armiran s stekleno mrežico, deb. 0,3 cm"]
[null," - toplotna iozlacija: plošče iz mineralne volne, kot npr. Knauf Insulation FKD-S Thermal λD = 0,035 W/(m.K) ali SmartWall N C1 λD = 0,034 W/(m.K) ali enakovredno, odpornost proti udarcem kategorija I., deb. 16,00 cm"]
[null," - vezni sloj: lepilna malta"]
[null," -predpremaz "]
[null,"Opomba: upoštevana je bruto  površina fasade, odbitki po normativih (nad 3m2). Okenski fazonski elementi so upoštevani v postavki obdelave špalet, kar je potrebno upoštevati pri določitvi cene/enoto!","m2","0"]
[]
[]
["5.","Dobava in vgradnja toplotne izolacije v špaleto okna po vertikali, na mestu med vgrajenim oknom in novo toplotno izolacijo fasade, izolacija MW, lepljeno na podlago, dim cca 5/4 cm (prilagoditi glede na dejansko situacijo).","m1","0"]
[]
[]
["6.","Doplačilo za nadomestitev izolacije iz mineralne volne s ploščami  XPS  enake debeline - izvedba do višine 40 cm povsod na stiku fasade šole in streh nižjih objektov","m2","0"]
[]
[]
["7.","Doplačilo za izvedbo zaščite s hidrofobnim fasadnim lepilom v vkopanih delih fasade ter na stikih fasade šole ter strehah nižjih objektov, za preprečitev vstopa vlage v sloj toplotne izolacije. Izvedba z ustreznim fasadnim lepilom pred nanosom zaključnega sloja na vseh delih, kjer lahko pride do kapilarnega vleka vlage v izolacijo. Izvedba po navodilih proizvajalca, z vsemi potrebnimi pripravami podlage, predpremazi itd. ","m2","0"]
[]
[]
["8.","Dobava materiala in montaža toplotne izolacije za roletami , izvedene iz purenita, deb. 5 cm, višine 25 cm. ","m2","0"]
[]
[]
[null,"I. RAZNA DELA"]
[]
["1.","Razna dela in pomoč pri izvajanju na gradbišču, glede na dejansko porabljeni čas in material, na podlagi potrditve nadzora:"]
["a.","delavec PK","ur","0"]
["b.","delavec KV","ur","0"]
["c.","delavec VKV","ur","0"]
[]
["9","Obračun po količinah, ki izhajajo iz potrjenega gradbenega dnevnika in ob upoštevanju kalkulativnih osnov","kpl","0"]
[]
[null,"SKUPAJ FASADA:",null,null,null,{"$f":"SUM(F10:F272)","v":0},null,{"$f":"SUM(H10:H272)","v":0},null,{"$f":"SUM(J10:J272)","v":0}]

{"sheet":"AB-2.STREHA ES","index":25,"n_rows":67,"n_cols":10,"rows_kept":67,"cut":false,"hidden":false,"merged":[]}
[]
[null,"Objekt A in B,   II. STREHA"]
[]
[]
["ZAP. ŠT.","OPIS","     ME","KOLIČUNA","CENA/ENOTO","SKUPAJ","POPUST","POPUST SKUPAJ","CENA/ENOTO S POPUSTOM","SKUPAJ S POPUSTOM"]
[]
[null,"A. RUŠITVENA DELA"]
[]
[null,"Uvodno pojasnilo:"]
[null,"Pri izvajanju del je treba upoštevati vsa  določila s področja varnosti in zdravja pri delu, opredeljena v Varnostnem načrtu za zagotavljanje varnosti in zdravja pri delu na gradbišču, izdelanega skladno z določili 4. člena Uredbe (Ur.l.RS št. 83/05)."]
[null,"Pri izvajanju del je treba upoštevati vsa zakonska določila s področja varnosti in zdravja pri delu, Pravilnik o varstvu pri gradbenem delu, Zakon o varstvu pred požarom in Zakon o varstvu okolja, predpise o ravnanju z gradbenimi odpadki, Pravilnik o obremenjevanju tal z vnašanjem odpadkov in Uredbo o ravnanju z odpadki."]
[null,"Pred začetkom rušitvenih del je treba opraviti pripravljalna dela, odklopiti elektriko, plin in vodo, iz prostorov odstraniti nepotreben material, opremo in stavbno pohištvo. Priprava zgradbe je odvisna od obsega rušitvenih posegov"]
[null,"Pod pripravo zgradbe lahko spadajo tudi priprava začasnih dovozov in delovnih odrov, odstranitev dreves in grmovja, v kolikor to ni zajeto v popisu del ali začasna sprememba režima lokalnega prometa"]
[null,"Rušitvena dela naj bi se izvajala v čim manj vetrovnem vremenu. Pri čezmernem prašenju ob rušenju je treba poskrbeti za vlaženje objekta, ki ga rušimo."]
[null,"Obvezno je ločevanje vgrajenih materialov: beton in armiran beton, pločevina, les, steklo, plastika, kovinski izdelki, opeka... "]
[null,"Ob izvajanju rušitvenih del je upoštevati določila Uredbe o ravnanju z odpadki, ki vsebujejo azbest (Ur.l.RS št. 34/08); preprečevanje emisije azbestnih vlaken v okolje, obdelava azbestnih odpadkov, …."]
[null,"Vse gradbene odpadke in ruševine je potrebno odpeljati na deponijo komunalnih odpadkov v skladu z Odlokom o ravnanju s komunalnimi odpadki na območju občine in v skladu z Uredbo o ravnanju z odpadki (Uradni list RS št. 103/2011) in pred primopredajo del predati Poročilo o ravnanju z gradbenimi odpadki."]
[null,"V ceni na enoto posamezne postavke je potrebno upoštevati vse stroške in takse deponij."]
[]
["1.","Demontaža kleparskih izdelkov na fasadi objekta (montaža novih po dokončanju kontaktne fasade upoštevana v krovsko-kleparskih delih)"]
["a.","Strelovodna napeljava - samo demontaža, nov strelovod upoštevan v ločeni postavki pri elektro instalacijah.\nOPOMBA: vertikalni del obstoječega strelovoda se ohrani, montiran je podometno v obstoječem ometu!","m'","0"]
[]
["b.","Demontaža strešne kapne obrobe - atike ter zaključnih profilov, vključno z odvozom na trajno deponijo","m2","0"]
[]
["c.","Demontaža obstoječe ograje na dimnikih, vključno z odvozom na trajno deponijo","kpl","0"]
[]
[]
[]
[null,"B. KROVSKO KLEPARSKA DELA"]
[]
[null,"Uvodno pojasnilo:"]
[null,"Krovska in kleparska dela morajo biti izvedena po opisih in detajlih iz kvalitetnega materiala in v skladu z veljavnimi tehničnimi predpisi in standardi za ta dela. Vsa dela je izdelati tehnično pravilno in po pravilih stroke."]
[null,"Pred pričetkom izvajanja izolacijskih del je preveriti kvaliteto predhodno izvršenih del, ki bi lahko vplivala na kvaliteto, sigurnost in trajnost izolacije, ki je predvidena z elaboratom fizikalne in zvočne zaščite."]
[null,"Dela morajo biti izvedena tako, da posamezni deli in sloji izolacij kakor tudi celoten sestav ustrezajo namenu, zahtevam, varnosti in dolgotrajnosti. Posebno pazljivo je izvesti streho okrog zbirnih kotličev, dilatacijskih stikov in zaključkov strehe."]
[null,"Zaključne obrobe se izvedejo po detajlih. "]
[null,"Hidroizolacijska dela se sme izvajati samo na kvalitetno izvedeno čvrsto, ravno in suho podlogo. Med izvajanjem in po končani izvedbi hidroizolacijskih del, se ne sme po njej hoditi. Vsa ostala gradbena in obrtniška dela se smejo izvajati samo, če je hidroizolacija zaščitena z ustrezno zaščito."]
[null,"Za vse vgrajene materiale mora izvajalec predložiti ateste o kvaliteti materialov, ki jih izda pooblaščeni zavod za tovrstne dejavnosti. "]
[null,"Izvedba TI in HI po detajlih izvajalca z ustreznim certifikatom."]
[null,"Enotna cena mora zajeti izdelavo vseh potrebnih detajlov in dopolnilnih del, ki jih je potrebno izvesti za dokončanje posameznih del, tudi če potrebni detajli in zaključki niso podrobno navedeni in opisani v popisu del, in so ta dopolnila nujna za pravilno funkcioniranje posameznih sistemov."]
[]
[]
["1.","Dobava in montaža kleparskih izdelkov na fasadi objekta po dokončanju kontaktne fasade vključno z morebitnim podaljšanjem obstoječih nosilcev in dodelavo kolen. Kleparski izdelki izdelani iz pocinkane barvane pločevine deb. 0,6mm, z vsem pritrdilnim materialom in tesnenji. Po detajlu projektanta arhitekture."]
[]
["2.","Dobava in montaža kritine nadstreškov, izvedenih po detajlu, izvedeno v sestavi:"]
[null," - jekleni L-profil - sidranje obstoječe konstrukcije, r.š. 45 cm"]
[null," - podpoličnik, r.š. 5 cm"]
[null," - HI, lepljeno na obstoječo podlago v naklonih po detajlu projektanta"]
[null,"Podana skupna količina nadstreškov, potrebno upoštevati vsa potrebna pritrdila in vezni material. ","m2","0"]
[]
[]
["3.","Dobava in montaža strehe nadstreškov, izdelano iz pocinkane barvane pločevine, deb. 0,6 mm, dvojni pokončni zgib na 60 cm, vključno z izdelavo vseh obrob in odkapov ter vgradnjo sloja strešne lepenke, s polaganjem na obstoječo podlago. Obračun po m2 razvite površine ploečvine.","m2","0"]
[]
[]
["4.","Montaža obstoječe vertikalne pločevine obloge venca strehe. Izvedeno s podkonstrukvijo in XPS, deb. 5 cm, višine 40 cm, lepljeno in sidrano.","m2","0"]
[]
[]
["5.","Izdelava, dobava in montaža kap zračnih odduhov na strehi, izdelano iz pocinkane barvane pločevine. Element višine 75cm, cev fi 120-150mm, spodaj prirobnica za navaritev izolacije ter zgoraj kapa.","kos","0"]
[]
[]
["6.","Dobava in montaža obrob in zaključkov iz Alu tovarniško barvana ali tovarniško barvano vroče cinkano jeklo, deb.0,6mm, barva po izboru odg. proj. arhitekture, kompletno s potrebno podkonstrukcijo, vsem delom in pritrdilnim materialom. "]
[null,"Tu je zajeta pločevina katera ni detaljno popisana, je pa nujno potrebna za kvalitetno izvedbo objekta! Obračun po dejanskih količinah vpisanih v gradbeni dnevnik in priznanih s strani nadzornega organa!","m2","0"]
[]
["7.","Dobava in polaganje toplotne izolacije MW  ISOVER PAR GOLD N 160 debeline 16 cm po celotnem podstrešju.","m2","0"]
[]
["8.","Obračun po količinah, ki izhajajo iz potrjenega gradbenega dnevnika in ob upoštevanju kalkulativnih osnov","kpl","0"]
[]
[null,"SKUPAJ STREHA:",null,null,null,{"$f":"SUM(F10:F66)","v":0},null,{"$f":"SUM(H10:H66)","v":0},null,{"$f":"SUM(J10:J66)","v":0}]

{"sheet":"AB-3. OKNA, VRATA, FAS. ZAS. ES","index":26,"n_rows":763,"n_cols":10,"rows_kept":763,"cut":false,"hidden":false,"merged":[]}
[]
[null,"Objekt A in B,   III. OKNA IN VRATA in STEKLENI ELEMENTI"]
[]
[]
["ZAP. ŠT.","OPIS","     ME","KOLIČUNA","CENA/ENOTO","SKUPAJ","POPUST","POPUST SKUPAJ","CENA/ENOTO S POPUSTOM","SKUPAJ S POPUSTOM"]
[]
["1.","Demontaža obstoječih nadgradnih žaluzij, z odvozom na trajno deponijo","kos","0"]
[]
[]
["2.","Odstranitev obstoječih fasadnih vrat, kompletno z iznosom in objekta, nalaganjem in odvozom v trajno deponijo, s plačilom vseh taks in pristojbin: (tehnični prostori)"]
[null," - enokrilna vrata","kos","0"]
[null," - dvokrilna vrata ","kos","0"]
[]
[]
["3.","Odstranitev obstoječih fasadnih oken, kompletno z iznosom in objekta, nalaganjem in odvozom v trajno deponijo, s plačilom vseh taks in pristojbin:","kos","0"]
[]
[]
["4.","Odstranitev obstoječe zastekljene fasade  (glavni vhod). Upoštevati odstranitev, nakladanje in odvoz v trajno deponijo, s plačilom vseh taks in pristojbin.","m2","0"]
[]
[]
["10.","Odstranitev obstoječih notranjih okenskih polic, kompletno z iznosom in objekta, nalaganjem in odvozom v trajno deponijo, s plačilom vseh taks in pristojbin.","m1","0"]
[]
[]
["11.","Izvedba priprave podlage za izvedbo RAL montaže oken, izravnava podlage z ustrezno predpripravljeno malto, s predpremazom. Izravnava se izvede v pasu širine do 30cm, po navodilih izvajalca  montaže oken in potrditvi projektanta","m1","0"]
[]
[]
["12.","Dobava in montaža novih notranjih  okenskih polic, kompletno z izvedbo podlage po opisu, vsemi potrebnimi tesnenji in zaključki:"]
[null,"Kamnite okenske police iz naravnega kamna  po izboru projektanta, debeline 2cm, šiirne 28-30cm, montaža na lepilno mnalto","m1","0"]
[]
[]
["13.","Dobava in montaža novih zunanjih okenskih polic, kompletno z izvedbo podlage po opisu, vsemi potrebnimi tesnenji in zaključki:"]
[null,"Kamnite okenske police iz naravnega kamna granit, po izboru projektanta, deb. 3,0cm."]
[null," -podlaga iz plošče XPS deb. 2cm, položena v naklonu"]
[null," -tesnenje stika med kamnito  polico in okenskim okvirjem ter špaleta - vgrajeno CT tesnilo  ali predkomprimiran BG1 tesnilni trak , kateri preprečuje kondenzacijo in zamakanje."]
[null," -polaganje kamnite police v lepilno malto"]
[null," - nosilna podlaga police - kotni profil 15/15 cm"]
[null,"Kompletno s odkapnim robom in bočnimi utori za odvod vode (cca 2-3cm od vsakega robu police zgoraj). Previs 4-5cm. Vse police so globine cca 26 cm, položene v naklonu 5°.","m1","0"]
[]
[]
["14.","Izdelava, dobava in montaža oken, vrat in zasteklitev, kompletno z upoštevanjem vseh nasadil, tesnil, okovja, vsem delom in vgradnim materialom. "]
[null,"Fasadni elementi izdelani na podlagi zadnjeveljavnih shem projektanta arhitekture! Vse vgradne mere vrat je potrebno preveriti na gradbišču in pred izdelavo prilagoditi izmerjenim dimenzijam!"]
[]
[null,"ZAHTEVE ZA STAVBNO POHIŠTVO"]
[null,"Stavbno pohištvo mora izpolnjevati vsaj naslednje minimalne zahteve glede gradbeno-fizikalnih lastnosti:"]
[null," - zvočna izolirnost: Rw≥35 dB"]
[null," - 4 razred zrakotesnost, določen skladno s SIST EN 12207:2017"]
[null," - razred 9A vodotesnosti, določen skladno s SIST EN 12208:2000"]
[null," - razred C4/B5 odpornosti na udarni veter, določen skladno s SIST EN 12210:2016"]
[null," - 4 razred mehanske odpornosti, določen skladno s SIST EN 13115:2002"]
[null," - 2 razred mehanske trajnosti, določene skladno s SIST EN 12400:2003"]
[null," - 4 razred odpornosti na korozijo, določen skladno s SIST EN 1670:2007/AC:2008"]
[null," - vsaj RC2 (pritličje, klet) in RC1 v nadstropju za proti vlomni razred, določen skladno s SIST EN 1627:2011"]
[null," - ustreznost glede sproščanja nevarnih snovi"]
[]
[null,"V ceni izdelave oken je potrebno upoštevati:"]
[null," -izdelava , dobava in montaža oken, iz porfilov v beli barvi"]
[null," -izvedba RAL montaže oken skladno z zahtevami EKO sklad, montaža RAL v treh ravninah. Priprava podlage za  izvedbo RAL montaže je upoštevana v ločenih postavkah!"]
[null," -izdelava, dobava in montaža zunanjih ALU žaluzij, barva po izboru projektanta, vključno z motornim pogonom, vodili,  podometno omarico in potrebnim nosilnim materialom (kjer so žaluzije zahtevane!)"]
[null," -notranje in zunanje okenske police so obdelane v ločenih postavkah"]
[null," -popravilo okenskih špalet po zamenjavi oken je obdelano v ločenih postavkah"]
[]
["A.","SHEME ZUNANJEGA STAVBNEGA POHIŠTVA - okna in vrata"]
[]
["15.","O01 - okno"]
[null," - zidarska širina x zidarska višina: 170 x 225 cm"]
[null," - parapet: 90 cm"]
[null," - vrsta zasteklitve: spodnji del; kaljeno in lepljeno steklo obojestransko, zgornji del lepljeno steklo"]
[null," - število stekel: trojna zasteklitev"]
[null," - obdelava stekla: brezbarvno"]
[null," - material okvirja: PVC, RAL 9010"]
[null," - način odpiranja: kombinirano"]
[null," - toplotna prehodnost Uw (W/m2K): ≤ 0,9 "]
[null," - energijska prehodnost - g: ≤ 0,6"]
[null," - požarne zahteve: brez zahteve"]
[null," - zvočne zahteve: 35 dB"]
[null," - dodatne zahteve: el. zunanje žaluzije, podaljšan zgornji okenski profili, upoštevana zunanja in notranja kamnita polica, zidarske odprtine enake kot obstoječa okna"]
[null,"Podati ceno glede na zgornji popis, kompletno z upoštevanjem vseh elementov za pritrditev, dobavo in montažo","kos","0"]
[]
["16.","O02 - okno"]
[null," - zidarska širina x zidarska višina: 370 x 220 cm"]
[null," - parapet: 55 cm"]
[null," - vrsta zasteklitve: spodnji del kaljeno, zgornji del lepljeno steklo"]
[null," - število stekel: trojna zasteklitev"]
[null," - obdelava stekla: brezbarvno"]
[null," - material okvirja: PVC, RAL 9010"]
[null," - način odpiranja: kombinirano"]
[null," - toplotna prehodnost Uw (W/m2K): ≤ 0,9 "]
[null," - energijska prehodnost - g: ≤ 0,6"]
[null," - požarne zahteve: brez zahteve"]
[null," - zvočne zahteve: 35 dB"]
[null," - dodatne zahteve: el. zunanje žaluzije, podaljšan zgornji okenski profili, upoštevana zunanja in notranja kamnita polica, zidarske odprtine enake kot obstoječa okna"]
[null,"Podati ceno glede na zgornji popis, kompletno z upoštevanjem vseh elementov za pritrditev, dobavo in montažo","kos","0"]
[]
["17.","O02a - okno"]
[null," - zidarska širina x zidarska višina: 370 x 220 cm"]
[null," - parapet: 55 cm"]
[null," - vrsta zasteklitve: spodnji del kaljeno, zgornji del lepljeno steklo"]
[null," - število stekel: trojna zasteklitev"]
[null," - obdelava stekla: brezbarvno"]
[null," - material okvirja: aluminij"]
[null," - način odpiranja: fiksne steklene površine s krilnimi vrati"]
[null," - toplotna prehodnost Uw (W/m2K): ≤ 0,9 "]
[null," - energijska prehodnost - g: ≤ 0,6"]
[null," - požarne zahteve: brez zahteve"]
[null," - zvočne zahteve: 35 dB"]
[null," - dodatne zahteve: el. zunanje žaluzije, podaljšan zgornji okenski profili, upoštevana zunanja in notranja kamnita polica, zidarske odprtine enake kot obstoječa okna"]
[null,"Podati ceno glede na zgornji popis, kompletno z upoštevanjem vseh elementov za pritrditev, dobavo in montažo","kos","0"]
[]
["18.","vrata v O02a - vrata"]
[null," - zidarska širina x zidarska višina: 188 x 215 cm"]
[null," - stran odpiranja: desno"]
[null," - material okvirja: steklena stena"]
[null," - lastnosti krilo: dvokrilno: spodnji del polno krilo, zgornji del zastekljeno, alu krilo, prozorno brezbarvno kaljeno steklo, obdelava po izboru arhitekta"]
[null," - požarne zahteve: brez zahteve"]
[null," - zvočne zahteve: 35 dB"]
[null," - dodatne zahteve: zaskočka proti zapiranju"]
[null," - ključavnica: električna ključavnica v skladu s projektom kontrole pristopa"]
[null," - kljuka: evakuacijski antipanik drog SIST EN 1125"]
[null," - toplotna prehodnost Uw (W/m2K): ≤ 0,9 "]
[null,"Podati ceno glede na zgornji popis, kompletno z upoštevanjem vseh elementov za pritrditev, dobavo in montažo","kos","0"]
[]
["19.","O02b - okno"]
[null," - zidarska širina x zidarska višina: 370 x 220 cm"]
[null," - parapet: 55 cm"]
[null," - vrsta zasteklitve: spodnji del kaljeno, zgornji del lepljeno steklo"]
[null," - število stekel: trojna zasteklitev"]
[null," - obdelava stekla: brezbarvno"]
[null," - material okvirja: PVC, RAL 9010"]
[null," - način odpiranja: fiksno"]
[null," - toplotna prehodnost Uw (W/m2K): ≤ 0,9 "]
[null," - energijska prehodnost - g: ≤ 0,6"]
[null," - požarne zahteve: brez zahteve"]
[null," - zvočne zahteve: 35 dB"]
[null," - dodatne zahteve: el. zunanje žaluzije, podaljšan zgornji okenski profili, upoštevana zunanja in notranja kamnita polica, zidarske odprtine enake kot obstoječa okna"]
[null,"Podati ceno glede na zgornji popis, kompletno z upoštevanjem vseh elementov za pritrditev, dobavo in montažo","kos","0"]
[]
["20.","O03 - okno"]
[null," - zidarska širina x zidarska višina: 370 x 169 cm"]
[null," - parapet: 202 cm"]
[null," - vrsta zasteklitve: lepljeno steklo"]
[null," - število stekel: trojna zasteklitev"]
[null," - obdelava stekla: brezbarvno"]
[null," - material okvirja: PVC, RAL 9010"]
[null," - način odpiranja: kombinirano"]
[null," - toplotna prehodnost Uw (W/m2K): ≤ 0,9 "]
[null," - energijska prehodnost - g: ≤ 0,6"]
[null," - požarne zahteve: brez zahteve"]
[null," - zvočne zahteve: 35 dB"]
[null," - dodatne zahteve: el. zunanje žaluzije, podaljšan zgornji okenski profili, upoštevana zunanja in notranja kamnita polica, zidarske odprtine enake kot obstoječa okna"]
[null,"Podati ceno glede na zgornji popis, kompletno z upoštevanjem vseh elementov za pritrditev, dobavo in montažo","kos","0"]
[]
["21.","O04 - okno"]
[null," - zidarska širina x zidarska višina: 370 x 249 cm"]
[null," - parapet: 401 cm"]
[null," - vrsta zasteklitve: lepljeno steklo"]
[null," - število stekel: trojna zasteklitev"]
[null," - obdelava stekla: brezbarvno"]
[null," - material okvirja: PVC, RAL 9010"]
[null," - način odpiranja: kombinirano"]
[null," - toplotna prehodnost Uw (W/m2K): ≤ 0,9 "]
[null," - energijska prehodnost - g: ≤ 0,6"]
[null," - požarne zahteve: brez zahteve"]
[null," - zvočne zahteve: 35 dB"]
[null," - dodatne zahteve: el. zunanje žaluzije, podaljšan zgornji okenski profili, upoštevana zunanja in notranja kamnita polica, zidarske odprtine enake kot obstoječa okna"]
[null,"Podati ceno glede na zgornji popis, kompletno z upoštevanjem vseh elementov za pritrditev, dobavo in montažo","kos","0"]
[]
["22.","O05 - okno"]
[null," - zidarska širina x zidarska višina: 255 x 185 cm"]
[null," - parapet: 401 cm"]
[null," - vrsta zasteklitve: lepljeno steklo"]
[null," - število stekel: trojna zasteklitev"]
[null," - obdelava stekla: brezbarvno"]
[null," - material okvirja: PVC, RAL 9010"]
[null," - način odpiranja: fiksno"]
[null," - toplotna prehodnost Uw (W/m2K): ≤ 0,9 "]
[null," - energijska prehodnost - g: ≤ 0,6"]
[null," - požarne zahteve: EI 60"]
[null," - zvočne zahteve: 35 dB"]
[null," - dodatne zahteve: el. zunanje žaluzije, podaljšan zgornji okenski profili, upoštevana zunanja in notranja kamnita polica, zidarske odprtine enake kot obstoječa okna"]
[null,"Podati ceno glede na zgornji popis, kompletno z upoštevanjem vseh elementov za pritrditev, dobavo in montažo","kos","0"]
[]
["23.","O05a - okno"]
[null," - zidarska širina x zidarska višina: 255 x 185 cm"]
[null," - parapet: 425 cm"]
[null," - vrsta zasteklitve: lepljeno steklo"]
[null," - število stekel: trojna zasteklitev"]
[null," - obdelava stekla: brezbarvno"]
[null," - material okvirja: PVC, RAL 9010"]
[null," - način odpiranja: kombinirano"]
[null," - toplotna prehodnost Uw (W/m2K): ≤ 0,9 "]
[null," - energijska prehodnost - g: ≤ 0,6"]
[null," - požarne zahteve: EI 60"]
[null," - zvočne zahteve: 35 dB"]
[null," - dodatne zahteve: el. zunanje žaluzije, podaljšan zgornji okenski profili, upoštevana zunanja in notranja kamnita polica, ODT - zgornji krili vezani na požarno centralo, odpiranje za 90, zidarske odprtine enake kot obstoječa okna"]
[null,"Podati ceno glede na zgornji popis, kompletno z upoštevanjem vseh elementov za pritrditev, dobavo in montažo","kos","0"]
[]
["24.","O06 - okno"]
[null," - zidarska širina x zidarska višina: 140 x 175 cm"]
[null," - parapet: 71 cm (3 kom), 85 cm (2kom)"]
[null," - vrsta zasteklitve: kaljeno steklo"]
[null," - število stekel: trojna zasteklitev"]
[null," - obdelava stekla: brezbarvno"]
[null," - material okvirja: PVC, RAL 9010"]
[null," - način odpiranja: kombinirano"]
[null," - toplotna prehodnost Uw (W/m2K): ≤ 0,9 "]
[null," - energijska prehodnost - g: ≤ 0,6"]
[null," - požarne zahteve: brez zahteve"]
[null," - zvočne zahteve: 35 dB"]
[null," - dodatne zahteve: el. zunanje žaluzije, podaljšan zgornji okenski profili, upoštevana zunanja in notranja kamnita polica, zidarske odprtine enake kot obstoječa okna"]
[null,"Podati ceno glede na zgornji popis, kompletno z upoštevanjem vseh elementov za pritrditev, dobavo in montažo","kos","0"]
[]
["25.","O06a - okno"]
[null," - zidarska širina x zidarska višina: 140 x 175 cm"]
[null," - parapet: 85 cm"]
[null," - vrsta zasteklitve: kaljeno steklo"]
[null," - število stekel: trojna zasteklitev"]
[null," - obdelava stekla: brezbarvno"]
[null," - material okvirja: PVC, RAL 9010"]
[null," - način odpiranja: kombinirano"]
[null," - toplotna prehodnost Uw (W/m2K): ≤ 0,9 "]
[null," - energijska prehodnost - g: ≤ 0,6"]
[null," - požarne zahteve: brez zahteve"]
[null," - zvočne zahteve: 35 dB"]
[null," - dodatne zahteve: el. zunanje žaluzije, podaljšan zgornji okenski profili, upoštevana zunanja in notranja kamnita polica, zidarske odprtine enake kot obstoječa okna"]
[null,"Podati ceno glede na zgornji popis, kompletno z upoštevanjem vseh elementov za pritrditev, dobavo in montažo","kos","0"]
[]
["26.","O07 - okno"]
[null," - zidarska širina x zidarska višina: 140 x 275 cm"]
[null," - parapet: 0 cm"]
[null," - vrsta zasteklitve: kaljeno steklo"]
[null," - število stekel: trojna zasteklitev"]
[null," - obdelava stekla: brezbarvno"]
[null," - material okvirja: PVC, RAL 9010"]
[null," - način odpiranja: fiksne steklene površine, s krilnimi vrati"]
[null," - toplotna prehodnost Uw (W/m2K): ≤ 0,9 "]
[null," - energijska prehodnost - g: ≤ 0,6"]
[null," - požarne zahteve: brez zahteve"]
[null," - zvočne zahteve: 35 dB"]
[null," - dodatne zahteve: el. zunanje žaluzije, podaljšan zgornji okenski profili, zidarske odprtine enake kot obstoječa okna"]
[null,"Podati ceno glede na zgornji popis, kompletno z upoštevanjem vseh elementov za pritrditev, dobavo in montažo","kos","0"]
[]
["27.","vrata v O07a - vrata"]
[null," - zidarska širina x zidarska višina: 95 x 235 cm"]
[null," - stran odpiranja: desno"]
[null," - material stene: steklena stena"]
[null," - lastnosti krilo: enokrilna, zastekljeno krilo, prozorno brezbarvno kaljeno steklo, obdelava po izboru arhitekta"]
[null," - požarne zahteve: brez zahteve"]
[null," - zvočne zahteve: 35 dB"]
[null," - ključavnica: cilindrična ključavnica, sistemski ključ"]
[null," - kljuka: navadna INOX kljuka"]
[null," - toplotna prehodnost Uw (W/m2K): ≤ 0,9 "]
[null,"Podati ceno glede na zgornji popis, kompletno z upoštevanjem vseh elementov za pritrditev, dobavo in montažo","kos","0"]
[]
["28.","O08 - okno"]
[null," - zidarska širina x zidarska višina: 330 x 325 cm"]
[null," - parapet: 80 cm"]
[null," - vrsta zasteklitve: spodnji del kaljeno, zgornji del lepljeno steklo"]
[null," - število stekel: trojna zasteklitev"]
[null," - obdelava stekla: brezbarvno"]
[null," - material okvirja: PVC, RAL 9010"]
[null," - način odpiranja: fiksno"]
[null," - toplotna prehodnost Uw (W/m2K): ≤ 0,9 "]
[null," - energijska prehodnost - g: ≤ 0,6"]
[null," - požarne zahteve: brez zahteve"]
[null," - zvočne zahteve: 35 dB"]
[null," - dodatne zahteve: el. zunanje žaluzije, podaljšan zgornji okenski profili, zidarske odprtine enake kot obstoječa okna"]
[null,"Podati ceno glede na zgornji popis, kompletno z upoštevanjem vseh elementov za pritrditev, dobavo in montažo","kos","0"]
[]
["29.","O08a - okno"]
[null," - zidarska širina x zidarska višina: 185 x 325 cm"]
[null," - parapet: 80 cm"]
[null," - vrsta zasteklitve: spodnji del kaljeno, zgornji del lepljeno steklo"]
[null," - število stekel: trojna zasteklitev"]
[null," - obdelava stekla: brezbarvno"]
[null," - material okvirja: PVC, RAL 9010"]
[null," - način odpiranja: fiksno"]
[null," - toplotna prehodnost Uw (W/m2K): ≤ 0,9 "]
[null," - energijska prehodnost - g: ≤ 0,6"]
[null," - požarne zahteve: brez zahteve"]
[null," - zvočne zahteve: 35 dB"]
[null," - dodatne zahteve: el. zunanje žaluzije, podaljšan zgornji okenski profili, zidarske odprtine enake kot obstoječa okna"]
[null,"Podati ceno glede na zgornji popis, kompletno z upoštevanjem vseh elementov za pritrditev, dobavo in montažo","kos","0"]
[]
["30.","O09 - okno"]
[null," - zidarska širina x zidarska višina: 360 x 325 cm"]
[null," - parapet: 80 cm"]
[null," - vrsta zasteklitve: spodnji del kaljeno, zgornji del lepljeno steklo"]
[null," - število stekel: trojna zasteklitev"]
[null," - obdelava stekla: brezbarvno"]
[null," - material okvirja: PVC, RAL 9010"]
[null," - način odpiranja: fiksno"]
[null," - toplotna prehodnost Uw (W/m2K): ≤ 0,9 "]
[null," - energijska prehodnost - g: ≤ 0,6"]
[null," - požarne zahteve: brez zahteve"]
[null," - zvočne zahteve: 35 dB"]
[null," - dodatne zahteve: el. zunanje žaluzije, podaljšan zgornji okenski profili, zidarske odprtine enake kot obstoječa okna"]
[null,"Podati ceno glede na zgornji popis, kompletno z upoštevanjem vseh elementov za pritrditev, dobavo in montažo","kos","0"]
[]
["31.","O10 - okno"]
[null," - zidarska širina x zidarska višina: 150 x 230 cm"]
[null," - parapet: 90 cm"]
[null," - vrsta zasteklitve: spodnji del kaljeno, zgornji del lepljeno steklo"]
[null," - število stekel: trojna zasteklitev"]
[null," - obdelava stekla: brezbarvno"]
[null," - material okvirja: PVC, RAL 9010"]
[null," - način odpiranja: kombinirano"]
[null," - toplotna prehodnost Uw (W/m2K): ≤ 0,9 "]
[null," - energijska prehodnost - g: ≤ 0,6"]
[null," - požarne zahteve: brez zahteve"]
[null," - zvočne zahteve: 35 dB"]
[null," - dodatne zahteve: el. zunanje žaluzije, podaljšan zgornji okenski profili, zidarske odprtine enake kot obstoječa okna"]
[null,"Podati ceno glede na zgornji popis, kompletno z upoštevanjem vseh elementov za pritrditev, dobavo in montažo","kos","0"]
[]
["32.","O11 - zasteklitev"]
[null," - zidarska širina x zidarska višina: 600 x 308 cm"]
[null," - parapet: 42 cm"]
[null," - vrsta zasteklitve: spodnji del kaljeno, zgornji del lepljeno steklo"]
[null," - število stekel: trojna zasteklitev"]
[null," - obdelava stekla: brezbarvno"]
[null," - material okvirja: PVC, RAL 9010"]
[null," - način odpiranja: kombinirano"]
[null," - toplotna prehodnost Uw (W/m2K): ≤ 0,9 "]
[null," - energijska prehodnost - g: ≤ 0,6"]
[null," - požarne zahteve: brez zahteve"]
[null," - zvočne zahteve: 35 dB"]
[null," - dodatne zahteve: el. zunanje žaluzije, podaljšan zgornji okenski profili, zidarske odprtine enake kot obstoječa okna"]
[null,"Podati ceno glede na zgornji popis, kompletno z upoštevanjem vseh elementov za pritrditev, dobavo in montažo","kos","0"]
[]
["33.","O11a - zasteklitev"]
[null," - zidarska širina x zidarska višina: 600 x 308 cm"]
[null," - parapet: 42 cm"]
[null," - vrsta zasteklitve: spodnji del kaljeno, zgornji del lepljeno steklo"]
[null," - število stekel: trojna zasteklitev"]
[null," - obdelava stekla: brezbarvno"]
[null," - material okvirja: PVC, RAL 9010"]
[null," - način odpiranja: kombinirano"]
[null," - toplotna prehodnost Uw (W/m2K): ≤ 0,9 "]
[null," - energijska prehodnost - g: ≤ 0,6"]
[null," - požarne zahteve: brez zahteve"]
[null," - zvočne zahteve: 35 dB"]
[null," - dodatne zahteve: el. zunanje žaluzije, podaljšan zgornji okenski profili, ODT - zgornja krila vezana na požarno centralo, odpiranje za 90, zidarske odprtine enake kot obstoječa okna"]
[null,"Podati ceno glede na zgornji popis, kompletno z upoštevanjem vseh elementov za pritrditev, dobavo in montažo","kos","0"]
[]
["34.","O11b - zasteklitev"]
[null," - zidarska širina x zidarska višina: 600 x 308 cm"]
[null," - parapet: 36 cm"]
[null," - vrsta zasteklitve: spodnji del kaljeno, zgornji del lepljeno steklo"]
[null," - število stekel: trojna zasteklitev"]
[null," - obdelava stekla: brezbarvno"]
[null," - material okvirja: aluminij"]
[null," - način odpiranja: kombinirano s krilnimi vrati"]
[null," - toplotna prehodnost Uw (W/m2K): ≤ 0,9 "]
[null," - energijska prehodnost - g: ≤ 0,6"]
[null," - požarne zahteve: brez zahteve"]
[null," - zvočne zahteve: 35 dB"]
[null," - dodatne zahteve: el. zunanje žaluzije, podaljšan zgornji okenski profili, zidarske odprtine enake kot obstoječa okna"]
[null,"Podati ceno glede na zgornji popis, kompletno z upoštevanjem vseh elementov za pritrditev, dobavo in montažo","kos","0"]
[]
["35.","vrata v O11b - vrata"]
[null," - zidarska širina x zidarska višina: 210 x 258 cm"]
[null," - stran odpiranja: desno"]
[null," - material stene: steklena stena"]
[null," - lastnosti krilo: dvokrilno, spodnji del polno krilo, zgornji del zastekljeno, alu krilo, prozorno brezbarvno kaljeno steklo, obdelava po izboru arhitekta"]
[null," - požarne zahteve: brez zahteve"]
[null," - zvočne zahteve: 35 dB"]
[null," - dodatne zahteve: taskočka proti zapiranju"]
[null," - ključavnica: električna ključavnica v skladu s projektom kontrole pristopa"]
[null," - kljuka: evakuacijski antipanik drog SIST EN 1125"]
[null," - toplotna prehodnost Uw (W/m2K): ≤ 0,9 "]
[null,"Podati ceno glede na zgornji popis, kompletno z upoštevanjem vseh elementov za pritrditev, dobavo in montažo","kos","0"]
[]
["36.","O12 - okno"]
[null," - zidarska širina x zidarska višina: 370 x 308 cm"]
[null," - parapet: 36 cm (1 kom), 42 cm (2 kom)"]
[null," - vrsta zasteklitve: spodnji del kaljeno, zgornji del lepljeno steklo"]
[null," - število stekel: trojna zasteklitev"]
[null," - obdelava stekla: brezbarvno"]
[null," - material okvirja: PVC, RAL 9010"]
[null," - način odpiranja: kombinirano"]
[null," - toplotna prehodnost Uw (W/m2K): ≤ 0,9 "]
[null," - energijska prehodnost - g: ≤ 0,6"]
[null," - požarne zahteve: brez zahteve"]
[null," - zvočne zahteve: 35 dB"]
[null," - dodatne zahteve: el. zunanje žaluzije, podaljšan zgornji okenski profili, zidarske odprtine enake kot obstoječa okna"]
[null,"Podati ceno glede na zgornji popis, kompletno z upoštevanjem vseh elementov za pritrditev, dobavo in montažo","kos","0"]
[]
["37.","O13 - okno"]
[null," - zidarska širina x zidarska višina: 300 x 190 cm"]
[null," - parapet: 36 cm (1 kom), 42 cm (2 kom)"]
[null," - vrsta zasteklitve: spodnji del kaljeno, zgornji del lepljeno steklo"]
[null," - število stekel: trojna zasteklitev"]
[null," - obdelava stekla: brezbarvno"]
[null," - material okvirja: PVC, RAL 9010"]
[null," - način odpiranja: kombinirano"]
[null," - toplotna prehodnost Uw (W/m2K): ≤ 0,9 "]
[null," - energijska prehodnost - g: ≤ 0,6"]
[null," - požarne zahteve: brez zahteve"]
[null," - zvočne zahteve: 35 dB"]
[null," - dodatne zahteve: el. zunanje žaluzije, podaljšan zgornji okenski profili, zidarske odprtine enake kot obstoječa okna"]
[null,"Podati ceno glede na zgornji popis, kompletno z upoštevanjem vseh elementov za pritrditev, dobavo in montažo","kos","0"]
[]
["38.","O14 - okno"]
[null," - zidarska širina x zidarska višina: 200 x 190 cm"]
[null," - parapet: 90 cm"]
[null," - vrsta zasteklitve: spodnji del kaljeno, zgornji del lepljeno steklo"]
[null," - število stekel: trojna zasteklitev"]
[null," - obdelava stekla: brezbarvno"]
[null," - material okvirja: PVC, RAL 9010"]
[null," - način odpiranja: kombinirano"]
[null," - toplotna prehodnost Uw (W/m2K): ≤ 0,9 "]
[null," - energijska prehodnost - g: ≤ 0,6"]
[null," - požarne zahteve: brez zahteve"]
[null," - zvočne zahteve: 35 dB"]
[null," - dodatne zahteve: el. zunanje žaluzije, podaljšan zgornji okenski profili, zidarske odprtine enake kot obstoječa okna"]
[null,"Podati ceno glede na zgornji popis, kompletno z upoštevanjem vseh elementov za pritrditev, dobavo in montažo","kos","0"]
[]
["39.","O15 - okno"]
[null," - zidarska širina x zidarska višina: 350 x 190 cm"]
[null," - parapet: 90 cm"]
[null," - vrsta zasteklitve: spodnji del kaljeno, zgornji del lepljeno steklo"]
[null," - število stekel: trojna zasteklitev"]
[null," - obdelava stekla: brezbarvno"]
[null," - material okvirja: PVC, RAL 9010"]
[null," - način odpiranja: kombinirano"]
[null," - toplotna prehodnost Uw (W/m2K): ≤ 0,9 "]
[null," - energijska prehodnost - g: ≤ 0,6"]
[null," - požarne zahteve: brez zahteve"]
[null," - zvočne zahteve: 35 dB"]
[null," - dodatne zahteve: el. zunanje žaluzije, podaljšan zgornji okenski profili, zidarske odprtine enake kot obstoječa okna"]
[null,"Podati ceno glede na zgornji popis, kompletno z upoštevanjem vseh elementov za pritrditev, dobavo in montažo","kos","0"]
[]
["40.","O16 - okno"]
[null," - zidarska širina x zidarska višina: 300 x 145 cm"]
[null," - parapet: 90 cm"]
[null," - vrsta zasteklitve: kaljeno steklo"]
[null," - število stekel: trojna zasteklitev"]
[null," - obdelava stekla: brezbarvno"]
[null," - material okvirja: PVC, RAL 9010"]
[null," - način odpiranja: kombinirano"]
[null," - toplotna prehodnost Uw (W/m2K): ≤ 0,9 "]
[null," - energijska prehodnost - g: ≤ 0,6"]
[null," - požarne zahteve: brez zahteve"]
[null," - zvočne zahteve: 35 dB"]
[null," - dodatne zahteve: el. zunanje žaluzije, podaljšan zgornji okenski profili, zidarske odprtine enake kot obstoječa okna"]
[null,"Podati ceno glede na zgornji popis, kompletno z upoštevanjem vseh elementov za pritrditev, dobavo in montažo","kos","0"]
[]
["41.","O16a - okno"]
[null," - zidarska širina x zidarska višina: 300 x 145 cm"]
[null," - parapet: 90 cm"]
[null," - vrsta zasteklitve: kaljeno steklo"]
[null," - število stekel: trojna zasteklitev"]
[null," - obdelava stekla: brezbarvno"]
[null," - material okvirja: PVC, RAL 9010"]
[null," - način odpiranja: kombinirano"]
[null," - toplotna prehodnost Uw (W/m2K): ≤ 0,9 "]
[null," - energijska prehodnost - g: ≤ 0,6"]
[null," - požarne zahteve: brez zahteve"]
[null," - zvočne zahteve: 35 dB"]
[null," - dodatne zahteve: el. zunanje žaluzije, podaljšan zgornji okenski profili, zidarske odprtine enake kot obstoječa okna"]
[null,"Podati ceno glede na zgornji popis, kompletno z upoštevanjem vseh elementov za pritrditev, dobavo in montažo","kos","0"]
[]
["42.","O17 - okno"]
[null," - zidarska širina x zidarska višina: 200 x 145 cm"]
[null," - parapet: 90 cm"]
[null," - vrsta zasteklitve: kaljeno steklo"]
[null," - število stekel: trojna zasteklitev"]
[null," - obdelava stekla: brezbarvno"]
[null," - material okvirja: PVC, RAL 9010"]
[null," - način odpiranja: kombinirano"]
[null," - toplotna prehodnost Uw (W/m2K): ≤ 0,9 "]
[null," - energijska prehodnost - g: ≤ 0,6"]
[null," - požarne zahteve: brez zahteve"]
[null," - zvočne zahteve: 35 dB"]
[null," - dodatne zahteve: el. zunanje žaluzije, podaljšan zgornji okenski profili, zidarske odprtine enake kot obstoječa okna"]
[null,"Podati ceno glede na zgornji popis, kompletno z upoštevanjem vseh elementov za pritrditev, dobavo in montažo","kos","0"]
[]
["43.","O18 - okno"]
[null," - zidarska širina x zidarska višina: 300 x 145 cm"]
[null," - parapet: 90 cm"]
[null," - vrsta zasteklitve: kaljeno steklo"]
[null," - število stekel: trojna zasteklitev"]
[null," - obdelava stekla: brezbarvno"]
[null," - material okvirja: PVC, RAL 9010"]
[null," - način odpiranja: kombinirano"]
[null," - toplotna prehodnost Uw (W/m2K): ≤ 0,9 "]
[null," - energijska prehodnost - g: ≤ 0,6"]
[null," - požarne zahteve: brez zahteve"]
[null," - zvočne zahteve: 35 dB"]
[null," - dodatne zahteve: el. zunanje žaluzije, podaljšan zgornji okenski profili, zidarske odprtine enake kot obstoječa okna"]
[null,"Podati ceno glede na zgornji popis, kompletno z upoštevanjem vseh elementov za pritrditev, dobavo in montažo","kos","0"]
[]
["44.","O19 - okno"]
[null," - zidarska širina x zidarska višina: 50 x 100 cm"]
[null," - parapet: 85 cm"]
[null," - vrsta zasteklitve: kaljeno steklo"]
[null," - število stekel: trojna zasteklitev"]
[null," - obdelava stekla: brezbarvno"]
[null," - material okvirja: PVC, RAL 9010"]
[null," - način odpiranja: kombinirano"]
[null," - toplotna prehodnost Uw (W/m2K): ≤ 0,9 "]
[null," - energijska prehodnost - g: ≤ 0,6"]
[null," - požarne zahteve: brez zahteve"]
[null," - zvočne zahteve: 35 dB"]
[null," - dodatne zahteve: el. zunanje žaluzije, podaljšan zgornji okenski profili, zidarske odprtine enake kot obstoječa okna"]
[null,"Podati ceno glede na zgornji popis, kompletno z upoštevanjem vseh elementov za pritrditev, dobavo in montažo","kos","0"]
[]
["45.","O20 - okno"]
[null," - zidarska širina x zidarska višina: 100 x 180 cm"]
[null," - parapet: 96,5 cm"]
[null," - vrsta zasteklitve: kaljeno steklo"]
[null," - število stekel: trojna zasteklitev"]
[null," - obdelava stekla: brezbarvno"]
[null," - material okvirja: PVC, RAL 9010"]
[null," - način odpiranja: kombinirano"]
[null," - toplotna prehodnost Uw (W/m2K): ≤ 0,9 "]
[null," - energijska prehodnost - g: ≤ 0,6"]
[null," - požarne zahteve: brez zahteve"]
[null," - zvočne zahteve: 35 dB"]
[null," - dodatne zahteve: el. zunanje žaluzije, podaljšan zgornji okenski profili, zidarske odprtine enake kot obstoječa okna"]
[null,"Podati ceno glede na zgornji popis, kompletno z upoštevanjem vseh elementov za pritrditev, dobavo in montažo","kos","0"]
[]
["46.","O21 - okno"]
[null," - zidarska širina x zidarska višina: 60 x 175 cm"]
[null," - parapet: 85 cm"]
[null," - vrsta zasteklitve: kaljeno steklo"]
[null," - število stekel: trojna zasteklitev"]
[null," - obdelava stekla: brezbarvno"]
[null," - material okvirja: PVC, RAL 9010"]
[null," - način odpiranja: kombinirano"]
[null," - toplotna prehodnost Uw (W/m2K): ≤ 0,9 "]
[null," - energijska prehodnost - g: ≤ 0,6"]
[null," - požarne zahteve: brez zahteve"]
[null," - zvočne zahteve: 35 dB"]
[null," - dodatne zahteve: el. zunanje žaluzije, podaljšan zgornji okenski profili, upoštevana zunanja in notranja kamnita polica, zidarske odprtine enake kot obstoječa okna"]
[null,"Podati ceno glede na zgornji popis, kompletno z upoštevanjem vseh elementov za pritrditev, dobavo in montažo","kos","0"]
[]
["47.","O22 - okno"]
[null," - zidarska širina x zidarska višina: 60 x 175 cm"]
[null," - parapet: 85 cm"]
[null," - vrsta zasteklitve: kaljeno steklo"]
[null," - število stekel: trojna zasteklitev"]
[null," - obdelava stekla: brezbarvno"]
[null," - material okvirja: PVC, RAL 9010"]
[null," - način odpiranja: kombinirano"]
[null," - toplotna prehodnost Uw (W/m2K): ≤ 0,9 "]
[null," - energijska prehodnost - g: ≤ 0,6"]
[null," - požarne zahteve: brez zahteve"]
[null," - zvočne zahteve: 35 dB"]
[null," - dodatne zahteve: el. zunanje žaluzije, podaljšan zgornji okenski profili, upoštevana zunanja in notranja kamnita polica, zidarske odprtine enake kot obstoječa okna"]
[null,"Podati ceno glede na zgornji popis, kompletno z upoštevanjem vseh elementov za pritrditev, dobavo in montažo","kos","0"]
[]
["48.","O23 - okno"]
[null," - zidarska širina x zidarska višina: 400 x 79 cm"]
[null," - parapet: 200 cm"]
[null," - vrsta zasteklitve: kaljeno steklo"]
[null," - število stekel: dvojna zasteklitev"]
[null," - obdelava stekla: brezbarvno"]
[null," - material okvirja: PVC, RAL 9010"]
[null," - način odpiranja: fiksno"]
[null," - toplotna prehodnost Uw (W/m2K): ≤ 0,9 "]
[null," - energijska prehodnost - g: ≤ 0,6"]
[null," - požarne zahteve: EI 60"]
[null," - zvočne zahteve: brez zahteve"]
[null," - dodatne zahteve: dimenzije enake obstoječemu oknu"]
[null,"Podati ceno glede na zgornji popis, kompletno z upoštevanjem vseh elementov za pritrditev, dobavo in montažo","kos","0"]
[]
["49.","FS01 - zasteklitev"]
[null," - zidarska širina x zidarska višina: 595 x 196 cm"]
[null," - vrsta zasteklitve: lepljeno steklo"]
[null," - število stekel: trojna zasteklitev"]
[null," - obdelava stekla: brezbarvno"]
[null," - material okvirja: PVC, RAL 9010"]
[null," - način odpiranja: kombinirano"]
[null," - toplotna prehodnost Uw (W/m2K): ≤ 0,9 "]
[null," - energijska prehodnost - g: ≤ 0,6"]
[null," - požarne zahteve: brez zahteve"]
[null," - zvočne zahteve: 35 dB"]
[null," - dodatne zahteve: zidarske odprtine enake kot obstoječa okna"]
[null,"Podati ceno glede na zgornji popis, kompletno z upoštevanjem vseh elementov za pritrditev, dobavo in montažo","kos","0"]
[]
["50.","FS02 - zasteklitev"]
[null," - zidarska širina x zidarska višina: 128 x 266 cm"]
[null," - vrsta zasteklitve: kaljeno steklo"]
[null," - število stekel: trojna zasteklitev"]
[null," - obdelava stekla: brezbarvno"]
[null," - material okvirja: PVC, RAL 9010"]
[null," - način odpiranja: kombinirano"]
[null," - toplotna prehodnost Uw (W/m2K): ≤ 0,9 "]
[null," - energijska prehodnost - g: ≤ 0,6"]
[null," - požarne zahteve: brez zahteve"]
[null," - zvočne zahteve: 35 dB"]
[null," - dodatne zahteve: zidarske odprtine enake kot obstoječa okna"]
[null,"Podati ceno glede na zgornji popis, kompletno z upoštevanjem vseh elementov za pritrditev, dobavo in montažo","kos","0"]
[]
["51.","FS03 - zasteklitev"]
[null," - zidarska širina x zidarska višina: 158 x 266 cm"]
[null," - vrsta zasteklitve: kaljeno steklo"]
[null," - število stekel: trojna zasteklitev"]
[null," - obdelava stekla: brezbarvno"]
[null," - material okvirja: PVC, RAL 9010"]
[null," - način odpiranja: kombinirano"]
[null," - toplotna prehodnost Uw (W/m2K): ≤ 0,9 "]
[null," - energijska prehodnost - g: ≤ 0,6"]
[null," - požarne zahteve: brez zahteve"]
[null," - zvočne zahteve: 35 dB"]
[null," - dodatne zahteve: zidarske odprtine enake kot obstoječa okna"]
[null,"Podati ceno glede na zgornji popis, kompletno z upoštevanjem vseh elementov za pritrditev, dobavo in montažo","kos","0"]
[]
["52.","vrata v FS03 - vrata"]
[null," - zidarska širina x zidarska višina: 90 x 233 cm"]
[null," - stran odpiranja: levo"]
[null," - material stene: steklen stena"]
[null," - lastnosti krilo: enokrilna, spodnji del polno krilo, zgornji del zastekljeno, PVC krilo, prozorno brezbarvno kaljeno steklo, obdelava po izboru arhitekta "]
[null," - požarne zahteve: brez zahteve"]
[null," - zvočne zahteve: 35 dB"]
[null," - dodatne zahteve: brez zahtev"]
[null," - ključavnica: cilindrična ključavnica, sistemski ključ"]
[null," - kljuka: evakuacijska antipanik kljuka, SIST EN 179"]
[null," - toplotna prehodnost Uw (W/m2K): ≤ 0,9 "]
[null,"Podati ceno glede na zgornji popis, kompletno z upoštevanjem vseh elementov za pritrditev, dobavo in montažo","kos","0"]
[]
["53.","FS04 - zasteklitev"]
[null," - zidarska širina x zidarska višina: 177 x 210 cm"]
[null," - vrsta zasteklitve: kaljeno steklo"]
[null," - število stekel: trojna zasteklitev"]
[null," - obdelava stekla: brezbarvno"]
[null," - material okvirja: aluminij"]
[null," - način odpiranja: dvokrilna vrata"]
[null," - toplotna prehodnost Uw (W/m2K): ≤ 0,9 "]
[null," - energijska prehodnost - g: ≤ 0,6"]
[null," - požarne zahteve: brez zahteve"]
[null," - zvočne zahteve: brez zahteve"]
[null," - dodatne zahteve: podaljšana stranska profila"]
[null,"Podati ceno glede na zgornji popis, kompletno z upoštevanjem vseh elementov za pritrditev, dobavo in montažo","kos","0"]
[]
["54.","vrata v FS04 - vrata"]
[null," - zidarska širina x zidarska višina: 134 x 210 cm"]
[null," - stran odpiranja: levo"]
[null," - material stene: steklen stena"]
[null," - lastnosti krilo: dvokrilna, alu krilo, prozorno brezbarvno kaljeno steklo, obdelava po izboru arhitekta "]
[null," - požarne zahteve: brez zahteve"]
[null," - zvočne zahteve: brez zahteve"]
[null," - dodatne zahteve: brez zahtev"]
[null," - ključavnica: električna ključavnica v skladu s projektom kontrole pristopa"]
[null," - kljuka: evakuacijska antipanik kljuka, SIST EN 1125"]
[null," - toplotna prehodnost Uw (W/m2K): ≤ 0,9 "]
[null,"Podati ceno glede na zgornji popis, kompletno z upoštevanjem vseh elementov za pritrditev, dobavo in montažo","kos","0"]
[]
["55.","SS01 - zasteklitev"]
[null," - zidarska širina x zidarska višina: 153 x 266 cm"]
[null," - vrsta zasteklitve: spodaj kaljeno, zgoraj lepljeno steklo"]
[null," - število stekel: dvojna zasteklitev"]
[null," - obdelava stekla: brezbarvno"]
[null," - material okvirja: PVC, RAL 9010"]
[null," - način odpiranja: enokrilna vrata"]
[null," - toplotna prehodnost Uw (W/m2K): ≤ 0,9 "]
[null," - energijska prehodnost - g: ≤ 0,6"]
[null," - požarne zahteve: brez zahteve"]
[null," - zvočne zahteve: brez zahteve"]
[null," - dodatne zahteve: zidarske odprtine enake kot obstoječa steklena stena"]
[null,"Podati ceno glede na zgornji popis, kompletno z upoštevanjem vseh elementov za pritrditev, dobavo in montažo","kos","0"]
[]
["56.","SS02.1 - zasteklitev"]
[null," - zidarska širina x zidarska višina: 978 x 170 cm"]
[null," - vrsta zasteklitve: spodaj kaljeno steklo, zgoraj polnilo"]
[null," - število stekel: trojna zasteklitev"]
[null," - obdelava stekla: brezbarvno"]
[null," - material okvirja: PVC, RAL 9010"]
[null," - način odpiranja: fiksno"]
[null," - toplotna prehodnost Uw (W/m2K): ≤ 0,9 "]
[null," - energijska prehodnost - g: ≤ 0,6"]
[null," - požarne zahteve: brez zahteve"]
[null," - zvočne zahteve: brez zahteve"]
[null," - dodatne zahteve: zidarske odprtine enake kot obstoječa steklena stena"]
[null,"Podati ceno glede na zgornji popis, kompletno z upoštevanjem vseh elementov za pritrditev, dobavo in montažo","kos","0"]
[]
["57.","SS02.2 - zasteklitev"]
[null," - zidarska širina x zidarska višina: 104 x 170 cm"]
[null," - vrsta zasteklitve: spodaj kaljeno steklo, zgoraj polnilo"]
[null," - število stekel: trojna zasteklitev"]
[null," - obdelava stekla: brezbarvno"]
[null," - material okvirja: PVC, RAL 9010"]
[null," - način odpiranja: fiksno"]
[null," - toplotna prehodnost Uw (W/m2K): ≤ 0,9 "]
[null," - energijska prehodnost - g: ≤ 0,6"]
[null," - požarne zahteve: brez zahteve"]
[null," - zvočne zahteve: brez zahteve"]
[null," - dodatne zahteve: zidarske odprtine enake kot obstoječa steklena stena"]
[null,"Podati ceno glede na zgornji popis, kompletno z upoštevanjem vseh elementov za pritrditev, dobavo in montažo","kos","0"]
[]
["58.","SS03 - zasteklitev"]
[null," - zidarska širina x zidarska višina: 196 x 519 cm"]
[null," - vrsta zasteklitve: lepljeno steklo"]
[null," - število stekel: dvojna zasteklitev"]
[null," - obdelava stekla: brezbarvno"]
[null," - material okvirja: aluminij"]
[null," - način odpiranja: dvokrilna vrata"]
[null," - toplotna prehodnost Uw (W/m2K): ≤ 0,9 "]
[null," - energijska prehodnost - g: ≤ 0,6"]
[null," - požarne zahteve: EI 60"]
[null," - zvočne zahteve: brez zahteve"]
[null," - dodatne zahteve: zidarske odprtine enake kot obstoječa steklena stena"]
[null,"Podati ceno glede na zgornji popis, kompletno z upoštevanjem vseh elementov za pritrditev, dobavo in montažo","kos","0"]
[]
["59.","vrata v SS03 - vrata"]
[null," - zidarska širina x zidarska višina: 186 x 228 cm"]
[null," - stran odpiranja: levo"]
[null," - material stene: steklen stena"]
[null," - lastnosti krilo: dvokrilna, spodnji del polno krilo, zgornji del zastekljeno, alu krilo, prozorno brezbarvno kaljeno steklo, obdelava po izboru arhitekta "]
[null," - požarne zahteve: EI 30"]
[null," - zvočne zahteve: brez zahteve"]
[null," - dodatne zahteve: brez zahtev"]
[null," - ključavnica: električna ključavnica v skladu s projektom kontrole pristopa"]
[null," - kljuka: evakuacijska antipanik kljuka, SIST EN 1125"]
[null," - toplotna prehodnost Uw (W/m2K): ≤ 0,9 "]
[null,"Podati ceno glede na zgornji popis, kompletno z upoštevanjem vseh elementov za pritrditev, dobavo in montažo","kos","0"]
[]
["60.","SS04 - zasteklitev"]
[null," - zidarska širina x zidarska višina: 177 x 270  cm"]
[null," - vrsta zasteklitve: spodaj kaljeno, zgoraj lepljeno steklo"]
[null," - število stekel: dvojna zasteklitev"]
[null," - obdelava stekla: brezbarvno"]
[null," - material okvirja: aluminij"]
[null," - način odpiranja: dvokrilna vrata"]
[null," - toplotna prehodnost Uw (W/m2K): ≤ 0,9 "]
[null," - energijska prehodnost - g: ≤ 0,6"]
[null," - požarne zahteve: brez zahteve"]
[null," - zvočne zahteve: brez zahteve"]
[null," - dodatne zahteve: brez zahteve"]
[null,"Podati ceno glede na zgornji popis, kompletno z upoštevanjem vseh elementov za pritrditev, dobavo in montažo","kos","0"]
[]
["61.","vrata v SS04 - vrata"]
[null," - zidarska širina x zidarska višina: 134 x 210 cm"]
[null," - stran odpiranja: levo"]
[null," - material stene: steklen stena"]
[null," - lastnosti krilo: dvokrilna, alu krilo, prozorno brezbarvno kaljeno steklo, obdelava po izboru arhitekta "]
[null," - požarne zahteve: brez zahteve"]
[null," - zvočne zahteve: brez zahteve"]
[null," - dodatne zahteve: brez zahtev"]
[null," - ključavnica: cilindrična ključavnica, sistemski ključ"]
[null," - kljuka: navadna INOX kljuka"]
[null," - toplotna prehodnost Uw (W/m2K): ≤ 0,9 "]
[null,"Podati ceno glede na zgornji popis, kompletno z upoštevanjem vseh elementov za pritrditev, dobavo in montažo","kos","0"]
[]
["62.","SS05 - zasteklitev"]
[null," - zidarska širina x zidarska višina: 250 x 315  cm"]
[null," - vrsta zasteklitve: spodaj in zgoraj polnilo, vmes kaljeno steklo"]
[null," - število stekel: trojna zasteklitev"]
[null," - obdelava stekla: brezbarvno"]
[null," - material okvirja: PVC, RAL 9010"]
[null," - način odpiranja: kombinirano"]
[null," - toplotna prehodnost Uw (W/m2K): ≤ 0,9 "]
[null," - energijska prehodnost - g: ≤ 0,6"]
[null," - požarne zahteve: brez zahteve"]
[null," - zvočne zahteve: brez zahteve"]
[null," - dodatne zahteve: brez zahteve"]
[null,"Podati ceno glede na zgornji popis, kompletno z upoštevanjem vseh elementov za pritrditev, dobavo in montažo","kos","0"]
[]
["63.","Predelava obstoječega okna ODT iz telovadnice - povezava na požarno sentralo, predelava okvirja, odpiranje za 45 st. (7 oken)","kos","0"]
[]
["8.","Obračun po količinah, ki izhajajo iz potrjenega gradbenega dnevnika in ob upoštevanju kalkulativnih osnov","kpl","0"]
[]
[null,"SKUPAJ OKNA, VRATA, ZASTEKLITVE,…",null,null,null,{"$f":"SUM(F6:F760)","v":0},null,{"$f":"SUM(H6:H760)","v":0},null,{"$f":"SUM(J6:J760)","v":0}]

{"sheet":"AB-I. REKAP. ZUNANJA UREDI","index":27,"n_rows":25,"n_cols":5,"rows_kept":25,"cut":false,"hidden":false,"merged":[]}
["Investitor:   ","Mestna občina Ljubljana"]
[null,"Konzorcij družb Petrol d. d. in Resalta d. o. o. "]
["Objekt:      ","OŠ Savsko naselje, Matjaževa ulica 4, Ljubljana"]
[null," - Celovita prenova objekta s statično, požarno in energetsko sanacijo."]
["Štev. proj.:     "]
["Datum:      ","April 2022"]
[]
[]
[]
[]
[]
[]
[]
[null,"REKAPITULACIJA"]
[null,"ZUNANJA UREDITEV Objekt A in B,   "]
[]
[]
[null,"Ponudbena vrednost - skupna rekapitulacija","Vrednost  brez popusta","Popust","Vrednost s popustom"]
["1.0","PREDDELA",{"$f":"'AB-1.PREDDELA ZU'!$F$20","v":0},{"$f":"'AB-1.PREDDELA ZU'!$H$20","v":0},{"$f":"'AB-1.PREDDELA ZU'!$J$20","v":0}]
["2.0","ZEMELJSKA DELA",{"$f":"'AB-2.ZEMELJSKA DELA ZU'!$F$38","v":0},{"$f":"'AB-2.ZEMELJSKA DELA ZU'!$H$38","v":0},{"$f":"'AB-2.ZEMELJSKA DELA ZU'!$J$38","v":0}]
["3.0","ZGORNJI USTROJ",{"$f":"'AB-3. ZGORNJI USTROJ ZU'!$F$17","v":0},{"$f":"'AB-3. ZGORNJI USTROJ ZU'!$H$17","v":0},{"$f":"'AB-3. ZGORNJI USTROJ ZU'!$J$17","v":0}]
["4.0","ODVODNJAVANJE",{"$f":"'AB-4.ODVODNJAVANJE ZU'!$F$31","v":0},{"$f":"'AB-4.ODVODNJAVANJE ZU'!$H$31","v":0},{"$f":"'AB-4.ODVODNJAVANJE ZU'!$J$31","v":0}]
[null,"SKUPAJ",{"$f":"SUM(C19:C22)","v":0},{"$f":"SUM(D19:D22)","v":0},{"$f":"SUM(E19:E22)","v":0}]
[null,"22% DDV",null,null,{"$f":"+E23*0.22","v":0}]
[null,"Objekt A in B   ZUNANJA UREDITEV  SKUPAJ Z DDV",null,null,{"$f":"+E23+E24","v":0}]

{"sheet":"AB-1. SPLOŠNO","index":28,"n_rows":18,"n_cols":2,"rows_kept":18,"cut":false,"hidden":false,"merged":[]}
[null,"Objekt A in B,   SPLOŠNA DOLOČILA:"]
[]
[null,"Sestavni del tega projektantskega popisa je kompletni načrt zunanje ureditve (grafični in tekstualni del), vključno z vsemi detajli, shemami, poročili in zahtevami.  "]
[null,"Pri posameznih opisih del, kjer je predpisana vgradnja ali montaža tipa oz. vrsta materiala, opreme ali naprave določenega dobavitelja, proizvajalca ali blagovne znamke, je ponudnik upravičen ponuditi enakovreden material, opremo ali napravo drugega dobavitelja, proizvajalca ali blagovne znamke, ki pa mora ustrezati predpisanim tehničnim zahtevam in je enake kakovosti in enakovrednega izgleda. Na mestih, kjer je v popisu del to predvideno, je potrebno ponujen enakovreden material, opremo ali napravo, navesti. V primeru, da ponudnik tega ne stori, je dolžan vgraditi predviden material, opremo ali napravo."]
[null,"Vsa ponujena športna oprema mora ustrezati zahtevanim športnim in varnostnim standardom za to vrstno športno opremo. Oprema mora biti namenjena za zunanjo postavitev in antivandalske izvedbe ter namenjena šolski rekreativni rabi."]
[null,"Popisi del so bili narejeni in količine izračunane v fazi projektov PZR, zato so tekom izvedbe del možne manjše spremembe glede na projekt PZI. V tem primeru je potreben dogovor izvedbe z odgovornim projektantom in investitorjem!"]
[null,"Ponudnik si je dolžan ogledati vso razpoložljivo projektno dokumentacijo in morebitne nejasnosti razčistiti pred oddajo ponudbe. Če tega ne stori pomeni, da je zanj projektna dokumentacija ustrezna in razumljiva."]
[null,"Izvajalec je dolžan v predračunskih cenah vračunati oz ponuditi optimalno velikost in vrsto gradbenih strojev, opreme, orodja in transportnih sredstev glede na lokacijo objekta, možnost transportnih poti do in z gradbišča ter na samem gradbišču."]
[null,"Dela je potrebno izvajati skladno s projektno dokumentacijo, v skladu z veljavnimi tehničnimi predpisi, normativi in standardi ob upoštevanju zahtev iz varstva pri delu. Uporabljati je potrebno samo materiale, ki ustrezajo predpisom in standardom."]
[null,"Izvajalec del mora pri izvedbi upoštevati tehnično poročilo iz načrta."]
[null,"V ceni vseh postavk je zajeti:"]
[null," - Ves osnovni, pomožni in pritrdilni material"]
[null," - Vse transporte in prenose, vso transportno in dvižno opremo"]
[null," - Vse potrebne delovne, lovilne in zaščitne odre"]
[null," - Finalno obdelavo vseh elementov in površin"]
[null," - Koordinacijo med upravljalci komunalnih vodov, izvajalci, podizvajalci in soglasodajalci"]
[null," - Izvedbo začasnih in stalnih deponij"]
[null,"V območju dreves (pravokotna projekcija krošnje + 1,5 m) je potrebno dela izvajati zelo previdno, da se ne poškoduje koreninskega sestava drevja. Načeloma je dovoljen poseg zgolj v zgornjih 10 cm talne sestave. V primeru večjih posegov v območju dreves je potreben pri delih nadzor arborista."]

{"sheet":"AB-1.PREDDELA ZU","index":29,"n_rows":20,"n_cols":10,"rows_kept":20,"cut":false,"hidden":false,"merged":[]}
[null,"Objekt A in B,   1.0 PREDDELA"]
[]
["ZAP. ŠT.","OPIS","     ME","KOLIČUNA","CENA/ENOTO","SKUPAJ","POPUST","POPUST SKUPAJ","CENA/ENOTO S POPUSTOM","SKUPAJ S POPUSTOM"]
[]
[]
[null,"V posameznih postavkah je v ceni zajeta izdelava in montaža izdelkov z dobavo vsega materiala, izdelavo izmer, preddeli, pomožnimi deli in transporti. Opisi postavk so skrajšani. Ponudba za izvedbo mora vsebovati vse stroške za kompletno izdelavo postavke, tudi če v popisu niso eksplicitno navedeni."]
[]
[null,"Porušitev in odstranitev voziščnih konstrukcij ",null,null,0]
[]
[1,"Strojno rezanje obstoječe asfaltne plasti v debelini do 4 cm ter čiščenje površine","m2","0"]
[null,"OPOMBA: z odvozom predelovalcu gradbenih odpadkov, vključno z dajatvami",null,null,0]
[null,null,null,null,0]
[null,"Porušitev in odstranitev objektov",null,null,0]
[2,"Porušitev in odstranitev cestnega požiralnika oziroma revizijskega jaška"]
[null,"OPOMBA: z odvozom na deponijo, vključno z dajatvami","kos",1,null,{"$f":"(D15*E15)","v":0},{"$f":"+E15*MM","v":0},{"$f":"+G15*D15","v":0},{"$f":"+E15-G15","v":0},{"$f":"+I15*D15","v":0}]
[]
[3,"Porušitev in odstranitev obstoječe mešane kanalizacije (različnih prerezov in materialov)"]
[null,"OPOMBA: z odvozom na deponijo, vključno z dajatvami","m'",44,null,{"$f":"(D18*E18)","v":0},{"$f":"+E18*MM","v":0},{"$f":"+G18*D18","v":0},{"$f":"+E18-G18","v":0},{"$f":"+I18*D18","v":0}]
[]
[null,"SKUPAJ PREDDELA",null,null,null,{"$f":"SUM(F8:F18)","v":0},null,{"$f":"SUM(H8:H18)","v":0},null,{"$f":"SUM(J8:J18)","v":0}]

{"sheet":"AB-2.ZEMELJSKA DELA ZU","index":30,"n_rows":38,"n_cols":10,"rows_kept":38,"cut":false,"hidden":false,"merged":[]}
[null,"Objekt A in B,   2.0 ZEMELJSKA DELA"]
[]
["ZAP. ŠT.","OPIS","     ME","KOLIČUNA","CENA/ENOTO","SKUPAJ","POPUST","POPUST SKUPAJ","CENA/ENOTO S POPUSTOM","SKUPAJ S POPUSTOM"]
[]
[]
[null,"V posameznih postavkah je v ceni zajeta izdelava in montaža izdelkov z dobavo vsega materiala, izdelavo izmer, preddeli, pomožnimi deli in transporti. Opisi postavk so skrajšani. Ponudba za izvedbo mora vsebovati vse stroške za kompletno izdelavo postavke, tudi če v popisu niso eksplicitno navedeni."]
[]
[null,"2.1 Izkopi"]
[]
["1","Površinski izkop plodne zemljine – 1. kategorije – strojno z odrivom do 50 m","m3",44,null,{"$f":"(D10*E10)","v":0},{"$f":"+E10*MM","v":0},{"$f":"+G10*D10","v":0},{"$f":"+E10-G10","v":0},{"$f":"+I10*D10","v":0}]
[]
[2,"Široki izkop vezljive zemljine – 3. kategorije – strojno z nakladanjem.","m3",176,null,{"$f":"D12*E12","v":0},{"$f":"+E12*MM","v":0},{"$f":"+G12*D12","v":0},{"$f":"+E12-G12","v":0},{"$f":"+I12*D12","v":0}]
[]
[]
[3,"Izkop obstoječega jaška in priprava za za talni jašek 80/80/80cm globine do 4,0 m. Upoštevati rušenje jaška, odkop, iznos materiala, nalaganje in odvoz v trajno deponijo, s plačilom vseh taks in pristojbin.","kom",4,null,{"$f":"+E15*D15","v":0},{"$f":"+E15*MM","v":0},{"$f":"+G15*D15","v":0},{"$f":"+E15-G15","v":0},{"$f":"+I15*D15","v":0}]
[]
[]
[null,"2.2 Planum temeljnih tal"]
[]
[1,"Priprava temeljnih tal z grobim planiranjem točnosti do 3,0 cm in komprimiranjem Ev≥60 MPa."]
[null,"OSTALA ZUNANJA UREDITEV","m2",105,null,{"$f":"(D21*E21)","v":0},{"$f":"+E21*MM","v":0},{"$f":"+G21*D21","v":0},{"$f":"+E21-G21","v":0},{"$f":"+I21*D21","v":0}]
[]
[2,"Ročno planiranje dna jarka s točnostjo +/- 3 cm po projektiranem padcu in komprimiranjem do Ev≥60 MPa."]
[null,"OSTALA ZUNANJA UREDITEV","m2",105,null,{"$f":"(D24*E24)","v":0},{"$f":"+E24*MM","v":0},{"$f":"+G24*D24","v":0},{"$f":"+E24-G24","v":0},{"$f":"+I24*D24","v":0}]
[]
[null,"2.3 Nasipi in posteljice"]
[]
[1,"Izdelava posteljice iz gramoza zrnavosti GW-GP 0/63mm, Ev2≥80MPa, zgoščeno z vibracijsko ploščo po plasteh, debeline 35 cm. "]
[null,"OPOMBA: debelina posteljice se določi po izvedenih geomehanskih preiskavah na podlagi geotehničnega poročila"]
[null,"OSTALA ZUNANJA UREDITEV","m3",52,null,{"$f":"(D30*E30)","v":0},{"$f":"+E30*MM","v":0},{"$f":"+G30*D30","v":0},{"$f":"+E30-G30","v":0},{"$f":"+I30*D30","v":0}]
[]
[2,"Zasipavanje jarka kanalizacije z izkopanim materialom, s komprimiranjem v slojih po 30 cm, z dovozom z začasne deponije","m3",121,null,{"$f":"D32*E32","v":0},{"$f":"+E32*MM","v":0},{"$f":"+G32*D32","v":0},{"$f":"+E32-G32","v":0},{"$f":"+I32*D32","v":0}]
[]
[null,"2.6 Prevozi, razprostiranje in ureditev deponij materiala"]
[3,"Nalaganje in odvoz odvečnega materiala na trajno deponijo na razdaljo do 10 km, kompletno z razstiranjem in plačilom komunalne pristojbine. Za deponirani material pridobiti potrdila v skladu s pravilnikom o ravnanju z odpadki."]
[null,"OSTALA ZUNANJA UREDITEV","m3",11,null,{"$f":"(D36*E36)","v":0},{"$f":"+E36*MM","v":0},{"$f":"+G36*D36","v":0},{"$f":"+E36-G36","v":0},{"$f":"+I36*D36","v":0}]
[]
[null,"SKUPAJ ZEMELJSKA DELA",null,null,null,{"$f":"SUM(F10:F37)","v":0},null,{"$f":"SUM(H10:H37)","v":0},null,{"$f":"SUM(J10:J37)","v":0}]

{"sheet":"AB-3. ZGORNJI USTROJ ZU","index":31,"n_rows":17,"n_cols":10,"rows_kept":17,"cut":false,"hidden":false,"merged":[]}
[null,"Objekt A in B,   3.0 ZGORNJI USTROJ"]
[]
["ZAP. ŠT.","OPIS","     ME","KOLIČUNA","CENA/ENOTO","SKUPAJ","POPUST","POPUST SKUPAJ","CENA/ENOTO S POPUSTOM","SKUPAJ S POPUSTOM"]
[]
[]
[null,"V posameznih postavkah je v ceni zajeta izdelava in montaža izdelkov z dobavo vsega materiala, izdelavo izmer, preddeli, pomožnimi deli in transporti. Opisi postavk so skrajšani. Ponudba za izvedbo mora vsebovati vse stroške za kompletno izdelavo postavke, tudi če v popisu niso eksplicitno navedeni."]
[]
[1,"Izvedba nevezane nosilne plasti enakomerno zrnatega drobljenca, predroljeni prod GW-GP 0/32, z razgrinjanjem in komprimiranjem do Ev2≥ 100 MN/m2 in planiranjem točnosti do + - 1 cm. Debelina sloja 20 cm."]
[null,"OPOMBA: debelina tampona se določi po izvedenih geomehanskih preiskavah na podlagi geotehničnega poročila"]
[null,"OSTALA ZUNANJA UREDITEV","m3",92,null,{"$f":"(D10*E10)","v":0},{"$f":"+E10*MM","v":0},{"$f":"+G10*D10","v":0},{"$f":"+E10-G10","v":0},{"$f":"+I10*D10","v":0}]
[]
[2,"Dobava in vgradnja betonskih tlakovcev po izboru arhitekta, vključno z ročnim prevozom materiala do 30 m, pripravo podlage s fino izdelavo vseh naklonov, položitvijo drenažne folije npr. Geoproma (TYPAR-PRO), pripravo podlage deb. 3-4 cm s peskom 4-8 mm, polaganjem tlakovcev s sprotnim izravnavanjem višin, dodatnim končnim uravnavanjem položenih tlakovcev s strojnim vibriranjem in fugiranjem z mivko (s ponovitvijo čez 14 dni). "]
[null,"OSTALA ZUNANJA UREDITEV","m2",88,null,{"$f":"D13*E13","v":0},{"$f":"+E13*MM","v":0},{"$f":"+G13*D13","v":0},{"$f":"+E13-G13","v":0},{"$f":"+I13*D13","v":0}]
[null,null,null,null,0]
[3,"Dobava in vgradnja asfalta 6 + 4 cm, vključno s pripravo podlage ","m2","0"]
[]
[null,"ZGORNJI USTROJ SKUPAJ",null,null,null,{"$f":"SUM(F8:F16)","v":0},null,{"$f":"SUM(H8:H16)","v":0},null,{"$f":"SUM(J8:J16)","v":0}]

{"sheet":"AB-4.ODVODNJAVANJE ZU","index":32,"n_rows":31,"n_cols":10,"rows_kept":31,"cut":false,"hidden":false,"merged":[]}
[null,"Objekt A in B,    4.0 ODVODNJAVANJE"]
[]
["ZAP. ŠT.","OPIS","     ME","KOLIČUNA","CENA/ENOTO","SKUPAJ","POPUST","POPUST SKUPAJ","CENA/ENOTO S POPUSTOM","SKUPAJ S POPUSTOM"]
[]
[null,"V posameznih postavkah je v ceni zajeta izdelava in montaža izdelkov z dobavo vsega materiala, izdelavo izmer, preddeli, pomožnimi deli in transporti. Opisi postavk so skrajšani. Ponudba za izvedbo mora vsebovati vse stroške za kompletno izdelavo postavke, tudi če v popisu niso eksplicitno navedeni."]
[]
[null,"4.2 Globinsko odvodnjavanje - kanalizacija"]
[]
[1,"Izdelava kanalizacije iz cevi plastičnih mas PVC (togosti SN8), vgrajenih na pripravljeno betonsko posteljico C8/10. Z obsipom cevi s peskom frakcije 8/16 mm in izdelava nasipa nad položenimi cevmi 30 cm nad temenom (skladno z detajlom), oziroma po potrebi polno obbetoniranih z betonom C12/15.        "]
[null,"PVC-dimenzije fi 250","m1",44,null,{"$f":"D10*E10","v":0},{"$f":"+E10*MM","v":0},{"$f":"+G10*D10","v":0},{"$f":"+E10-G10","v":0},{"$f":"+I10*D10","v":0}]
[null,"PVC-dimenzije fi 400","m1",44,null,{"$f":"D11*E11","v":0},{"$f":"+E11*MM","v":0},{"$f":"+G11*D11","v":0},{"$f":"+E11-G11","v":0},{"$f":"+I11*D11","v":0}]
[null,"OPOMBA: vse cevi z manjšim nadkritjem od 1,0 m nad temenom cevi je potrebno polno obbetonirati v debelini 1/4 preseka DN ali minimalno 10 cm. "]
[]
["2","Dobava in montaža PVC fazonskega elementa - koleno 45, nazivnega premera DN 110 mm, z integrirano spojko, izdelano iz PVC materiala. Vključno z veznim in tesnilnim materialom.                                       ","kos",1,null,{"$f":"(D14*E14)","v":0},{"$f":"+E14*MM","v":0},{"$f":"+G14*D14","v":0},{"$f":"+E14-G14","v":0},{"$f":"+I14*D14","v":0}]
[]
["3","Dobava in montaža PVC fazonskega elementa - koleno 45, nazivnega premera DN 160 mm, z integrirano spojko, izdelano iz PVC materiala. Vključno z veznim in tesnilnim materialom.                                       ","kos",2,null,{"$f":"(D16*E16)","v":0},{"$f":"+E16*MM","v":0},{"$f":"+G16*D16","v":0},{"$f":"+E16-G16","v":0},{"$f":"+I16*D16","v":0}]
[]
[null,"4.3 Jaški"]
[]
[1,"Izdelava cestnega požiralnika, cevi iz cementnega betona, fi 50 cm z betoniranjem dna. Globina 1,5 m. ","kos",1,null,{"$f":"(D20*E20)","v":0},{"$f":"+E20*MM","v":0},{"$f":"+G20*D20","v":0},{"$f":"+E20-G20","v":0},{"$f":"+I20*D20","v":0}]
[]
[2,"Dobava in vgraditev rešetke iz duktilne litine z nosilnostjo 400 kN, s prerezom 400/400 mm (vbočena)","kos",1,null,{"$f":"(D22*E22)","v":0},{"$f":"+E22*MM","v":0},{"$f":"+G22*D22","v":0},{"$f":"+E22-G22","v":0},{"$f":"+I22*D22","v":0}]
[]
[3,"Dobava in vgradnja jaška iz polietilena, krožnega prereza s premerom 62.5 cm, globokega do 1,0 m.","kos",8,null,{"$f":"D24*E24","v":0},{"$f":"+E24*MM","v":0},{"$f":"+G24*D24","v":0},{"$f":"+E24-G24","v":0},{"$f":"+I24*D24","v":0}]
[]
[4,"Dobava in vgraditev vpadnega jaška PVC DN200 skladno z detajlom","kos",1,null,{"$f":"D26*E26","v":0},{"$f":"+E26*MM","v":0},{"$f":"+G26*D26","v":0},{"$f":"+E26-G26","v":0},{"$f":"+I26*D26","v":0}]
[]
[5,"Dobava in vgraditev betonskega jaška dim.: 80 x 80 cm, globokega do 4,0 m, vključno s pokrovom, skladno z detajlom","kos",4,null,{"$f":"D28*E28","v":0},{"$f":"+E28*MM","v":0},{"$f":"+G28*D28","v":0},{"$f":"+E28-G28","v":0},{"$f":"+I28*D28","v":0}]
[null,null,null,null,0]
[]
[null,"ODVODNJAVANJE SKUPAJ:",null,null,null,{"$f":"SUM(F7:F30)","v":0},null,{"$f":"SUM(H7:H30)","v":0},null,{"$f":"SUM(J7:J30)","v":0}]

{"sheet":"AB-J. STROJNE INST. REKAP.","index":33,"n_rows":45,"n_cols":5,"rows_kept":45,"cut":false,"hidden":false,"merged":[]}
["Investitor:   ","Mestna občina Ljubljana"]
[null,"Konzorcij družb Petrol d. d. in Resalta d. o. o. "]
["Objekt:      ","OŠ Savsko naselje, Matjaževa ulica 4, Ljubljana"]
[null," - Celovita prenova objekta s statično, požarno in energetsko sanacijo."]
["Štev. proj.:     "]
["Datum:      ","April 2022"]
[]
[]
[]
[]
[null,"REKAPITULACIJA"]
[null,"STROJNE INSTALACIJE Objekt A in B,   "]
[]
[]
[null,"Ponudbena vrednost - skupna rekapitulacija","Vrednost  brez popusta","Popust","Vrednost s popustom"]
[1,"SPLOŠNO",{"$f":"'AB-1.SPLOŠNO'!$F$79","v":0},{"$f":"'AB-1.SPLOŠNO'!$H$79","v":0},{"$f":"'AB-1.SPLOŠNO'!$J$79","v":0}]
[2,"OGREVANJE IN HLAJENJE",{"$f":"'AB-2.OGREVANJE IN HLAJENJE'!$F$824","v":0},{"$f":"'AB-2.OGREVANJE IN HLAJENJE'!$H$824","v":0},{"$f":"'AB-2.OGREVANJE IN HLAJENJE'!$J$824","v":0}]
[3,"VODOVOD IN KANALIZACIJA",{"$f":"'AB-3.VODOVOD IN KANALIZACIJA'!$F$742","v":0},{"$f":"'AB-3.VODOVOD IN KANALIZACIJA'!$H$742","v":0},{"$f":"'AB-3.VODOVOD IN KANALIZACIJA'!$J$742","v":0}]
[4,"PREZRAČEVANJE",{"$f":"'AB-4.PREZRAČEVANJE'!$F$579","v":0},{"$f":"'AB-4.PREZRAČEVANJE'!$H$579","v":0},{"$f":"'AB-4.PREZRAČEVANJE'!$J$579","v":0}]
[null,"SKUPAJ",{"$f":"SUM(C16:C19)","v":0},{"$f":"SUM(D16:D19)","v":0},{"$f":"SUM(E16:E19)","v":0}]
[null,"22% DDV",null,null,{"$f":"+E20*0.22","v":0}]
[null,"Objekt A in B   STROJNE INSTALACIJE SKUPAJ Z DDV",null,null,{"$f":"+E20+E21","v":0}]
[]
[]
[null,"PONUDBENI POPIS"]
[]
[null,"Pri izdelavi ponudbe, na podlagi predmetnega popisa, je potrebno v ceni posamezne enote ali sistema navedenega v popisu upoštevati:"]
[null,"Dobavo materiala, ustrezno zaščitenega proti poškodbam, z vsemi transportnimi in manipulativnimi stroški, stroški zavarovanj, skladiščenja med transportom ali pred montažo. Pred montažo se vsak kos posebej pregleda in ugotovi ustreznost glede na zahteve. Vsaka naprava oz. element mora biti opremljena z navodili za obratovanje in vzdrževanje v slovenskem jeziku."]
[null,"Montažo materiala, izvedeno s strani strokovno usposobljene osebe, po potrebi osebe, ki je pooblaščena za montažo. Vsa oprema mora biti montirana skladno z navodili proizvajalca. V sklopu montaže je potrebno upoštevati potrebno montažno orodje, dvigalne pripomočke,ves drobni montažni in tesnilni material, pripravljalna in zaključna dela ter izdelavo morebitnih prebojev in dolbenj."]
[null,"Montaža se vrši tudi na koti + 4,4m, za kar mora izvajalec v okviru ponudbe vključiti potrebne dvižne ploščadi in vršiti montažo skladno zahtevam varstva pri delu. "]
[null,"Zaščito vgrajenega materiala na objektu proti poškodbam nastalim zaradi izvajanja gradbenih in ostalih del po vgradnji materiala vse do primopredaje objekta naročniku."]
[null,"Izpiranje in čiščenje vseh cevnih instalacij."]
[null,"Vreguliranje vseh cevnih razvodov z nastavitvijo regulacijskih elementov na posameznem končnem elementu in v sistemu, izvedbo meritev pretokov ter pridobitev zapisnika o uravnovešenju cevnih sistemov."]
[null,"Zagon in kontrola posameznega sistema v celoti ter izdelava zapisnika o funkcionalnosti sistema."]
[null,"Označevanje cevovodov ter kanalov z trajno označbo medija in smeri toka."]
[null,"Tlačne, tesnostne in ostale potrebne preizkuse sistemov z zapisniki o izvedbah preizkusov, podpisanimi s strani nadzornega organa. V kolikor je za posamezno instalacijo potrebno pridobiti ustrezno dokumentacijo drugega podjetja (plin, vodovod),  je potrebno upoštevati stroške nadzora s strani tega podjetja, naročilo preizkusov in pridobitev dokumentacije o ustreznosti in uspešno poravljenih preizkusih."]
[null,"V kolikor je potrebno - pregled vseh elementov aktivne in pasivne požarne zaščite s strani pooblaščene organizacije, pridobivanje izjav o ustreznosti izvedenih del in montaže. Vsi elementi sistemov aktivne ali pasivne požarne zaščite morajo biti ustrezno označeni in dokumentirani. "]
[null,"Pripravo dokumentacije skladno s \"Pravilnikom o gradbenih proizvodih\", ki jo izvajalec pred montažo preda nadzornemu organu (atesti, izjave o skladnosti, CE certifikati, tehnična soglasja,….)."]
[null,"Pripravo dokumentacije o ustrezni montaži elementov ali naprav z zapisniki o kontroli električnih in cevnih povezav posamezne naprave ali zagonu naprav s strani pooblaščene organizacije ali proizvajalca, če je to potrebno."]
[null,"Vris sprememb nastalih med gradnjo v PZI načrt ter predaja izdelovalcu PID načrta."]
[null,"Izdelava enopolnih shem po izvedenih predelavah obstoječih elektro krmilnih omar, kakor tudi PID enopolnih shem novih elektro krmilnih omar - velja za CNS sistem."]
[null,"Izdelava funkcionalnih shem posameznih sistemov v okvirju, nameščenih na steno odgovarjajočih prostorov skupaj z navodili za uporabo posameznega sistema."]
[null,"Izdelava dokazila o zanesljivosti objekta skladno z veljavnim pravilnikom."]
[null,"Priprava podrobnih navodil za obratovanje in vzdrževanje elementov in sistemov v objektu. Uvajanje upravljavca sistemov investitorja, poučevanja, šolanja ter pomoč v prvem letu obratovanja."]
[null,"Pri izdelavi ponudbe, na podlagi predmetnega popisa, je potrebno v ceni posamezne enote ali sistema navedenega v popisu upoštevati:"]

{"sheet":"AB-1.SPLOŠNO","index":34,"n_rows":79,"n_cols":10,"rows_kept":79,"cut":false,"hidden":false,"merged":[]}
[]
[" 5.0.","Objekt A in B,   SPLOŠNI STROŠKI - STROJNE INSTALACIJE"]
[null,"V kolikor ni drugače navedeno v popisu - vse pozicije specifikacije zajemajo dobavo, izdelavo, montažo, kompletni drobni montažni material in kompletno atestno in predajno dokumentacijo!"]
[null,"Pred naročilom opreme obvezno uskladiti opremo z arhitekturno zasnovo in morebitnimi spremembami nastalimi med PZI načrtom in ponujeno opremo oz. izvedbo del."]
[null,"Pred naročilom opreme obvezno uskladiti opremo z arhitekturno zasnovo in morebitnimi spremembami nastalimi med PZI načrtom in ponujeno opremo oz. izvedbo del."]
[]
["ZAP. ŠT.","OPIS","     ME","KOLIČUNA","CENA/ENOTO","SKUPAJ","POPUST","POPUST SKUPAJ","CENA/ENOTO S POPUSTOM","SKUPAJ S POPUSTOM"]
[]
[null,"SPLOŠNO"]
[]
["1.","Izdelava kompletne dokumentacije za pridobitev uporabnega dovoljnenja (DZO), komplet s pripadajočimi certifikati, izjavami o lastnostih opreme in materiala ter izjavami o skladnosti vse skladno “Gradbenemu zakonu”. Investitorju se preda 3 izvode v pisni obliki in 1 izvod v elektronski obliki."]
[null,null,"kpl",1,null,{"$f":"E12*$D12","v":0},{"$f":"+E12*MM","v":0},{"$f":"+G12*D12","v":0},{"$f":"+E12-G12","v":0},{"$f":"+I12*D12","v":0}]
[]
["2.","Izdelava navodil za vzdrževanje in uporabo ter predaja detajlnih navodil dobaviteljev opreme, vse v slovenskem jeziku."]
[null,null,"kpl",1,null,{"$f":"E15*$D15","v":0},{"$f":"+E15*MM","v":0},{"$f":"+G15*D15","v":0},{"$f":"+E15-G15","v":0},{"$f":"+I15*D15","v":0}]
[]
["3.","Vris sprememb strojnih instalacij nastalih v času montaže glede na PZI v en izvod PZI in sodelovanje s projektantom za izdelavo projekta izvedenih del"]
[null,null,"kpl",1,null,{"$f":"E18*$D18","v":0},{"$f":"+E18*MM","v":0},{"$f":"+G18*D18","v":0},{"$f":"+E18-G18","v":0},{"$f":"+I18*D18","v":0}]
[]
["4.","Označitev instalacij s trajnimi oznakami."]
[null,null,"kpl",1,null,{"$f":"E21*$D21","v":0},{"$f":"+E21*MM","v":0},{"$f":"+G21*D21","v":0},{"$f":"+E21-G21","v":0},{"$f":"+I21*D21","v":0}]
[]
["5.","Pregled izvedenih požarnih prebojev, PID načrti požarnih prebojev kpl. z vsemi potrebnimi atesti, certifikati in izjavami o skladnosti."]
[null,null,"kpl",1,null,{"$f":"E24*$D24","v":0},{"$f":"+E24*MM","v":0},{"$f":"+G24*D24","v":0},{"$f":"+E24-G24","v":0},{"$f":"+I24*D24","v":0}]
[]
[null,"SKUPAJ SPLOŠNO",null,null,null,{"$f":"SUM(F12:F25)","v":0},null,{"$f":"SUM(H12:H25)","v":0},null,{"$f":"SUM(J12:J25)","v":0}]
[]
[]
[null,"POŽARNA OPREMA"]
[]
[null,"Število gasilnih aparotov v popisu je na podlagi zasnove načrta požarne varnost (Izdelano pri LOZEJ d.o.o.,) "]
[]
["1.","Ročni gasilnik na prah ABC oziroma \"S\" gasilnik, namenjen za gašenje začetnih požarov trdnih snovi, vnetljivih tekočin ter plinov in požarov na električnih napeljavah in napravh s količino prahu kot navedeno v NPV in popisu. Gasilnik se sestoji iz rezervoarja pod tlakom z vgrajenim manometrom, ventilom, ročnikom ter nosilcem za pritrditev na steno, vključno s pritrdilnim materialom. "]
[null,"6EG (6kg, ABC prah) ","kos",1,null,{"$f":"E34*$D34","v":0},{"$f":"+E34*MM","v":0},{"$f":"+G34*D34","v":0},{"$f":"+E34-G34","v":0},{"$f":"+I34*D34","v":0}]
[null,"9EG (9kg, ABC prah) ","kos",23,null,{"$f":"E35*$D35","v":0},{"$f":"+E35*MM","v":0},{"$f":"+G35*D35","v":0},{"$f":"+E35-G35","v":0},{"$f":"+I35*D35","v":0}]
[null,"12EG (12kg, ABC prah) ","kos",1,null,{"$f":"E36*$D36","v":0},{"$f":"+E36*MM","v":0},{"$f":"+G36*D36","v":0},{"$f":"+E36-G36","v":0},{"$f":"+I36*D36","v":0}]
[]
["2.","Dobava in montaža oznak za ročne gasilnike na plexi steklu, komplet s lepilnim materialom."]
[null,null,"kpl",{"$f":"D36+D35+D34","v":25},null,{"$f":"E39*$D39","v":0},{"$f":"+E39*MM","v":0},{"$f":"+G39*D39","v":0},{"$f":"+E39-G39","v":0},{"$f":"+I39*D39","v":0}]
[]
["3.","Dobava in montaža nadometnega ali podometnega EURO hidranta s poltogo cevjo DN25, dolžine 30 m v kolutu, D-ročnikom z zasunom in gasilskim ventilom, komplet s pritrdilnim in tesnilnim materialom sestoječ iz "]
[null,"- zidne hidrantne omarice za EURO hidrant, z vratci na tečaje, dim. omarice (ŠxHXG) 740x840x250 mm\n- opleskane z rdečo barvo in z odgovarjajočo oznako na vratcih\n- priključnega medeninastega ventila za hidrant dim. 50mm\n- ročnika z ustnikom dim. 25 mm\n- tlačne gumijaste cevi dim. 25 mm, dolžine 30m, navite na gibljivem kolutu"]
[null,"ventil DN50","kos",3,null,{"$f":"E43*$D43","v":0},{"$f":"+E43*MM","v":0},{"$f":"+G43*D43","v":0},{"$f":"+E43-G43","v":0},{"$f":"+I43*D43","v":0}]
[]
["4.","Dobava in montaža oznak za hidrante na plexi steklu, komplet s lepilnim materialom."]
[null,null,"kos",6,null,{"$f":"E46*$D46","v":0},{"$f":"+E46*MM","v":0},{"$f":"+G46*D46","v":0},{"$f":"+E46-G46","v":0},{"$f":"+I46*D46","v":0}]
[]
["5.","Meritve in poročilo o ustreznosti notranjih hidrantov "]
[null,null,"kpl",1,null,{"$f":"E49*$D49","v":0},{"$f":"+E49*MM","v":0},{"$f":"+G49*D49","v":0},{"$f":"+E49-G49","v":0},{"$f":"+I49*D49","v":0}]
[]
["6.","Meritve in poročilo o ustreznosti  zunanjih  hidrantov "]
[null,null,"kpl",1,null,{"$f":"E52*$D52","v":0},{"$f":"+E52*MM","v":0},{"$f":"+G52*D52","v":0},{"$f":"+E52-G52","v":0},{"$f":"+I52*D52","v":0}]
[]
[null,"SKUPAJ POŽARNA OPREMA",null,null,null,{"$f":"SUM(F34:F52)","v":0},null,{"$f":"SUM(H34:H52)","v":0},null,{"$f":"SUM(J34:J52)","v":0}]
[]
[]
[null,"GRADBENA DELA - DOLBLENJE IN VRTANJE"]
[]
["1.","Izvedba dolbnlenja in vrtanje prebojev do ø 50 z lastnim strojem za strojne instalacije. Obračun po režijski uri, na podlagi vpisa v gradbeni dnevnik in potrditve nadzora."]
[]
[null,null,"ur",200,null,{"$f":"E61*$D61","v":0},{"$f":"+E61*MM","v":0},{"$f":"+G61*D61","v":0},{"$f":"+E61-G61","v":0},{"$f":"+I61*D61","v":0}]
[]
["2.","Izdelava prebojev v AB elementih / zidane stene za potrebe strojnih instalacij ter dobava materiala in krpanje prebojev  po končanih instalacijskih delih, kompletno z vsem potrebnim materialom in delom. Debelina sten od 10 cm do 45 cm."]
[null,"vrtanje prebojev do ø80 mm","kos",135,null,{"$f":"E64*$D64","v":0},{"$f":"+E64*MM","v":0},{"$f":"+G64*D64","v":0},{"$f":"+E64-G64","v":0},{"$f":"+I64*D64","v":0}]
[null,"vrtanje prebojev do ø100 mm","kos",64,null,0,0,0,0,0]
[null,"vrtanje prebojev do ø120 mm","kos",4,null,0,0,0,0,0]
[null,"vrtanje prebojev do ø150 mm","kos",12,null,0,0,0,0,0]
[null,"vrtanje prebojev do ø200 mm","kos",20,null,0,0,0,0,0]
[null,"izdelava prebojev 300 x 200 mm","kos",3,null,0,0,0,0,0]
[null,"izdelava prebojev 300 x 250 mm","kos",7,null,0,0,0,0,0]
[null,"izdelava prebojev 350 x 250 mm","kos",3,null,0,0,0,0,0]
[null,"izdelava prebojev 400 x 250 mm","kos",5,null,0,0,0,0,0]
[null,"izdelava prebojev 600 x 450 mm","kos",8,null,0,0,0,0,0]
[null,"izdelava prebojev 700 x 700 mm","kos",1,null,0,0,0,0,0]
[null,"izdelava prebojev 800 x 500 mm","kos",1,null,0,0,0,0,0]
[]
[null,"SKUPAJ GRADBENA DELA",null,null,null,{"$f":"SUM(F61:F75)","v":0},null,{"$f":"SUM(H61:H75)","v":0},null,{"$f":"SUM(J61:J75)","v":0}]
[]
[null,"SKUPAJ SPLOŠNI STROŠKI",null,null,null,{"$f":"F77+F54+F26","v":0},null,{"$f":"H77+H54+H26","v":0},null,{"$f":"J77+J54+J26","v":0}]

{"sheet":"AB-2.OGREVANJE IN HLAJENJE","index":35,"n_rows":824,"n_cols":10,"rows_kept":824,"cut":false,"hidden":false,"merged":[]}
[]
["5.1.","Objekt A in B,   OGREVANJE IN HLAJENJE"]
[]
[null,"V kolikor ni drugače navedeno v popisu - vse pozicije specifikacije zajemajo dobavo, izdelavo, montažo, kompletni drobni montažni material in kompletno atestno in predajno dokumentacijo!"]
[null,"Pred naročilom opreme obvezno uskladiti opremo z arhitekturno zasnovo in morebitnimi spremembami nastalimi med PZI načrtom in ponujeno opremo oz. izvedbo del."]
[]
["ZAP. ŠT.","OPIS","     ME","KOLIČUNA","CENA/ENOTO","SKUPAJ","POPUST","POPUST SKUPAJ","CENA/ENOTO S POPUSTOM","SKUPAJ S POPUSTOM"]
[]
["A.","DEMONTAŽE"]
[]
[null,"Vsa dela zajemajo, demontažo, iznos iz objekta ter odvoz na deponijo s predajo evidenčnega lista. Obračun urnih postavk se obračuna na podlagi vpisov v gradbenem dnevniku. Za obračun mora izvajalec točno navesti dela, ki so se izvajala ob demontaži ter število oseb in časovni obseg izvedenih del. "]
[]
["1.","Praznenje sistema ogrevne vode na sistemu oz. vejah na katerih se bo izvajal poseg."]
[null,null,"kpl",1,null,{"$f":"E14*D14","v":0},{"$f":"+E14*MM","v":0},{"$f":"+G14*D14","v":0},{"$f":"+E14-G14","v":0},{"$f":"+I14*D14","v":0}]
[]
["2.","Demontaža vseh obstoječih radiatorskih termostatskih ventilov proizvoda Danfoss, tip RA-N, kompletno čiščenjem ventilov, deponiranjem in pripravo za ponovno montažo. V obsegu so zajeti tako DN 15 kot DN 20 termostatski ventili"]
[null,"obračun po ventilu","kpl",0]
[]
["3.","Demontaža vseh obstoječih radiatorskih termostatskih glav  proizvoda Danfoss, tip RA 2000, vključno z deponiranjem in pripravo za ponovno montažo."]
[null,"obračun po ventilu","kpl",0]
[]
["4.","Demontaža vseh obstoječih radiatorskih zapornih ventilov proizvoda Danfoss, tip RLV-S, kompletno čiščenjem ventilov, deponiranjem in pripravo za ponovno montažo. V obsegu so zajeti tako DN 15 kot DN 20 ventili"]
[null,"obračun po ventilu","kpl",125,null,{"$f":"E23*D23","v":0},{"$f":"+E23*MM","v":0},{"$f":"+G23*D23","v":0},{"$f":"+E23-G23","v":0},{"$f":"+I23*D23","v":0}]
[]
["5.","Demontaža vseh obstoječih radiatorjev, komplet stenskimi ali talnimi nosilci ter iznosom na začasno deponijo "]
[null,null,"kos",125,null,{"$f":"E26*D26","v":0},{"$f":"+E26*MM","v":0},{"$f":"+G26*D26","v":0},{"$f":"+E26-G26","v":0},{"$f":"+I26*D26","v":0}]
[]
["6.","Demontaža obstoječih cevnih povezav radiatorskega ogrevanja od DN 10 do DN 65, komplet z izolacijo in nosilno konstrukcijo. V ceni upoštevati iznos iz objekta na začasno deponijo."]
[null,"ocenjeno ","m",1200,null,{"$f":"E29*D29","v":0},{"$f":"+E29*MM","v":0},{"$f":"+G29*D29","v":0},{"$f":"+E29-G29","v":0},{"$f":"+I29*D29","v":0}]
[]
["7.","Čiščenje objekta po demontažah"]
[null,null,"kpl",1,null,{"$f":"E32*D32","v":0},{"$f":"+E32*MM","v":0},{"$f":"+G32*D32","v":0},{"$f":"+E32-G32","v":0},{"$f":"+I32*D32","v":0}]
[]
["8.","Odvoz odvečnega materiala na deponijo (cevi, izolacija, radiatorji), vključno s potrdilom o ravnanju z gradbenimi odpadki."]
[null,null,"kpl",1,null,{"$f":"E35*D35","v":0},{"$f":"+E35*MM","v":0},{"$f":"+G35*D35","v":0},{"$f":"+E35-G35","v":0},{"$f":"+I35*D35","v":0}]
[]
["9.","Obračun po količinah, ki izhajajo iz potrjenega gradbenega dnevnika in ob upoštevanju kalkulativnih osnov","kpl",1,{"$f":"SUM(F8:F35)*0.05","v":0},{"$f":"E37*D37","v":0},{"$f":"+E37*MM","v":0},{"$f":"+G37*D37","v":0},{"$f":"+E37-G37","v":0},{"$f":"+I37*D37","v":0}]
[]
[null,"SKUPAJ DEMONTAŽE",null,null,null,{"$f":"SUM(F9:F37)","v":0},null,{"$f":"SUM(H9:H37)","v":0},null,{"$f":"SUM(J9:J37)","v":0}]
[]
["B.","RADIATORSKO OGREVANJE - ŠOLSKI OBJEKT"]
[]
["1.","Dobava in montaža - jekleni panelni radiator izdelan iz hladno valjane pločevine po EN 442-1, površinsko zaščiten osnovnim nanosom stabiliziran pri temperaturi 190°C ter končno barvan z elektrostatičnim prašnim barvanje po DIN 5590/2, RAL9016, kontrola proizvoda skladna z EN-ISO 9001/9002, komplet s 1 x  čepom in odzračevalno pipico, stranski priklop za dvocevni sistem, okrasno rozeto, za obratovalni tlak do 10 bar,  skupaj z garnituro za pritrditev: nosilci z vijaki in zidnimi vložki ter končno lakiran, po naslednji specifikaciji, Vogel&Noot tip K:"]
[null,"Odgovarja Vogel & Noot tip K oziroma proizvod drugega proizvajalca enakih ali boljših karakteristik."]
[null,"11 K-600/600","kos",7,null,{"$f":"E45*$D45","v":0},{"$f":"+E45*MM","v":0},{"$f":"+G45*D45","v":0},{"$f":"+E45-G45","v":0},{"$f":"+I45*D45","v":0}]
[null,"21K-S/400/1000","kos",8,null,0,0,0,0,0]
[null,"21K-S/600/520","kos",2,null,0,0,0,0,0]
[null,"21K-S/600/600","kos",9,null,0,0,0,0,0]
[null,"21K-S/600/720","kos",1,null,0,0,0,0,0]
[null,"21K-S/600/800","kos",2,null,0,0,0,0,0]
[null,"21K-S/600/920","kos",15,null,0,0,0,0,0]
[null,"21K-S/600/1000","kos",23,null,0,0,0,0,0]
[null,"21K-S/600/1120","kos",9,null,0,0,0,0,0]
[null,"21K-S/600/1200","kos",2,null,0,0,0,0,0]
[null,"21K-S-900/600","kos",1,null,0,0,0,0,0]
[null,"22K-300/1000","kos",1,null,0,0,0,0,0]
[null,"22K-300/1120","kos",1,null,0,0,0,0,0]
[null,"22K-600/1000","kos",1,null,0,0,0,0,0]
[null,"22K-600/1200","kos",2,null,0,0,0,0,0]
[null,"22K-600/1400","kos",13,null,0,0,0,0,0]
[null,"22K-600/1600","kos",9,null,0,0,0,0,0]
[null,"22K-900/800","kos",1,null,0,0,0,0,0]
[null,"33K-300/1600","kos",1,null,0,0,0,0,0]
[null,"33K-300/2000","kos",2,null,{"$f":"E64*$D64","v":0},{"$f":"+E64*MM","v":0},{"$f":"+G64*D64","v":0},{"$f":"+E64-G64","v":0},{"$f":"+I64*D64","v":0}]
[null,"33K-300/2400","kos",4,null,{"$f":"E65*$D65","v":0},{"$f":"+E65*MM","v":0},{"$f":"+G65*D65","v":0},{"$f":"+E65-G65","v":0},{"$f":"+I65*D65","v":0}]
[]
["2.","Ponovna montaža demontiranega radiatorskega termostatskega ventila s prednastavitvijo za priključitev radiatorjev, vključno s tesnilnim in pritrdilnim materialom za montažo, ravne ali kotne oblike. "]
[null,"Ustreza proizvod proizvajalca Danfoss d.o.o. "]
[null,"RA-N DN15","kos",0]
[null,"RA-N DN20","kos",0]
[]
["3.","Ponovna montaža demontiranega radiatorskega zapornega ventila proizvoda Danfoss, tip RLV-S, za priključitev radiatorjev, vključno s tesnilnim in pritrdilnim materialom za montažo, ravne ali kotne oblike. "]
[null,"Ustreza proizvod proizvajalca Danfoss d.o.o."]
[null,"RLV-S DN15","kos",107,null,{"$f":"E74*$D74","v":0},{"$f":"+E74*MM","v":0},{"$f":"+G74*D74","v":0},{"$f":"+E74-G74","v":0},{"$f":"+I74*D74","v":0}]
[null,"RLV-S DN20","kos",7,null,{"$f":"E75*$D75","v":0},{"$f":"+E75*MM","v":0},{"$f":"+G75*D75","v":0},{"$f":"+E75-G75","v":0},{"$f":"+I75*D75","v":0}]
[]
["4.","Ponovna montaža obstoječih radiatorskih termostatskih glav  proizvoda Danfoss, tip RA 2000."]
[null,"RA 2920","kos",0]
[]
[]
["5.","Dobava in montaža radiatorskega termostatskega ventila s prednastavitvijo za priključitev radiatorjev, vključno s tesnilnim in pritrdilnim materialom za montažo, ravne ali kotne oblike. "]
[null,"Ustreza proizvod proizvajalca Danfoss d.o.o."]
[null,"RA-N DN10","kos",0]
[null,"RA-N DN15","kos",0]
[null,"RA-DV DN 10","kos",10,null,{"$f":"E85*D85","v":0},{"$f":"+E85*MM","v":0},{"$f":"+G85*D85","v":0},{"$f":"+E85-G85","v":0},{"$f":"+I85*D85","v":0}]
[]
["6.","Dobava in montaža radiatorskega zapornega ventila proizvoda Danfoss, tip RLV-S, za priključitev radiatorjev, vključno s tesnilnim in pritrdilnim materialom za montažo, ravne ali kotne oblike. "]
[null,"Ustreza proizvod proizvajalca Danfoss d.o.o."]
[null,"RLV-S DN10","kos",10,null,{"$f":"E89*D89","v":0},{"$f":"+E89*MM","v":0},{"$f":"+G89*D89","v":0},{"$f":"+E89-G89","v":0},{"$f":"+I89*D89","v":0}]
[null,"RLV-S DN15","kos",10,null,{"$f":"E90*D90","v":0},{"$f":"+E90*MM","v":0},{"$f":"+G90*D90","v":0},{"$f":"+E90-G90","v":0},{"$f":"+I90*D90","v":0}]
[]
[]
["7.","Dobava in montaža - termostatska glava, ojačan model za javne prostore, s plinskim polnjenjem, z možnostjo blokiranja in omejevanja temperature, protizmrzovalne zaščite, tamperproof, priključek s spojnim obročem in inbus vijakom, komplet  s pritrdilnim materialom."]
[null,"Ustreza proizvod proizvajalca Danfoss d.o.o."]
[null,"RA 2920","kos",0]
[]
["8.","PVC zidna rozeta za prekritje zidnega preboja ogrevne cevi, vključno z dobavo in montažo."]
[null,null,"kos",80,null,{"$f":"E98*$D98","v":0},{"$f":"+E98*MM","v":0},{"$f":"+G98*D98","v":0},{"$f":"+E98-G98","v":0},{"$f":"+I98*D98","v":0}]
[]
["9.","Dobava in montaža cevi iz nelegiranega jekla št. 1.0308 (E235),  (ni primeren za instalacijo pitne vode)  zunaj galvansko pocinkane s slojem cinka debeline 8-15µm,  izdelane po DIN EN 10305-3 s pripadajočimi fitingi za hladno stiskanje in sigurnostno konturo, ki pri polnjenju instalacije detektira nezatisnjene  spoje. Nezatisnjene spoje se pri mokrem preizkusu zagotovo odkrije z iztekanjem preizkusnega medija ali padanjem tlaka na preizkusnem manometru, v območju 1 bar do 6,5 bar, pri suhem preizkusu pa v območju 22 mbar do 3 bar."]
[null,"Proizvod kot npr. Viega Prestabo oziroma proizvod drugega proizvajalca enakih ali boljših karakteristik komplet z tesnilnim in spojnim materialom dimenzija:"]
[null,"DN 10 - ø 15x1,2","m",115,null,{"$f":"E102*D102","v":0},{"$f":"+E102*MM","v":0},{"$f":"+G102*D102","v":0},{"$f":"+E102-G102","v":0},{"$f":"+I102*D102","v":0}]
[null,"DN 15 - ø 18x1,2","m",430,null,0,0,0,0,0]
[null,"DN 20 - ø 22x1,5","m",315,null,0,0,0,0,0]
[null,"DN 25 - ø 28x1,5","m",210,null,0,0,0,0,0]
[null,"DN 32 - ø 35x1,5","m",105,null,0,0,0,0,0]
[null,"DN 40 - ø 42x1,5","m",100,null,0,0,0,0,0]
[null,"DN 50 - ø 54x1,5","m",80,null,0,0,0,0,0]
[]
["10.","Dobava in montaža Armaflex ACE Plus elastomerne fleksibilne izolacije na osnovi sintetičnega kavčuka za izolacijo cevovodov, preprečevanje kondenzacije in energijske prihranke. EU požarna klasifikacija B-s3,d0; toplotna prevodnost λ pri 0°C je 0,035 W/m.K; koef. upora difuziji vodne pare je 10.000 (za plošče deb. 3-32mm in cevi deb. 6-32mm; za ostale dimenzije je 7.000; za temp. območje od -50°C  do  +110°C; trakovi in plošče lepljeni na površino do maks. +85°C. Toplotne mostove potrebno zaščititi s cevnimi nosilci Armafix AF. Spoje (vzdožne, prečne, površino) potrebno lepiti z original Armaflex lepilom,  za čiščenje orodja, rok in razmaščevanje pa Armaflex Čistilo. CE certifikat v skladu z EN 14304."]
[null,"Ustreza proizvod Armacell Armaflex ACE/P oz. oziroma proizvod drugega proizvajalca enakih ali boljših karakteristik."]
[null,"ACE/P-19x DN10","m",10,null,{"$f":"E112*D112","v":0},{"$f":"+E112*MM","v":0},{"$f":"+G112*D112","v":0},{"$f":"+E112-G112","v":0},{"$f":"+I112*D112","v":0}]
[null,"ACE/P-19x DN15","m",20,null,0,0,0,0,0]
[null,"ACE/P-19x DN20","m",110,null,0,0,0,0,0]
[null,"ACE/P-25x DN25","m",180,null,0,0,0,0,0]
[null,"ACE/P-32x DN32","m",20,null,0,0,0,0,0]
[null,"ACE/P-40x DN40","m",10,null,0,0,0,0,0]
[null,"ACE/P-40x DN50","m",10,null,0,0,0,0,0]
[]
["11.","Dobava in montaža mehanske zaščita izolacije izdelana iz PVC folije, komplet z oblikovnimi kosi. Zaščita izolacije se izvaja le na segmentu vidnih izoliranih cevi, ne izvede pa se v spuščenih stropovih."]
[null,"odgovarja Okapak SE (nizka vnetljivost po DIN4102-B1) oziroma proizvod drugega proizvajalca enakih ali boljših karakteristik."]
[null,"DN10, izolacija 19 mm","m",10,null,{"$f":"E122*D122","v":0},{"$f":"+E122*MM","v":0},{"$f":"+G122*D122","v":0},{"$f":"+E122-G122","v":0},{"$f":"+I122*D122","v":0}]
[null,"DN15, izolacija 19 mm","m",20,null,0,0,0,0,0]
[null,"DN20, izolacija 19 mm ","m",110,null,0,0,0,0,0]
[null,"DN25, izolacija 25 mm ","m",180,null,0,0,0,0,0]
[null,"DN32, izolacija 32 mm","m",20,null,0,0,0,0,0]
[null,"DN40, izolacija 40 mm","m",10,null,0,0,0,0,0]
[null,"DN50, izolacija 40 mm","m",10,null,0,0,0,0,0]
[]
["12.","Dobava in montaža cevakov iz kamene volne Knauf insulation Thermo-Tek PS ECO ALU, tovarniško zaščiteno z aluminijasto folijo, komplet s pripadajočimi oblikovnimi kosi. Izvedba izolacije preko zaščitenega prostora požarnega izhoda in v območju avle vključno preko požarnih zidov."]
[null,"Ustreza proizvod Knauf Insulation oz. oziroma proizvod drugega proizvajalca enakih ali boljših karakteristik."]
[null,"DN 10, izolacija 20 mm","m",15,null,{"$f":"E132*$D132","v":0},{"$f":"+E132*MM","v":0},{"$f":"+G132*D132","v":0},{"$f":"+E132-G132","v":0},{"$f":"+I132*D132","v":0}]
[null,"DN 15, izolacija 20 mm ","m",10,null,0,0,0,0,0]
[null,"DN 20, izolacija 20 mm","m",30,null,0,0,0,0,0]
[null,"DN 25, izolacija 25 mm ","m",31,null,0,0,0,0,0]
[null,"DN 32, izolacija 30 mm","m",85,null,0,0,0,0,0]
[null,"DN 40, izolacija 40 mm","m",100,null,0,0,0,0,0]
[null,"DN 50, izolacija 50 mm","m",80,null,0,0,0,0,0]
[]
["13.","Izvedba zapore prehoda cevne instalacije skozi požarno steno ali strop, ki se sestoji iz požarnega premaza, vložka kamene volne in manšete oz. okvirja širine najmanj 10 cm, oziroma požarne objemke z ustreznim certifikatom o ustreznosti. Velikost ter število odprtin"]
[null,"do 0,01m2                                                                       ","kos",26,null,{"$f":"E141*$D141","v":0},{"$f":"+E141*MM","v":0},{"$f":"+G141*D141","v":0},{"$f":"+E141-G141","v":0},{"$f":"+I141*D141","v":0}]
[null,"do 0,02m2                                                                       ","kos",9,null,{"$f":"E142*$D142","v":0},{"$f":"+E142*MM","v":0},{"$f":"+G142*D142","v":0},{"$f":"+E142-G142","v":0},{"$f":"+I142*D142","v":0}]
[]
["14.","Barvanje novih vidnih cevi z estetskim lakom obstojnim do 120 ºC, RAL po izboru arhitekta, 2 x nanos laka."]
[null,null,"m2",50,null,{"$f":"E145*$D145","v":0},{"$f":"+E145*MM","v":0},{"$f":"+G145*D145","v":0},{"$f":"+E145-G145","v":0},{"$f":"+I145*D145","v":0}]
[]
["15.","Dobava in montaža krogelne pipe ravne izvedbe z izpustno pipico, primerna za toplo vodo temp. 110 ºC in tlak PN 6, z notranjimi navojnimi priključki, ohišjem iz medenine, krogle iz nerjavečega materiala in ročice za odpiranje, komplet s tesnilnim materialom"]
[null,"Odgovarja tip Kovina K402-406 oziroma proizvod drugega proizvajalca enakih ali boljših karakteristik, nazivne velikosti:"]
[null,"DN20                                                             ","kos",4,null,{"$f":"E149*$D149","v":0},{"$f":"+E149*MM","v":0},{"$f":"+G149*D149","v":0},{"$f":"+E149-G149","v":0},{"$f":"+I149*D149","v":0}]
[null,"DN25                                                            ","kos",14,null,{"$f":"E150*$D150","v":0},{"$f":"+E150*MM","v":0},{"$f":"+G150*D150","v":0},{"$f":"+E150-G150","v":0},{"$f":"+I150*D150","v":0}]
[null,"DN32                                                            ","kos",4,null,{"$f":"E151*$D151","v":0},{"$f":"+E151*MM","v":0},{"$f":"+G151*D151","v":0},{"$f":"+E151-G151","v":0},{"$f":"+I151*D151","v":0}]
[]
["16.","Avtomatski odzračevalni lonček, komplet s samozapornim ventilom in tesnilnim materialom ter krogelno zaporno pipo,"]
[null,"Ustreza IMI PNEMUATEX oziroma proizvod drugega proizvajalca enakih ali boljših karakteristik"]
[null,"IMI PNEUMATEX ZEPARO"]
[null,"DN10","kos",8,null,{"$f":"E156*$D156","v":0},{"$f":"+E156*MM","v":0},{"$f":"+G156*D156","v":0},{"$f":"+E156-G156","v":0},{"$f":"+I156*D156","v":0}]
[]
["17.","Avtomatski ventil za hidravlično uravnoteženje s partnerskim ventilom z nastavki za manometer, z navojnimi priključki,, primeren za ogrevno vodo do 95°C, min. PN6, skupaj s tesnilnim materialom ter nastavitvijo pretoka z merilnim inštrumentom"]
[null,"odgovarja Danfoss ASV-PV / ASV-BD oziroma proizvod drugega proizvajalca enakih ali boljših karakteristik"]
[null,"DN 15 (kvs=1,6 m3/h)","kos",0]
[null,"DN 20 (kvs=2,5 m3/h)","kos",0]
[null,"DN 25 (kvs=4,0 m3/h)","kos",0]
[]
["18.","Priključitev ogrevne veje “sever” in ogrevne veje “jug” na obstoječo cev v toplotni postaji.  "]
[null,"Dimenzija cevi: "]
[null,"severna veja obstoječi priključek DN 65 / nova cev ø 54x1,5"]
[null,"južna veja obstoječi priključek DN 65 / nova cev ø 42x1,5","kpl",1,null,{"$f":"E167*$D167","v":0},{"$f":"+E167*MM","v":0},{"$f":"+G167*D167","v":0},{"$f":"+E167-G167","v":0},{"$f":"+I167*D167","v":0}]
[]
["19.","Izpiranje celotne ogrevalne instalacije, tlačni preizkus tesnjenja cevovoda s hladno vodo, sekcijski in celotni preizkusi, preizkusni tlak je 1,5x delovni tlak, vključno s potrebnim materialom (čepi), ter izdelavo pisnega poročila o uspešno opravljenem tlačnem preizkusu. (velja za delne in končne tlačne preizkuse)"]
[null,null,"kpl",1,null,{"$f":"E170*$D170","v":0},{"$f":"+E170*MM","v":0},{"$f":"+G170*D170","v":0},{"$f":"+E170-G170","v":0},{"$f":"+I170*D170","v":0}]
[]
["20.","Polnjenje sistema ogrevanja objekta “šola” z mehčano vodo, odzračevanjem in priprava za zagon ogrevanja."]
[null,null,"kpl",1,null,{"$f":"E173*$D173","v":0},{"$f":"+E173*MM","v":0},{"$f":"+G173*D173","v":0},{"$f":"+E173-G173","v":0},{"$f":"+I173*D173","v":0}]
[]
["21.","Nastavitve pretokov na posameznem radiatorskem ventilu RA-N, skladno tabeli nastavitev."]
[null,null,"kpl",0]
[]
["22.","Označitev instalacij in smeri toka medija po izvedeni izolaciji"]
[null,null,"kpl",1,null,{"$f":"E179*$D179","v":0},{"$f":"+E179*MM","v":0},{"$f":"+G179*D179","v":0},{"$f":"+E179-G179","v":0},{"$f":"+I179*D179","v":0}]
[]
["23.","Pripravljalna in zaključna dela, zarisovanje, splošni, manipulativni, zavarovalni in transportni stroški"]
[null,null,null,0.05,{"$f":"SUM(F45:F180)*D182","v":0},{"$f":"+E182","v":0},{"$f":"+E182*MM","v":0},{"$f":"+G182","v":0},{"$f":"+E182-G182","v":0},{"$f":"+I182","v":0}]
[]
["24.","Obračun po količinah, ki izhajajo iz potrjenega gradbenega dnevnika in ob upoštevanju kalkulativnih osnov","kpl",1,{"$f":"SUM(F40:F182)*0.05","v":0},{"$f":"E184*$D184","v":0},{"$f":"+E184*MM","v":0},{"$f":"+G184*D184","v":0},{"$f":"+E184-G184","v":0},{"$f":"+I184*D184","v":0}]
[]
[]
[null,"SKUPAJ RADIATORSKO OGREVANJE - ŠOLSKI OBJEKT",null,"EUR",null,{"$f":"SUM(F45:F186)","v":0},null,{"$f":"SUM(H45:H186)","v":0},null,{"$f":"SUM(J45:J186)","v":0}]
[]
[]
["C.","RADIATORSKO OGREVANJE - VELIKA TELOVADNICA"]
[]
["1.","Dobava in montaža - jekleni panelni radiator izdelan iz hladno valjane pločevine po EN 442-1, površinsko zaščiten osnovnim nanosom stabiliziran pri temperaturi 190°C ter končno barvan z elektrostatičnim prašnim barvanje po DIN 5590/2, RAL9016, kontrola proizvoda skladna z EN-ISO 9001/9002, komplet s 1 x  čepom in odzračevalno pipico, stranski priklop za dvocevni sistem, okrasno rozeto, za obratovalni tlak do 10 bar,  skupaj z garnituro za pritrditev: nosilci z vijaki in zidnimi vložki ter končno lakiran, po naslednji specifikaciji, Vogel&Noot tip K:"]
[null,"Odgovarja Vogel & Noot tip K oziroma proizvod drugega proizvajalca enakih ali boljših karakteristik."]
[null,"22K-900/1600","kos",8,null,{"$f":"E194*$D194","v":0},{"$f":"+E194*MM","v":0},{"$f":"+G194*D194","v":0},{"$f":"+E194-G194","v":0},{"$f":"+I194*D194","v":0}]
[]
["2.","Dobava in montaža radiatorskega termostatskega ventila s prednastavitvijo za priključitev radiatorjev, vključno s tesnilnim in pritrdilnim materialom za montažo, ravne ali kotne oblike. "]
[null,"Ustreza proizvod proizvajalca Danfoss d.o.o."]
[null,"RA-N DN20","kos",0]
[]
["4.","Dobava in montaža radiatorskega zapornega ventila proizvoda Danfoss, tip RLV-S, za priključitev radiatorjev, vključno s tesnilnim in pritrdilnim materialom za montažo, ravne ali kotne oblike. "]
[null,"Ustreza proizvod proizvajalca Danfoss d.o.o."]
[null,"RLV-S DN20","kos",8,null,{"$f":"E202*D202","v":0},{"$f":"+E202*MM","v":0},{"$f":"+G202*D202","v":0},{"$f":"+E202-G202","v":0},{"$f":"+I202*D202","v":0}]
[]
["5.","Dobava in montaža - termostatska glava, ojačan model za javne prostore, s plinskim polnjenjem, z možnostjo blokiranja in omejevanja temperature, protizmrzovalne zaščite, tamperproof, priključek s spojnim obročem in inbus vijakom, komplet  s pritrdilnim materialom."]
[null,"Ustreza proizvod proizvajalca Danfoss d.o.o."]
[null,"RA 2920","kos",0]
[]
["6.","PVC zidna rozeta za prekritje zidnega preboja ogrevne cevi, vključno z dobavo in montažo."]
[null,null,"kos",10,null,{"$f":"E209*$D209","v":0},{"$f":"+E209*MM","v":0},{"$f":"+G209*D209","v":0},{"$f":"+E209-G209","v":0},{"$f":"+I209*D209","v":0}]
[]
["7.","Dobava in montaža cevi iz nelegiranega jekla št. 1.0308 (E235),  (ni primeren za instalacijo pitne vode)  zunaj galvansko pocinkane s slojem cinka debeline 8-15µm,  izdelane po DIN EN 10305-3 s pripadajočimi fitingi za hladno stiskanje in sigurnostno konturo, ki pri polnjenju instalacije detektira nezatisnjene  spoje. Nezatisnjene spoje se pri mokrem preizkusu zagotovo odkrije z iztekanjem preizkusnega medija ali padanjem tlaka na preizkusnem manometru, v območju 1 bar do 6,5 bar, pri suhem preizkusu pa v območju 22 mbar do 3 bar."]
[null,"Proizvod kot npr. Viega Prestabo oziroma proizvod drugega proizvajalca enakih ali boljših karakteristik, komplet z tesnilnim in spojnim materialom dimenzija:"]
[null,"DN 20 - ø 22x1,5","m",125,null,{"$f":"E213*D213","v":0},{"$f":"+E213*MM","v":0},{"$f":"+G213*D213","v":0},{"$f":"+E213-G213","v":0},{"$f":"+I213*D213","v":0}]
[null,"DN 25 - ø 28x1,5","m",31,null,{"$f":"E214*D214","v":0},{"$f":"+E214*MM","v":0},{"$f":"+G214*D214","v":0},{"$f":"+E214-G214","v":0},{"$f":"+I214*D214","v":0}]
[]
["8.","Dobava in montaža Armaflex ACE Plus elastomerne fleksibilne izolacije na osnovi sintetičnega kavčuka za izolacijo cevovodov, preprečevanje kondenzacije in energijske prihranke. EU požarna klasifikacija B-s3,d0; toplotna prevodnost λ pri 0°C je 0,035 W/m.K; koef. upora difuziji vodne pare je 10.000 (za plošče deb. 3-32mm in cevi deb. 6-32mm; za ostale dimenzije je 7.000; za temp. območje od -50°C  do  +110°C; trakovi in plošče lepljeni na površino do maks. +85°C. Toplotne mostove potrebno zaščititi s cevnimi nosilci Armafix AF. Spoje (vzdožne, prečne, površino) potrebno lepiti z original Armaflex lepilom,  za čiščenje orodja, rok in razmaščevanje pa Armaflex Čistilo. CE certifikat v skladu z EN 14304."]
[null,"Ustreza proizvod Armacell Armaflex ACE/Poziroma proizvod drugega proizvajalca enakih ali boljših karakteristik."]
[null,"ACE/P-32x DN32","m",62,null,{"$f":"E218*D218","v":0},{"$f":"+E218*MM","v":0},{"$f":"+G218*D218","v":0},{"$f":"+E218-G218","v":0},{"$f":"+I218*D218","v":0}]
[]
["9.","Dobava in montaža mehanske zaščita izolacije izdelana iz PVC folije, komplet z oblikovnimi kosi. Zaščita izolacije se izvaja le na segmentu vidnih izoliranih cevi, ne izvede pa se v spuščenih stropovih."]
[null,"odgovarja Okapak SE (nizka vnetljivost po DIN4102-B1) oziroma proizvod drugega proizvajalca enakih ali boljših karakteristik."]
[null,"DN32, izolacija 30 mm","m",10,null,{"$f":"E222*D222","v":0},{"$f":"+E222*MM","v":0},{"$f":"+G222*D222","v":0},{"$f":"+E222-G222","v":0},{"$f":"+I222*D222","v":0}]
[]
["10.","Dobava in montaža cevakov iz kamene volne Knauf insulation Thermo-Tek PS ECO ALU, tovarniško zaščiteno z aluminijasto folijo, komplet s pripadajočimi oblikovnimi kosi. Izvedba izolacije preko zaščitenega prostora požarnega izhoda - izbežni hodnik."]
[null,"Ustreza proizvod Knauf Insulation oz. oziroma proizvod drugega proizvajalca enakih ali boljših karakteristik."]
[null,"DN 32, izolacija 30 mm","m",10,null,{"$f":"E226*$D226","v":0},{"$f":"+E226*MM","v":0},{"$f":"+G226*D226","v":0},{"$f":"+E226-G226","v":0},{"$f":"+I226*D226","v":0}]
[]
["11.","Barvanje novih vidnih cevi z estetskim lakom obstojnim do 120 ºC, RAL po izboru arhitekta, 2 x nanos laka."]
[null,null,"m2",15,null,{"$f":"E229*$D229","v":0},{"$f":"+E229*MM","v":0},{"$f":"+G229*D229","v":0},{"$f":"+E229-G229","v":0},{"$f":"+I229*D229","v":0}]
[]
["12.","Avtomatski odzračevalni lonček, komplet s samozapornim ventilom in tesnilnim materialom ter krogelno zaporno pipo,"]
[null,"Ustreza IMI PNEMUATEX oziroma proizvod drugega proizvajalca enakih ali boljših karakteristik"]
[null,"IMI PNEUMATEX ZEPARO"]
[null,"DN10","kos",6,null,{"$f":"E234*$D234","v":0},{"$f":"+E234*MM","v":0},{"$f":"+G234*D234","v":0},{"$f":"+E234-G234","v":0},{"$f":"+I234*D234","v":0}]
[]
["13.","Priključitev ogrevne veje “velika telovadnica” na obstoječo cev  na razdelilniku v toplotni postaji.  "]
[null,"Dimenzija cevi: "]
[null,"obstoječi priključek DN 50 / nova cev ø 35x1,5","kpl",1,null,{"$f":"E238*$D238","v":0},{"$f":"+E238*MM","v":0},{"$f":"+G238*D238","v":0},{"$f":"+E238-G238","v":0},{"$f":"+I238*D238","v":0}]
[]
["14.","Izpiranje celotne ogrevalne instalacije, tlačni preizkus tesnjenja cevovoda s hladno vodo, sekcijski in celotni preizkusi, preizkusni tlak je 1,5x delovni tlak, vključno s potrebnim materialom (čepi), ter izdelavo pisnega poročila o uspešno opravljenem tlačnem preizkusu. (velja za delne in končne tlačne preizkuse)"]
[null,null,"kpl",1,null,{"$f":"E241*$D241","v":0},{"$f":"+E241*MM","v":0},{"$f":"+G241*D241","v":0},{"$f":"+E241-G241","v":0},{"$f":"+I241*D241","v":0}]
[]
["15.","Polnjenje sistema ogrevanja objekta “velika telovadnica” z mehčano vodo, odzračevanjem in priprava za zagon ogrevanja."]
[null,null,"kpl",1,null,{"$f":"E244*$D244","v":0},{"$f":"+E244*MM","v":0},{"$f":"+G244*D244","v":0},{"$f":"+E244-G244","v":0},{"$f":"+I244*D244","v":0}]
[]
["16.","Nastavitve pretokov na posameznem radiatorskem ventilu RA-N, skladno tabeli nastavitev."]
[null,null,"kpl",0]
[]
["17.","Označitev instalacij in smeri toka medija po izvedeni izolaciji"]
[null,null,"kpl",1,null,{"$f":"E250*$D250","v":0},{"$f":"+E250*MM","v":0},{"$f":"+G250*D250","v":0},{"$f":"+E250-G250","v":0},{"$f":"+I250*D250","v":0}]
[]
["18.","Pripravljalna in zaključna dela, zarisovanje, splošni, manipulativni, zavarovalni in transportni stroški"]
[null,null,null,0.05,{"$f":"SUM(F194:F251)*D253","v":0},{"$f":"+E253","v":0},{"$f":"+E253*MM","v":0},{"$f":"+G253","v":0},{"$f":"+E253-G253","v":0},{"$f":"+I253","v":0}]
[]
["19.","Obračun po količinah, ki izhajajo iz potrjenega gradbenega dnevnika in ob upoštevanju kalkulativnih osnov","kpl",1,{"$f":"SUM(F192:F253)*0.05","v":0},{"$f":"E255*$D255","v":0},{"$f":"+E255*MM","v":0},{"$f":"+G255*D255","v":0},{"$f":"+E255-G255","v":0},{"$f":"+I255*D255","v":0}]
[]
[null,"SKUPAJ RADIATORSKO OGREVANJE - VELIKA TELOVADNICA",null,"EUR",null,{"$f":"SUM(F194:F255)","v":0},null,{"$f":"SUM(H194:H255)","v":0},null,{"$f":"SUM(J194:J255)","v":0}]
[]
["D.","RADIATORSKO OGREVANJE -  MALA TELOVADNICA IN GARDEROBE (telovadnica in bazen)"]
[]
["1.","Dobava in montaža - jekleni panelni radiator izdelan iz hladno valjane pločevine po EN 442-1, površinsko zaščiten osnovnim nanosom stabiliziran pri temperaturi 190°C ter končno barvan z elektrostatičnim prašnim barvanje po DIN 5590/2, RAL9016, kontrola proizvoda skladna z EN-ISO 9001/9002, komplet s 1 x  čepom in odzračevalno pipico, stranski priklop za dvocevni sistem, okrasno rozeto, za obratovalni tlak do 10 bar,  skupaj z garnituro za pritrditev: nosilci z vijaki in zidnimi vložki ter končno lakiran, po naslednji specifikaciji, Vogel&Noot tip K:"]
[null,"Odgovarja Vogel & Noot tip K oziroma proizvod drugega proizvajalca enakih ali boljših karakteristik."]
[null,"21K-S-900/520","kos",6,null,{"$f":"E263*$D263","v":0},{"$f":"+E263*MM","v":0},{"$f":"+G263*D263","v":0},{"$f":"+E263-G263","v":0},{"$f":"+I263*D263","v":0}]
[null,"22K-300/1120","kos",3,null,{"$f":"E264*$D264","v":0},{"$f":"+E264*MM","v":0},{"$f":"+G264*D264","v":0},{"$f":"+E264-G264","v":0},{"$f":"+I264*D264","v":0}]
[null,"22K-900/2000","kos",2,null,{"$f":"E265*$D265","v":0},{"$f":"+E265*MM","v":0},{"$f":"+G265*D265","v":0},{"$f":"+E265-G265","v":0},{"$f":"+I265*D265","v":0}]
[]
["2.","Dobava in montaža - jekleni panelni radiator izdelan iz hladno valjane pločevine po EN 442-1, površinsko zaščiten osnovnim nanosom stabiliziran pri temperaturi 190°C ter končno barvan z elektrostatičnim prašnim barvanje po DIN 5590/2, RAL9016, kontrola proizvoda skladna z EN-ISO 9001/9002, komplet s 2 x  čepom in odzračevalno pipico, srednjim spodnjim vgrajenim ventilom za dvocevni sistem, priključek iz stene ali tal, okrasno rozeto, tesnilnima maticama za Raxofix cev (EURO matica 3/4” - 16x2), za obratovalni tlak do 10 bar,  skupaj z garnituro za pritrditev: nosilci z vijaki in zidnimi vložki ter končno lakiran, Priključek na cevni sistem izveden IZ stene ali iz tal (v primeru AB stene)!, po naslednji specifikaciji, Vogel&Noot tip T6. V poziciji zajeti tudi integrirani termostatski ventil Danfoss RA s prednastavitvijo.\nstandardne stenske konzole"]
[null,"Odgovarja Vogel & Noot tip T6 oziroma proizvod drugega proizvajalca enakih ali boljših karakteristik."]
[null,"21 VM-S/900/520","kos",4,null,{"$f":"E269*$D269","v":0},{"$f":"+E269*MM","v":0},{"$f":"+G269*D269","v":0},{"$f":"+E269-G269","v":0},{"$f":"+I269*D269","v":0}]
[null,"21 VM-S/900/600","kos",2,null,{"$f":"E270*$D270","v":0},{"$f":"+E270*MM","v":0},{"$f":"+G270*D270","v":0},{"$f":"+E270-G270","v":0},{"$f":"+I270*D270","v":0}]
[null,"21 VM-S/900/720","kos",1,null,{"$f":"E271*$D271","v":0},{"$f":"+E271*MM","v":0},{"$f":"+G271*D271","v":0},{"$f":"+E271-G271","v":0},{"$f":"+I271*D271","v":0}]
[null,"21 VM-S/900/1000","kos",1,null,{"$f":"E272*$D272","v":0},{"$f":"+E272*MM","v":0},{"$f":"+G272*D272","v":0},{"$f":"+E272-G272","v":0},{"$f":"+I272*D272","v":0}]
[]
["3.","Dobava in montaža - razdelilnik ogrevnih krogov 1\", z merilnikom pretoka, 6 priključkov                                          Viega art. 786 861, Fonterra-razdelilnik gretja 1”, iz nerjavečega jekla, z 3/4\" eurokonusi, z regulatorjem pretoka, holandčni priključek, s pocinkanimi zidnimi nosilci, levi ali desni priključek, zaključni pokrov, odzračni ventili in KFE-ventili na povratku, vključno montažni, pritrdilni in tesnilni material"]
[null,"Odgovarja Viega, Fronterra oziroma proizvod drugega proizvajalca enakih ali boljših karakteristik."]
[null,"Viega, Fronterra Model 1010 / 786861","kpl",1,null,{"$f":"E276*$D276","v":0},{"$f":"+E276*MM","v":0},{"$f":"+G276*D276","v":0},{"$f":"+E276-G276","v":0},{"$f":"+I276*D276","v":0}]
[]
["4.","Dobava in montaža - podometna razdelilna omara, 700                     Viega art. 610296 Fonterra-podometna omarica, bela,\nza vgradnjo Fonterra-razdelnika (za model 1010), vključno montažni in pritrdilni material, kpl. s cilindrični vložek, \nViega art. 625245 - Fonterra-cilidrični vložek, za Viega razdelilne omare, ponikljano, vključno montažni, pritrdilni in tesnilni material"]
[null,"Odgovarja Viega, Fronterra oziroma proizvod drugega proizvajalca enakih ali boljših karakteristik."]
[null,"Viega, Fronterra Model 1294","kpl",1,null,{"$f":"E280*$D280","v":0},{"$f":"+E280*MM","v":0},{"$f":"+G280*D280","v":0},{"$f":"+E280-G280","v":0},{"$f":"+I280*D280","v":0}]
[]
["5.","Dobava in montaža - komplet krogelnih ventilov, 1\"                        \nViega art.606268 Fonterra-set kroglenih ventilov, iz ponikljanega mesinga, za Fonterra-razdelilnik 1\"\n(nerjavno jeklo), vključno montažni, pritrdilni in tesnilni material"]
[null,"Odgovarja Viega, Fronterra oziroma proizvod drugega proizvajalca enakih ali boljših karakteristik."]
[null,"Viega, Fronterra Model 1041","kpl",1,null,{"$f":"E284*$D284","v":0},{"$f":"+E284*MM","v":0},{"$f":"+G284*D284","v":0},{"$f":"+E284-G284","v":0},{"$f":"+I284*D284","v":0}]
[]
["6.","Dobava in montaža radiatorskega termostatskega ventila s prednastavitvijo za priključitev radiatorjev, vključno s tesnilnim in pritrdilnim materialom za montažo, ravne ali kotne oblike. "]
[null,"Ustreza proizvod proizvajalca Danfoss d.o.o."]
[null,"RA-N DN10","kos",0]
[null,"RA-N DN20","kos",0]
[]
["7.","Dobava in montaža radiatorskega zapornega ventila proizvoda Danfoss, tip RLV-S, za priključitev radiatorjev, vključno s tesnilnim in pritrdilnim materialom za montažo, ravne ali kotne oblike. "]
[null,"Ustreza proizvod proizvajalca Danfoss d.o.o."]
[null,"RLV-S DN10","kos",9,null,{"$f":"E293*D293","v":0},{"$f":"+E293*MM","v":0},{"$f":"+G293*D293","v":0},{"$f":"+E293-G293","v":0},{"$f":"+I293*D293","v":0}]
[null,"RLV-S DN20","kos",2,null,{"$f":"E294*D294","v":0},{"$f":"+E294*MM","v":0},{"$f":"+G294*D294","v":0},{"$f":"+E294-G294","v":0},{"$f":"+I294*D294","v":0}]
[]
["8.","Dobava in montaža - termostatska glava, ojačan model za javne prostore, s plinskim polnjenjem, z možnostjo blokiranja in omejevanja temperature, protizmrzovalne zaščite, tamperproof, priključek s spojnim obročem in inbus vijakom, komplet  s pritrdilnim materialom."]
[null,"Ustreza proizvod proizvajalca Danfoss d.o.o."]
[null,"RA 2920","kos",0]
[]
["9.","PVC zidna rozeta za prekritje zidnega preboja ogrevne cevi, vključno z dobavo in montažo."]
[null,null,"kos",20,null,{"$f":"E301*$D301","v":0},{"$f":"+E301*MM","v":0},{"$f":"+G301*D301","v":0},{"$f":"+E301-G301","v":0},{"$f":"+I301*D301","v":0}]
[]
["10.","Dobava in montaža cevi v kolutu PE-Xc/Al/PE-Xc z izolacijo debeline 9mm (λ= 0,040 W/mK ) za ogrevalno instalacijo vode po DIN 1988 in ogrevanja in odgovarjajo zahtevam v DVGW delovnem listu W534, označene z DVGW, ter pripadajočimi fitingi za hladno stiskanje iz rdeče litine ali silicijevega brona z optimirano geometrijo za zmanjšane padce tlaka, za spajanje s tehnologijom hladnega stiskanja. Fitingi vsebujejo sigurnostno konturo, ki pri polnenju instalacije detektira nezatisnjene spoje in so označeni z DVGW. Nezatisnjene spoje se pri mokrem preizkusu zagotovo odkrije z iztekanjem preizkusnega medija ali padanjem tlaka na preizkusnem manometru, v območju 1 bar do 6,5 bar, pri suhem preizkusu pa v območju 22 mbar do 3 bar."]
[null,"Proizvod kot npr. Viega Raxofix, model 5302.5 oziroma proizvod drugega proizvajalca enakih ali boljših karakteristik, komplet  s spojnim in tesnilnim materialom dimenzija:"]
[null,"Vodenje instalacije za dovod do omaric radiatorskega  ogrevanja v utorih sten, mavčno kartonskih stenah in v izolaciji tal"]
[null,"ø 16x2,2","m",195,null,{"$f":"E306*$D306","v":0},{"$f":"+E306*MM","v":0},{"$f":"+G306*D306","v":0},{"$f":"+E306-G306","v":0},{"$f":"+I306*D306","v":0}]
[]
["11.","Dobava in montaža cevi iz nelegiranega jekla št. 1.0308 (E235),  (ni primeren za instalacijo pitne vode)  zunaj galvansko pocinkane s slojem cinka debeline 8-15µm,  izdelane po DIN EN 10305-3 s pripadajočimi fitingi za hladno stiskanje in sigurnostno konturo, ki pri polnjenju instalacije detektira nezatisnjene  spoje. Nezatisnjene spoje se pri mokrem preizkusu zagotovo odkrije z iztekanjem preizkusnega medija ali padanjem tlaka na preizkusnem manometru, v območju 1 bar do 6,5 bar, pri suhem preizkusu pa v območju 22 mbar do 3 bar."]
[null,"Proizvod kot npr. Viega Prestabo oziroma proizvod drugega proizvajalca enakih ali boljših karakteristik, komplet s tesnilnim in spojnim materialom dimenzija:"]
[null,"DN 10 - ø 15x1,2","m",145,null,{"$f":"E310*D310","v":0},{"$f":"+E310*MM","v":0},{"$f":"+G310*D310","v":0},{"$f":"+E310-G310","v":0},{"$f":"+I310*D310","v":0}]
[null,"DN 15 - ø 18x1,2","m",12,null,{"$f":"E311*D311","v":0},{"$f":"+E311*MM","v":0},{"$f":"+G311*D311","v":0},{"$f":"+E311-G311","v":0},{"$f":"+I311*D311","v":0}]
[null,"DN 20 - ø 22x1,5","m",105,null,{"$f":"E312*D312","v":0},{"$f":"+E312*MM","v":0},{"$f":"+G312*D312","v":0},{"$f":"+E312-G312","v":0},{"$f":"+I312*D312","v":0}]
[null,"DN 25 - ø 28x1,5","m",85,null,{"$f":"E313*D313","v":0},{"$f":"+E313*MM","v":0},{"$f":"+G313*D313","v":0},{"$f":"+E313-G313","v":0},{"$f":"+I313*D313","v":0}]
[]
["12.","Dobava in montaža Armaflex ACE Plus elastomerne fleksibilne izolacije na osnovi sintetičnega kavčuka za izolacijo cevovodov, preprečevanje kondenzacije in energijske prihranke. EU požarna klasifikacija B-s3,d0; toplotna prevodnost λ pri 0°C je 0,035 W/m.K; koef. upora difuziji vodne pare je 10.000 (za plošče deb. 3-32mm in cevi deb. 6-32mm; za ostale dimenzije je 7.000; za temp. območje od -50°C  do  +110°C; trakovi in plošče lepljeni na površino do maks. +85°C. Toplotne mostove potrebno zaščititi s cevnimi nosilci Armafix AF. Spoje (vzdožne, prečne, površino) potrebno lepiti z original Armaflex lepilom,  za čiščenje orodja, rok in razmaščevanje pa Armaflex Čistilo. CE certifikat v skladu z EN 14304."]
[null,"Ustreza proizvod Armacell Armaflex ACE/P oziroma proizvod drugega proizvajalca enakih ali boljših karakteristik"]
[null,"ACE/P-19x DN10","m",30,null,{"$f":"E317*D317","v":0},{"$f":"+E317*MM","v":0},{"$f":"+G317*D317","v":0},{"$f":"+E317-G317","v":0},{"$f":"+I317*D317","v":0}]
[null,"ACE/P-19x DN20","m",55,null,{"$f":"E318*D318","v":0},{"$f":"+E318*MM","v":0},{"$f":"+G318*D318","v":0},{"$f":"+E318-G318","v":0},{"$f":"+I318*D318","v":0}]
[null,"ACE/P-25x DN25","m",36,null,{"$f":"E319*D319","v":0},{"$f":"+E319*MM","v":0},{"$f":"+G319*D319","v":0},{"$f":"+E319-G319","v":0},{"$f":"+I319*D319","v":0}]
[]
["13.","Dobava in montaža mehanske zaščita izolacije izdelana iz PVC folije, komplet z oblikovnimi kosi. Zaščita izolacije se izvaja le na segmentu vidnih cevi, ne izvede pa se v spuščenih stropovih."]
[null,"Ustreza Okapak SE (nizka vnetljivost po DIN4102-B1) oziroma proizvod drugega proizvajalca enakih ali boljših karakteristik"]
[null,"DN10, izolacija 20 mm","m",10,null,{"$f":"E323*D323","v":0},{"$f":"+E323*MM","v":0},{"$f":"+G323*D323","v":0},{"$f":"+E323-G323","v":0},{"$f":"+I323*D323","v":0}]
[null,"DN20, izolacija 20 mm","m",55,null,{"$f":"E324*D324","v":0},{"$f":"+E324*MM","v":0},{"$f":"+G324*D324","v":0},{"$f":"+E324-G324","v":0},{"$f":"+I324*D324","v":0}]
[null,"DN25, izolacija 25 mm ","m",42,null,{"$f":"E325*D325","v":0},{"$f":"+E325*MM","v":0},{"$f":"+G325*D325","v":0},{"$f":"+E325-G325","v":0},{"$f":"+I325*D325","v":0}]
[]
["14.","Dobava in montaža cevakov iz kamene volne Knauf insulation Thermo-Tek PS ECO ALU, tovarniško zaščiteno z aluminijasto folijo, komplet s pripadajočimi oblikovnimi kosi. Izvedba izolacije preko zaščitenega prostora požarnega izhoda (požarni sektor in hodniki)."]
[null,"Ustreza Knauf Insulation oziroma proizvod drugega proizvajalca enakih ali boljših karakteristik"]
[null,"DN25, izolacija 25 mm ","m",6,null,{"$f":"E329*$D329","v":0},{"$f":"+E329*MM","v":0},{"$f":"+G329*D329","v":0},{"$f":"+E329-G329","v":0},{"$f":"+I329*D329","v":0}]
[]
["15.","Avtomatski odzračevalni lonček, komplet s samozapornim ventilom in tesnilnim materialom ter krogelno zaporno pipo,"]
[null,"Ustreza IMI PNEUMATEX oziroma proizvod drugega proizvajalca enakih ali boljših karakteristik"]
[null,"IMI PNEUMATEX ZEPARO"]
[null,"DN10","kos",8,null,{"$f":"E334*$D334","v":0},{"$f":"+E334*MM","v":0},{"$f":"+G334*D334","v":0},{"$f":"+E334-G334","v":0},{"$f":"+I334*D334","v":0}]
[]
["16.","Izvedba zapore prehoda cevne instalacije skozi požarno steno ali strop, ki se sestoji iz požarnega premaza, vložka kamene volne in manšete oz. okvirja širine najmanj 10cm, oziroma požarne objemke z ustreznim certifikatom o ustreznosti. Velikost ter število odprtin"]
[null,"do 0,01m2                                                                       ","kos",6,null,{"$f":"E337*$D337","v":0},{"$f":"+E337*MM","v":0},{"$f":"+G337*D337","v":0},{"$f":"+E337-G337","v":0},{"$f":"+I337*D337","v":0}]
[null,"do 0,02m2                                                                       ","kos",2,null,{"$f":"E338*$D338","v":0},{"$f":"+E338*MM","v":0},{"$f":"+G338*D338","v":0},{"$f":"+E338-G338","v":0},{"$f":"+I338*D338","v":0}]
[]
["17.","Barvanje novih vidnih cevi z estetskim lakom obstojnim do 120 ºC, RAL po izboru arhitekta, 2 x nanos laka."]
[null,null,"m2",20,null,{"$f":"E341*$D341","v":0},{"$f":"+E341*MM","v":0},{"$f":"+G341*D341","v":0},{"$f":"+E341-G341","v":0},{"$f":"+I341*D341","v":0}]
[]
["18.","Krogelni navojni ventil s polnim pretokom z izpustno pipico, sestoječ se iz nikanega ohišja iz prešane medenine MS58, z vgrajeno kromirano kovano kroglo iz medenine, ki ima tesnilo iz teflona PTFE in dolgo ročico iz silumina odgovarjajoče barve. Komplet s tesnilnim in montažnim materialom. Delovna temperatura -15 do 120ºC, pri PN6."]
[null,"Odgovarja tip Kovina K402-406 oziroma proizvod drugega proizvajalca enakih ali boljših karakteristik, nazivne velikosti:"]
[null,"DN20                                                             ","kos",4,null,{"$f":"E345*$D345","v":0},{"$f":"+E345*MM","v":0},{"$f":"+G345*D345","v":0},{"$f":"+E345-G345","v":0},{"$f":"+I345*D345","v":0}]
[null,"DN25                                                            ","kos",2,null,{"$f":"E346*$D346","v":0},{"$f":"+E346*MM","v":0},{"$f":"+G346*D346","v":0},{"$f":"+E346-G346","v":0},{"$f":"+I346*D346","v":0}]
[]
["19.","Ročni balansirni ventil z nastavki za manometer, z navojnimi priključki, z dodatno funkcijo praznjenja, blokade nastavljene vrednosti in funkcije zapornega ventila, primeren za ogrevno vodo do 95°C, min. PN6, skupaj s tesnilnim materialom ter nastavitvijo pretoka z merilnim inštrumentom"]
[null,"Odgovarja Hertz Stromax oziroma proizvod drugega proizvajalca enakih ali boljših karakteristik"]
[null,"DN20 (kvs=6,0)","kos",1,null,{"$f":"E350*$D350","v":0},{"$f":"+E350*MM","v":0},{"$f":"+G350*D350","v":0},{"$f":"+E350-G350","v":0},{"$f":"+I350*D350","v":0}]
[]
["20","Priključitev ogrevne veje “mala telovadnica” in ogrevne veje “radiatorji bazen  na obstoječo cev na razdelilniku v toplotni postaji.  "]
[null,"Dimenzija cevi: "]
[null,"mala telov. obstoječi priključek DN 40 / nova cev ø 28x1,5","kpl",1,null,{"$f":"E354*$D354","v":0},{"$f":"+E354*MM","v":0},{"$f":"+G354*D354","v":0},{"$f":"+E354-G354","v":0},{"$f":"+I354*D354","v":0}]
[null,"radiat. bazen obstoječi priključek DN 20 / nova cev ø 22x1,5","kpl",1,null,{"$f":"E355*$D355","v":0},{"$f":"+E355*MM","v":0},{"$f":"+G355*D355","v":0},{"$f":"+E355-G355","v":0},{"$f":"+I355*D355","v":0}]
[]
["21","Izpiranje celotne ogrevalne instalacije, tlačni preizkus tesnjenja cevovoda s hladno vodo, sekcijski in celotni preizkusi, preizkusni tlak je 1,5x delovni tlak, vključno s potrebnim materialom (čepi), ter izdelavo pisnega poročila o uspešno opravljenem tlačnem preizkusu. (velja za delne in končne tlačne preizkuse)"]
[null,null,"kpl",1,null,{"$f":"E358*$D358","v":0},{"$f":"+E358*MM","v":0},{"$f":"+G358*D358","v":0},{"$f":"+E358-G358","v":0},{"$f":"+I358*D358","v":0}]
[]
["22","Polnjenje sistema ogrevanja objekta “mala telovadnica in garderobe” z mehčano vodo, odzračevanjem in priprava za zagon ogrevanja."]
[null,null,"kpl",0]
[]
["23","Nastavitve pretokov na posameznem radiatorskem ventilu RA-N, skladno tabeli nastavitev."]
[null,null,"kpl",1,null,{"$f":"E364*$D364","v":0},{"$f":"+E364*MM","v":0},{"$f":"+G364*D364","v":0},{"$f":"+E364-G364","v":0},{"$f":"+I364*D364","v":0}]
[]
["24","Označitev instalacij in smeri toka medija po izvedeni izolaciji"]
[null,null,"kpl",1,null,{"$f":"E367*$D367","v":0},{"$f":"+E367*MM","v":0},{"$f":"+G367*D367","v":0},{"$f":"+E367-G367","v":0},{"$f":"+I367*D367","v":0}]
[]
["25","Pripravljalna in zaključna dela, zarisovanje, splošni, manipulativni, zavarovalni in transportni stroški"]
[null,null,null,0.05,{"$f":"SUM(F263:F368)*D370","v":0},{"$f":"+E370","v":0},{"$f":"+E370*MM","v":0},{"$f":"+G370","v":0},{"$f":"+E370-G370","v":0},{"$f":"+I370","v":0}]
[]
["26.","Obračun po količinah, ki izhajajo iz potrjenega gradbenega dnevnika in ob upoštevanju kalkulativnih osnov","kpl",1,{"$f":"SUM(F260:F370)*0.05","v":0},{"$f":"E372*$D372","v":0},{"$f":"+E372*MM","v":0},{"$f":"+G372*D372","v":0},{"$f":"+E372-G372","v":0},{"$f":"+I372*D372","v":0}]
[]
[null,"SKUPAJ RADIATORSKO OGREVANJE - MALA TELOVADNICA IN GARDEROBE",null,null,null,{"$f":"SUM(F263:F373)","v":0},null,{"$f":"SUM(H263:H373)","v":0},null,{"$f":"SUM(J263:J373)","v":0}]
[]
[]
["E.","RADIATORSKO OGREVANJE - POSLOVNI DEL IN HIŠNIŠKO STANOVANJE"]
[]
["1.","Dobava in montaža - jekleni panelni radiator izdelan iz hladno valjane pločevine po EN 442-1, površinsko zaščiten osnovnim nanosom stabiliziran pri temperaturi 190°C ter končno barvan z elektrostatičnim prašnim barvanje po DIN 5590/2, RAL9016, kontrola proizvoda skladna z EN-ISO 9001/9002, komplet s 1 x  čepom in odzračevalno pipico, stranski priklop za dvocevni sistem, okrasno rozeto, za obratovalni tlak do 10 bar,  skupaj z garnituro za pritrditev: nosilci z vijaki in zidnimi vložki ter končno lakiran, po naslednji specifikaciji, Vogel&Noot tip K:"]
[null,"Poslovni del"]
[null,"Odgovarja Vogel & Noot tip K oziroma proizvod drugega proizvajalca enakih ali boljših karakteristik."]
[null,"11K-400/400","kos",1,null,{"$f":"E382*$D382","v":0},{"$f":"+E382*MM","v":0},{"$f":"+G382*D382","v":0},{"$f":"+E382-G382","v":0},{"$f":"+I382*D382","v":0}]
[null,"11K-600/400","kos",1,null,{"$f":"E383*$D383","v":0},{"$f":"+E383*MM","v":0},{"$f":"+G383*D383","v":0},{"$f":"+E383-G383","v":0},{"$f":"+I383*D383","v":0}]
[null,"11K-600/1120","kos",1,null,{"$f":"E384*$D384","v":0},{"$f":"+E384*MM","v":0},{"$f":"+G384*D384","v":0},{"$f":"+E384-G384","v":0},{"$f":"+I384*D384","v":0}]
[null,"21K-S-600/720","kos",1,null,{"$f":"E385*$D385","v":0},{"$f":"+E385*MM","v":0},{"$f":"+G385*D385","v":0},{"$f":"+E385-G385","v":0},{"$f":"+I385*D385","v":0}]
[null,"21K-S-600/1120","kos",2,null,{"$f":"E386*$D386","v":0},{"$f":"+E386*MM","v":0},{"$f":"+G386*D386","v":0},{"$f":"+E386-G386","v":0},{"$f":"+I386*D386","v":0}]
[]
["2.","Dobava in montaža - jekleni panelni radiator izdelan iz hladno valjane pločevine po EN 442-1, površinsko zaščiten osnovnim nanosom stabiliziran pri temperaturi 190°C ter končno barvan z elektrostatičnim prašnim barvanje po DIN 5590/2, RAL9016, kontrola proizvoda skladna z EN-ISO 9001/9002, komplet s 2 x  čepom in odzračevalno pipico, srednjim spodnjim vgrajenim ventilom za dvocevni sistem, priključek iz stene ali tal, okrasno rozeto, tesnilnima maticama za Raxofix cev (EURO matica 3/4” - 16x2), za obratovalni tlak do 10 bar,  skupaj z garnituro za pritrditev: nosilci z vijaki in zidnimi vložki ter končno lakiran, Priključek na cevni sistem izveden IZ stene ali iz tal (v primeru AB stene)!, po naslednji specifikaciji, Vogel&Noot tip T6. V poziciji zajeti tudi integrirani termostatski ventil Danfoss RA s prednastavitvijo.\nstandardne stenske konzole"]
[null,"Hišniško stanovanje"]
[null,"Odgovarja Vogel & Noot tip T6 oziroma proizvod drugega proizvajalca enakih ali boljših karakteristik."]
[null,"11 VM/600/400","kos",2,null,{"$f":"E391*$D391","v":0},{"$f":"+E391*MM","v":0},{"$f":"+G391*D391","v":0},{"$f":"+E391-G391","v":0},{"$f":"+I391*D391","v":0}]
[null,"11 VM/600/720","kos",2,null,{"$f":"E392*$D392","v":0},{"$f":"+E392*MM","v":0},{"$f":"+G392*D392","v":0},{"$f":"+E392-G392","v":0},{"$f":"+I392*D392","v":0}]
[null,"21 VM-S/600/800","kos",1,null,{"$f":"E393*$D393","v":0},{"$f":"+E393*MM","v":0},{"$f":"+G393*D393","v":0},{"$f":"+E393-G393","v":0},{"$f":"+I393*D393","v":0}]
[null,"21 VM-S/600/920","kos",2,null,{"$f":"E394*$D394","v":0},{"$f":"+E394*MM","v":0},{"$f":"+G394*D394","v":0},{"$f":"+E394-G394","v":0},{"$f":"+I394*D394","v":0}]
[]
["3.","Dobava in montaža - jekleni kopalniški cevni radiator s čepom, odzračevalno pipico,  izdelek Vogel&Noot tip Dion VM, bele barve RAL9016 ali ustrezen drug z enakimi tehničnimi značilnostmi, vključno s termostatskim ventilom set kotni (bele barve) 1/2\" s termostatsko glavo, za obratovalni tlak 6 bar, max dovoljeni tlak 10bar, zaščiten z belo barvo po RAL lestvici, debelina pločevine 1,25 mm, dobavljen skupaj z garnituro za pritrditev na steno z nosilci, vijaki, zidnimi vložki in vsem ostalim potrebnim tesnilnim, pritrdilnim ter montažnim materialom. Priključek radiatorja mora biti sredinski z razdaljo med priključkoma 50mm in biti iz spodnje strani iz stene, termostatska glava je montirana vzporedno z zidom. Priključek na cevni sistem izveden IZ stene! Radiatorji naj se dobavijo po naslednji specifikaciji:"]
[null,"Odgovarja Vogel & Noot oziroma proizvod drugega proizvajalca enakih ali boljših karakteristik."]
[null,"Dion VM 1764/900","kos",1,null,{"$f":"E398*$D398","v":0},{"$f":"+E398*MM","v":0},{"$f":"+G398*D398","v":0},{"$f":"+E398-G398","v":0},{"$f":"+I398*D398","v":0}]
[]
["4.","Dobava in montaža - razdelilnik ogrevnih krogov 1\", z merilnikom pretoka, 8 priključkov                                          Viega art. 786 885, Fonterra-razdelilnik gretja 1”, iz nerjavečega jekla, z 3/4\" eurokonusi, z regulatorjem pretoka, holandčni priključek, s pocinkanimi zidnimi nosilci, levi ali desni priključek, zaključni pokrov, odzračni ventili in KFE-ventili na povratku, vključno montažni, pritrdilni in tesnilni material"]
[null,"Odgovarja Viega, Fronterra oziroma proizvod drugega proizvajalca enakih ali boljših karakteristik."]
[null,"Viega, Fronterra Model 1010 / 786885","kpl",1,null,{"$f":"E402*$D402","v":0},{"$f":"+E402*MM","v":0},{"$f":"+G402*D402","v":0},{"$f":"+E402-G402","v":0},{"$f":"+I402*D402","v":0}]
[]
["5.","Dobava in montaža - podometna razdelilna omara, 1000                   Viega art. 610302 Fonterra-podometna omarica, bela,\nza vgradnjo Fonterra-razdelnika (za model 1010), vključno montažni in pritrdilni material, kpl. s cilindrični vložek, \nViega art. 625245 - Fonterra-cilidrični vložek, za Viega razdelilne omare, ponikljano, vključno montažni, pritrdilni in tesnilni material"]
[null,"Odgovarja Viega, Fronterra oziroma proizvod drugega proizvajalca enakih ali boljših karakteristik."]
[null,"Viega, Fronterra Model 1294","kpl",1,null,{"$f":"E406*$D406","v":0},{"$f":"+E406*MM","v":0},{"$f":"+G406*D406","v":0},{"$f":"+E406-G406","v":0},{"$f":"+I406*D406","v":0}]
[]
["5.","Dobava in montaža - komplet krogelnih ventilov, 1\"                        \nViega art.606268 Fonterra-set kroglenih ventilov, iz ponikljanega mesinga, za Fonterra-razdelilnik 1\"\n(nerjavno jeklo), vključno montažni, pritrdilni in tesnilni material"]
[null,"Odgovarja Viega, Fronterra oziroma proizvod drugega proizvajalca enakih ali boljših karakteristik."]
[null,"Viega, Fronterra Model 1041","kpl",1,null,{"$f":"E410*$D410","v":0},{"$f":"+E410*MM","v":0},{"$f":"+G410*D410","v":0},{"$f":"+E410-G410","v":0},{"$f":"+I410*D410","v":0}]
[]
["6.","Dobava in montaža radiatorskega termostatskega ventila s prednastavitvijo za priključitev radiatorjev, vključno s tesnilnim in pritrdilnim materialom za montažo, ravne ali kotne oblike. "]
[null,"Ustreza proizvod proizvajalca Danfoss d.o.o."]
[null,"RA-N DN10","kos",0]
[]
["7.","Dobava in montaža radiatorskega zapornega ventila proizvoda Danfoss, tip RLV-S, za priključitev radiatorjev, vključno s tesnilnim in pritrdilnim materialom za montažo, ravne ali kotne oblike. "]
[null,"Ustreza proizvod proizvajalca Danfoss d.o.o."]
[null,"RLV-S DN10","kos",6,null,{"$f":"E418*D418","v":0},{"$f":"+E418*MM","v":0},{"$f":"+G418*D418","v":0},{"$f":"+E418-G418","v":0},{"$f":"+I418*D418","v":0}]
[]
["8.","Dobava in montaža - termostatska glava, ojačan model za javne prostore, s plinskim polnjenjem, z možnostjo blokiranja in omejevanja temperature, protizmrzovalne zaščite, tamperproof, priključek s spojnim obročem in inbus vijakom, komplet  s pritrdilnim materialom."]
[null,"Ustreza proizvod proizvajalca Danfoss d.o.o."]
[null,"RA 2920","kos",0]
[]
["9.","PVC zidna rozeta za prekritje zidnega preboja ogrevne cevi, vključno z dobavo in montažo."]
[null,null,"kos",20,null,{"$f":"E425*$D425","v":0},{"$f":"+E425*MM","v":0},{"$f":"+G425*D425","v":0},{"$f":"+E425-G425","v":0},{"$f":"+I425*D425","v":0}]
[]
["10.","Dobava in montaža cevi v kolutu PE-Xc/Al/PE-Xc z izolacijo debeline 9mm (λ= 0,040 W/mK ) za ogrevalno instalacijo vode po DIN 1988 in ogrevanja in odgovarjajo zahtevam v DVGW delovnem listu W534, označene z DVGW, ter pripadajočimi fitingi za hladno stiskanje iz rdeče litine ali silicijevega brona z optimirano geometrijo za zmanjšane padce tlaka, za spajanje s tehnologijom hladnega stiskanja. Fitingi vsebujejo sigurnostno konturo, ki pri polnenju instalacije detektira nezatisnjene spoje in so označeni z DVGW. Nezatisnjene spoje se pri mokrem preizkusu zagotovo odkrije z iztekanjem preizkusnega medija ali padanjem tlaka na preizkusnem manometru, v območju 1 bar do 6,5 bar, pri suhem preizkusu pa v območju 22 mbar do 3 bar."]
[null,"Proizvod kot npr. Viega Raxofix, model 5302.5 oziroma proizvod drugega proizvajalca enakih ali boljših karakteristik, komplet s spojnim in tesnilnim materialom dimenzija:"]
[null,"Vodenje instalacije za dovod do omaric radiatorskega  ogrevanja v utorih sten, mavčno kartonskih stenah in v izolaciji tal"]
[null,"ø 16x2,2","m",130,null,{"$f":"E430*$D430","v":0},{"$f":"+E430*MM","v":0},{"$f":"+G430*D430","v":0},{"$f":"+E430-G430","v":0},{"$f":"+I430*D430","v":0}]
[]
["11.","Dobava in montaža cevi iz nelegiranega jekla št. 1.0308 (E235),  (ni primeren za instalacijo pitne vode)  zunaj galvansko pocinkane s slojem cinka debeline 8-15µm,  izdelane po DIN EN 10305-3 s pripadajočimi fitingi za hladno stiskanje in sigurnostno konturo, ki pri polnjenju instalacije detektira nezatisnjene  spoje. Nezatisnjene spoje se pri mokrem preizkusu zagotovo odkrije z iztekanjem preizkusnega medija ali padanjem tlaka na preizkusnem manometru, v območju 1 bar do 6,5 bar, pri suhem preizkusu pa v območju 22 mbar do 3 bar."]
[null,"Proizvod kot npr. Viega Prestabo oziroma proizvod drugega proizvajalca enakih ali boljših karakteristik komplet s tesnilnim in spojnim materialom dimenzija:"]
[null,"DN 10 - ø 15x1,2","m",75,null,{"$f":"E434*D434","v":0},{"$f":"+E434*MM","v":0},{"$f":"+G434*D434","v":0},{"$f":"+E434-G434","v":0},{"$f":"+I434*D434","v":0}]
[null,"DN 15 - ø 18x1,2","m",11,null,{"$f":"E435*D435","v":0},{"$f":"+E435*MM","v":0},{"$f":"+G435*D435","v":0},{"$f":"+E435-G435","v":0},{"$f":"+I435*D435","v":0}]
[null,"DN 20 - ø 22x1,5","m",100,null,{"$f":"E436*D436","v":0},{"$f":"+E436*MM","v":0},{"$f":"+G436*D436","v":0},{"$f":"+E436-G436","v":0},{"$f":"+I436*D436","v":0}]
[]
["12.","Dobava in montaža Armaflex ACE Plus elastomerne fleksibilne izolacije na osnovi sintetičnega kavčuka za izolacijo cevovodov, preprečevanje kondenzacije in energijske prihranke. EU požarna klasifikacija B-s3,d0; toplotna prevodnost λ pri 0°C je 0,035 W/m.K; koef. upora difuziji vodne pare je 10.000 (za plošče deb. 3-32mm in cevi deb. 6-32mm; za ostale dimenzije je 7.000; za temp. območje od -50°C  do  +110°C; trakovi in plošče lepljeni na površino do maks. +85°C. Toplotne mostove potrebno zaščititi s cevnimi nosilci Armafix AF. Spoje (vzdožne, prečne, površino) potrebno lepiti z original Armaflex lepilom,  za čiščenje orodja, rok in razmaščevanje pa Armaflex Čistilo. CE certifikat v skladu z EN 14304."]
[null,"Ustreza proizvod Armacell Armaflex ACE/P oziroma proizvod drugega proizvajalca enakih ali boljših karakteristik"]
[null,"ACE/P-19x DN10","m",35,null,{"$f":"E440*D440","v":0},{"$f":"+E440*MM","v":0},{"$f":"+G440*D440","v":0},{"$f":"+E440-G440","v":0},{"$f":"+I440*D440","v":0}]
[null,"ACE/P-19x DN15","m",11,null,{"$f":"E441*D441","v":0},{"$f":"+E441*MM","v":0},{"$f":"+G441*D441","v":0},{"$f":"+E441-G441","v":0},{"$f":"+I441*D441","v":0}]
[null,"ACE/P-19x DN20","m",100,null,{"$f":"E442*D442","v":0},{"$f":"+E442*MM","v":0},{"$f":"+G442*D442","v":0},{"$f":"+E442-G442","v":0},{"$f":"+I442*D442","v":0}]
[]
["13.","Dobava in montaža mehanske zaščita izolacije izdelana iz PVC folije, komplet z oblikovnimi kosi. Zaščita izolacije se izvaja le na segmentu vidnih cevi, ne izvede pa se v spuščenih stropovih."]
[null,"odgovarja Okapak SE (nizka vnetljivost po DIN4102-B1) oziroma proizvod drugega proizvajalca enakih ali boljših karakteristik."]
[null,"DN10, izolacija 19 mm","m",35,null,{"$f":"E446*D446","v":0},{"$f":"+E446*MM","v":0},{"$f":"+G446*D446","v":0},{"$f":"+E446-G446","v":0},{"$f":"+I446*D446","v":0}]
[null,"DN15, izolacija 19 mm","m",11,null,{"$f":"E447*D447","v":0},{"$f":"+E447*MM","v":0},{"$f":"+G447*D447","v":0},{"$f":"+E447-G447","v":0},{"$f":"+I447*D447","v":0}]
[null,"DN20, izolacija 19 mm ","m",15,null,{"$f":"E448*D448","v":0},{"$f":"+E448*MM","v":0},{"$f":"+G448*D448","v":0},{"$f":"+E448-G448","v":0},{"$f":"+I448*D448","v":0}]
[]
["14.","Avtomatski odzračevalni lonček, komplet s samozapornim ventilom in tesnilnim materialom ter krogelno zaporno pipo,"]
[null,"Ustreza IMI PNEMUATEX oziroma proizvod drugega proizvajalca enakih ali boljših karakteristik"]
[null,"IMI PNEUMATEX ZEPARO"]
[null,"DN10","kos",8,null,{"$f":"E453*$D453","v":0},{"$f":"+E453*MM","v":0},{"$f":"+G453*D453","v":0},{"$f":"+E453-G453","v":0},{"$f":"+I453*D453","v":0}]
[]
["15.","Barvanje novih vidnih cevi z estetskim lakom obstojnim do 120 ºC, RAL po izboru arhitekta, 2 x nanos laka."]
[null,null,"m2",3,null,{"$f":"E456*$D456","v":0},{"$f":"+E456*MM","v":0},{"$f":"+G456*D456","v":0},{"$f":"+E456-G456","v":0},{"$f":"+I456*D456","v":0}]
[]
["16.","Krogelni navojni ventil s polnim pretokom z izpustno pipico, sestoječ se iz nikanega ohišja iz prešane medenine MS58, z vgrajeno kromirano kovano kroglo iz medenine, ki ima tesnilo iz teflona PTFE in dolgo ročico iz silumina odgovarjajoče barve. Komplet s tesnilnim in montažnim materialom. Delovna temperatura -15 do 120ºC, pri PN6."]
[null,"Odgovarja tip Kovina K402-406 oziroma proizvod drugega proizvajalca enakih ali boljših karakteristik, nazivne velikosti:"]
[null,"DN20                                                             ","kos",5,null,{"$f":"E460*$D460","v":0},{"$f":"+E460*MM","v":0},{"$f":"+G460*D460","v":0},{"$f":"+E460-G460","v":0},{"$f":"+I460*D460","v":0}]
[]
["17.","Ročni balansirni ventil z nastavki za manometer, z navojnimi priključki, z dodatno funkcijo praznjenja, blokade nastavljene vrednosti in funkcije zapornega ventila, primeren za ogrevno vodo do 95°C, min. PN6, skupaj s tesnilnim materialom ter nastavitvijo pretoka z merilnim inštrumentom"]
[null,"Odgovarja Hertz Stromax oziroma proizvod drugega proizvajalca enakih ali boljših karakteristik"]
[null,"DN20 (kvs=6,0)","kos",2,null,{"$f":"E464*$D464","v":0},{"$f":"+E464*MM","v":0},{"$f":"+G464*D464","v":0},{"$f":"+E464-G464","v":0},{"$f":"+I464*D464","v":0}]
[]
["18.","Demontaža obstoječega kalorimetra na veji “poslovni del in hišniško stanovanje” komplet s tipali."]
[null,null,"kpl",1,null,{"$f":"E467*$D467","v":0},{"$f":"+E467*MM","v":0},{"$f":"+G467*D467","v":0},{"$f":"+E467-G467","v":0},{"$f":"+I467*D467","v":0}]
[]
["19.","Ponovna montaža demontiranega kalorimetra na vejo “hišniško stanovanje” komplet s potrebnim montažnim in tesnilnim materilalom ter priključnima mestoma na cevni inztalaciji za temperaturna tipala."]
[null,null,"kpl",1,null,{"$f":"E470*$D470","v":0},{"$f":"+E470*MM","v":0},{"$f":"+G470*D470","v":0},{"$f":"+E470-G470","v":0},{"$f":"+I470*D470","v":0}]
[]
["20.","Dobava, montaža in zagon - toplotni  števec, komplet  z vgradnim kompletom in računsko enoto ter dvema temperaturnima tipaloma, skupaj napajalnikom 230V za omrežno napajanje, proizvod  Allmess tip US Echo II, PN16 DN15, L=110mm, skupaj z računsko enoto CF800, skupaj z RF modulom in Mbus modulom. \nVnom = 0,6 m3/h"]
[null,"Komplet s potrebnim tesnilnim in montažnim materialom ter priključnima mestoma na cevni instalaciji za temperaturna tipala. "]
[null,"Opomba - naročilo novega kalorimetra le v primeru, da obstoječi ni ustrezen. "]
[null,null,"kpl",1,null,{"$f":"E475*$D475","v":0},{"$f":"+E475*MM","v":0},{"$f":"+G475*D475","v":0},{"$f":"+E475-G475","v":0},{"$f":"+I475*D475","v":0}]
[]
["21.","Priključitev ogrevne veje “poslovni del in hišniško stanovanje”  na obstoječo cev na razdelilniku v toplotni postaji.  "]
[null,"Dimenzija cevi: "]
[null,"obstoječi priključek DN 32 / nova cev 2 x ø 22x1,5","kpl",1,null,{"$f":"E479*$D479","v":0},{"$f":"+E479*MM","v":0},{"$f":"+G479*D479","v":0},{"$f":"+E479-G479","v":0},{"$f":"+I479*D479","v":0}]
[]
["22.","Izpiranje celotne ogrevalne instalacije, tlačni preizkus tesnjenja cevovoda s hladno vodo, sekcijski in celotni preizkusi, preizkusni tlak je 1,5x delovni tlak, vključno s potrebnim materialom (čepi), ter izdelavo pisnega poročila o uspešno opravljenem tlačnem preizkusu. (velja za delne in končne tlačne preizkuse)"]
[null,null,"kpl",1,null,{"$f":"E482*$D482","v":0},{"$f":"+E482*MM","v":0},{"$f":"+G482*D482","v":0},{"$f":"+E482-G482","v":0},{"$f":"+I482*D482","v":0}]
[]
["23.","Polnjenje sistema ogrevanja objekta “mala telovadnica in garderobe” z mehčano vodo, odzračevanjem in priprava za zagon ogrevanja."]
[null,null,"kpl",1,null,{"$f":"E485*$D485","v":0},{"$f":"+E485*MM","v":0},{"$f":"+G485*D485","v":0},{"$f":"+E485-G485","v":0},{"$f":"+I485*D485","v":0}]
[]
["24.","Nastavitve pretokov na posameznem radiatorskem ventilu RA-N, skladno tabeli nastavitev."]
[null,null,"kpl",0]
[]
["25.","Označitev instalacij in smeri toka medija po izvedeni izolaciji"]
[null,null,"kpl",1,null,{"$f":"E491*$D491","v":0},{"$f":"+E491*MM","v":0},{"$f":"+G491*D491","v":0},{"$f":"+E491-G491","v":0},{"$f":"+I491*D491","v":0}]
[]
["26.","Pripravljalna in zaključna dela, zarisovanje, splošni, manipulativni, zavarovalni in transportni stroški"]
[null,null,null,0.05,{"$f":"SUM(F382:F492)*D494","v":0},{"$f":"+E494","v":0},{"$f":"+E494*MM","v":0},{"$f":"+G494","v":0},{"$f":"+E494-G494","v":0},{"$f":"+I494","v":0}]
[]
["27.","Obračun po količinah, ki izhajajo iz potrjenega gradbenega dnevnika in ob upoštevanju kalkulativnih osnov","kpl",1,{"$f":"SUM(F377:F494)*0.05","v":0},{"$f":"E496*$D496","v":0},{"$f":"+E496*MM","v":0},{"$f":"+G496*D496","v":0},{"$f":"+E496-G496","v":0},{"$f":"+I496*D496","v":0}]
[]
[]
[null,"SKUPAJ RADIATORSKO OGREVANJE - POSLOVNI DEL IN HIŠNIŠKO STANOVANJE",null,null,null,{"$f":"SUM(F377:F498)","v":0},null,{"$f":"SUM(H377:H498)","v":0},null,{"$f":"SUM(J377:J498)","v":0}]
[]
["F.","HLAJENJE PROSTOROV -  VRV SISTEM "]
[]
["1.","Dobava in montaža zunanje enote VRV-IV, kot sledi:"]
[null,"Sistem zunanje (ali več zunanjih) in večih notranjih enot, v ti. \"VRV\" izvedbi, za ogrevanje in hlajenje prostor."]
[null,"Sistem deluje z ekološkim hladilnim sredstvom R410a."]
[null,"Sistem je toplotna črpalka, ki deluje na principu spremenljive količine hladilnega sredstva, z modulacijo vrtljajev brezstopenjsko vodenih kompresorjev in se s tem popolnoma prilagaja potrebam objekta (notranje enote sistema). Omogoča ogrevanje ali hlajenje sistema kot celote."]
[null,"Sistem, ter proizvajalec sistema, sta certificirana po glavnih in priznanih standardih in smernicah in s tem zagotavljata ustrezen nivo kvalitete in skladnost z EU zakonodajo (CE, Eurovent, ISO9001, ISO14001, ipd.)"]
[null,"Oprema je v tovarni pred odpremo popolnoma testirana skladno z njeno uporabo ter zakoni in smernicami v EU (tlačna trdnost >38bar, elektronski test morebitnega puščanja hladiva, vakuumski test do 2 torr, električni \"šok\" testi, ipd.)."]
[null,"Zunanja enota je primerna za zunanjo postavitev, grajena iz ohišja iz nerjavne pločevine, dodatno prašno barvanega (poliestersko termalno, debelina nanosa min. 70μ)."]
[null,"Enota je zračno hlajenja, sestavljena iz izmenjevalnika iz aluminijastih lamel, navlečenih na bakrene cevi. Aluminijaste lamele so dodatno prevlečene s plastjo posebnega akrilnega in hidrofilskega premaza, ki zagotavlja dolgo življensko dobo ob visoki odpornosti na atmosfersko korozijo (kisli dež, sol)."]
[null,"Sistem kot celota je lahko sestavljen iz ene ali več zunanjih enot, vsaka pa je opremljena z večimi spiralnimi hermetičnimi kompresorji, vsi popolnoma brezkoračno krmiljeni (INVERTER motor), za zagotavljanje natančnega prilagajanja potrebam po hladilni ali ogrevni moči. Naprava omogoča obratovanje tudi v primeru, če je kateri od kompresorjev v okvari (ti, \"emergency operation\"). Vsi kompresorji so zvočno izolirani."]
[null,"Za odvod kondenzacijske toplote so predvideni (eden ali več) visokoučinkoviti aksialni ventilatorji z DC INVERTER motorjem (brezkoračna regulacija), ki se prilagajajo dejanskim potrebam kondenzatorja oz. uparjalnika."]
[null,"Ventilatorji imajo možnost povišanega zunanjega statičnega tlaka, z ustreznimi nastavitvami vse do 80Pa. Vsak ventilator je lahko nastavljen posebej."]
[null,"Izpih zraka je lahko, odvisno od izvedbe naprave, vertikalni ali horizontalni."]
[null,"Naprava je v komplet sestavljena še z vsemi potrebnimi cevnimi in električnimi povezavami, mikroprocesorskim krmiljem, elektronskim ekspanzijskim ventilom, oljnim separatorjem, sesalnim akumulatorjem, tipala za visoki in nizki tlak, zaščitni termostati, varovalke, fazne zaščite, zaščite proti preobremenitvi kompresorjev, termične zaščite, tekočinske in plinske zaporne ventile, magnetne ventile in vso potrebno senzoriko in krmije za varno, neprekinjeno in zanesljivo delovanje."]
[null,"Glavne varnostne funkcije sistema so predvsem nemoteno in zanesljivo odtaljevanje ter vračanje olja kompresorja."]
[null,"Notranje enote so z zunanjimi enotami povezana z ustreznimi bakrenimi cevmi ustreznih dimenzij. Cevi morajo biti primerne za uporabo v hladilništvu, vsi lotani spoji morajo biti izvedeni v atmosferi zaščitnega plina (dušik - N2), po končani montaži očiščene, razmaščene in zvakuumirane, skladno z navodili proizvajalca."]
[null,"Med notranjimi in zunanjimi enotami je izvedena še ustrezna komunikacijska povezava, s kablom skladno z navodili proizvajalca, z opletom ali brez, ustreznimi odmiki od morebitnih energetskih in ostalih vodnikov v objektu, ter zaporedno priključena na posamezne enote sistema."]
[null,"Regulacija temperatur je standardno vremensko in obremenitveno vodena (kombinacija zunanjih in notranjih pogojev)."]
[null,"Sistem mora standardno omogočati ti. VRT ali \"Variabile Refrigerant Temperature\" regulacijo temperature hladilnega sredstva. Sistem na podlagi obremenitev objekta in notranjih pogojev samodejno uravnava (dviga ali spušča) temperaturo uparjanja ali kondenzacije sistema in s tem še dodatno poviša sezonsko učinkovitost sistema, vse skladno z zadnjimi evropskimi ErP direktivami."]
[null,"Obenem sistem omogoča (v kolikor aplikacija to zahteva) fiksne temperature uparjanja in kondenzacije."]
[null,"Opisana regulacija sistema istočasno omogoča različne načine obratovanja ob hladnih ali vročih zagonih sistema - npr.: hitro ogretje prostora, ter nato znižanje temperature za najvišjo možno sezonsko učinkovitost, ali obratno, počasno začetno ogrevanje ali hlajenje in zelo visoko sezonsko učinkovitost že v začetni fazi obratovanja."]
[null,"Vsi parametri so enostavno dosegljivi in nastavljivi pooblaščenemu serviserju na zunanji enoti sistema, preko LCD posluževalnega tabloja ali PC orodja."]
[null,"Nominalni tehnični podatki:"]
[null,"Hladilna moč: 28.0 kW (Tin=27°CDB/19°CWB @ Tz=+35°C, Linst=7,5m)"]
[null,"SEER: 6.8"]
[null,"Faktor sezonske učinkovitosti hlajenja ηs,c: 267.6%"]
[null,"Ogrevalna moč: 31.5 kW (Tin=20°CDB @ Tz=7°CDB/6°CWB, Linst=7,5m)"]
[null,"SCOP: 4.3"]
[null,"Faktor sezonske učinkovitosti ogrevanja ηs,h: 168.2% (povprečna klima)"]
[null,"Št. kompresorjev: 1"]
[null,"Nominalni obratovalni tok: 10.2 A"]
[null,"Maksimalni obratovalni tok (MCA): 22.0A"]
[null,"Priporočeno varovanje enote: 25A"]
[null,"Električno napajanje sistema: 3~, 400V/50Hz"]
[null,"Območje delovanja - ogrevanje: od -20°C do +15.5°C"]
[null,"Območje delovanja - hlajenje: od -5°C do +43°C"]
[null,"Hladilno sredstvo: R410a"]
[null,"Količina hladilnega sredstva v zunanji enoti: 6.0 kg"]
[null,"Dimenzije (V x Š x G): 1.685 x 930 x 765 mm"]
[null,"Teža: 198 kg"]
[null,"Zvočna moč hlajenje: 79.1 dB(A) (po ISO 3744)"]
[null,"Zvočni tlak (@1m od enote, @1,5m od tal): 57 dB(A)"]
[null,"Freonski priključki: Cu 9.52/22.2 mm"]
[null,"Odgovarja DAIKIN VRV-IV oziroma proizvod drugega proizvajalca enakih ali boljših karakteristik"]
[null,"DAIKIN VRV-IV, tip RXYQ10U","kpl",1,null,{"$f":"E546*$D546","v":0},{"$f":"+E546*MM","v":0},{"$f":"+G546*D546","v":0},{"$f":"+E546-G546","v":0},{"$f":"+I546*D546","v":0}]
[]
["2.","Dobava in montaža - notranja stenska enota, vidne izvedbe (vgradnja na steno) z masko, z zajemom zraka iz zgornje strani ter vpihom navzdol. Rešetka/loputa za izpih zraka je avtomatizirana."]
[null,"Ohišje enote (notranji del) je iz panelov iz toge ABS plastike, ustrezno protikondenčno in toplotno izolirano. Dekorativno ohišje enote (zunanji, vidni del) pa je dodatno prašno barvano, v beli barvi RAL9010."]
[null,"Izmenjevalnik toplote je iz bakrenih cevi in nanje navlečenih aluminijastih lamel. Izmenjevalnik je standardno opremljen z elektronskim ekspanzijskim ventilom (EEV), ki preko ustrezne PID krmilne logike krmilnika, kontrolira pretok hladilnega sredstva čez izmenjevalnik."]
[null,"Ventilator je ti. \"Multi Blade\" centrifugalni, z več lopaticami, z dvojnim sesanjem, statično in dinamično balansiran za nizki hrup in maksimalni izkoristek. Motor ventilatorja je brezkrtačni DC brezstopenjski (inverter)."]
[null,"Na zajemu zraka je nameščen pralni sintetični \"long-life\" filter (filter za dolgo življensko dobo)."]
[null,"Pod enoto je nameščeno korito za zbiranje kondenzata z odprtino za namestitev kondenzne cevi."]
[null,"Enota lahko deluje z žičnim ali brezžičnim daljinskim upravljalnikom, na razpolago pa so mnoge druge opcije krmilja in kontrole (oddaljena tipala, CNS vmesniki, lokalni krmilniki, ipd.)"]
[null,"Nominalni tehnični podatki:"]
[null,"Hladilna moč: 1.7kW"]
[null,"Ogrevalna moč: 1.9kW"]
[null,"Električna priključna moč: 30W"]
[null,"Maksimalni obratovalni tok (MCA): 0.3A"]
[null,"Električno napajanje sistema: 1~, 230V/50Hz"]
[null,"Pretok zraka ventilatorja (min/med/maks): 7.0 / / / 8.4 m3/min"]
[null,"Primerna za hladilno sredstvo: R410a"]
[null,"Dimenzije (V x Š x G): 290 x 795 x 266 mm"]
[null,"Teža: 12 kg"]
[null,"Zvočna moč: 51 dB(A) (po ISO 3744)"]
[null,"Zvočni tlak (min/med/maks)**: 28.5 / / / 32 dB(A)"]
[null,"** 1,5m od enote in 1,5m od tal"]
[null,"Freonski priključki: Cu 6.35/12.70 mm"]
[null,"Odgovarja DAIKIN za sistem VRV-IV oziroma proizvod drugega proizvajalca enakih ali boljših karakteristik"]
[null,"DAIKIN tip FXAQ15A","kpl",1,null,{"$f":"E570*$D570","v":0},{"$f":"+E570*MM","v":0},{"$f":"+G570*D570","v":0},{"$f":"+E570-G570","v":0},{"$f":"+I570*D570","v":0}]
[]
["3.","Dobava in montaža notranjih enot sistema VRV-IV, splošni opis po točki 2., kot sledi:"]
[null,"Hladilna moč: 2.8kW"]
[null,"Ogrevalna moč: 3.2kW"]
[null,"Električna priključna moč: 40W"]
[null,"Maksimalni obratovalni tok (MCA): 0.4A"]
[null,"Električno napajanje sistema: 1~, 230V/50Hz"]
[null,"Pretok zraka ventilatorja (min/med/maks): 7.0 / / / 9.4 m3/min"]
[null,"Primerna za hladilno sredstvo: R410a"]
[null,"Dimenzije (V x Š x G): 290 x 795 x 266 mm"]
[null,"Teža: 12 kg"]
[null,"Zvočna moč: 53 dB(A) (po ISO 3744)"]
[null,"Zvočni tlak (min/med/maks)**: 28.5 / / / 35 dB(A)"]
[null,"** 1,5m od enote in 1,5m od tal"]
[null,"Freonski priključki: Cu 6.35/12.70 mm"]
[null,"Odgovarja DAIKIN za sistem VRV-IV oziroma proizvod drugega proizvajalca enakih ali boljših karakteristik"]
[null,"DAIKIN tip FXAQ25A","kpl",4,null,{"$f":"E587*$D587","v":0},{"$f":"+E587*MM","v":0},{"$f":"+G587*D587","v":0},{"$f":"+E587-G587","v":0},{"$f":"+I587*D587","v":0}]
[]
["4.","Dobava in montaža notranjih enot sistema VRV-IV, splošni opis po točki 2., kot sledi:"]
[null,"Hladilna moč: 3.6kW"]
[null,"Ogrevalna moč: 4.0kW"]
[null,"Električna priključna moč: 40W"]
[null,"Maksimalni obratovalni tok (MCA): 0.4A"]
[null,"Električno napajanje sistema: 1~, 230V/50Hz"]
[null,"Pretok zraka ventilatorja (min/med/maks): 7.0 / / / 9.8 m3/min"]
[null,"Primerna za hladilno sredstvo: R410a"]
[null,"Dimenzije (V x Š x G): 290 x 795 x 266 mm"]
[null,"Teža: 12 kg"]
[null,"Zvočna moč: 55 dB(A) (po ISO 3744)"]
[null,"Zvočni tlak (min/med/maks)**: 28.5 / / / 37 dB(A)"]
[null,"** 1,5m od enote in 1,5m od tal"]
[null,"Freonski priključki: Cu 6.35/12.70 mm"]
[null,"Odgovarja DAIKIN za sistem VRV-IV oziroma proizvod drugega proizvajalca enakih ali boljših karakteristik"]
[null,"DAIKIN tip FXAQ32A","kpl",2,null,{"$f":"E604*$D604","v":0},{"$f":"+E604*MM","v":0},{"$f":"+G604*D604","v":0},{"$f":"+E604-G604","v":0},{"$f":"+I604*D604","v":0}]
[]
["5.","Dobava in montaža - notranja kasetna enota, za vgradnjo v spuščeni strop (ali vidno pod strop), s stilsko dekorativno masko (popolnoma poravnano s stropom), z zajemom zraka iz spodnje strani ter vpihom v štirih smereh (360°). Lopute za izpih zraka so avtomatizirane in jih je dovoljeno tudi zapreti."]
[null,"Ohišje enote (skriti del) je iz panelov iz pocinkane pločevine, ustrezno protikondenčno in toplotno izolirano."]
[null,"Dekorativni panel iz toge ABS plastike, stilske izvedbe, ustrezno protikondenčno in toplotno izolirano, zunanji, vidni del, pa je dodatno prašno barvano, v beli ali sivi barvi (po izbiri arhitekta)."]
[null,"Izmenjevalnik toplote je iz bakrenih cevi in nanje navlečenih aluminijastih lamel. Izmenjevalnik je standardno opremljen z elektronskim ekspanzijskim ventilom (EEV), ki preko ustrezne PID krmilne logike krmilnika, kontrolira pretok hladilnega sredstva čez izmenjevalnik."]
[null,"Ventilator je ti. \"Multi Blade\" centrifugalni, z več lopaticami, z dvojnim sesanjem, statično in dinamično balansiran za nizki hrup in maksimalni izkoristek. Motor ventilatorja je brezkrtačni DC brezstopenjski (inverter)."]
[null,"Na zajemu zraka je nameščen pralni sintetični \"long-life\" filter (filter za dolgo življensko dobo)."]
[null,"Pod enoto je nameščeno korito za zbiranje kondenzata z odprtino za namestitev kondenzne cevi. V enoti je standardno vgrajena črpalka za odvod kondenzata, s tlačno višino min. 750mm."]
[null,"Enota lahko deluje z žičnim ali brezžičnim daljinskim upravljalnikom, na razpolago pa so mnoge druge opcije krmilja in kontrole (oddaljena tipala, CNS vmesniki, lokalni krmilniki, ipd.)"]
[null,"Nominalni tehnični podatki:"]
[null,"Hladilna moč: 2.2kW"]
[null,"Ogrevalna moč: 2.5kW"]
[null,"Električna priključna moč: 43W"]
[null,"Maksimalni obratovalni tok (MCA): 0.3A"]
[null,"Električno napajanje sistema: 1~, 230V/50Hz"]
[null,"Pretok zraka ventilatorja (min/med/maks): 6.5 / 7.5 / 8.7 m3/min"]
[null,"Primerna za hladilno sredstvo: R410a"]
[null,"Dimenzije enote (V x Š x G): 260 x 575 x 575 mm"]
[null,"Dimenzije dekorativnega panela (V x Š x G): 46 x 620 x 620 mm"]
[null,"Teža enote: 15.5 kg"]
[null,"Teža dekorativnega panela: 2.8 kg"]
[null,"Zvočna moč: 49 dB(A) (po ISO 3744)"]
[null,"Zvočni tlak (min/med/maks)**: 25.5 / 29.5 / 32 dB(A)"]
[null,"** 1,5m od enote in 1,5m od tal"]
[null,"Freonski priključki: Cu 6.35/12.70 mm"]
[null,"Odgovarja DAIKIN za sistem VRV-IV oziroma proizvod drugega proizvajalca enakih ali boljših karakteristik"]
[null,"DAIKIN tip FXZQ20A + maska BYFQ60CW v beli barvi","kpl",3,null,{"$f":"E631*$D631","v":0},{"$f":"+E631*MM","v":0},{"$f":"+G631*D631","v":0},{"$f":"+E631-G631","v":0},{"$f":"+I631*D631","v":0}]
[]
["6.","Dobava in montaža notranjih enot sistema VRV-IV, splošni opis po točki 5., kot sledi:"]
[null,"Hladilna moč: 3.6kW"]
[null,"Ogrevalna moč: 4.0kW"]
[null,"Električna priključna moč: 45W"]
[null,"Maksimalni obratovalni tok (MCA): 0.4A"]
[null,"Električno napajanje sistema: 1~, 230V/50Hz"]
[null,"Pretok zraka ventilatorja (min/med/maks): 7 / 8.5 / 10 m3/min"]
[null,"Primerna za hladilno sredstvo: R410a"]
[null,"Dimenzije enote (V x Š x G): 260 x 575 x 575 mm"]
[null,"Dimenzije dekorativnega panela (V x Š x G): 46 x 620 x 620 mm"]
[null,"Teža enote: 16.5 kg"]
[null,"Teža dekorativnega panela: 2.8 kg"]
[null,"Zvočna moč: 51 dB(A) (po ISO 3744)"]
[null,"Zvočni tlak (min/med/maks)**: 26 / 30 / 33.5 dB(A)"]
[null,"** 1,5m od enote in 1,5m od tal"]
[null,"Freonski priključki: Cu 6.35/12.70 mm"]
[null,"Ustreza na primer:"]
[null,"Odgovarja DAIKIN za sistem VRV-IV oziroma proizvod drugega proizvajalca enakih ali boljših karakteristik"]
[null,"DAIKIN tip FXZQ32A + maska BYFQ60CW v beli barvi","kpl",1,null,{"$f":"E651*$D651","v":0},{"$f":"+E651*MM","v":0},{"$f":"+G651*D651","v":0},{"$f":"+E651-G651","v":0},{"$f":"+I651*D651","v":0}]
[]
["7.","Dobava in montaža - lokalni, stilski, žični daljinski upravljalnik, z LCD displejem občutljivim na dotik (TOUCH). Krmilnik lahko krmili do 16 notranjih enot, možno pa je priključiti tudi več (2) krmilnika na isto notranjo enoto (master/slave)."]
[null,"Krmilnik je na razpolago v stislkem kompaktnem plastičnim ohišju, dimenzij 85x85mm, v treh različnih barvah (bela, siva ali črna), za lažje prilagajanje notranjemu okolju prostora. Grafični LCD zaslon je uporabniku prijazen z enostavnimi in jasno preglednimi ikonami, dovolj svetel, ne glede na prostorsko osvetlitev."]
[null,"Na krmilniku so na razpolago vse informacije in parametri sistema, z različnimi stopnjami dostopa - uporabnik, monter ali serviser. Za enostavno parametriranje in spreminjanje nastavitev sistema je krmilnik opremljen z \"Bluetooth Low Energy\" sprejemnikom, za povezavo s pametnimi telefoni ali tablicami, preko ustrezne aplikacije."]
[null,"Osnovne funkcije krmilnika so vklop in izklop enote, nastavitev želene temperature v prostoru, režim obratovanja sistema ali enote, nastavitve izpiha zraka (kontrola loput enot, kjer je to možno), indikaija filtra z resetom ter prikaz morebitne okvare sistema (v obliki kode napake). Napredne funkcije, kot so urniki, različni dnevni in nočni režimi obratovanja, varčevanje z energijo, ipd., so na razpolago preko aplikacije na pametnih napravah in Bluetooth povezave."]
[null,"Odgovarja DAIKIN za sistem VRV-IV oziroma proizvod drugega proizvajalca enakih ali boljših karakteristik"]
[null,"Opomba: pred naročilo preveriti z naročnikom tip upravljalnika za stenske enote (žični ali brezžični)."]
[null,"DAIKIN tip BRC1H52W/S/K (barva po izbiri arhitekta)","kpl",8,null,{"$f":"E659*$D659","v":0},{"$f":"+E659*MM","v":0},{"$f":"+G659*D659","v":0},{"$f":"+E659-G659","v":0},{"$f":"+I659*D659","v":0}]
[]
[71,"Opcijsko - namesto žičnega upravljalnika - dobava IR brezžičnega upravljalnika za notranje enote VRV kot sledi:"]
[null,"Brezžični IR upravljalnik, z LCD displejem, komplet z zidno konzolo in baterijami."]
[null,"Odgovarja DAIKIN za sistem VRV-IV oziroma proizvod drugega proizvajalca enakih ali boljših karakteristik"]
[null,"DAIKIN tip BRC7EA628  za enote FXAQ-A","kpl",4,null,{"$f":"E664*$D664","v":0},{"$f":"+E664*MM","v":0},{"$f":"+G664*D664","v":0},{"$f":"+E664-G664","v":0},{"$f":"+I664*D664","v":0}]
[]
["8.","Dobava in montaža odcepnih kosov kot sledi:"]
[null,"Originalni, tovarniško sestavljeni in lotani, izolirani, razmaščeni in očiščeni odcepni kos bakrene instalacije hladilnega sredstva, za razvejanje instalacije do priključkov posameznih notranjih enot."]
[null,"Odgovarja DAIKIN za sistem VRV-IV oziroma proizvod drugega proizvajalca enakih ali boljših karakteristik"]
[null,"DAIKIN tip KHRQ22M20T","kpl",5,null,{"$f":"E669*$D669","v":0},{"$f":"+E669*MM","v":0},{"$f":"+G669*D669","v":0},{"$f":"+E669-G669","v":0},{"$f":"+I669*D669","v":0}]
[null,"DAIKIN tip KHRQ22M29T9","kpl",3,null,{"$f":"E670*$D670","v":0},{"$f":"+E670*MM","v":0},{"$f":"+G670*D670","v":0},{"$f":"+E670-G670","v":0},{"$f":"+I670*D670","v":0}]
[]
["9.","Dobava in montaža - cevovodi iz bakrenih cevi za povezavo hladilnih naprav po navodilih proizvajalca, s tovarniško (manjše dimenzije) ali dodatno izolacijo (večje dimenzije), po EN 12735-1, trdo spojeni v atmosferi z uporabo zaščitnega plina (dušik - N2), vključno s fitingi, tesnilnim in dodajnim materialom, zunaj objekta z dodatno UV in fizično zaščito (proti direktnemu sončnemu obsevanju in fizičnim poškodbam izolacije), ustreznih dimenzij:                                               \nOPOMBA: Cevi hladilnega medija vodene na prostem morajo biti izolirane/zaščitene proti mehanskimi in vremenskimi poškodbami (ptice, UV sevanje,…)."]
[null,"6,35 mm (R1/4”)","m",50,null,{"$f":"E673*$D673","v":0},{"$f":"+E673*MM","v":0},{"$f":"+G673*D673","v":0},{"$f":"+E673-G673","v":0},{"$f":"+I673*D673","v":0}]
[null,"9,50 mm (R3/8”)","m",30,null,0,0,0,0,0]
[null,"12,70 mm (R1/2”)","m",98,null,0,0,0,0,0]
[null,"15,90 mm (R5/8”)","m",30,null,0,0,0,0,0]
[null,"19,1 mm (R3/4”)","m",40,null,0,0,0,0,0]
[null,"22,22 mm(R7/8”)","m",15,null,0,0,0,0,0]
[]
["10.","Dobava in montaža - kabelske police s pokrovom (neperforirane) za vodenje razvodov split sistema objekta montirane zunaj po objektu ali kovinski konstrukciji, iz pocinkane pločevine, skupaj z podporami iz pocinkane pločevine za montažo polic, komplet z obešalnim in pritrdilnim materialom in pokorovom."]
[null,"širine 10 cm","m",10,null,{"$f":"E681*$D681","v":0},{"$f":"+E681*MM","v":0},{"$f":"+G681*D681","v":0},{"$f":"+E681-G681","v":0},{"$f":"+I681*D681","v":0}]
[]
["11.","Zaščita bakrenih cevovodov (par bakrenih cevi s tovarniško izolacijo) izven objekta, oplaščeno z aluminijastim (Alu) oklepom, zaščiteno z zaščitno PP cevjo, za zaščito instalacije pred fizičnimi poškodbami in direktnim sončnim sevanjem (UV zaščita)"]
[null,"ali podobno","kpl",1,null,{"$f":"E684*$D684","v":0},{"$f":"+E684*MM","v":0},{"$f":"+G684*D684","v":0},{"$f":"+E684-G684","v":0},{"$f":"+I684*D684","v":0}]
[]
["12.","Pritrdilni material za montažo sistema ogrevanja in hlajenja, vključno s pritrdilnimi trakovi, profili, navojnimi palicami, podložkami, maticami, ipd. potrebnimi za montažo notranjih enot in bakrene instalacije sistema"]
[null,null,"kg",50,null,{"$f":"E687*$D687","v":0},{"$f":"+E687*MM","v":0},{"$f":"+G687*D687","v":0},{"$f":"+E687-G687","v":0},{"$f":"+I687*D687","v":0}]
[]
["13.","Dobava in montaža signalnih kablov v zaščitnem opletu (pogojno brez, z zagotovitvijo minimalnih razdalj do bližnjih energetskih kablov) za povezavo med zunanjimi in notranjimi enotami, ter morebitno povezavo do žičnih daljinskih upravljalnikov"]
[null,"*komunikacijska povezava se izvede od zunanje do zanje notranje enote zaporedno! Vzporedna vezava (prekinjanje komunikacijeske povezave, zvezda, ipd.) ni dovoljena."]
[null,"razred kabla znotraj objekta skladno NPV Ccas1d2a1 (B2cas1d1a1 na evakuacijskih poteh)"]
[null,"- 2 x 0,75mm2 oklopljen kabel za signal oz. komunikacijo","m",200,null,{"$f":"E692*$D692","v":0},{"$f":"+E692*MM","v":0},{"$f":"+G692*D692","v":0},{"$f":"+E692-G692","v":0},{"$f":"+I692*D692","v":0}]
[]
["14.","Izvedba odtoka kondenzata od zunanje enote ob objektu, vključno z lovilnim koritom iz nerjavne pločevine nameščenim pod zunanjo enoto, opremljeno s samoregulirnim grelnim kablom, ki preprečuje zamrzovanje kondenzata v zimskih ekstremih, odtok speljan v ponikovanje objekta, bližnji žleb, ipd."]
[null,null,"kpl",1,null,{"$f":"E695*$D695","v":0},{"$f":"+E695*MM","v":0},{"$f":"+G695*D695","v":0},{"$f":"+E695-G695","v":0},{"$f":"+I695*D695","v":0}]
[]
["15.","Dobava in montaža - tlačne cevi namenjene odvodu kondenza komplet s fazonskimi kosi (odcepi, kolena, prehodni reducirni komadi itd), izdelani iz trdega polivinil-klorida (PP), za spajanje z lepljenjem, opremljeno s samoregulirnim grelnim kablom, ki preprečuje zamrzovanje kondenzata v zimskih ekstremih vključno z izolacijo zaščiteno pred vremenskimi vplivi in UV žarki."]
[null,"ø 50 ","m",10,null,{"$f":"E698*$D698","v":0},{"$f":"+E698*MM","v":0},{"$f":"+G698*D698","v":0},{"$f":"+E698-G698","v":0},{"$f":"+I698*D698","v":0}]
[]
["16.","Vakuumiranje, polnjenje sistema z delovnim plinom (R410a, predvideno cca. 9,8 kg), tlačni preizkus trdnosti in tesnjenja cevovoda z inertnim plinom (dušik, N2 - 24ur, 40bar), vključno s potrebnim materialom (čepi), ter izdelavo pisnega poročila o uspešno opravljenem tlačnem preizkusu; predaja gradbeno tehnične dokumentacije, označitev medije in smeri pretokov…,"]
[null,"skladno z navodili proizvajalca","kpl",1,null,{"$f":"E701*$D701","v":0},{"$f":"+E701*MM","v":0},{"$f":"+G701*D701","v":0},{"$f":"+E701-G701","v":0},{"$f":"+I701*D701","v":0}]
[]
["17.","Električni priklop, zagon in šolanje:\nPriklop naprave, potem ko so predhodno s strani inštalaterja dobavljeni in napeljani kabli skladno z načrtom električnih kablov, zagon VRV sistema s strani pooblaščenega serviserja, izdaja potrdila o zagonu in šolanje uporabnika."]
[null,null,"kpl",1,null,{"$f":"E704*$D704","v":0},{"$f":"+E704*MM","v":0},{"$f":"+G704*D704","v":0},{"$f":"+E704-G704","v":0},{"$f":"+I704*D704","v":0}]
[]
["18.","Pocinkana kabelska polica, brez pokrova, za polaganje instalacij znotraj objekta, različnih dimenzij (glede na debelino Cu instalacije in izolacije), za montažo na steno ali strop, vključno s potrebnimi spojnimi in prehodnimi kosi, ter pritrdilnim materialom in profili"]
[null,"širina 100 do 200 mm ","m",100,null,{"$f":"E707*$D707","v":0},{"$f":"+E707*MM","v":0},{"$f":"+G707*D707","v":0},{"$f":"+E707-G707","v":0},{"$f":"+I707*D707","v":0}]
[]
["19.","Dobava in montaža dekorativnega parapetnega kanala za vodenje freonske instalacije, elektro instalalcije ter kondenza komplet s potrebnim montažnim in pritrdilnim materialom, zaključnimi elekmenti, prehodi itd., kot sledi:"]
[null,"Parapetni kanal bele barve višine do 200 mm, za vodenje freonske instalacije in kondenza, bele barve "]
[null,null,"m",30,null,{"$f":"E711*$D711","v":0},{"$f":"+E711*MM","v":0},{"$f":"+G711*D711","v":0},{"$f":"+E711-G711","v":0},{"$f":"+I711*D711","v":0}]
[]
["20.","Dobava in montaža klima sifona za podometno montažo, vključno s potrebnim montažnim in pritrdilnim materialom."]
[null,"Odgovarja H&L oziroma proizvod drugega proizvajalca enakih ali boljših karakteristik"]
[null,"HL 138","kos",5,null,{"$f":"E715*$D715","v":0},{"$f":"+E715*MM","v":0},{"$f":"+G715*D715","v":0},{"$f":"+E715-G715","v":0},{"$f":"+I715*D715","v":0}]
[]
["21.","Dobava in montaža - tlačne cevi namenjene odvodu kondenza komplet s fazonskimi kosi (odcepi, kolena, prehodni reducirni komadi itd), izdelani iz trdega polivinil-klorida (PP), za spajanje z lepljenjem,"]
[null,"ø 32 ","m",40,null,{"$f":"E718*$D718","v":0},{"$f":"+E718*MM","v":0},{"$f":"+G718*D718","v":0},{"$f":"+E718-G718","v":0},{"$f":"+I718*D718","v":0}]
[]
["22.","Pripravljalna in zaključna dela, zarisovanje, splošni, manipulativni, zavarovalni in transportni stroški"]
[null,null,null,0.05,{"$f":"SUM(F544:F718)*D721","v":0},{"$f":"+E721","v":0},{"$f":"+E721*MM","v":0},{"$f":"+G721","v":0},{"$f":"+E721-G721","v":0},{"$f":"+I721","v":0}]
[]
["8.","Obračun po količinah, ki izhajajo iz potrjenega gradbenega dnevnika in ob upoštevanju kalkulativnih osnov","kpl",1,{"$f":"SUM(F501:F721)*0.05","v":0},{"$f":"E723*$D723","v":0},{"$f":"+E723*MM","v":0},{"$f":"+G723*D723","v":0},{"$f":"+E723-G723","v":0},{"$f":"+I723*D723","v":0}]
[]
[null,"SKUPAJ HLAJENJE PROSTOROV",null,null,null,{"$f":"SUM(F501:F724)","v":0},null,{"$f":"SUM(H501:H724)","v":0},null,{"$f":"SUM(J501:J724)","v":0}]
[]
[]
["G.","HLAJENJE KOMUNIKACIJSKEGA PROSTORA "]
[]
["1.","Dobava in montaža zunanje enote sistema split, kot sledi:"]
[null,"Sistem zunanje reverzibilne zračno hlajene ter notranje enote (ali več enot), ti. SPLIT sistema (deljena izvedba) za profesionalno komercialno rabo, za ogrevanje in hlajenje prostorov z ekološkim hladilnim sredstvom R32."]
[null,"Naprava, ter proizvajalec naprave, sta certificirana po glavnih in priznanih standardih in smernicah in s tem zagotavljata ustrezen nivo kvalitete in skladnost z EU zakonodajo (CE, Eurovent, ISO9001, ISO14001, ipd.)"]
[null,"Oprema je v tovarni pred odpremo popolnoma testirana skladno z njeno uporabo ter zakoni in smernicami v EU (tlačna trdnost >38bar, elektronski test morebitnega puščanja hladiva, vakuumski test do 2 torr, električni \"šok\" testi, ipd.)."]
[null,"Zunanja enota je primerna za zunanjo postavitev, grajena iz ohišja iz pocinkane pločevine, dodatno prašno barvanega (poliestersko termalno, debelina nanosa min. 70μ)."]
[null,"Enota je zračno hlajenja, sestavljena iz izmenjevalnika iz aluminijastih lamel, navlečenih na bakrene cevi. Aluminijaste lamele so dodatno prevlečene s plastjo posebnega akrilnega in hidrofilskega premaza, ki zagotavlja dolgo življensko dobo ob visoki odpornosti na atmosfersko korozijo (kisli dež, sol)."]
[null,"Za odvod kondenzacijske toplote so predvideni (eden ali več) visokoučinkoviti aksialni ventilatorji z DC INVERTER motorjem (brezkoračna regulacija), ki se prilagajajo dejanskim potrebam kondenzatorja oz. uparjalnika."]
[null,"Izpih zraka je horizontalni (bočni)."]
[null,"Sistem je toplotna črpalka, ki deluje na principu spremenljive količine hladilnega sredstva, z modulacijo vrtljajev brezstopenjsko vodenih kompresorjev in se s tem popolnoma prilagaja potrebam objekta (notranje enote sistema). Omogoča ogrevanje ali hlajenje sistema kot celote."]
[null,"Sistem kot celota je sestavljen iz ene zunanje in ene notranje enote (lahko tudi več notranjih), zunanja pa je opremljena s spiralnim hermetičnim kompresorjem, popolnoma brezkoračno krmiljenim (INVERTER motor), za zagotavljanje natančnega prilagajanja potrebam po hladilni ali ogrevni moči."]
[null,"Sistem je primeren za ti. tehnično hlajenje (hlajenje IT ali procesnih prostorv), v obdobju celega leta (tudi pozimi) in istočasno standardno omogoča napredne funkcije rotacije enot, backup, ipd. (v primeru uporabe več notranjih enot)."]
[null,"Notranja enota (ali več enot, preko ustreznega Y odcepnega kosa) je z zunanjo povezana z ustreznimi bakrenimi cevmi ustreznih dimenzij. Cevi morajo biti primerne za uporabo v hladilništvu, vsi lotani spoji morajo biti izvedeni v atmosferi zaščitnega plina (dušik - N2), po končani montaži očiščene, razmaščene in zvakuumirane, skladno z navodili proizvajalca."]
[null,"Med notranjo (ali večimi, zaporedno) in zunanjo enoto je izvedena še ustrezna komunikacijska povezava, s kablom skladno z navodili proizvajalca, z opletom ali brez, ustreznimi odmiki od morebitnih energetskih in ostalih vodnikov v objektu."]
[null,"Notranja stilska enota, visoko-stenske izvedbe (vgradnja na steno) z dekorativno masko, z zajemom zraka iz zgornje strani ter vpihom navzdol."]
[null,"Ohišje enote je iz toge ABS plastike, stilsko oblikovano, ustrezno protikondenčno in toplotno izolirano."]
[null,"Izmenjevalnik toplote je iz bakrenih cevi in nanje navlečenih aluminijastih lamel."]
[null,"Ventilator je ti. \"Multi Blade\" centrifugalni, z več lopaticami, z dvojnim sesanjem, statično in dinamično balansiran za nizki hrup in maksimalni izkoristek. Motor ventilatorja je brezkrtačni DC brezstopenjski (inverter)."]
[null,"Na zajemu zraka je nameščen snemljivi, pralni sintetični \"long-life\" filter (filter za dolgo življensko dobo) ter \"Flash streamer\" elektronski plazma filter za uničevanje vonjev ter ostalih strupenih elementov (bakterije, virusi...)"]
[null,"Pod enoto je nameščeno korito za zbiranje kondenzata z odprtino za namestitev kondenzne cevi."]
[null,"Na izpihu zraka so vgrajene motorizirane lamele v horizontalni in vertikalni smeri. Izpih zraka v hlajenju je možen pod strop, v ogrevanju pa navpično navzdol."]
[null,"Enota ima vgrajeno IR tipalo za zaznavanje temperature delov prostora ter oseb v prostoru. S pomočjo tipala lahko samodejno usmeri curek zraka za doseganje enakomerne temperature v prostoru in/ali usmeri curek zraka stran od oseb v prostoru."]
[null,"Enota lahko deluje z brezžičnim daljinskim upravljalnikom (v standardni dobavi enote), na razpolago pa so mnoge druge opcije krmilja in kontrole (oddaljena tipala, CNS vmesniki, lokalni krmilniki, ipd.). Enota je standardno dobavljena tudi z vmesnikom za priklop na Wlan omrežje preko aplikacije Onecta, z možnostjo glasovnega upravljanja preko Amazon Alexa ali Google Assistant."]
[null,"Tehnični podatki sistema:"]
[null,"Temperatura okolice +35°C, temperatura in vlaga prostora 22°C / 35%RH"]
[null,"Totalna hladilna moč: 3.02kW"]
[null,"Senzibilna hladilna moč: 3.02kW"]
[null,"Temperatura okolice -15°C, temperatura in vlaga prostora 22°C / 35%RH"]
[null,"Totalna hladilna moč: 3.51kW"]
[null,"Senzibilna hladilna moč: 3.51kW"]
[null,"Zunanja enota:"]
[null,"Nominalna priključna moč: 0.90kW"]
[null,"Maksimalni obratovalni tok (MCA) enote: 14.83A"]
[null,"Priporočeno varovanje enote: 16A"]
[null,"Električno napajanje enote: 1~, 230V/50Hz"]
[null,"Območje delovanja - ogrevanje: od -20°C do +24°C"]
[null,"Območje delovanja - hlajenje: od -20°C do +52°C (tehnično hlajenje)"]
[null,"Hladilno sredstvo: R32"]
[null,"Količina hladilnega sredstva v zunanji enoti: 1.05 kg"]
[null,"Dimenzije (V x Š x G): 734 x 870 x 373 mm"]
[null,"Teža: 52 kg"]
[null,"Zvočni tlak: 50 dB(A)"]
[null,"Freonski priključki: Cu 6.35/9.52 mm"]
[null,"Notranja enota:"]
[null,"Pretok zraka (V / N / tiho): 16.0 / 11.6 / 8.1 m3/min"]
[null,"Električno napajanje enote: 1~, 230V/50Hz"]
[null,"Hladilno sredstvo: R32"]
[null,"Dimenzije (V x Š x G): 300 x 1.040 x 295 mm"]
[null,"Teža: 14.5 kg"]
[null,"Zvočni tlak (V / N / tiho): 44 / 36 / 27 dB(A)"]
[null,"Freonski priključki: Cu 6.35/12.70 mm"]
[null,"Vključno standardne vročecinkane in barvane stenske konzole za zunanjo enoto."]
[null,"Odgovarja DAIKIN za sistem split oziroma proizvod drugega proizvajalca enakih ali boljših karakteristik"]
[null,"Tip zunanje enote: DAIKIN RZAG35A"]
[null,"Tip notranje enote: DAIKIN FTXM50R + IR upravljalnik","kpl",1,null,{"$f":"E783*$D783","v":0},{"$f":"+E783*MM","v":0},{"$f":"+G783*D783","v":0},{"$f":"+E783-G783","v":0},{"$f":"+I783*D783","v":0}]
[]
["2.","Dobava in montaža - cevovodi iz bakrenih cevi za povezavo hladilnih naprav po navodilih proizvajalca, s tovarniško (manjše dimenzije) ali dodatno izolacijo (večje dimenzije), po EN 12735-1, trdo spojeni v atmosferi z uporabo zaščitnega plina (dušik - N2), vključno s fitingi, tesnilnim in dodajnim materialom, zunaj objekta z dodatno UV in fizično zaščito (proti direktnemu sončnemu obsevanju in fizičnim poškodbam izolacije), ustreznih dimenzij:                                               \nOPOMBA: Cevi hladilnega medija vodene na prostem morajo biti izolirane/zaščitene proti mehanskimi in vremenskimi poškodbami (ptice, UV sevanje,…)- kot npr. euroflex UV cev "]
[null,"*bakrene povezave in izvedba le-teh med zunanjo in notranjimi enotami morajo biti v skladu z navodili in shemami proizvajalca oz. dobavitelja opreme. Ustrezati morajo vsem dolžinskim omejitvam in po končani montaži ustrezno preverjena, očiščena in zvakuumirana.."]
[null,"6,35 mm (R1/4”)","m",20,null,{"$f":"E787*$D787","v":0},{"$f":"+E787*MM","v":0},{"$f":"+G787*D787","v":0},{"$f":"+E787-G787","v":0},{"$f":"+I787*D787","v":0}]
[null,"9,52 mm (R3/8”)","m",20,null,{"$f":"E788*$D788","v":0},{"$f":"+E788*MM","v":0},{"$f":"+G788*D788","v":0},{"$f":"+E788-G788","v":0},{"$f":"+I788*D788","v":0}]
[]
["3.","Dobava in montaža signalnih kablov v zaščitnem opletu (pogojno brez, z zagotovitvijo minimalnih razdalj do bližnjih energetskih kablov) za povezavo med zunanjimi in notranjimi enotami, ter morebitno povezavo do žičnih daljinskih upravljalnikov\n*komunikacijska povezava se izvede od zunanje do zanje notranje enote zaporedno! Vzporedna vezava (prekinjanje komunikacijeske povezave, zvezda, ipd.) ni dovoljena.\nrazred kabla znotraj objekta skladno NPV Ccas1d2a1 (B2cas1d1a1 na evakuacijskih poteh)"]
[null,"4 x 1,5 mm2","m",20,null,{"$f":"E791*$D791","v":0},{"$f":"+E791*MM","v":0},{"$f":"+G791*D791","v":0},{"$f":"+E791-G791","v":0},{"$f":"+I791*D791","v":0}]
[]
["4.","Dobava in montaža - tlačne cevi namenjene odvodu kondenza komplet s fazonskimi kosi (odcepi, kolena, prehodni reducirni komadi itd), izdelani iz trdega polivinil-klorida (PP), za spajanje z lepljenjem,"]
[null,"ø 32 ","m",5,null,{"$f":"E794*$D794","v":0},{"$f":"+E794*MM","v":0},{"$f":"+G794*D794","v":0},{"$f":"+E794-G794","v":0},{"$f":"+I794*D794","v":0}]
[]
["5.","Dobava in montaža klima sifona za podometno montažo, vključno s potrebnim montažnim in pritrdilnim materialom."]
[null,"Odgovarja H&L oziroma proizvod drugega proizvajalca enakih ali boljših karakteristik"]
[null,"HL 138","kos",1,null,{"$f":"E798*$D798","v":0},{"$f":"+E798*MM","v":0},{"$f":"+G798*D798","v":0},{"$f":"+E798-G798","v":0},{"$f":"+I798*D798","v":0}]
[]
["6.","Dobava in montaža - kabelske police s pokrovom (neperforirane) za vodenje razvodov split sistema objekta montirane zunaj po objektu ali kovinski konstrukciji, iz pocinkane pločevine, skupaj z podporami iz pocinkane pločevine za montažo polic, komplet z obešalnim in pritrdilnim materialom in pokorovom."]
[null,"širine 10 cm","m",10,null,{"$f":"E801*$D801","v":0},{"$f":"+E801*MM","v":0},{"$f":"+G801*D801","v":0},{"$f":"+E801-G801","v":0},{"$f":"+I801*D801","v":0}]
[]
["7.","Dobava in montaža dekorativnega parapetnega kanala za vodenje freonske instalacije, elektro instalalcije ter kondenza komplet s potrebnim montažnim in pritrdilnim materialom, zaključnimi elekmenti, prehodi itd., kot sledi:"]
[null,"Parapetni kanal bele barve višine do 200 mm, za vodenje freonske instalacije in kondenza, bele barve "]
[null,null,"m",2,null,{"$f":"E805*$D805","v":0},{"$f":"+E805*MM","v":0},{"$f":"+G805*D805","v":0},{"$f":"+E805-G805","v":0},{"$f":"+I805*D805","v":0}]
[]
["8.","Zaščita bakrenih cevovodov (par bakrenih cevi s tovarniško izolacijo) izven objekta, oplaščeno z aluminijastim (Alu) oklepom, zaščiteno z zaščitno PP cevjo, za zaščito instalacije pred fizičnimi poškodbami in direktnim sončnim sevanjem (UV zaščita)"]
[null,"ali podobno","kpl",1,null,{"$f":"E808*$D808","v":0},{"$f":"+E808*MM","v":0},{"$f":"+G808*D808","v":0},{"$f":"+E808-G808","v":0},{"$f":"+I808*D808","v":0}]
[]
["9.","Pritrdilni material za montažo sistema ogrevanja in hlajenja, vključno s pritrdilnimi trakovi, profili, navojnimi palicami, podložkami, maticami, ipd. potrebnimi za montažo notranjih enot in bakrene instalacije sistema"]
[null,null,"kg",10,null,{"$f":"E811*$D811","v":0},{"$f":"+E811*MM","v":0},{"$f":"+G811*D811","v":0},{"$f":"+E811-G811","v":0},{"$f":"+I811*D811","v":0}]
[]
["10.","Vakuumiranje, polnjenje sistema z delovnim plinom (R32), tlačni preizkus trdnosti in tesnjenja cevovoda z inertnim plinom (dušik, N2 - 24ur, 40bar), vključno s potrebnim materialom (čepi), ter izdelavo pisnega poročila o uspešno opravljenem tlačnem preizkusu; predaja gradbeno tehnične dokumentacije, označitev medije in smeri pretokov…,"]
[null,"skladno z navodili proizvajalca","kpl",1,null,{"$f":"E814*$D814","v":0},{"$f":"+E814*MM","v":0},{"$f":"+G814*D814","v":0},{"$f":"+E814-G814","v":0},{"$f":"+I814*D814","v":0}]
[]
["11.","Pripravljalna in zaključna dela, zarisovanje, splošni, manipulativni, zavarovalni in transportni stroški"]
[null,null,null,0.05,{"$f":"SUM(F728:F814)*D817","v":0},{"$f":"+E817","v":0},{"$f":"+E817*MM","v":0},{"$f":"+G817","v":0},{"$f":"+E817-G817","v":0},{"$f":"+I817","v":0}]
[]
["12.","Obračun po količinah, ki izhajajo iz potrjenega gradbenega dnevnika in ob upoštevanju kalkulativnih osnov","kpl",1,{"$f":"SUM(F728:F817)*0.05","v":0},{"$f":"E819*$D819","v":0},{"$f":"+E819*MM","v":0},{"$f":"+G819*D819","v":0},{"$f":"+E819-G819","v":0},{"$f":"+I819*D819","v":0}]
[]
[null,"SKUPAJ HLAJENJE KOMUNIKACIJSKEGA PROSTORA",null,null,null,{"$f":"SUM(F728:F820)","v":0},null,{"$f":"SUM(H731:H818)","v":0},null,{"$f":"SUM(J731:J818)","v":0}]
[]
[]
[null,"SKUPAJ OGREVANJE IN HLAJENJE",null,null,null,{"$f":"+F821+F725+F499+F374+F257+F187+F39","v":0},null,{"$f":"+H821+H725+H499+H374+H257+H187+H39","v":0},null,{"$f":"+J821+J725+J499+J374+J257+J187+J39","v":0}]

{"sheet":"AB-3.VODOVOD IN KANALIZACIJA","index":36,"n_rows":742,"n_cols":10,"rows_kept":742,"cut":false,"hidden":false,"merged":[]}
[]
[]
["5.2.","Objekt A in B,   VODOVOD IN KANALIZACIJA"]
[]
[]
[null,"V kolikor ni drugače navedeno v popisu - vse pozicije specifikacije zajemajo dobavo, izdelavo, montažo, kompletni drobni montažni material in kompletno atestno in predajno dokumentacijo!"]
[null,"Pred naročilom opreme obvezno uskladiti opremo z arhitekturno zasnovo in morebitnimi spremembami nastalimi med PZI načrtom in ponujeno opremo oz. izvedbo del."]
[]
["ZAP. ŠT.","OPIS","     ME","KOLIČUNA","CENA/ENOTO","SKUPAJ","POPUST","POPUST SKUPAJ","CENA/ENOTO S POPUSTOM","SKUPAJ S POPUSTOM"]
[]
[]
["A.","DEMONTAŽNA DELA"]
[]
[null,"Vsa dela zajemajo, demontažo, iznos iz objekta ter odvoz na deponijo s predajo evidenčnega lista. Obračun urnih postavk se obračuna na podlagi vpisov v gradbenem dnevniku. Za obračun mora izvajalec točno navesti dela, ki so se izvajala ob demontaži ter število oseb in časovni obseg izvedenih del. "]
[]
["1.","Izvedba zapore sistema VODOVODNE INSTALACIJE, na katerih se bo upravljal poseg predelave in prilagoditve, z organizacijo obveščanja upravitelja oziroma vzdrževalca sistema."]
[null,null,"kpl",1,null,{"$f":"E17*D17","v":0},{"$f":"+E17*MM","v":0},{"$f":"+G17*D17","v":0},{"$f":"+E17-G17","v":0},{"$f":"+I17*D17","v":0}]
[]
["2.","Demontaža izlivnih mest in sanitarne keramike v obsegu, kjer se bo izvajal obseg predelave (šolska stavba)"]
[null,"- 2 kos WC s kotličkom"]
[null,"- 21 kos umivalnik z armaturo"]
[null,"- 1 kos kuhinjsko korito z armaturo"]
[null,null,"kpl",1,null,{"$f":"E23*D23","v":0},{"$f":"+E23*MM","v":0},{"$f":"+G23*D23","v":0},{"$f":"+E23-G23","v":0},{"$f":"+I23*D23","v":0}]
[]
["3.","Demontaža izlivnih mest in sanitarne keramike v obsegu, kjer se bo izvajal obseg predelave (garderobe bazen)"]
[null,"- 4 kos WC s kotličkom"]
[null,"- 5 kos umivalnik z armaturo"]
[null,"- 6 kos tuš z armaturo (brez kadičke)"]
[null,"- 2 kos tuš z armaturo (z kadičko)"]
[null,"- 3 kos  pisoarji kpl. z elektroniko"]
[null,null,"kpl",1,null,{"$f":"E31*D31","v":0},{"$f":"+E31*MM","v":0},{"$f":"+G31*D31","v":0},{"$f":"+E31-G31","v":0},{"$f":"+I31*D31","v":0}]
[]
["4.","Demontaža izlivnih mest in sanitarne keramike v obsegu, kjer se bo izvajal obseg predelave (poslovni del)"]
[null,"- 1 kos WC s kotličkom"]
[null,"- 1 kos umivalnik z armaturo"]
[null,null,"kpl",1,null,{"$f":"E36*D36","v":0},{"$f":"+E36*MM","v":0},{"$f":"+G36*D36","v":0},{"$f":"+E36-G36","v":0},{"$f":"+I36*D36","v":0}]
[]
["5.","Demontaža izlivnih mest in sanitarne keramike v obsegu, kjer se bo izvajal obseg predelave (hišniško stanovanje)"]
[null,"- 1 kos WC s kotličkom"]
[null,"- 1 kos umivalnik z armaturo"]
[null,"- 1 kos kopalna kad z armaturo"]
[null,"- 1 kos kuhinjsko korito z armaturo"]
[null,null,"kpl",1,null,{"$f":"E43*D43","v":0},{"$f":"+E43*MM","v":0},{"$f":"+G43*D43","v":0},{"$f":"+E43-G43","v":0},{"$f":"+I43*D43","v":0}]
[]
["6.","Demontaža fekalne kanalizacije v objektu, vertikalne in horitontalne."]
[null,"Opomba - izvede se kjer je to mogoče, v nasprotnem primeru se izvede samo začepljenje."]
[null,"ocena","ur",50,null,{"$f":"E47*D47","v":0},{"$f":"+E47*MM","v":0},{"$f":"+G47*D47","v":0},{"$f":"+E47-G47","v":0},{"$f":"+I47*D47","v":0}]
[]
["7.","Demontaža vidne pocinkane navojne cevi kpl. z izolacijo za sanitarno hladno, toplo vodo ter cirkulacijo, skupaj z vsemi fitingi, tesnilnim in pritrdilnim materialom."]
[null,"Demontaža se izvede za vse vodovodne priključke v celoti."]
[null,"Zaradi razvejanosti in prepletenosti celotnega vodovodnega sistema v objektu se demontaža izvede posamezno za vsak porabnik sanitarne vode samostojno."]
[null,"ocena","ur",100,null,{"$f":"E52*D52","v":0},{"$f":"+E52*MM","v":0},{"$f":"+G52*D52","v":0},{"$f":"+E52-G52","v":0},{"$f":"+I52*D52","v":0}]
[]
["8.","Demontaža obstoječih hidrantov po objektu"]
[null,null,"kpl",6,null,{"$f":"E55*D55","v":0},{"$f":"+E55*MM","v":0},{"$f":"+G55*D55","v":0},{"$f":"+E55-G55","v":0},{"$f":"+I55*D55","v":0}]
[]
["9.","Pazljiva demontaža obstoječih novih EURO hidrantov ter skladiščenje in priprava za ponovno montažo, komplet s pripadajočim materialom"]
[null,null,"kpl",3,null,{"$f":"E58*D58","v":0},{"$f":"+E58*MM","v":0},{"$f":"+G58*D58","v":0},{"$f":"+E58-G58","v":0},{"$f":"+I58*D58","v":0}]
[]
["10.","Čiščenje objekta po demontažah"]
[null,null,"kpl",1,null,{"$f":"E61*D61","v":0},{"$f":"+E61*MM","v":0},{"$f":"+G61*D61","v":0},{"$f":"+E61-G61","v":0},{"$f":"+I61*D61","v":0}]
[]
["11.","Odvoz vsega odvečnega materiala na deponijo, vključno s potrdilom o ravnanju z gradbenimi odpadki."]
[null,null,"kpl",1,null,{"$f":"E64*D64","v":0},{"$f":"+E64*MM","v":0},{"$f":"+G64*D64","v":0},{"$f":"+E64-G64","v":0},{"$f":"+I64*D64","v":0}]
[]
["12.","Obračun po količinah, ki izhajajo iz potrjenega gradbenega dnevnika in ob upoštevanju kalkulativnih osnov","kpl",1,{"$f":"SUM(F11:F64)*0.05","v":0},{"$f":"+E66","v":0},null,null,{"$f":"+E66","v":0},{"$f":"+F66","v":0}]
[]
[null,"SKUPAJ DEMONTAŽA",null,null,null,{"$f":"SUM(F16:F67)","v":0},null,{"$f":"SUM(H16:H67)","v":0},null,{"$f":"SUM(J16:J67)","v":0}]
[]
[]
[]
["B.","SANITARNA OPREMA - ŠOLSKI OBJEKT"]
[]
["1.","Dobava in vgradnja suhomontažnega elementa za visečo WC školjko, vgradna višina 1120 mm, komplet z aktivirno tipko za aktiviranje s sprednje strani, z dvokoličinsko tehniko splakovanja, prašno barvanim okvirjem 40x40, opremljen s podometno cisterno,  priključno koleno z nastavljivo globino DN90, redukcija DN90/100, priključna garnitura za WC, material za pritrditev elementa (v tla) in keramike, s kotnim ventilom in prednameščenim priključkom vode Rp½, garnituro polnilnega ventila, garnituro odvodnega ventila, opremljen z dušilko izplakovalnega toka in prazno cevjo za priključitev tuš WC-ja"]
[null,"- komplet elementov za pritrditev na steno in v tla,"]
[null,"- odtočnim kolenom,"]
[null,"- komplet elementov za priključitev izplakovalnika na vodovodno omrežje komplet za montažo WC školjke,"]
[null,"- WC priključno garnituro,"]
[null,"- setom za zvočno izolacijo,"]
[null,"- dvodelno varčno tipko,"]
[null,"(posluževanje od spredaj)"]
[null,"Sanitarije zbornica"]
[null,"Odgovarja Viega oziroma proizvod drugega proizvajalca enakih ali boljših karakteristik."]
[null,"- Viega Prevista WC element ali enakovredno"]
[null,"- Viega Visign for Public 10 barve nerjavnega jekla"]
[null,null,"kpl",2,null,{"$f":"E86*$D86","v":0},{"$f":"+E86*MM","v":0},{"$f":"+G86*D86","v":0},{"$f":"+E86-G86","v":0},{"$f":"+I86*D86","v":0}]
[]
["2.","Dobava in montaža elementa za umivalnik, višina vgradnje 1120mm, prašno barvanim okvirjem 40x40, po višini nastavljivo pritrditvijo in zvočno izolacijo za Viega pritrdilne kose, odtočno koleno DN40/50, gumijasti navojni tulec DN50/30, material za pritrditev elementa (v tla) in keramike, samorezni vijaki za pritrditev na kovinske konstrukcijske profile, luknje premera 11 mm za pritrditev okvirja v leseno konstrukcijo, pripomoček za pozicioniranje."]
[null,"Odgovarja Viega oziroma proizvod drugega proizvajalca enakih ali boljših karakteristik."]
[null,"Viega Prevista element za umivalnik"]
[null,null,"kpl",22,null,{"$f":"E91*$D91","v":0},{"$f":"+E91*MM","v":0},{"$f":"+G91*D91","v":0},{"$f":"+E91-G91","v":0},{"$f":"+I91*D91","v":0}]
[]
["3.","Dobava in montaža - dvojna montažna plošča z zatisnim in navojnim priključkom za priklop armature korit ali umivalnikov z z pritrdilnim materialom za pritrditev elementa"]
[null,"Odgovarja Viega oziroma proizvod drugega proizvajalca enakih ali boljših karakteristik."]
[null,"Viega Steptec 656 072 z Raxofix kotnimi priključki 16-1/2''","kpl",3,null,{"$f":"E95*$D95","v":0},{"$f":"+E95*MM","v":0},{"$f":"+G95*D95","v":0},{"$f":"+E95-G95","v":0},{"$f":"+I95*D95","v":0}]
[]
["4.","Dobava - konzolno stranišče višjega srednjega razreda, sestoječe iz: konzolne školjke iz sanitarne keramike bele barve, dimenzije 500x350mm, s polno masivno sedežno desko z gumijastim nasedom in pokromanimi pritrdilnimi vijaki, s PE podložno peno, vključno vijaki za pritrditev"]
[null,"Sanitarije zbornica"]
[null,"Odgovarja Catalano Zerro New flush oziroma proizvod drugega proizvajalca enakih ali boljših karakteristik."]
[null,"Newflush  50x35, tip 1VSZ50 R00"]
[null,"sedežna deska, tip 5SCSTF000","kpl",2,null,{"$f":"E101*$D101","v":0},{"$f":"+E101*MM","v":0},{"$f":"+G101*D101","v":0},{"$f":"+E101-G101","v":0},{"$f":"+I101*D101","v":0}]
[]
["5.","Montaža konzolnega stranišča, višjega srednjega razreda, kpl. s potrebnim montažnim in tesnilnim materialom."]
[null,null,"kpl",2,null,{"$f":"E104*$D104","v":0},{"$f":"+E104*MM","v":0},{"$f":"+G104*D104","v":0},{"$f":"+E104-G104","v":0},{"$f":"+I104*D104","v":0}]
[]
["6.","Dobava - umivalnik iz sanitarne keramike, primeren za  vgradnjo na zid, sestoječ iz: školjka iz bele sanitarne keramike višjega srednjega cenovnega razreda, z odprtino za montažo armature ter prelivno odprtino, velikosti 600x500 mm, vključno odtočni pokroman medeninast ventil ø32, samočistilni direktni okrasni sifon s prilagodljivo odtočno cevjo s pokrivno rozeto, vključno s tesnilnim materialom za priključek ø32, vijačni  ter pritrdilni material "]
[null,"Sanitarije zbornica"]
[null,"Ustreza sanitarna keramika proizvajalca Catalano GREEN 60x50 cm, oziroma proizvod drugega proizvajalca enakih ali boljših karakteristik."]
[null,"GREEN 60x50 cm, 160GR00, z okrasnim sifonom Catalano art. 5SIFl00","kpl",3,null,{"$f":"E109*$D109","v":0},{"$f":"+E109*MM","v":0},{"$f":"+G109*D109","v":0},{"$f":"+E109-G109","v":0},{"$f":"+I109*D109","v":0}]
[]
["7.","Montaža umivalnika iz sanitarne keramike, vgradnja na steno, komplet s potrebnim montažnim in tesnilnim materialom."]
[null,null,"kpl",3,null,{"$f":"E112*$D112","v":0},{"$f":"+E112*MM","v":0},{"$f":"+G112*D112","v":0},{"$f":"+E112-G112","v":0},{"$f":"+I112*D112","v":0}]
[]
["8.","Dobava - enoročna elektronska stoječa armatura za umivalnik, višjega srednjega cenovnega razreda, za montažo v odprtino umivalnika, s keramično kartušo 35mm, pokromana,  z odtočno garnituro z dvižnim čepom 1 1/4\", s perlatorjem in gibljivimi priključnimi cevmi ter 2 kosa kotni ventil s filtrom 1/2” in integriranim protipovratnim ventilom, navojne izvedbe s priključkom za zvijavo cev 3/8\"."]
[null,"Sanitarije zbornica"]
[null,"Odgovarja Franke oziroma proizvod drugega proizvajalca enakih ali boljših karakteristik."]
[null,"Franke F5EM1001 (6V)","kpl",3,null,{"$f":"E117*$D117","v":0},{"$f":"+E117*MM","v":0},{"$f":"+G117*D117","v":0},{"$f":"+E117-G117","v":0},{"$f":"+I117*D117","v":0}]
[]
["9.","Montaža enoročne elektronske armature za umivalnik, komplet s potrebnim montažnim in tesnilnim materialom."]
[null,null,"kpl",3,null,{"$f":"E120*$D120","v":0},{"$f":"+E120*MM","v":0},{"$f":"+G120*D120","v":0},{"$f":"+E120-G120","v":0},{"$f":"+I120*D120","v":0}]
[]
["10.","Dobava - šolski umivalnik iz kompozita mineralnega granita, primeren za namestitev na zid, sestoječ iz: školjka iz belega kompozita mineralnega granita višjega srednjega cenovnega razreda, z odprtino za montažo armature brez prelivne odprtine, velikosti 600x450 mm, vključno odtočni pokroman medeninast ventil ø32, samočistilni direktni okrasni sifon s prilagodljivo odtočno cevjo s pokrivno rozeto, vključno s tesnilnim materialom za priključek ø32, vijačni  ter pritrdilni material "]
[null,"Ustreza sanitarna oprema proizvajalca Franke, model 60x45 cm, oziroma proizvod drugega proizvajalca enakih ali boljših karakteristik."]
[null,"AMMW322 60x45 cm, z okrasnim S sifonom","kpl",18,null,{"$f":"E124*$D124","v":0},{"$f":"+E124*MM","v":0},{"$f":"+G124*D124","v":0},{"$f":"+E124-G124","v":0},{"$f":"+I124*D124","v":0}]
[]
["11.","Montaža umivalnika  iz mineralnega kompozita, vgradnja na steno oz. na suhomontažno konzolo, komplet s potrebnim montažnim in tesnilnim materialom."]
[null,null,"kpl",18,null,{"$f":"E127*$D127","v":0},{"$f":"+E127*MM","v":0},{"$f":"+G127*D127","v":0},{"$f":"+E127-G127","v":0},{"$f":"+I127*D127","v":0}]
[]
["12.","Dobava - enoročna stoječa “samozapiralna” pritisna armatura za umivalnik, višjega srednjega cenovnega razreda, za montažo v odprtino umivalnika, s samozaporno mešalno keramično kartušo Framic, hidravlično kontrolirana, nizki stroški vzdrževanja (low-maintenance / stagnation-free), pokromana, brezstopenjska nastavitev časa pretoka vode, zaporo max. temperature tople vode, pretok vode 5,0 l/min, z odtočno garnituro z dvižnim čepom 1 1/4\", s perlatorjem in gibljivimi priključnimi cevmi ter 2 kosa kotni ventil s filtrom 1/2” in integriranim protipovratnim ventilom, navojne izvedbe s priključkom za zvijavo cev 3/8\","]
[null,"Odgovarja Franke F5SM1001, oziroma proizvod drugega proizvajalca enakih ali boljših karakteristik"]
[null,"F5SM1001","kpl",18,null,{"$f":"E131*$D131","v":0},{"$f":"+E131*MM","v":0},{"$f":"+G131*D131","v":0},{"$f":"+E131-G131","v":0},{"$f":"+I131*D131","v":0}]
[]
["13.","Montaža enoročne armature za umivalnik, komplet s potrebnim montažnim in tesnilnim materialom."]
[null,null,"kpl",18,null,{"$f":"E134*$D134","v":0},{"$f":"+E134*MM","v":0},{"$f":"+G134*D134","v":0},{"$f":"+E134-G134","v":0},{"$f":"+I134*D134","v":0}]
[]
["14.","Dobava  - stensko korito iz nerjaveče pločevine, primerno za montažo na zid, dimenzije 2400 x 210 x 382 mm, komplet s pripadajočimi konzolami za montažo korita na zid, montažnim in tesnilnim materialom ter odtočnim ventilom s S sifonom in z odtočno garnituro z dvižnim čepom 1 1/4”"]
[null,"kompletno z vsem vezalnim materialom, konzolami, podložkami, pritrdilnim in tesnilnim materialom."]
[null,"Opomba: Pred naročilom obvezno pridobiti potrditev s strani arhitekta in investitorja."]
[null,"Ustreza sanitarna oprema proizvajalca Franke, model PL 24 cm, oziroma proizvod drugega proizvajalca enakih ali boljših karakteristik."]
[null,"Franke tip PL 24","kos",1,null,{"$f":"E140*$D140","v":0},{"$f":"+E140*MM","v":0},{"$f":"+G140*D140","v":0},{"$f":"+E140-G140","v":0},{"$f":"+I140*D140","v":0}]
[]
["15.","Montaža stenskega korita, komplet s potrebnim montažnim in tesnilnim materialom."]
[null,null,"kpl",1,null,{"$f":"E143*$D143","v":0},{"$f":"+E143*MM","v":0},{"$f":"+G143*D143","v":0},{"$f":"+E143-G143","v":0},{"$f":"+I143*D143","v":0}]
[]
["16.","Dobava - stenska “samozapiralna” pritisna armatura za umivalnik, višjega srednjega cenovnega razreda, za montažo v odprtino umivalnika, s samozaporno mešalno keramično kartušo Framic, hidravlično kontrolirana, nizki stroški vzdrževanja (low-maintenance / stagnation-free), pokromana, brezstopenjska nastavitev časa pretoka vode, zaporo max. temperature tople vode, pretok vode 5,0 l/min, s perlatorjem ter 2 kosa podometni ventil s filtrom 1/2” in integriranimi protipovratnimi ventili."]
[null,"Odgovarja Franke F5SM1004, oziroma proizvod drugega proizvajalca enakih ali boljših karakteristik"]
[null,"F5SM1004","kpl",3,null,{"$f":"E147*$D147","v":0},{"$f":"+E147*MM","v":0},{"$f":"+G147*D147","v":0},{"$f":"+E147-G147","v":0},{"$f":"+I147*D147","v":0}]
[]
["17.","Montaža enoročne armature za umivalnik, komplet s potrebnim montažnim in tesnilnim materialom."]
[null,null,"kpl",3,null,{"$f":"E150*$D150","v":0},{"$f":"+E150*MM","v":0},{"$f":"+G150*D150","v":0},{"$f":"+E150-G150","v":0},{"$f":"+I150*D150","v":0}]
[]
["18.","Priključitev pomivalnega korita komplet z odtočnim sifonom, vključno ves montažni in tesnilni material"]
[null,null,"kpl",8,null,{"$f":"E153*$D153","v":0},{"$f":"+E153*MM","v":0},{"$f":"+G153*D153","v":0},{"$f":"+E153-G153","v":0},{"$f":"+I153*D153","v":0}]
[]
["19.","Dobava - enoročna stoječa armatura za korito, višjega srednjega cenovnega razreda, za montažo v odprtino korita, s keramično kartušo 35mm, pokromana,  s perlatorjem in gibljivimi priključnimi cevmi ter 2 kosa kotni ventil s filtrom 1/2\", navojne izvedbe s priključkom za zvijavo cev 3/8\""]
[null,"Čajna kuhinja zbornica, čajna kuhinja tajništvo, 6 x laboratorij"]
[null,"Odgovarja Unitas oziroma proizvod drugega proizvajalca enakih ali boljših karakteristik."]
[null,"Unitas Infinity i22","kpl",8,null,{"$f":"E158*$D158","v":0},{"$f":"+E158*MM","v":0},{"$f":"+G158*D158","v":0},{"$f":"+E158-G158","v":0},{"$f":"+I158*D158","v":0}]
[]
["20.","Montaža enoročne armature za korito, komplet s potrebnim montažnim in tesnilnim materialom."]
[null,null,"kpl",8,null,{"$f":"E161*$D161","v":0},{"$f":"+E161*MM","v":0},{"$f":"+G161*D161","v":0},{"$f":"+E161-G161","v":0},{"$f":"+I161*D161","v":0}]
[]
["21.","Stenska ali talna kanaleta z individualno prilagodljivo dolžino 300 - 1200 mm, vgradno višino 90-160 mm, odtočna zmogljivost 0,6 l/s pri zastojni višini 20 mm, višina zaporne vode 50 mm, sestavljena iz korita iz visokokakovostnega umetnega materiala, skupaj z kompletom nastavljivih nogic, samočistilno odtočno garnituro, odstranljivim vložnim sitom, odtokom DN50, priborom za zatesnitev, nerjavečo rešetko (matirana). Vgradna zaščita je zajeta z dobavo, vključno ves tesnilni in pritrdilni material materialom","kpl",2,null,{"$f":"E163*$D163","v":0},{"$f":"+E163*MM","v":0},{"$f":"+G163*D163","v":0},{"$f":"+E163-G163","v":0},{"$f":"+I163*D163","v":0}]
[null,"Opomba: Pred naročilom obvezno pridobiti potrditev s strani arhitekta ter preveriti višino razpoložljivega tlaka -  v primeru, da je višina tlaka manj ko 95 mm se dobavi “sanacijsko” talno kanaleto  z vgradno višino sifona 70 do 95 mm. "]
[null,"Vgradnja v kabinet ŠVZ"]
[null,"Odgovarja Viega oziroma proizvod drugega proizvajalca enakih ali boljših karakteristik."]
[null,"- stenski odtok Viega Advantix Vario"]
[null,"- rešetka nerjavno jeklo, mat Viega Advantix Vario"]
[]
["22.","Dobava enoročna armatura za javne tuše, višjega srednjega cenovnega razreda, za podometno montažo v steno, z mešalno keramično kartušo, termostatična zaščita proti opeklinam permanentno nastavljena na 43ºC z avtomatično prekinirtvijo delovanja v primeru izpada dovoda hladne vode. Pokromana pritisna tipka, inox pokrivna plošča, brez sistema za avtomatično izpiranje"]
[null,"Odgovarja Franke, oziroma proizvod drugega proizvajalca enakih ali boljših karakteristik"]
[null,"F5LM2008 + F5BX2001","kpl",1,null,{"$f":"E172*$D172","v":0},{"$f":"+E172*MM","v":0},{"$f":"+G172*D172","v":0},{"$f":"+E172-G172","v":0},{"$f":"+I172*D172","v":0}]
[]
["23.","Montaža enoročne podometne armature za tuš, komplet s potrebnim montažnim in tesnilnim materialom."]
[null,null,"kpl",1,null,{"$f":"E175*$D175","v":0},{"$f":"+E175*MM","v":0},{"$f":"+G175*D175","v":0},{"$f":"+E175-G175","v":0},{"$f":"+I175*D175","v":0}]
[]
["24.","Dobava tuš glave za javne tuše, višjega srednjega cenovnega razreda, za montažo na steno, dimenzija priključka DN 15, tip Aquajet -Comfort DN 15 tuš glava s plastično jet fronto, ki se lahko nastavlja med 13 in 23º, s sistem za sistem proti nabiranji vodnega kamna, nizka aerosolna formacija. Za montažo na zid z vstavljivo povezovalno šobo, premer 26 mm, pokromana glava tuša, z vgrajenim regulatorjem pretoka 9,0 l/min."]
[null,"Pred naročilom potrditi oz. dogovoriti z  investitorjem izvedbo tuš glave z vgrajenim regulatorjem pretoka 9,0 ali 6,0 l/min (ESHHE0004)."]
[null,"Odgovarja Franke, oziroma proizvod drugega proizvajalca enakih ali boljših karakteristik"]
[null,"SHAC0013 (9l/min) + ZAQUA004 (preprečevanje odvitja) ","kpl",1,null,{"$f":"E180*$D180","v":0},{"$f":"+E180*MM","v":0},{"$f":"+G180*D180","v":0},{"$f":"+E180-G180","v":0},{"$f":"+I180*D180","v":0}]
[]
["25","Montaža tuš glave, komplet s potrebnim montažnim in tesnilnim materialom.","kpl",2,null,{"$f":"E182*$D182","v":0},{"$f":"+E182*MM","v":0},{"$f":"+G182*D182","v":0},{"$f":"+E182-G182","v":0},{"$f":"+I182*D182","v":0}]
[]
["26","Ogledalo iz valjanega stekla, brušeni robovi, kaširano na beli iveral 10mm z ABS trakom in vijaki za pritrditev."]
[null,"Pred naročilom je potrebno tip uskladiti s projektantom arhitekture oziroma investitorjem."]
[null,"100 x 60 cm","kpl",2,null,{"$f":"E186*$D186","v":0},{"$f":"+E186*MM","v":0},{"$f":"+G186*D186","v":0},{"$f":"+E186-G186","v":0},{"$f":"+I186*D186","v":0}]
[]
[27,"Montaža drobnega inventarja za kopalnice"]
[null,null,"kpl",1,null,{"$f":"E189*$D189","v":0},{"$f":"+E189*MM","v":0},{"$f":"+G189*D189","v":0},{"$f":"+E189-G189","v":0},{"$f":"+I189*D189","v":0}]
[]
["28.","Dobava - umivalnik iz sanitarne keramike, primeren za  vgradnjo na zid, sestoječ iz: školjka iz bele sanitarne keramike nižjega srednjega cenovnega razreda, z odprtino za montažo armature ter prelivno odprtino, velikosti 600x500 mm, vključno odtočni pokroman medeninast ventil ø32, samočistilni direktni okrasni sifon s prilagodljivo odtočno cevjo s pokrivno rozeto, vključno s tesnilnim materialom za priključek ø32, vijačni  ter pritrdilni material "]
[null,"Skladišče za čistila"]
[null,"Ustreza sanitarna keramika proizvajalca Dolomite  60x50 cm, oziroma proizvod drugega proizvajalca enakih ali boljših karakteristik."]
[null,null,"kpl",1,null,{"$f":"E194*$D194","v":0},{"$f":"+E194*MM","v":0},{"$f":"+G194*D194","v":0},{"$f":"+E194-G194","v":0},{"$f":"+I194*D194","v":0}]
[]
["29.","Dobava - enoročna stoječa armatura za umivalnik, srednjega cenovnega razreda, za montažo v odprtino umivalnika, s keramično kartušo 35mm, pokromana,  s perlatorjem in gibljivimi priključnimi cevmi ter 2 kosa kotni ventil s filtrom 1/2\", navojne izvedbe s priključkom za zvijavo cev 3/8\""]
[null,"Skladišče za čistila"]
[null,"Odgovarja Unitas oziroma proizvod drugega proizvajalca enakih ali boljših karakteristik."]
[null,"Unitas Infinity i12","kpl",1,null,{"$f":"E199*$D199","v":0},{"$f":"+E199*MM","v":0},{"$f":"+G199*D199","v":0},{"$f":"+E199-G199","v":0},{"$f":"+I199*D199","v":0}]
[]
["30.","Montaža enoročne armature za umivalnik, komplet s potrebnim montažnim in tesnilnim materialom."]
[null,null,"kpl",1,null,{"$f":"E202*$D202","v":0},{"$f":"+E202*MM","v":0},{"$f":"+G202*D202","v":0},{"$f":"+E202-G202","v":0},{"$f":"+I202*D202","v":0}]
[]
["31.","Dobava in montaža - sistema za pripravo čistila sestoječ iz:\n1 x tropotni termostatski avtomatični ventil za mešanje hladne in tople vode z ročno nastavitvijo temperature, kot npr. Caleffi 5204 DN15;\n2 x protipovratni ventil za pitno vodo DN 15;\n2 x podometni ventil DN 15;\n1 x krogelna pipa DN 15 z nastavkom za zvijavo cev;"]
[null,"Skladišče za čistila","kpl",1,null,{"$f":"E205*$D205","v":0},{"$f":"+E205*MM","v":0},{"$f":"+G205*D205","v":0},{"$f":"+E205-G205","v":0},{"$f":"+I205*D205","v":0}]
[]
["32.","Dobava - drobni inventar za sanitarije, obešalo za obleko (3x), WC metlica (1x), komplet z držali in vijaki"]
[null,"Odgovarja Koin, model Nex","kpl",2,null,{"$f":"E208*$D208","v":0},{"$f":"+E208*MM","v":0},{"$f":"+G208*D208","v":0},{"$f":"+E208-G208","v":0},{"$f":"+I208*D208","v":0}]
[]
["33.","Montaža drobnega inventarja za kopalnice"]
[null,null,"kpl",2,null,{"$f":"E211*$D211","v":0},{"$f":"+E211*MM","v":0},{"$f":"+G211*D211","v":0},{"$f":"+E211-G211","v":0},{"$f":"+I211*D211","v":0}]
[]
["34.","Ogledalo iz valjanega stekla, brušeni robovi, kaširano na beli iveral 10mm z ABS trakom in vijaki za pritrditev."]
[null,"Pred naročilom je potrebno tip uskladiti s projektantom arhitekture oziroma investitorjem."]
[null,"100 x 60 cm"]
[null,null,"kpl",21,null,{"$f":"E216*$D216","v":0},{"$f":"+E216*MM","v":0},{"$f":"+G216*D216","v":0},{"$f":"+E216-G216","v":0},{"$f":"+I216*D216","v":0}]
[]
["35.","Pripravljalna in zaključna dela, zarisovanje, splošni, manipulativni, zavarovalni in transportni stroški"]
[null,null,null,0.05,{"$f":"SUM(F71:F216)*D219","v":0},{"$f":"+E219","v":0},{"$f":"+E219*MM","v":0},{"$f":"+G219","v":0},{"$f":"+E219-G219","v":0},{"$f":"+I219","v":0}]
[]
["36.","Obračun po količinah, ki izhajajo iz potrjenega gradbenega dnevnika in ob upoštevanju kalkulativnih osnov","kpl",1,{"$f":"SUM(F71:F219)*0.05","v":0},{"$f":"+E221","v":0},null,null,{"$f":"+E221","v":0},{"$f":"+F221","v":0}]
[]
[null,"SKUPAJ SANITARNA OPREMA “ŠOLSKI OBJEKT”",null,null,null,{"$f":"SUM(F72:F222)","v":0},null,{"$f":"SUM(H72:H222)","v":0},null,{"$f":"SUM(J72:J222)","v":0}]
[]
[]
[]
["C.","SANITARNA OPREMA - GARDEROBA BAZEN in POSLOVNI DEL"]
[]
["1.","Dobava in vgradnja suhomontažnega elementa za visečo WC školjko, vgradna višina 1120 mm, komplet z aktivirno tipko za aktiviranje s sprednje strani, z dvokoličinsko tehniko splakovanja, prašno barvanim okvirjem 40x40, opremljen s podometno cisterno,  priključno koleno z nastavljivo globino DN90, redukcija DN90/100, priključna garnitura za WC, material za pritrditev elementa (v tla) in keramike, s kotnim ventilom in prednameščenim priključkom vode Rp½, garnituro polnilnega ventila, garnituro odvodnega ventila, opremljen z dušilko izplakovalnega toka in prazno cevjo za priključitev tuš WC-ja"]
[null,"- komplet elementov za pritrditev na steno in v tla,"]
[null,"- odtočnim kolenom,"]
[null,"- komplet elementov za priključitev izplakovalnika na vodovodno omrežje komplet za montažo WC školjke,"]
[null,"- WC priključno garnituro,"]
[null,"- setom za zvočno izolacijo,"]
[null,"- dvodelno varčno tipko,"]
[null,"(posluževanje od spredaj)"]
[null,"Odgovarja Viega oziroma proizvod drugega proizvajalca enakih ali boljših karakteristik."]
[null,"- Viega Prevista WC element ali enakovredno"]
[null,"- Viega Visign for Public 10 barve nerjavnega jekla"]
[null,null,"kpl",5,null,{"$f":"E240*$D240","v":0},{"$f":"+E240*MM","v":0},{"$f":"+G240*D240","v":0},{"$f":"+E240-G240","v":0},{"$f":"+I240*D240","v":0}]
[]
["2.","Dobava in montaža elementa za pisoar, višina vgradnje 1120-1300 mm, predpriprava za IR aktivirno tipko za javne objekte, s prašno barvanim okvirjem 40x40, višina prečk nastavljiva s pomočjo hitrega vpenjala z merskim trakom,  kompletom za surovo gradnjo izplakovalnega sistema pisoarja z zvočno zaščito, priključna armatura Rp ½, odtočno koleno DN50, priključna garnitura pisoarja, material za pritrditev elementa (v tla) in keramike, samorezni vijaki za pritrditev na kovinske konstrukcijske profile, luknje premera 11 mm za pritrditev okvirja v leseno konstrukcijo okvirja, pripomoček za pozicioniranje."]
[null,"- komplet elementov za pritrditev na steno in v tla,"]
[null,"- komplet elementov za priključitev pisoarja na vodovodno omrežje,"]
[null,"- primeren za vgradnjo elektronike Viega za izplakovanje pisoarja"]
[null,"Odgovarja Viega oziroma proizvod drugega proizvajalca enakih ali boljših karakteristik."]
[null,"Viega Prevista element za pisoar"]
[null,"višina vgradnje (vrh) 95 cm","kpl",1,null,{"$f":"E248*$D248","v":0},{"$f":"+E248*MM","v":0},{"$f":"+G248*D248","v":0},{"$f":"+E248-G248","v":0},{"$f":"+I248*D248","v":0}]
[null,"višina vgradnje (vrh) 75 do 85 cm","kpl",1,null,{"$f":"E249*$D249","v":0},{"$f":"+E249*MM","v":0},{"$f":"+G249*D249","v":0},{"$f":"+E249-G249","v":0},{"$f":"+I249*D249","v":0}]
[]
["3.","Dobava in montaža - krmiljenje IR aktivirna tipka pisoarja s funkcijo, ki preprečuje stagnacijo vode s samodejnim splakovanjem po 1h, 12h, 24h, 72h ali 168h, Viega za pisoarje, z elektronskim aktiviranjem splakovanja, omrežno delovanje, pokrivna plošča, ustrezno za vgradnjo v samostoječi vgradni element, Visign for Public 12 barve nerjavnega jekla ali enakovredno"]
[null,"Odgovarja Viega oziroma proizvod drugega proizvajalca enakih ali boljših karakteristik."]
[null,"Visign for Public 12 barve nerjavnega jekla","kpl",2,null,{"$f":"E253*$D253","v":0},{"$f":"+E253*MM","v":0},{"$f":"+G253*D253","v":0},{"$f":"+E253-G253","v":0},{"$f":"+I253*D253","v":0}]
[]
["4.","Dobava in montaža elementa za umivalnik, višina vgradnje 1120mm, prašno barvanim okvirjem 40x40, po višini nastavljivo pritrditvijo in zvočno izolacijo za Viega pritrdilne kose, odtočno koleno DN40/50, gumijasti navojni tulec DN50/30, material za pritrditev elementa (v tla) in keramike, samorezni vijaki za pritrditev na kovinske konstrukcijske profile, luknje premera 11 mm za pritrditev okvirja v leseno konstrukcijo, pripomoček za pozicioniranje."]
[null,"Odgovarja Viega oziroma proizvod drugega proizvajalca enakih ali boljših karakteristik."]
[null,"Viega Prevista element za umivalnik"]
[null,null,"kpl",3,null,{"$f":"E258*$D258","v":0},{"$f":"+E258*MM","v":0},{"$f":"+G258*D258","v":0},{"$f":"+E258-G258","v":0},{"$f":"+I258*D258","v":0}]
[]
["5.","Dobava - konzolno stranišče višjega srednjega razreda, sestoječe iz: konzolne školjke iz sanitarne keramike bele barve, dimenzije 500x350mm, s polno masivno sedežno desko z gumijastim nasedom in pokromanimi pritrdilnimi vijaki, s PE podložno peno, vključno vijaki za pritrditev"]
[null,"Odgovarja Catalano Zerro New flush oziroma proizvod drugega proizvajalca enakih ali boljših karakteristik."]
[null,"Newflush  50x35, tip 1VSZ50 R00"]
[null,"sedežna deska, tip 5SCSTF000","kpl",5,null,{"$f":"E263*$D263","v":0},{"$f":"+E263*MM","v":0},{"$f":"+G263*D263","v":0},{"$f":"+E263-G263","v":0},{"$f":"+I263*D263","v":0}]
[]
["6.","Montaža konzolnega stranišča, višjega srednjega razreda, kpl. s potrebnim montažnim in tesnilnim materialom."]
[null,null,"kpl",5,null,{"$f":"E266*$D266","v":0},{"$f":"+E266*MM","v":0},{"$f":"+G266*D266","v":0},{"$f":"+E266-G266","v":0},{"$f":"+I266*D266","v":0}]
[]
["7.","Dobava - umivalnik iz sanitarne keramike, primeren za  vgradnjo na zid, sestoječ iz: školjka iz bele sanitarne keramike višjega srednjega cenovnega razreda, z odprtino za montažo armature ter prelivno odprtino, velikosti 600x500 mm, vključno odtočni pokroman medeninast ventil ø32, samočistilni direktni okrasni sifon s prilagodljivo odtočno cevjo s pokrivno rozeto, vključno s tesnilnim materialom za priključek ø32, vijačni  ter pritrdilni material "]
[null,"Ustreza sanitarna keramika proizvajalca Catalano GREEN, oziroma proizvod drugega proizvajalca enakih ali boljših karakteristik."]
[null,"GREEN 45x35 cm, 145GR00, z okrasnim sifonom Catalano art. 5SIFl00","kpl",1,null,{"$f":"E270*$D270","v":0},{"$f":"+E270*MM","v":0},{"$f":"+G270*D270","v":0},{"$f":"+E270-G270","v":0},{"$f":"+I270*D270","v":0}]
[null,"GREEN 60x50 cm, 160GR00, z okrasnim sifonom Catalano art. 5SIFl00","kpl",2,null,{"$f":"E271*$D271","v":0},{"$f":"+E271*MM","v":0},{"$f":"+G271*D271","v":0},{"$f":"+E271-G271","v":0},{"$f":"+I271*D271","v":0}]
[]
["8.","Dobava - umivalnik iz sanitarne keramike, primeren za  vgradnjo na zid, sestoječ iz: školjka iz bele sanitarne keramike višjega srednjega cenovnega razreda, z odprtino za montažo armature ter prelivno odprtino, velikosti 410x410 mm, vključno odtočni pokroman medeninast ventil ø32, samočistilni direktni okrasni sifon s prilagodljivo odtočno cevjo s pokrivno rozeto, vključno s tesnilnim materialom za priključek ø32, vijačni  ter pritrdilni material "]
[null,"Ustreza sanitarna keramika proizvajalca Villeroy&Boch O.novo 415x415 mmm, oziroma proizvod drugega proizvajalca enakih ali boljših karakteristik."]
[null,"O.novo Corner 41x41 cm, z okrasnim sifonom","kpl",4,null,{"$f":"E275*$D275","v":0},{"$f":"+E275*MM","v":0},{"$f":"+G275*D275","v":0},{"$f":"+E275-G275","v":0},{"$f":"+I275*D275","v":0}]
[]
["9.","Montaža umivalnika iz sanitarne keramike, vgradnja na steno, komplet s potrebnim montažnim in tesnilnim materialom."]
[null,null,"kpl",7,null,{"$f":"E278*$D278","v":0},{"$f":"+E278*MM","v":0},{"$f":"+G278*D278","v":0},{"$f":"+E278-G278","v":0},{"$f":"+I278*D278","v":0}]
[]
["10.","Dobava - enoročna elektronska stoječa armatura za umivalnik, višjega srednjega cenovnega razreda, za montažo v odprtino umivalnika, s keramično kartušo 35mm, pokromana,  z odtočno garnituro z dvižnim čepom 1 1/4\", s perlatorjem in gibljivimi priključnimi cevmi ter 2 kosa kotni ventil s filtrom 1/2” in integriranim protipovratnim ventilom, navojne izvedbe s priključkom za zvijavo cev 3/8\"."]
[null,"Odgovarja Franke oziroma proizvod drugega proizvajalca enakih ali boljših karakteristik."]
[null,"Franke F5EM1001 (6V)","kpl",7,null,{"$f":"E282*$D282","v":0},{"$f":"+E282*MM","v":0},{"$f":"+G282*D282","v":0},{"$f":"+E282-G282","v":0},{"$f":"+I282*D282","v":0}]
[]
["11.","Montaža enoročne elektronske armature za umivalnik, komplet s potrebnim montažnim in tesnilnim materialom."]
[null,null,"kpl",7,null,{"$f":"E285*$D285","v":0},{"$f":"+E285*MM","v":0},{"$f":"+G285*D285","v":0},{"$f":"+E285-G285","v":0},{"$f":"+I285*D285","v":0}]
[]
["12.","Dobava in montaža - Talna kanaleta z individualno prilagodljivo dolžino 300 - 1200 mm, vgradno višino 95-150 mm, odtočna zmogljivost 0,8 l/s pri zastojni višini 20 mm, višina zaporne vode 25 mm, sestavljena iz korita iz visokokakovostnega umetnega materiala, skupaj z kompletom nastavljivih nogic, samočistilno odtočno garnituro, odstranljivim vložnim sitom, odtokom DN50, priborom za zatesnitev, nerjavečo rešetko (matirana). Vgradna zaščita je zajeta z dobavo, vključno ves tesnilni in pritrdilni material materialom"]
[null,"Opomba: Pred naročilom obvezno pridobiti potrditev s strani arhitekta ter preveriti višino razpoložljivega tlaka -  v primeru, da je višina tlaka manj ko 95 mm se dobavi “sanacijsko” talno kanaleto  z vgradno višino 70 do 95 mm. "]
[null,"Vgradnja v garderobah / tuš bazen"]
[null,"Odgovarja Viega oziroma proizvod drugega proizvajalca enakih ali boljših karakteristik."]
[null,"- kanal Viega Advantix Vario"]
[null,"- rešetka nerjavno jeklo, mat Viega Advantix Vario"]
[null,"Sestav 1:"]
[null,"skupna dolžina 2000 mm"]
[null,"- 2 x kanaleta 300-1200 mm / rešetka mat jeklo"]
[null,"- 1 x spojni element 210 mm"]
[null,"skupaj sestav 1","kpl",2,null,{"$f":"E297*$D297","v":0},{"$f":"+E297*MM","v":0},{"$f":"+G297*D297","v":0},{"$f":"+E297-G297","v":0},{"$f":"+I297*D297","v":0}]
[null,"Sestav 2:"]
[null,"- 3 x kanaleta 300-1200 mm / rešetka mat jeklo"]
[null,"- 2 x spojni element 210 mm"]
[null,"skupaj sestav 1","kpl",2,null,{"$f":"E301*$D301","v":0},{"$f":"+E301*MM","v":0},{"$f":"+G301*D301","v":0},{"$f":"+E301-G301","v":0},{"$f":"+I301*D301","v":0}]
[]
["13.","Stenska kanaleta z individualno prilagodljivo dolžino 300 - 1200 mm, vgradno višino 90-160 mm, odtočna zmogljivost 0,6 l/s pri zastojni višini 20 mm, višina zaporne vode 50 mm, sestavljena iz korita iz visokokakovostnega umetnega materiala, skupaj z kompletom nastavljivih nogic, samočistilno odtočno garnituro, odstranljivim vložnim sitom, odtokom DN50, priborom za zatesnitev, nerjavečo rešetko (matirana). Vgradna zaščita je zajeta z dobavo, vključno ves tesnilni in pritrdilni material materialom"]
[null,"Opomba: Pred naročilom obvezno pridobiti potrditev s strani arhitekta ter preveriti višino razpoložljivega tlaka -  v primeru, da je višina tlaka manj ko 95 mm se dobavi “sanacijsko” talno kanaleto  z vgradno višino 70 do 95 mm. "]
[null,"Vgradnja v shramba za bazen"]
[null,"Odgovarja Viega oziroma proizvod drugega proizvajalca enakih ali boljših karakteristik."]
[null,"- stenski odtok Viega Advantix Vario"]
[null,"- rešetka nerjavno jeklo, mat Viega Advantix Vario"]
[null,null,"kpl",1,null,{"$f":"E309*$D309","v":0},{"$f":"+E309*MM","v":0},{"$f":"+G309*D309","v":0},{"$f":"+E309-G309","v":0},{"$f":"+I309*D309","v":0}]
[]
["14.","Dobava “samozapiralna” pritisna armatura za javne tuše, višjega srednjega cenovnega razreda, za podometno montažo v steno, s samozaporno mešalno keramično kartušo Framic, hidravlično kontrolirana, nizki stroški vzdrževanja (low-maintenance / stagnation-free), pokromana pritisna tipka, inox pokrivna plošča, brezstopenjska nastavitev časa pretoka vode, zapora max. temperature tople vode,"]
[null,"Odgovarja Franke, oziroma proizvod drugega proizvajalca enakih ali boljših karakteristik"]
[null,"F5SM2004 + F5BX2001","kpl",10,null,{"$f":"E313*$D313","v":0},{"$f":"+E313*MM","v":0},{"$f":"+G313*D313","v":0},{"$f":"+E313-G313","v":0},{"$f":"+I313*D313","v":0}]
[]
["15.","Montaža enoročne podometne armature za tuš, komplet s potrebnim montažnim in tesnilnim materialom."]
[null,null,"kpl",10,null,{"$f":"E316*$D316","v":0},{"$f":"+E316*MM","v":0},{"$f":"+G316*D316","v":0},{"$f":"+E316-G316","v":0},{"$f":"+I316*D316","v":0}]
[]
["16.","Dobava tuš glave za javne tuše, višjega srednjega cenovnega razreda, za montažo na steno, dimenzija priključka DN 15, tip Aquajet -Comfort DN 15 tuš glava s plastično jet fronto, ki se lahko nastavlja med 13 in 23º, s sistem za sistem proti nabiranji vodnega kamna, nizka aerosolna formacija. Za montažo na zid z vstavljivo povezovalno šobo, premer 26 mm, pokromana glava tuša, z vgrajenim regulatorjem pretoka 9,0 l/min."]
[null,"Pred naročilom potrditi oz. dogovoriti z  investitorjem izvedbo tuš glave z vgrajenim regulatorjem pretoka 9,0 ali 6,0 l/min (ESHHE0004)."]
[null,"Odgovarja Franke, oziroma proizvod drugega proizvajalca enakih ali boljših karakteristik"]
[null,"SHAC0013 (9l/min) + ZAQUA004 (preprečevanje odvitja) ","kpl",10,null,{"$f":"E321*$D321","v":0},{"$f":"+E321*MM","v":0},{"$f":"+G321*D321","v":0},{"$f":"+E321-G321","v":0},{"$f":"+I321*D321","v":0}]
[]
["17.","Montaža tuš glave, komplet s potrebnim montažnim in tesnilnim materialom."]
[null,null,"kpl",10,null,{"$f":"E324*$D324","v":0},{"$f":"+E324*MM","v":0},{"$f":"+G324*D324","v":0},{"$f":"+E324-G324","v":0},{"$f":"+I324*D324","v":0}]
[]
["18.","Dobava enoročna armatura za javne tuše, višjega srednjega cenovnega razreda, za podometno montažo v steno, z mešalno keramično kartušo, termostatična zaščita proti opeklinam permanentno nastavljena na 43ºC z avtomatično prekinirtvijo delovanja v primeru izpada dovoda hladne vode. Pokromana pritisna tipka, inox pokrivna plošča, brez sistema za avtomatično izpiranje"]
[null,"Odgovarja Franke, oziroma proizvod drugega proizvajalca enakih ali boljših karakteristik"]
[null,"F5LM2008 + F5BX2001","kpl",1,null,{"$f":"E328*$D328","v":0},{"$f":"+E328*MM","v":0},{"$f":"+G328*D328","v":0},{"$f":"+E328-G328","v":0},{"$f":"+I328*D328","v":0}]
[]
["19.","Montaža enoročne podometne armature za tuš, komplet s potrebnim montažnim in tesnilnim materialom."]
[null,null,"kpl",1,null,{"$f":"E331*$D331","v":0},{"$f":"+E331*MM","v":0},{"$f":"+G331*D331","v":0},{"$f":"+E331-G331","v":0},{"$f":"+I331*D331","v":0}]
[]
["20.","Dobava tuš glave za javne tuše, višjega srednjega cenovnega razreda, za montažo na steno, dimenzija priključka DN 15, tip Aquajet -Comfort DN 15 tuš glava s plastično jet fronto, ki se lahko nastavlja med 13 in 23º, s sistem za sistem proti nabiranji vodnega kamna, nizka aerosolna formacija. Za montažo na zid z vstavljivo povezovalno šobo, premer 26 mm, pokromana glava tuša, z vgrajenim regulatorjem pretoka 9,0 l/min."]
[null,"Pred naročilom potrditi oz. dogovoriti z  investitorjem izvedbo tuš glave z vgrajenim regulatorjem pretoka 9,0 ali 6,0 l/min (ESHHE0004)."]
[null,"Odgovarja Franke, oziroma proizvod drugega proizvajalca enakih ali boljših karakteristik"]
[null,"SHAC0013 (9l/min) + ZAQUA004 (preprečevanje odvitja) ","kpl",1,null,{"$f":"E336*$D336","v":0},{"$f":"+E336*MM","v":0},{"$f":"+G336*D336","v":0},{"$f":"+E336-G336","v":0},{"$f":"+I336*D336","v":0}]
[]
["21.","Montaža tuš glave, komplet s potrebnim montažnim in tesnilnim materialom."]
[null,null,"kpl",1,null,{"$f":"E339*$D339","v":0},{"$f":"+E339*MM","v":0},{"$f":"+G339*D339","v":0},{"$f":"+E339-G339","v":0},{"$f":"+I339*D339","v":0}]
[]
["22.","Dobava - drobni inventar za garderobe / tuše, komplet z držali in vijaki ter ostalim materialom za montažo"]
[null,"- obešala za brisače po izboru arhitekta","kos",11,null,{"$f":"E342*$D342","v":0},{"$f":"+E342*MM","v":0},{"$f":"+G342*D342","v":0},{"$f":"+E342-G342","v":0},{"$f":"+I342*D342","v":0}]
[null,"- WC metlica po izboru arhitekta","kos",5,null,{"$f":"E343*$D343","v":0},{"$f":"+E343*MM","v":0},{"$f":"+G343*D343","v":0},{"$f":"+E343-G343","v":0},{"$f":"+I343*D343","v":0}]
[]
["23.","Montaža drobnega inventarja za kopalnice"]
[null,null,"kpl",1,null,{"$f":"E346*$D346","v":0},{"$f":"+E346*MM","v":0},{"$f":"+G346*D346","v":0},{"$f":"+E346-G346","v":0},{"$f":"+I346*D346","v":0}]
[]
["24.","Ogledalo iz valjanega stekla, brušeni robovi, kaširano na beli iveral 10mm z ABS trakom in vijaki za pritrditev."]
[null,"Pred naročilom je potrebno tip uskladiti s projektantom arhitekture oziroma investitorjem."]
[null,"100 x 60 cm"]
[null,null,"kpl",7,null,{"$f":"E351*$D351","v":0},{"$f":"+E351*MM","v":0},{"$f":"+G351*D351","v":0},{"$f":"+E351-G351","v":0},{"$f":"+I351*D351","v":0}]
[]
["225.4.","Pripravljalna in zaključna dela, zarisovanje, splošni, manipulativni, zavarovalni in transportni stroški"]
[null,null,null,0.05,{"$f":"SUM(F240:F351)*D354","v":0},{"$f":"+E354","v":0},{"$f":"+E354*MM","v":0},{"$f":"+G354","v":0},{"$f":"+E354-G354","v":0},{"$f":"+I354","v":0}]
[]
["26","Obračun po količinah, ki izhajajo iz potrjenega gradbenega dnevnika in ob upoštevanju kalkulativnih osnov","kpl",1,{"$f":"SUM(F228:F354)*0.05","v":0},{"$f":"+E356","v":0},null,null,{"$f":"+E356","v":0},{"$f":"+F356","v":0}]
[]
[null,"SKUPAJ SANITARNA OPREMA “GARDEROBE”",null,null,null,{"$f":"SUM(F228:F357)","v":0},null,{"$f":"SUM(H228:H357)","v":0},null,{"$f":"SUM(J228:J357)","v":0}]
[]
[]
[]
["D.","SANITARNA OPREMA / VODOVOD IN KANALIZACIJA -  HIŠNIŠKO STANOVANJE"]
[]
["1.","Dobava in vgradnja suhomontažnega elementa za visečo WC školjko, vgradna višina 1120 mm, komplet z aktivirno tipko za aktiviranje s sprednje strani, z dvokoličinsko tehniko splakovanja, prašno barvanim okvirjem 40x40, opremljen s podometno cisterno,  priključno koleno z nastavljivo globino DN90, redukcija DN90/100, priključna garnitura za WC, material za pritrditev elementa (v tla) in keramike, s kotnim ventilom in prednameščenim priključkom vode Rp½, garnituro polnilnega ventila, garnituro odvodnega ventila, opremljen z dušilko izplakovalnega toka in prazno cevjo za priključitev tuš WC-ja"]
[null,"- komplet elementov za pritrditev na steno in v tla,"]
[null,"- odtočnim kolenom,"]
[null,"- komplet elementov za priključitev izplakovalnika na vodovodno omrežje komplet za montažo WC školjke,"]
[null,"- WC priključno garnituro,"]
[null,"- setom za zvočno izolacijo,"]
[null,"- dvodelno varčno tipko,"]
[null,"(posluževanje od spredaj)"]
[null,"Odgovarja Viega oziroma proizvod drugega proizvajalca enakih ali boljših karakteristik."]
[null,"- Viega Prevista WC element ali enakovredno"]
[null,"- Viega Visign for Style 21 barve nerjavnega jekla"]
[null,null,"kpl",1,null,{"$f":"E375*$D375","v":0},{"$f":"+E375*MM","v":0},{"$f":"+G375*D375","v":0},{"$f":"+E375-G375","v":0},{"$f":"+I375*D375","v":0}]
[]
["2.","Dobava in montaža elementa za umivalnik, višina vgradnje 1120mm, prašno barvanim okvirjem 40x40, po višini nastavljivo pritrditvijo in zvočno izolacijo za Viega pritrdilne kose, odtočno koleno DN40/50, gumijasti navojni tulec DN50/30, material za pritrditev elementa (v tla) in keramike, samorezni vijaki za pritrditev na kovinske konstrukcijske profile, luknje premera 11 mm za pritrditev okvirja v leseno konstrukcijo, pripomoček za pozicioniranje."]
[null,"Odgovarja Viega oziroma proizvod drugega proizvajalca enakih ali boljših karakteristik."]
[null,"Viega Prevista element za umivalnik"]
[null,null,"kpl",2,null,{"$f":"E380*$D380","v":0},{"$f":"+E380*MM","v":0},{"$f":"+G380*D380","v":0},{"$f":"+E380-G380","v":0},{"$f":"+I380*D380","v":0}]
[]
["3.","Dobava in montaža - element za tuš, višina vgradnje 1130 mm, z jekleno konstrukcijo s prašnim premazom, po višini nastavljivo pritrditvijo in zvočno izolacijo za Viega pritrdilne kose, material za pritrditev elementa (v tla) in keramike, samorezni vijaki za pritrditev na kovinske konstrukcijske profile, luknje premera 11 mm za pritrditev okvirja v leseno konstrukcijo ali za kombinacijo, pripomoček za pozicioniranje."]
[null,"Odgovarja Viega oziroma proizvod drugega proizvajalca enakih ali boljših karakteristik."]
[null,"Viega element 8570 / Raxofix model 532 / 8570.30 "]
[null,null,"kpl",1,null,{"$f":"E385*$D385","v":0},{"$f":"+E385*MM","v":0},{"$f":"+G385*D385","v":0},{"$f":"+E385-G385","v":0},{"$f":"+I385*D385","v":0}]
[]
["4.","Stenska kanaleta z individualno prilagodljivo dolžino 300 - 1200 mm, vgradno višino 90-160 mm, odtočna zmogljivost 0,6 l/s pri zastojni višini 20 mm, višina zaporne vode 50 mm, sestavljena iz korita iz visokokakovostnega umetnega materiala, skupaj z kompletom nastavljivih nogic, samočistilno odtočno garnituro, odstranljivim vložnim sitom, odtokom DN50, priborom za zatesnitev, nerjavečo rešetko (matirana). Vgradna zaščita je zajeta z dobavo, vključno ves tesnilni in pritrdilni material materialom"]
[null,"Opomba: Pred naročilom obvezno pridobiti potrditev s strani arhitekta ter preveriti višino razpoložljivega tlaka -  v primeru, da je višina tlaka manj ko 95 mm se dobavi “sanacijsko” talno kanaleto  z vgradno višino 70 do 95 mm. "]
[null,"Vgradnja v shramba za bazen"]
[null,"Odgovarja Viega oziroma proizvod drugega proizvajalca enakih ali boljših karakteristik."]
[null,"- stenski odtok Viega Advantix Vario"]
[null,"- rešetka nerjavno jeklo, mat Viega Advantix Vario"]
[null,null,"kpl",1,null,{"$f":"E393*$D393","v":0},{"$f":"+E393*MM","v":0},{"$f":"+G393*D393","v":0},{"$f":"+E393-G393","v":0},{"$f":"+I393*D393","v":0}]
[]
["5.","Dobava - konzolno stranišče višjega srednjega razreda, sestoječe iz: konzolne školjke iz sanitarne keramike bele barve, dimenzije 500x350mm, s polno masivno sedežno desko z gumijastim nasedom in pokromanimi pritrdilnimi vijaki, s PE podložno peno, vključno vijaki za pritrditev"]
[null,"Odgovarja Catalano Zerro New flush oziroma proizvod drugega proizvajalca enakih ali boljših karakteristik."]
[null,"Newflush  50x35, tip 1VSZ50 R00"]
[null,"sedežna deska, tip 5SCSTF000","kpl",1,null,{"$f":"E398*$D398","v":0},{"$f":"+E398*MM","v":0},{"$f":"+G398*D398","v":0},{"$f":"+E398-G398","v":0},{"$f":"+I398*D398","v":0}]
[]
["6.","Montaža konzolnega stranišča, višjega srednjega razreda, kpl. s potrebnim montažnim in tesnilnim materialom."]
[null,null,"kpl",1,null,{"$f":"E401*$D401","v":0},{"$f":"+E401*MM","v":0},{"$f":"+G401*D401","v":0},{"$f":"+E401-G401","v":0},{"$f":"+I401*D401","v":0}]
[]
["7.","Dobava - umivalnik iz sanitarne keramike, primeren za  vgradnjo na zid, sestoječ iz: školjka iz bele sanitarne keramike višjega srednjega cenovnega razreda, z odprtino za montažo armature ter prelivno odprtino, velikosti 1000x500 mm, vključno odtočni pokroman medeninast ventil ø32, samočistilni direktni okrasni sifon s prilagodljivo odtočno cevjo s pokrivno rozeto, vključno s tesnilnim materialom za priključek ø32, vijačni  ter pritrdilni material "]
[null,"Ustreza sanitarna keramika proizvajalca Catalano GREEN 100x50 cm, oziroma proizvod drugega proizvajalca enakih ali boljših karakteristik."]
[null,"GREEN 100x50 cm, 1100GR00, z okrasnim sifonom Catalano art. 5SIFl00 (ali 2 x umivalnik 60x50 cm 160GR00 s sifonom)","kpl",1,null,{"$f":"E405*$D405","v":0},{"$f":"+E405*MM","v":0},{"$f":"+G405*D405","v":0},{"$f":"+E405-G405","v":0},{"$f":"+I405*D405","v":0}]
[]
["8.","Montaža umivalnika iz sanitarne keramike, vgradnja na steno, komplet s potrebnim montažnim in tesnilnim materialom."]
[null,null,"kpl",1,null,{"$f":"E408*$D408","v":0},{"$f":"+E408*MM","v":0},{"$f":"+G408*D408","v":0},{"$f":"+E408-G408","v":0},{"$f":"+I408*D408","v":0}]
[]
["9.","Dobava - enoročna stoječa armatura za umivalnik, višjega srednjega cenovnega razreda, za montažo v odprtino umivalnika, s keramično kartušo 35mm, pokromana,  z odtočno garnituro z dvižnim čepom 1 1/4\", s perlatorjem in gibljivimi priključnimi cevmi ter 2 kosa kotni ventil s filtrom 1/2” , navojne izvedbe s priključkom za zvijavo cev 3/8\"."]
[null,"Odgovarja Unitas oziroma proizvod drugega proizvajalca enakih ali boljših karakteristik."]
[null,"Infinity i10","kpl",2,null,{"$f":"E412*$D412","v":0},{"$f":"+E412*MM","v":0},{"$f":"+G412*D412","v":0},{"$f":"+E412-G412","v":0},{"$f":"+I412*D412","v":0}]
[]
["10.","Montaža enoročne elektronske armature za umivalnik, komplet s potrebnim montažnim in tesnilnim materialom."]
[null,null,"kpl",2,null,{"$f":"E415*$D415","v":0},{"$f":"+E415*MM","v":0},{"$f":"+G415*D415","v":0},{"$f":"+E415-G415","v":0},{"$f":"+I415*D415","v":0}]
[]
["11.","Dobava - enoročna nadometna armatura za tuš, višjega srednjega cenovnega razreda,, s keramično kartušo , pokromana, s pripadajočo zvijavo cevjo in pršno glavo ter nosilcem za namestitev pršne glave ter 2 kosa podometni ventil ventil s filtrom 1/2” ,."]
[null,"Odgovarja Unitas oziroma proizvod drugega proizvajalca enakih ali boljših karakteristik."]
[null,"Infinity i40 (00403)","kpl",1,null,{"$f":"E419*$D419","v":0},{"$f":"+E419*MM","v":0},{"$f":"+G419*D419","v":0},{"$f":"+E419-G419","v":0},{"$f":"+I419*D419","v":0}]
[]
["12.","Priključitev pomivalnega korita komplet z odtočnim sifonom, vključno ves montažni in tesnilni material"]
[null,null,"kpl",1,null,{"$f":"E422*$D422","v":0},{"$f":"+E422*MM","v":0},{"$f":"+G422*D422","v":0},{"$f":"+E422-G422","v":0},{"$f":"+I422*D422","v":0}]
[]
["13.","Dobava - enoročna stoječa armatura za korito, višjega srednjega cenovnega razreda, za montažo v odprtino korita, s keramično kartušo 35mm, pokromana,  s perlatorjem in gibljivimi priključnimi cevmi ter 3 kos kotni ventil s filtrom 1/2\",  navojne izvedbe s priključkom za zvijavo cev 3/8\""]
[null,"Kuhinja"]
[null,"Odgovarja Unitas oziroma proizvod drugega proizvajalca enakih ali boljših karakteristik."]
[null,"Unitas Infinity i22","kpl",1,null,{"$f":"E427*$D427","v":0},{"$f":"+E427*MM","v":0},{"$f":"+G427*D427","v":0},{"$f":"+E427-G427","v":0},{"$f":"+I427*D427","v":0}]
[]
["14.","Montaža enoročne armature za korito, komplet s potrebnim montažnim in tesnilnim materialom."]
[null,null,"kpl",1,null,{"$f":"E430*$D430","v":0},{"$f":"+E430*MM","v":0},{"$f":"+G430*D430","v":0},{"$f":"+E430-G430","v":0},{"$f":"+I430*D430","v":0}]
[]
["15.","Dobava in montaža - toplotne črpalke za sanitarno pitno vodo z možnostjo enoprostorske postavitve ali izvedbe z vodenim zrakom. "]
[null,"Grelnik san. tople vode, izdelan iz jeklene pločevine, antikorozijsko zaščiten znotraj z emajliranjem po DIN4753 in zunaj z epoksi premazom, vključno en cevni toplotni prenosnik, el. grelec 1,5kW za potrebe pregrevanja, skupaj s potrebno regulacijo."]
[null,"Visokotemperaturna toplotna črpalka za ogrevanje san. tople vode prigrajena na grelniku, sestavljena iz kompresorja, VU-uparjalnika ter potrebne opreme za samodejno delovanje, izvedena kot tovarniško sestavljena in preizkušena enota v skupnem ohišju, vključno potrebna mikroprocesorska krmilna enota za krmiljenje TČ z možnostjo aktivne protilegionelne zaščite, konst. temperatura san. tople vode TT=60°C (max. 65°C), delovanje med +5° in +35°"]
[null,"- grelna moč 1850 W (3350 W z elektro grelnikom)"]
[null,"- COP (EN 16147, EU 812/2013) \t3,8"]
[null,"- vir ogrevanja \t\t\t\tzrak"]
[null,"- regulacija\t\t\t\tOptitronic TTD"]
[null,"- postavitev\t\t\t\tnotranja"]
[null,"- moč elektro grelnika\t\t\t1.500 W"]
[null,"- temp. vhodnega zraka min / max\t5 ºC - 40 ºC\t"]
[null,"- temp. vode min. vhodna / max izhodna\t10 ºC - 65 ºC"]
[null,"- tip hladiva\t\t\t\tR134a"]
[null,"- količina hladiva\t\t\t1,2 kg"]
[null,"- zračni pretok\t\t\t\t380 - 450 m3/h"]
[null,"- max. padec zračnega tlaka\t\t50 Pa"]
[null,"- volumen bojlerja\t\t\t200 l"]
[null,"- masa \t\t\t\t\t128 kg"]
[null,"- priključek topla / hladna voda\t\tR 1”"]
[null,"- priključek cirkulacije\t\t\tR 3/4 “"]
[null,"- priključek kotlovskega prenosnika\tR 1”"]
[null,"- priključna napetost \t\t\t230 V / 50 HZ / 16 A"]
[null,"- električna moč\t\t\t\t440 W (1940 W)"]
[null,"Odgovarja Kronoterm oziroma proizvod drugega proizvajalca enakih ali boljših karakteristik."]
[null,"Kronoterm S2 - model WP2 LF 202S","kos",1,null,{"$f":"E455*$D455","v":0},{"$f":"+E455*MM","v":0},{"$f":"+G455*D455","v":0},{"$f":"+E455-G455","v":0},{"$f":"+I455*D455","v":0}]
[]
["16.","Dobava in montaža - oprema toplotne črpalke za pripravo tople sanitarne pitne vode, komplet z montažnim in tesnilnim materialom, sestoječe iz:"]
[null,"MS krogleni ventil R 1/2” \t\t","kos",3,null,{"$f":"E458*$D458","v":0},{"$f":"+E458*MM","v":0},{"$f":"+G458*D458","v":0},{"$f":"+E458-G458","v":0},{"$f":"+I458*D458","v":0}]
[null,"MS krogelni ventil R 1”\t\t\t ","kos",3,null,0,0,0,0,0]
[null,"MS protipovratni ventil R 1/2”\t\t","kos",2,null,0,0,0,0,0]
[null,"MS protipovratni ventil R 1”\t\t","kos",1,null,0,0,0,0,0]
[null,"MS vzmetni varnostni ventil R 3/4”\t","kos",1,null,0,0,0,0,0]
[null,"membranska raztezna posoda pretočne izvedbe za sanitarno vodo po DIN 4807/5 skupaj z nastavitvenim ventilom, V=18L kot npr Reflex Refix DD 18","kos",1,null,0,0,0,0,0]
[null,"regulator tlaka hladna pitne vode R 1” (kot Caleffi 5350)","kos",1,null,0,0,0,0,0]
[]
["17.","Dobava in montaža - cevna naprava za nevtralizacijo vodnega kamna ter zaščito pred korozijo z Zn-anodo ter nav. priključkom, izdelana v skladu z DVGW 270 (primerno za pitno vodo, mikrobiološko neoporečno) z montažnim in tesnilnim materialom."]
[null,"Odgovarja Polar oziroma proizvod drugega proizvajalca enakih ali boljših karakteristik."]
[null,"GEL ZERO CAL (pred bojlerjem)","kos",1,null,{"$f":"E468*$D468","v":0},{"$f":"+E468*MM","v":0},{"$f":"+G468*D468","v":0},{"$f":"+E468-G468","v":0},{"$f":"+I468*D468","v":0}]
[null,"PDF21 R3/4” (hladna voda)","kos",1,null,{"$f":"E469*$D469","v":0},{"$f":"+E469*MM","v":0},{"$f":"+G469*D469","v":0},{"$f":"+E469-G469","v":0},{"$f":"+I469*D469","v":0}]
[]
["18.","Dobava in montaža energetsko učinkovite cirkulacijske obtočne črpalke za pitno vodo z napredno funkcijo AUTOADAPT primerno za vgradnjo v enostanovanjske in dvostanovanjske družinske hiše. Črpalka se s funkcijo AUTOADAPT samodejno prilagaja vzorcu uporabe in zagotavlja maksimalno udobje in prihranek energije. Ohišje črpalke je izdelano iz korozijsko odpornega materiala primernega za pitno vodo, napajanje enofazno z visoko učinkovitim motorjem s premanentim magnetnim rotorjem."]
[null,"AUTOADAPT funkcija vključuje evidentiranje dogodke iz katerih se samostojno “uči” sheme zahteve po topli pitni vodi v hišnih sistemih priprave tople pitne vode. Funkcija AUTOADAPT prihrani do 48 % toplotne energije in do 97 % energije potrebne za delovanje elektro motorja - glede na standarno črpalko s stalnim delovanjem."]
[null,"- ohišje bron primerno za pitno vodo"]
[null,"- tekač iz kompozitnega materiala"]
[null,"- max. delovni tlak 10 bar"]
[null,"- priključek navojni 1/2”"]
[null,"- razpon temperature vode 2 do 95 ºC"]
[null,"- tekočina med delovanjem 60ºC"]
[null,"- max. vhodna moč 7W"]
[null,"- nazivna napetost 230 V / 50 (60) Hz"]
[null,"- tok pri hitrosti 3 - 0,07 A"]
[null,"- razred zaščite  IP 44"]
[null,"Odgovarja Grundfoss oziroma proizvod drugega proizvajalca enakih ali boljših karakteristik."]
[null,"CONFORT 15-14 BA PM Autoadapt","kpl",1,null,{"$f":"E484*$D484","v":0},{"$f":"+E484*MM","v":0},{"$f":"+G484*D484","v":0},{"$f":"+E484-G484","v":0},{"$f":"+I484*D484","v":0}]
[]
["19.","Oprema za merjenje porabe hladne pitne vode za hišniško stanovanje sestoječe iz:"]
[null,"modularni hor. vodomer za hladno vodo 30°C, Qnaz=2,5m3/h; Qmax=3,125m3/h; Qmin=31,25l/h pripravljen za M-Bus ali radisjko odčitovanje"]
[null,"Odgovarja Enerkon oziroma proizvod drugega proizvajalca enakih ali boljših karakteristik."]
[null,"Almess Universal -V +m Q3 2,5 m3/h","kpl",1,null,{"$f":"E489*$D489","v":0},{"$f":"+E489*MM","v":0},{"$f":"+G489*D489","v":0},{"$f":"+E489-G489","v":0},{"$f":"+I489*D489","v":0}]
[]
["20.","Krogelni navojni ventil s polnim pretokom, sestoječ se iz nikanega ohišja iz prešane medenine MS58, z vgrajeno kromirano kovano kroglo iz medenine, ki ima tesnilo iz teflona PTFE in dolgo ročico iz silumina odgovarjajoče barve (modra-hladno, rdeča-toplo). Komplet s tesnilnim in montažnim materialom. Delovna temperatura -15 do 120ºC, pri PN6, , DVGW certifikat (odgovarja Viega Easytop 2270 navojne izvedbe / Kovina ) nazivne velikosti:"]
[null,"Odgovarja Viega Easytop 2270 navojne izvedbe ali Kovina oziroma proizvod drugega proizvajalca enakih ali boljših karakteristik."]
[null,"DN15                                                              ","kos",3,null,{"$f":"E493*$D493","v":0},{"$f":"+E493*MM","v":0},{"$f":"+G493*D493","v":0},{"$f":"+E493-G493","v":0},{"$f":"+I493*D493","v":0}]
[null,"DN20                                                             ","kos",2,null,{"$f":"E494*$D494","v":0},{"$f":"+E494*MM","v":0},{"$f":"+G494*D494","v":0},{"$f":"+E494-G494","v":0},{"$f":"+I494*D494","v":0}]
[null,"DN25                                                            ","kos",2,null,{"$f":"E495*$D495","v":0},{"$f":"+E495*MM","v":0},{"$f":"+G495*D495","v":0},{"$f":"+E495-G495","v":0},{"$f":"+I495*D495","v":0}]
[]
["221.3.","Dobava in montaža cevi iz nerjavnega jekla št. 1.4521 po DIN EN 10088, za instalacijo pitne vode po DIN 1988, preverjene po DVGW delovnem listu W534, z DVGW preverjenimi fitingi za tehnologijo hladnega stiskanja in sigurnostno konturo, ki pri polnenju instalacije detektira nezatisnjene spoje. Nezatisnjene spoje se pri mokrem preizkusu zagotovo odkrije z iztekanjem preizkusnega medija ali padanjem tlaka na preizkusnem manometru, v območju 1 bar do 6,5 bar, pri suhem preizkusu pa v območju 22 mbar do 3 bar."]
[null,"V ceni zajet tudi tesnilni in spojni material ter pripadajoči oblikovnimi kosi in fitingi za stiskanje iz nerjavnega jekla  (spojke, T-kosi, kolena, zaključki, priključki, prehodi, redukcije,...), z vsem potrebnim montažnim in pritrdilnim materialom - dimenzija:"]
[null,"Odgovarja Viega Sanpress Inox oziroma proizvod drugega proizvajalca enakih ali boljših karakteristik."]
[null,"ø 18x1 (DN15)","m",15,null,{"$f":"E500*$D500","v":0},{"$f":"+E500*MM","v":0},{"$f":"+G500*D500","v":0},{"$f":"+E500-G500","v":0},{"$f":"+I500*D500","v":0}]
[null,"ø 22x1,2 (DN20)","m",30,null,{"$f":"E501*$D501","v":0},{"$f":"+E501*MM","v":0},{"$f":"+G501*D501","v":0},{"$f":"+E501-G501","v":0},{"$f":"+I501*D501","v":0}]
[null,"ø 28x1,2 (DN25)","m",10,null,{"$f":"E502*$D502","v":0},{"$f":"+E502*MM","v":0},{"$f":"+G502*D502","v":0},{"$f":"+E502-G502","v":0},{"$f":"+I502*D502","v":0}]
[]
["22.","Dobava in montaža elastomerne fleksibilne izolacije na osnovi sintetičnega kavčuka, v skladu z zahtevami standarda EN 14304, za izolacijo cevovodov sanitarno tople/hladne vode za preprečevanje kondenzacije in energijske prihranke.\nEU požarna klasifikacija B-s3,d0, samougasljiv material, ne kaplja in ne širi požara;\ntoplotna prevodnost λ pri 0°C je 0,035 W/m.K; \nkoef. upora difuziji vodne pare je 10.000 (za  deb. 3-32mm in cevi deb. 6-32mm; za ostale dimenzije je 7.000); \nza temp. območje od -50°C  do  +110°C; \nToplotne mostove potrebno zaščititi s cevnimi nosilci Armafix AF. \nSpoje (vzdožne, prečne, površino) potrebno lepiti z original Armaflex lepilom,  za čiščenje orodja, rok in razmaščevanje pa Armaflex Čistilo. \nCE certifikat v skladu z EN 14304.\nVključno lepilo in bandažirni trak."]
[null,"Izolacija za hladno in toplo vodo ter cirkulacijo, vodeno vidno "]
[null,"Utreza proizvod ARMACELL, Armaflex XG   oziroma proizvod drugega proizvajalca enakih ali boljših karakteristik."]
[null,"XG-19X018","m",15,null,{"$f":"E507*$D507","v":0},{"$f":"+E507*MM","v":0},{"$f":"+G507*D507","v":0},{"$f":"+E507-G507","v":0},{"$f":"+I507*D507","v":0}]
[null,"XG-19X022","m",30,null,{"$f":"E508*$D508","v":0},{"$f":"+E508*MM","v":0},{"$f":"+G508*D508","v":0},{"$f":"+E508-G508","v":0},{"$f":"+I508*D508","v":0}]
[null,"XG-19X028","m",10,null,{"$f":"E509*$D509","v":0},{"$f":"+E509*MM","v":0},{"$f":"+G509*D509","v":0},{"$f":"+E509-G509","v":0},{"$f":"+I509*D509","v":0}]
[]
["23.","Dobava in montaža cevi v kolutu PE-Xc/Al/PE-Xc z izolacijo debeline 13 mm (λ= 0,040 W/mK ) za instalacijo pitne vode po DIN 1988 in ogrevanja in odgovarjajo zahtevam v DVGW delovnem listu W534, označene z DVGW, ter pripadajočimi fitingi za hladno stiskanje iz rdeče litine ali silicijevega brona z optimirano geometrijo za zmanjšane padce tlaka, za spajanje s tehnologijom hladnega stiskanja. Fitingi vsebujejo sigurnostno konturo, ki pri polnenju instalacije detektira nezatisnjene spoje in so označeni z DVGW. Nezatisnjene spoje se pri mokrem preizkusu zagotovo odkrije z iztekanjem preizkusnega medija ali padanjem tlaka na preizkusnem manometru, v območju 1 bar do 6,5 bar, pri suhem preizkusu pa v območju 22 mbar do 3 bar."]
[null,"Odgovarja Viega Raxofix, model 5302.4 oziroma proizvod drugega proizvajalca enakih ali boljših karakteristik, komplet s spojnim in tesnilnim materialom dimenzija:"]
[null,"Vodenje instalacije (topla in hladna pitna voda in cirkulacije) v utorih sten, mavčnokartonskih stenah stenah in v izolaciji tal"]
[null,"ø 20x2,8 (DN15)","m",15,null,{"$f":"E514*$D514","v":0},{"$f":"+E514*MM","v":0},{"$f":"+G514*D514","v":0},{"$f":"+E514-G514","v":0},{"$f":"+I514*D514","v":0}]
[null,"ø 25x2,7 (DN20)","m",60,null,{"$f":"E515*$D515","v":0},{"$f":"+E515*MM","v":0},{"$f":"+G515*D515","v":0},{"$f":"+E515-G515","v":0},{"$f":"+I515*D515","v":0}]
[]
["24.","Dobava in montaža - horizontalni pretočni talni sifon DN50 s tesnilno prirobnico, sifonskim vložkom, s stranskim vrtljivim dotokom DN40, odtokom DN 50, skrajšljivim okvirnim nastavkom in nerjavečo jekleno rešetko 100x100mm z odtočno zmogljivostjo 0,66 l/s. Vgradna zaščita je zajeta z dobavo, komplet z montažnim in tesnilnim materialom"]
[null,"Odgovarja Viega Advantix oziroma proizvod drugega proizvajalca enakih ali boljših karakteristik, "]
[null,"Viega Advantix 4921.6","kpl",1,null,{"$f":"E519*$D519","v":0},{"$f":"+E519*MM","v":0},{"$f":"+G519*D519","v":0},{"$f":"+E519-G519","v":0},{"$f":"+I519*D519","v":0}]
[null,"Protismradna zapora Viega Advantix 4936.6","kos",1,null,{"$f":"E520*$D520","v":0},{"$f":"+E520*MM","v":0},{"$f":"+G520*D520","v":0},{"$f":"+E520-G520","v":0},{"$f":"+I520*D520","v":0}]
[null,"prirobnica Viega Advantix 4925 (po potrebi)","kos",1,null,{"$f":"E521*$D521","v":0},{"$f":"+E521*MM","v":0},{"$f":"+G521*D521","v":0},{"$f":"+E521-G521","v":0},{"$f":"+I521*D521","v":0}]
[]
["25.","Dobava in montaža stenske pipe, odporne proti zmrzovanju, ki zagotovi samodejno praznenje celotnega ohišja in preprečuje zastajanje vode v pipi po vsakem zapiranju. Stenska pipa omogoča individualno prilagodljivo dolžino debelini stene od 150 do 415mm, hitro odpiranje (2 obrata) s klasičnim vrtljivim gumbom, z pretočno zmogljivostjo 40 l/min pri pretočnem tlaku 1 bar, DVGW certificirana, tlak PN16, maksimalna obratovalna temperatura 90°C."]
[null,"Odgovarja Kemper Frosti oziroma proizvod drugega proizvajalca enakih ali boljših karakteristik, "]
[null,"Kemper Frosti / Kemper Frosti plus, DN 15","kpl",1,null,{"$f":"E525*$D525","v":0},{"$f":"+E525*MM","v":0},{"$f":"+G525*D525","v":0},{"$f":"+E525-G525","v":0},{"$f":"+I525*D525","v":0}]
[]
["26.","Dobava in montaža  oddušne kape (strešnik za oddušnik dobavi in vgradi krovec) - namesti se samo oddušna cev v namenski strešnik) z dimenzijami:"]
[null,"ø 110","kos",1,null,{"$f":"E528*$D528","v":0},{"$f":"+E528*MM","v":0},{"$f":"+G528*D528","v":0},{"$f":"+E528-G528","v":0},{"$f":"+I528*D528","v":0}]
[]
["27.","Dobava in montaža - kanalizacijske nizkošumne cevi in odduhi s fazonskimi kosi (odcepi, kolena, prehodni reducirni komadi itd), izdelani iz trdega polivinil-klorida (PP) po DIN 1531, za spajanje na obojke in tesnjenje z gumijastimi tesnili, vključno z mazalnim sredstvom."]
[null,"Pri izvedi je potrebno uporabiti originalne akustične objemke Huliot Acustic Clamp."]
[null,"Odgovarja Huliot Ultra Silent oziroma proizvod drugega proizvajalca enakih ali boljših karakteristik."]
[null,"ø 110","m",10,null,{"$f":"E533*$D533","v":0},{"$f":"+E533*MM","v":0},{"$f":"+G533*D533","v":0},{"$f":"+E533-G533","v":0},{"$f":"+I533*D533","v":0}]
[null,"ø 50 ","m",10,null,{"$f":"E534*$D534","v":0},{"$f":"+E534*MM","v":0},{"$f":"+G534*D534","v":0},{"$f":"+E534-G534","v":0},{"$f":"+I534*D534","v":0}]
[]
["28.","Dobava in montaža - čistilnih kosov za kanalizacijske cevi, izdelani iz trdega polivinil-klorida (PP) po DIN 1531, za spajanje na obojke in tesnjenje z gumijastimi tesnili, vključno z mazalnim sredstvom."]
[null,"Odgovarja Huliot Ultra Silent oziroma proizvod drugega proizvajalca enakih ali boljših karakteristik."]
[null,"ø 110","kos",1,null,{"$f":"E538*$D538","v":0},{"$f":"+E538*MM","v":0},{"$f":"+G538*D538","v":0},{"$f":"+E538-G538","v":0},{"$f":"+I538*D538","v":0}]
[]
["29.","Dobava in montaža elastomerne fleksibilne izolacije na osnovi sintetičnega kavčuka, v skladu z zahtevami standarda EN 14304, za izolacijo cevovodov kanalizacijskih cevi, zračnih za preprečevanje kondenzacije in energijske prihranke.\nEU požarna klasifikacija B-s3,d0, samougasljiv material, ne kaplja in ne širi požara;\ntoplotna prevodnost λ pri 0°C je 0,035 W/m.K; \nkoef. upora difuziji vodne pare je 10.000 (za  deb. 3-32mm in cevi deb. 6-32mm; za ostale dimenzije je 7.000); \nza temp. območje od -50°C  do  +110°C; \nToplotne mostove potrebno zaščititi s cevnimi nosilci Armafix AF. \nSpoje (vzdožne, prečne, površino) potrebno lepiti z original Armaflex lepilom,  za čiščenje orodja, rok in razmaščevanje pa Armaflex Čistilo. \nCE certifikat v skladu z EN 14304.\nVključno lepilo in bandažirni trak."]
[null,"Izolacija kanalizacijskih PP cevi vodenih vodenih na podstrešju oz. v hladni coni."]
[null,"Utreza proizvod ARMACELL, Armaflex XG   oziroma proizvod drugega proizvajalca enakih ali boljših karakteristik."]
[null,"Debelina izolacije 9 mm","m2",2,null,{"$f":"E543*$D543","v":0},{"$f":"+E543*MM","v":0},{"$f":"+G543*D543","v":0},{"$f":"+E543-G543","v":0},{"$f":"+I543*D543","v":0}]
[]
["30.","Dobava in montaža elastomerne fleksibilne izolacije na osnovi sintetičnega kavčuka, v skladu z zahtevami standarda EN 14304, za izolacijo cevovodov kanalizacijskih cevi, zračnih za preprečevanje kondenzacije in energijske prihranke.\nEU požarna klasifikacija B-s3,d0, samougasljiv material, ne kaplja in ne širi požara;\ntoplotna prevodnost λ pri 0°C je 0,035 W/m.K; \nkoef. upora difuziji vodne pare je 10.000 (za  deb. 3-32mm in cevi deb. 6-32mm; za ostale dimenzije je 7.000); \nza temp. območje od -50°C  do  +110°C; \nToplotne mostove potrebno zaščititi s cevnimi nosilci Armafix AF. \nSpoje (vzdožne, prečne, površino) potrebno lepiti z original Armaflex lepilom,  za čiščenje orodja, rok in razmaščevanje pa Armaflex Čistilo. \nCE certifikat v skladu z EN 14304.\nVključno lepilo in bandažirni trak."]
[null,"Izolacija kanalizacijskih PP skozi gradbene konstrukcije."]
[null,"Utreza proizvod ARMACELL, Armaflex XG oziroma proizvod drugega proizvajalca enakih ali boljših karakteristik."]
[null,"Debelina izolacije 9 mm","m2",0.5,null,{"$f":"E548*$D548","v":0},{"$f":"+E548*MM","v":0},{"$f":"+G548*D548","v":0},{"$f":"+E548-G548","v":0},{"$f":"+I548*D548","v":0}]
[]
["31.","Dobava in montaža - centrifugalnega kopalniškega ventilatorja za nadometno vgradnjo, z nadometnim ohišjem in dekorativno masko na prednji strani. Ohišje mora imeti horizontalni priključek ø80 mm, vgrajeno tesno nepovratno loputo in protipožarno loputo. Delovanje ventilatorja s časovnikom vezano na prižig luči v kopalnici. Ventilator mora omogočati priključitev večih ventilatorjev na skupno prezračevalno vertikalo, kar mora biti razvidno iz tehnične dokumentacije naprave. Kapaciteta ventilatorja je 30/60 m3/h."]
[null,"Ustreza proizvod Meltem oziroma proizvod drugega proizvajalca enakih ali boljših karakteristik."]
[null,"tip VARIO II 30/60-NZ / ohišje tip A (nadometno) ali U (podometno) - po izboru arhitekta","kos",2,null,{"$f":"E552*$D552","v":0},{"$f":"+E552*MM","v":0},{"$f":"+G552*D552","v":0},{"$f":"+E552-G552","v":0},{"$f":"+I552*D552","v":0}]
[]
["32.","Dobava in montaža - okrogli zračni kanali izdelani iz pocinkane pločevine (spiro cevi), kompletno s fazonskimi kosi, pritrdilnim in tesnilnim materialom, za sledeče dimenzije:"]
[null,"ø 100","m",4,null,{"$f":"E555*$D555","v":0},{"$f":"+E555*MM","v":0},{"$f":"+G555*D555","v":0},{"$f":"+E555-G555","v":0},{"$f":"+I555*D555","v":0}]
[null,"ø 160","m",8,null,{"$f":"E556*$D556","v":0},{"$f":"+E556*MM","v":0},{"$f":"+G556*D556","v":0},{"$f":"+E556-G556","v":0},{"$f":"+I556*D556","v":0}]
[]
["33.","Dobava in montaža - strešnih zaključkov odvoda zraka od kuhnjske nape in kopalniških ventilatorjev, nameščenih na strehi objekta izdelanih iz okroglih cevi cevi zaščitno protimrčesno mrežico, po detajlu arhitekta, kompletno s pritrdilnim in tesnilnim materialom. "]
[null,"Zaključne strešne obrobe so zajete v kleparskih delih."]
[null,"ø 100","kos",1,null,{"$f":"E560*$D560","v":0},{"$f":"+E560*MM","v":0},{"$f":"+G560*D560","v":0},{"$f":"+E560-G560","v":0},{"$f":"+I560*D560","v":0}]
[null,"ø 160","kos",1,null,{"$f":"E561*$D561","v":0},{"$f":"+E561*MM","v":0},{"$f":"+G561*D561","v":0},{"$f":"+E561-G561","v":0},{"$f":"+I561*D561","v":0}]
[]
["34.","Nosilna konstrukcija za cevovode, komplet s pripadajočimi cevnimi objemkam, vijačnim in montažnim materialom izdelana iz sistemskih pocinkanih jeklenih profilov, skupaj s podporami in obešali za cevne razvode "]
[null,"Odgovarja sistem Hilti oziroma proizvod drugega proizvajalca enakih ali boljših karakteristik","kg",15,null,{"$f":"E564*$D564","v":0},{"$f":"+E564*MM","v":0},{"$f":"+G564*D564","v":0},{"$f":"+E564-G564","v":0},{"$f":"+I564*D564","v":0}]
[]
["35.","Tlačna preizkušnja vodovodnega sistema objekta  s tlakom do 12 bar, skladno z EN805,  vključno z izdelavo pisnega poročila o ustreznosti le tega, potrjenega s strani izvajalca in nadzora. (velja za delne in končne tlačne preizkušnje)"]
[null,null,"kpl",1,null,{"$f":"E567*$D567","v":0},{"$f":"+E567*MM","v":0},{"$f":"+G567*D567","v":0},{"$f":"+E567-G567","v":0},{"$f":"+I567*D567","v":0}]
[]
["36.","Pretočni in tesnostni preizkus kanalizacijske instalacije"]
[null,null,"kpl",1,null,{"$f":"E570*$D570","v":0},{"$f":"+E570*MM","v":0},{"$f":"+G570*D570","v":0},{"$f":"+E570-G570","v":0},{"$f":"+I570*D570","v":0}]
[]
["37.","Izpiranje sistema vodovoda s hiperkloriranjem, odvzemom vzorca ter pridobitvijo ustreznega izvida na bakteriološko kontrolo vode s strani pooblaščene institucije za hišniško stanovanje (1 izlivno mesto po izboru nadzornika)."]
[null,null,"kpl",1,null,{"$f":"E573*$D573","v":0},{"$f":"+E573*MM","v":0},{"$f":"+G573*D573","v":0},{"$f":"+E573-G573","v":0},{"$f":"+I573*D573","v":0}]
[]
["38.","Pripravljalna in zaključna dela, zarisovanje, splošni, manipulativni, zavarovalni in transportni stroški"]
[null,null,null,0.05,{"$f":"SUM(F371:F573)*D576","v":0},{"$f":"+E576","v":0},{"$f":"+E576*MM","v":0},{"$f":"+G576","v":0},{"$f":"+E576-G576","v":0},{"$f":"+I576","v":0}]
[]
["39.","Obračun po količinah, ki izhajajo iz potrjenega gradbenega dnevnika in ob upoštevanju kalkulativnih osnov","kpl",1,{"$f":"SUM(F364:F576)*0.05","v":0},{"$f":"+E578","v":0},null,null,{"$f":"+E578","v":0},{"$f":"+F578","v":0}]
[]
[null,"SKUPAJ HIŠNIŠKO STANOVANJE",null,null,null,{"$f":"SUM(F364:F579)","v":0},null,{"$f":"SUM(H364:H579)","v":0},null,{"$f":"SUM(J364:J579)","v":0}]
[]
[]
["E.","HLADNA IN TOPLA VODA TER CIRKULACIJA - ŠOLA IN GARDEROBE"]
[]
["1.","Krogelni navojni ventil s polnim pretokom, sestoječ se iz nikanega ohišja iz prešane medenine MS58, z vgrajeno kromirano kovano kroglo iz medenine, ki ima tesnilo iz teflona PTFE in dolgo ročico iz silumina odgovarjajoče barve (modra-hladno, rdeča-toplo). Komplet s tesnilnim in montažnim materialom. Delovna temperatura -15 do 120ºC, pri PN6, , DVGW certifikat nazivne velikosti:"]
[null,"Odgovarja Viega Easytop 2270 navojne izvedbe ali Kovina oziroma proizvod drugega proizvajalca enakih ali boljših karakteristik."]
[null,"DN15                                                              ","kos",20,null,{"$f":"E587*$D587","v":0},{"$f":"+E587*MM","v":0},{"$f":"+G587*D587","v":0},{"$f":"+E587-G587","v":0},{"$f":"+I587*D587","v":0}]
[null,"DN20                                                             ","kos",20,null,0,0,0,0,0]
[null,"DN25                                                            ","kos",15,null,0,0,0,0,0]
[null,"DN32                                                            ","kos",5,null,0,0,0,0,0]
[null,"DN50","kos",2,null,0,0,0,0,0]
[null,"DN50 (z varnostno kapo proti zaprtju)","kos",2,null,0,0,0,0,0]
[null,"DN80 (z varnostno kapo proti zaprtju)","kos",1,null,0,0,0,0,0]
[]
["2.","Dobava in montaža modularnega termostatskega regulacijskega ventila, ki se uporablja pri obtočnih toplovodnih sistemih. Omogoča termostatsko izravnavo toplovodnih sistemov v območju med 40 in 60 °C.  Komplet s pripadajočim montažnim in tesnilnim materialom."]
[null,"Odgovarja Danfoss MTCV navojne izvedbe oziroma proizvod drugega proizvajalca enakih ali boljših karakteristik."]
[null,"Danfoss MTCV - B, DN 15","kos",15,null,{"$f":"E597*$D597","v":0},{"$f":"+E597*MM","v":0},{"$f":"+G597*D597","v":0},{"$f":"+E597-G597","v":0},{"$f":"+I597*D597","v":0}]
[]
["3.","Dobava in montaža - protipovratni ventil, navojne izvedbe, namenjen za toplo oz. hladno pitno vodo, DVGW certifikat PN16, kompletno s tesnilnim in vijačnim materialom."]
[null,"DN 15 (možno 10 + 6 - WC obstoječi)","kos",15,null,{"$f":"E600*$D600","v":0},{"$f":"+E600*MM","v":0},{"$f":"+G600*D600","v":0},{"$f":"+E600-G600","v":0},{"$f":"+I600*D600","v":0}]
[]
["4.","Dobava in montaža cevi iz nerjavnega jekla št. 1.4521 po DIN EN 10088, za instalacijo pitne vode po DIN 1988, preverjene po DVGW delovnem listu W534, z DVGW preverjenimi fitingi za tehnologijo hladnega stiskanja in sigurnostno konturo, ki pri polnenju instalacije detektira nezatisnjene spoje. Nezatisnjene spoje se pri mokrem preizkusu zagotovo odkrije z iztekanjem preizkusnega medija ali padanjem tlaka na preizkusnem manometru, v območju 1 bar do 6,5 bar, pri suhem preizkusu pa v območju 22 mbar do 3 bar."]
[null,"V ceni zajet tudi tesnilni in spojni material ter pripadajoči oblikovnimi kosi in fitingi za stiskanje iz nerjavnega jekla  (spojke, T-kosi, kolena, zaključki, priključki, prehodi, redukcije,...), z vsem potrebnim montažnim in pritrdilnim materialom - dimenzija:"]
[null,"Odgovarja Viega Sanpress Inox oziroma proizvod drugega proizvajalca enakih ali boljših karakteristik."]
[null,"ø 15x1 (DN 10)","m",{"$f":"D618+D639","v":52},null,{"$f":"E605*$D605","v":0},{"$f":"+E605*MM","v":0},{"$f":"+G605*D605","v":0},{"$f":"+E605-G605","v":0},{"$f":"+I605*D605","v":0}]
[null,"ø 18x1 (DN15)","m",{"$f":"D619+D629+D640","v":98},null,0,0,0,0,0]
[null,"ø 22x1,2 (DN20)","m",{"$f":"D620+D630+D641","v":121},null,0,0,0,0,0]
[null,"ø 28x1,2 (DN25)","m",{"$f":"D621+D631+D642","v":185},null,0,0,0,0,0]
[null,"ø 35x1,5 (DN32)","m",{"$f":"D622","v":50},null,0,0,0,0,0]
[null,"ø 42x1,5 (DN40)","m",{"$f":"D623","v":45},null,0,0,0,0,0]
[null,"ø 54x1,5 (DN50)","m",{"$f":"D624+D632+D643","v":255},null,0,0,0,0,0]
[null,"ø 76x2,0 (DN 65)","m",10,null,0,0,0,0,0]
[null,"ø 88,9x2,0 (DN 80)","m",20,null,0,0,0,0,0]
[]
["5.","Dobava in montaža cevakov iz kamene volne Knauf insulation Thermo-Tek PS ECO ALU, tovarniško zaščiteno z aluminijasto folijo, komplet s pripadajočimi oblikovnimi kosi. Izvedba izolacije preko zaščitenega prostora požarnega izhoda in v območju avle vključno preko požarnih zidov."]
[null,"Izolacija za hladno in toplo vodo in cirkulacijo, vodeno v zaščitenih hodnikih in avlah v spuščenem stropu"]
[null,"Odgovarja Knauf Insulation oziroma proizvod drugega proizvajalca enakih ali boljših karakteristik."]
[null,"DN 10, izolacija 20 mm","m",12,null,{"$f":"E618*$D618","v":0},{"$f":"+E618*MM","v":0},{"$f":"+G618*D618","v":0},{"$f":"+E618-G618","v":0},{"$f":"+I618*D618","v":0}]
[null,"DN 15, izolacija 20 mm ","m",38,null,0,0,0,0,0]
[null,"DN 20, izolacija 20 mm","m",75,null,0,0,0,0,0]
[null,"DN 25, izolacija 25 mm ","m",125,null,0,0,0,0,0]
[null,"DN 32, izolacija 30 mm","m",50,null,0,0,0,0,0]
[null,"DN 40, izolacija 40 mm","m",45,null,0,0,0,0,0]
[null,"DN 50, izolacija 50 mm","m",145,null,0,0,0,0,0]
[]
["6.","Dobava in montaža elastomerne fleksibilne izolacije na osnovi sintetičnega kavčuka, v skladu z zahtevami standarda EN 14304, za izolacijo cevovodov sanitarno tople/hladne vode za preprečevanje kondenzacije in energijske prihranke.\nEU požarna klasifikacija B-s3,d0, samougasljiv material, ne kaplja in ne širi požara;\ntoplotna prevodnost λ pri 0°C je 0,035 W/m.K; \nkoef. upora difuziji vodne pare je 10.000 (za  deb. 3-32mm in cevi deb. 6-32mm; za ostale dimenzije je 7.000); \nza temp. območje od -50°C  do  +110°C; \nToplotne mostove potrebno zaščititi s cevnimi nosilci Armafix AF. \nSpoje (vzdožne, prečne, površino) potrebno lepiti z original Armaflex lepilom,  za čiščenje orodja, rok in razmaščevanje pa Armaflex Čistilo. \nCE certifikat v skladu z EN 14304.\nVključno lepilo in bandažirni trak."]
[null,"Izolacija za hladno vodo, vodeno znotraj požarnih sektorjev v spuščenem stropu"]
[null,"Utreza proizvod ARMACELL, Armaflex XG oziroma proizvod drugega proizvajalca enakih ali boljših karakteristik."]
[null,"XG-19X018","m",25,null,{"$f":"E629*$D629","v":0},{"$f":"+E629*MM","v":0},{"$f":"+G629*D629","v":0},{"$f":"+E629-G629","v":0},{"$f":"+I629*D629","v":0}]
[null,"XG-19X022","m",21,null,0,0,0,0,0]
[null,"XG-19X028","m",20,null,0,0,0,0,0]
[null,"XG-40X054","m",70,null,0,0,0,0,0]
[null,"XG-40X076","m",10,null,0,0,0,0,0]
[null,"XG-40X088","m",20,null,0,0,0,0,0]
[]
["7.","Dobava in montaža elastomerne fleksibilne izolacije na osnovi sintetičnega kavčuka, v skladu z zahtevami standarda EN 14304, za izolacijo cevovodov sanitarno tople/hladne vode za preprečevanje kondenzacije in energijske prihranke.\nEU požarna klasifikacija B-s3,d0, samougasljiv material, ne kaplja in ne širi požara;\ntoplotna prevodnost λ pri 0°C je 0,035 W/m.K; \nkoef. upora difuziji vodne pare je 10.000 (za  deb. 3-32mm in cevi deb. 6-32mm; za ostale dimenzije je 7.000); \nza temp. območje od -50°C  do  +110°C; \nToplotne mostove potrebno zaščititi s cevnimi nosilci Armafix AF. \nSpoje (vzdožne, prečne, površino) potrebno lepiti z original Armaflex lepilom,  za čiščenje orodja, rok in razmaščevanje pa Armaflex Čistilo. \nCE certifikat v skladu z EN 14304.\nVključno lepilo in bandažirni trak."]
[null,"Izolacija za toplo vode in cirkulacijo, vodeno znotraj požarnih sektorjev v spuščenem stropu"]
[null,"Utreza proizvod ARMACELL, Armaflex XG   oziroma proizvod drugega proizvajalca enakih ali boljših karakteristik."]
[null,"XG-19x016","m",40,null,{"$f":"E639*$D639","v":0},{"$f":"+E639*MM","v":0},{"$f":"+G639*D639","v":0},{"$f":"+E639-G639","v":0},{"$f":"+I639*D639","v":0}]
[null,"XG-19x018","m",35,null,{"$f":"E640*$D640","v":0},{"$f":"+E640*MM","v":0},{"$f":"+G640*D640","v":0},{"$f":"+E640-G640","v":0},{"$f":"+I640*D640","v":0}]
[null,"XG-25X022","m",25,null,{"$f":"E641*$D641","v":0},{"$f":"+E641*MM","v":0},{"$f":"+G641*D641","v":0},{"$f":"+E641-G641","v":0},{"$f":"+I641*D641","v":0}]
[null,"XG-25X028","m",40,null,{"$f":"E642*$D642","v":0},{"$f":"+E642*MM","v":0},{"$f":"+G642*D642","v":0},{"$f":"+E642-G642","v":0},{"$f":"+I642*D642","v":0}]
[null,"XG-40X054","m",40,null,{"$f":"E643*$D643","v":0},{"$f":"+E643*MM","v":0},{"$f":"+G643*D643","v":0},{"$f":"+E643-G643","v":0},{"$f":"+I643*D643","v":0}]
[]
["8.","Dobava in montaža cevi v kolutu PE-Xc/Al/PE-Xc z izolacijo debeline 13 mm (λ= 0,040 W/mK ) za instalacijo pitne vode po DIN 1988 in ogrevanja in odgovarjajo zahtevam v DVGW delovnem listu W534, označene z DVGW, ter pripadajočimi fitingi za hladno stiskanje iz rdeče litine ali silicijevega brona z optimirano geometrijo za zmanjšane padce tlaka, za spajanje s tehnologijom hladnega stiskanja. Fitingi vsebujejo sigurnostno konturo, ki pri polnenju instalacije detektira nezatisnjene spoje in so označeni z DVGW. Nezatisnjene spoje se pri mokrem preizkusu zagotovo odkrije z iztekanjem preizkusnega medija ali padanjem tlaka na preizkusnem manometru, v območju 1 bar do 6,5 bar, pri suhem preizkusu pa v območju 22 mbar do 3 bar."]
[null,"Proizvod kot npr. Viega Raxofix, model 5302.4 oziroma proizvod drugega proizvajalca enakih ali boljših karakteristik., s spojnim in tesnilnim materialom dimenzija:"]
[null,"Vodenje instalacije (topla in hladna pitna voda in cirkulacije) v utorih sten, mavčnokartonskih stenah stenah in v izolaciji tal"]
[null,"ø 16x2,2 (DN 12)","m",72,null,{"$f":"E648*$D648","v":0},{"$f":"+E648*MM","v":0},{"$f":"+G648*D648","v":0},{"$f":"+E648-G648","v":0},{"$f":"+I648*D648","v":0}]
[null,"ø 20x2,8 (DN15)","m",86,null,{"$f":"E649*$D649","v":0},{"$f":"+E649*MM","v":0},{"$f":"+G649*D649","v":0},{"$f":"+E649-G649","v":0},{"$f":"+I649*D649","v":0}]
[null,"ø 25x2,7 (DN20)","m",48,null,{"$f":"E650*$D650","v":0},{"$f":"+E650*MM","v":0},{"$f":"+G650*D650","v":0},{"$f":"+E650-G650","v":0},{"$f":"+I650*D650","v":0}]
[]
["9.","Nosilna konstrukcija za cevovode, komplet s pripadajočimi cevnimi objemkam, vijačnim in montažnim materialom izdelana iz sistemskih pocinkanih jeklenih profilov, skupaj s podporami in obešali za cevne razvode "]
[null,"Odgovarja sistem Hilti","kg",450,null,{"$f":"E653*$D653","v":0},{"$f":"+E653*MM","v":0},{"$f":"+G653*D653","v":0},{"$f":"+E653-G653","v":0},{"$f":"+I653*D653","v":0}]
[]
["10.","Izvedba zapore prehoda cevne instalacije skozi požarno steno ali strop, ki se sestoji iz požarnega premaza, vložka kamene volne in manšete oz. okvirja širine najmanj 10cm, ozirima požarne objekmke z ustreznim certifikatom o ustreznosti. Velikost ter število odprtin"]
[null,"do 0,01m2                                                                       ","kos",18,null,{"$f":"E656*$D656","v":0},{"$f":"+E656*MM","v":0},{"$f":"+G656*D656","v":0},{"$f":"+E656-G656","v":0},{"$f":"+I656*D656","v":0}]
[null,"do 0,02m2                                                                       ","kos",6,null,{"$f":"E657*$D657","v":0},{"$f":"+E657*MM","v":0},{"$f":"+G657*D657","v":0},{"$f":"+E657-G657","v":0},{"$f":"+I657*D657","v":0}]
[]
["11.","Tlačna preizkušnja vodovodnega sistema objekta  s tlakom do 12 bar, skladno z EN805,  vključno z izdelavo pisnega poročila o ustreznosti le tega, potrjenega s strani izvajalca in nadzora. (velja za delne in končne tlačne preizkušnje)"]
[null,null,"kpl",1,null,{"$f":"E660*$D660","v":0},{"$f":"+E660*MM","v":0},{"$f":"+G660*D660","v":0},{"$f":"+E660-G660","v":0},{"$f":"+I660*D660","v":0}]
[]
["12.","Izpiranje sistema vodovoda s hiperkloriranjem, odvzemom vzorca ter pridobitvijo ustreznega izvida na bakteriološko kontrolo vode s strani pooblaščene institucije za objekt (min. 5 izlivna mesta na etažo po izboru nadzornika), vključno skupna instalacija v skupnih prostorih od glavnega vodomera nadalje "]
[null,null,"kpl",1,null,{"$f":"E663*$D663","v":0},{"$f":"+E663*MM","v":0},{"$f":"+G663*D663","v":0},{"$f":"+E663-G663","v":0},{"$f":"+I663*D663","v":0}]
[]
["13.","Pripravljalna in zaključna dela, zarisovanje, splošni, manipulativni, zavarovalni in transportni stroški"]
[null,null,null,0.05,{"$f":"SUM(F587:F663)*D666","v":0},{"$f":"+E666","v":0},{"$f":"+E666*MM","v":0},{"$f":"+G666","v":0},{"$f":"+E666-G666","v":0},{"$f":"+I666","v":0}]
[]
["14.","Obračun po količinah, ki izhajajo iz potrjenega gradbenega dnevnika in ob upoštevanju kalkulativnih osnov","kpl",1,{"$f":"SUM(F585:F666)*0.05","v":0},{"$f":"+E668","v":0},null,null,{"$f":"+E668","v":0},{"$f":"+F668","v":0}]
[]
[null,"SKUPAJ HLADNA IN TOPLA VODA  TER CIRKULACIJA",null,null,null,{"$f":"SUM(F585:F669)","v":0},null,{"$f":"SUM(H585:H669)","v":0},null,{"$f":"SUM(J585:J669)","v":0}]
[]
[]
["F.","VERTIKALNA KANALIZACIJA - ŠOLA IN GARDEROBE"]
[]
[null,"V popisu je zajeta vsa vertikalna fekalna kanalizacijo od tlaka pritličja do prehoda skozi streho."]
[]
["1.","Dobava in montaža - horizontalni pretočni talni sifon DN50 s tesnilno prirobnico, sifonskim vložkom, s stranskim vrtljivim dotokom DN40, odtokom DN 50, skrajšljivim okvirnim nastavkom in nerjavečo jekleno rešetko 150x15 0mm z odtočno zmogljivostjo 0,66 l/s, protismradna zapora . Vgradna zaščita je zajeta z dobavo, komplet z montažnim in tesnilnim materialom"]
[null,null,"kpl",1,null,{"$f":"E678*$D678","v":0},{"$f":"+E678*MM","v":0},{"$f":"+G678*D678","v":0},{"$f":"+E678-G678","v":0},{"$f":"+I678*D678","v":0}]
[]
["2.","Dobava in montaža - cevni prezračevalnik DN 110 z dvojno izolacijsko steno in reducirnim vložkom DN50/75, komplet z montažnim in tesnilnim materialom"]
[null,"Odgovarja HL oziroma proizvod drugega proizvajalca enakih ali boljših karakteristik."]
[null,"HL 900N","kpl",5,null,{"$f":"E682*$D682","v":0},{"$f":"+E682*MM","v":0},{"$f":"+G682*D682","v":0},{"$f":"+E682-G682","v":0},{"$f":"+I682*D682","v":0}]
[]
["3.","Dobava in montaža  oddušne kape (strešnik za oddušnik dobavi in vgradi krovec) - namesti se samo oddušna cev v namenski strešnik) z dimenzijami:"]
[null,"ø 75","kos",7,null,{"$f":"E685*$D685","v":0},{"$f":"+E685*MM","v":0},{"$f":"+G685*D685","v":0},{"$f":"+E685-G685","v":0},{"$f":"+I685*D685","v":0}]
[null,"ø 110","kos",10,null,{"$f":"E686*$D686","v":0},{"$f":"+E686*MM","v":0},{"$f":"+G686*D686","v":0},{"$f":"+E686-G686","v":0},{"$f":"+I686*D686","v":0}]
[]
["4.","Dobava in montaža - kanalizacijske nizkošumne cevi in odduhi s fazonskimi kosi (odcepi, kolena, prehodni reducirni komadi itd), izdelani iz trdega polivinil-klorida (PP) po DIN 1531, za spajanje na obojke in tesnjenje z gumijastimi tesnili, vključno z mazalnim sredstvom."]
[null,"Pri izvedi je potrebno uporabiti originalne akustične objemke Huliot Acustic Clamp."]
[null,"Odgovarja Huliot Ultra Silent oziroma proizvod drugega proizvajalca enakih ali boljših karakteristik."]
[null,"ø 110","m",40,null,{"$f":"E691*$D691","v":0},{"$f":"+E691*MM","v":0},{"$f":"+G691*D691","v":0},{"$f":"+E691-G691","v":0},{"$f":"+I691*D691","v":0}]
[null,"ø 75","m",130,null,{"$f":"E692*$D692","v":0},{"$f":"+E692*MM","v":0},{"$f":"+G692*D692","v":0},{"$f":"+E692-G692","v":0},{"$f":"+I692*D692","v":0}]
[null,"ø 50 ","m",45,null,{"$f":"E693*$D693","v":0},{"$f":"+E693*MM","v":0},{"$f":"+G693*D693","v":0},{"$f":"+E693-G693","v":0},{"$f":"+I693*D693","v":0}]
[]
["5.","Dobava in montaža - čistilnih kosov za kanalizacijske cevi, izdelani iz trdega polivinil-klorida (PP) po DIN 1531, za spajanje na obojke in tesnjenje z gumijastimi tesnili, vključno z mazalnim sredstvom."]
[null,"Odgovarja Huliot Ultra Silent oziroma proizvod drugega proizvajalca enakih ali boljših karakteristik."]
[null,"ø 110","kos",2,null,{"$f":"E697*$D697","v":0},{"$f":"+E697*MM","v":0},{"$f":"+G697*D697","v":0},{"$f":"+E697-G697","v":0},{"$f":"+I697*D697","v":0}]
[]
["6.","Dobava in montaža elastomerne fleksibilne izolacije na osnovi sintetičnega kavčuka, v skladu z zahtevami standarda EN 14304, za izolacijo cevovodov kanalizacijskih cevi, zračnih za preprečevanje kondenzacije in energijske prihranke.\nEU požarna klasifikacija B-s3,d0, samougasljiv material, ne kaplja in ne širi požara;\ntoplotna prevodnost λ pri 0°C je 0,035 W/m.K; \nkoef. upora difuziji vodne pare je 10.000 (za  deb. 3-32mm in cevi deb. 6-32mm; za ostale dimenzije je 7.000); \nza temp. območje od -50°C  do  +110°C; \nToplotne mostove potrebno zaščititi s cevnimi nosilci Armafix AF. \nSpoje (vzdožne, prečne, površino) potrebno lepiti z original Armaflex lepilom,  za čiščenje orodja, rok in razmaščevanje pa Armaflex Čistilo. \nCE certifikat v skladu z EN 14304.\nVključno lepilo in bandažirni trak."]
[null,"Izolacija kanalizacijskih PP cevi vodenih vodenih na podstrešju oz. v hladni coni."]
[null,"Utreza proizvod ARMACELL, Armaflex XG   oziroma proizvod drugega proizvajalca enakih ali boljših karakteristik."]
[null,"Debelina izolacije 9 mm","m2",10,null,{"$f":"E702*$D702","v":0},{"$f":"+E702*MM","v":0},{"$f":"+G702*D702","v":0},{"$f":"+E702-G702","v":0},{"$f":"+I702*D702","v":0}]
[]
["7.","Dobava in montaža elastomerne fleksibilne izolacije na osnovi sintetičnega kavčuka, v skladu z zahtevami standarda EN 14304, za izolacijo cevovodov kanalizacijskih cevi, zračnih za preprečevanje kondenzacije in energijske prihranke.\nEU požarna klasifikacija B-s3,d0, samougasljiv material, ne kaplja in ne širi požara;\ntoplotna prevodnost λ pri 0°C je 0,035 W/m.K; \nkoef. upora difuziji vodne pare je 10.000 (za  deb. 3-32mm in cevi deb. 6-32mm; za ostale dimenzije je 7.000); \nza temp. območje od -50°C  do  +110°C; \nToplotne mostove potrebno zaščititi s cevnimi nosilci Armafix AF. \nSpoje (vzdožne, prečne, površino) potrebno lepiti z original Armaflex lepilom,  za čiščenje orodja, rok in razmaščevanje pa Armaflex Čistilo. \nCE certifikat v skladu z EN 14304.\nVključno lepilo in bandažirni trak."]
[null,"Izolacija kanalizacijskih PP gradbene konstrukcije."]
[null,"Utreza proizvod ARMACELL, Armaflex XG  oziroma proizvod drugega proizvajalca enakih ali boljših karakteristik."]
[null,"Debelina izolacije 9 mm","m2",2,null,{"$f":"E707*$D707","v":0},{"$f":"+E707*MM","v":0},{"$f":"+G707*D707","v":0},{"$f":"+E707-G707","v":0},{"$f":"+I707*D707","v":0}]
[]
["8.","Obešala, nosilni material in držala, objemke z gumo ter fiksne točke, vodila za cevi, iz različnih cinkanih jeklenih profilov, komplet z drobnim montažnim materialom, kot npr. sistem HILTI"]
[null,null,"kg",30,null,{"$f":"E710*$D710","v":0},{"$f":"+E710*MM","v":0},{"$f":"+G710*D710","v":0},{"$f":"+E710-G710","v":0},{"$f":"+I710*D710","v":0}]
[]
["9.","Izvedba zapore prehoda cevne instalacije skozi požarno steno ali strop, ki se sestoji iz požarnega premaza, vložka kamene volne in manšete oz. okvirja širine najmanj 10cm, ozirima požarne objekmke z ustreznim certifikatom o ustreznosti. Velikost ter število odprtin"]
[null,"do 0,01m2                                                                       ","kos",3,null,{"$f":"E713*$D713","v":0},{"$f":"+E713*MM","v":0},{"$f":"+G713*D713","v":0},{"$f":"+E713-G713","v":0},{"$f":"+I713*D713","v":0}]
[null,"do 0,02m2                                                                       ","kos",2,null,{"$f":"E714*$D714","v":0},{"$f":"+E714*MM","v":0},{"$f":"+G714*D714","v":0},{"$f":"+E714-G714","v":0},{"$f":"+I714*D714","v":0}]
[]
[]
["10.","Pretočni in tesnostni preizkus kanalizacijske in kondenzne instalacije "]
[null,null,"kpl",1,null,{"$f":"E718*$D718","v":0},{"$f":"+E718*MM","v":0},{"$f":"+G718*D718","v":0},{"$f":"+E718-G718","v":0},{"$f":"+I718*D718","v":0}]
[]
["11.","Pripravljalna in zaključna dela, zarisovanje, splošni, manipulativni, zavarovalni in transportni stroški"]
[null,null,null,0.05,{"$f":"SUM(F678:F718)*D721","v":0},{"$f":"+E721","v":0},{"$f":"+E721*MM","v":0},{"$f":"+G721","v":0},{"$f":"+E721-G721","v":0},{"$f":"+I721","v":0}]
[]
["12.","Obračun po količinah, ki izhajajo iz potrjenega gradbenega dnevnika in ob upoštevanju kalkulativnih osnov","kpl",1,{"$f":"SUM(F678:F721)*0.05","v":0},{"$f":"+E723","v":0},null,null,{"$f":"+E723","v":0},{"$f":"+F723","v":0}]
[]
[null,"VERTIKALNA KANALIZACIJA",null,null,null,{"$f":"SUM(F672:F724)","v":0},null,{"$f":"SUM(H672:H724)","v":0},null,{"$f":"SUM(J672:J724)","v":0}]
[]
[]
["G.","IZVEDBA PRIKLJUČKOV HLADNE IN TOPLE VODE TER CIRKULACIJE V TOPLOTNI POSTAJI “ŠPORTNI DEL”"]
[]
[null,"Obračun urnih postavk se obračuna na podlagi vpisov v gradbenem dnevniku. Za obračun mora izvajalec točno navesti dela, ki so se izvajala ob demontaži ter število oseb in časovni obseg izvedenih del. "]
[]
["1.","Pregled obstoječega stanja vodovodne instalacije v toplotni postaji, iskanje odcepov, blindiranje, prevezave ipd."]
[null,"ocenjeno ","ur",50,null,{"$f":"E733*$D733","v":0},{"$f":"+E733*MM","v":0},{"$f":"+G733*D733","v":0},{"$f":"+E733-G733","v":0},{"$f":"+I733*D733","v":0}]
[]
["2.","Predelava obstoječih priključkov, priprava za navezavo na novo instalacijo."]
[null,"ocenjeno ","ur",20,null,{"$f":"E736*$D736","v":0},{"$f":"+E736*MM","v":0},{"$f":"+G736*D736","v":0},{"$f":"+E736-G736","v":0},{"$f":"+I736*D736","v":0}]
[]
["3.","Obračun po količinah, ki izhajajo iz potrjenega gradbenega dnevnika in ob upoštevanju kalkulativnih osnov","kpl",1,{"$f":"SUM(F733:F736)*0.05","v":0},{"$f":"+E738","v":0},null,null,{"$f":"+E738","v":0},{"$f":"+F738","v":0}]
[]
[null,"IZVEDBA PRIKLOPOV",null,null,null,{"$f":"SUM(F729:F738)","v":0},null,{"$f":"SUM(H729:H738)","v":0},null,{"$f":"SUM(J729:J738)","v":0}]
[]
[null,"SKUPAJ VODOVOD IN KANALIZACIJA",null,null,null,{"$f":"+F740+F725+F670+F580+F358+F223+F68","v":0},null,{"$f":"+H740+H725+H670+H580+H358+H223+H68","v":0},null,{"$f":"+J740+J725+J670+J580+J358+J223+J68","v":0}]

{"sheet":"AB-4.PREZRAČEVANJE","index":37,"n_rows":579,"n_cols":10,"rows_kept":579,"cut":false,"hidden":false,"merged":[]}
[]
[]
[" 5.3.","Objekt A in B,   PREZRAČEVANJE"]
[]
[null,"V kolikor ni drugače navedeno v popisu - vse pozicije specifikacije zajemajo dobavo, izdelavo, montažo, kompletni drobni montažni material in kompletno atestno in predajno dokumentacijo!"]
[null,"Pred naročilom opreme obvezno uskladiti opremo z arhitekturno zasnovo in morebitnimi spremembami nastalimi med PZI načrtom in ponujeno opremo oz. izvedbo del."]
[]
["ZAP. ŠT.","OPIS","     ME","KOLIČUNA","CENA/ENOTO","SKUPAJ","POPUST","POPUST SKUPAJ","CENA/ENOTO S POPUSTOM","SKUPAJ S POPUSTOM"]
[]
["A.","DEMONTAŽNA DELA"]
[]
[null,"Vsa dela zajemajo demontažo, iznos iz objekta ter odvoz na deponijo s predajo evidenčnega lista. Obračun urnih postavk se obračuna na podlagi vpisov v gradbenem dnevniku. Za obračun mora izvajalec točno navesti dela, ki so se izvajala ob demontaži ter število oseb in časovni obseg izvedenih del. "]
[]
["1.","Demontaža obstoječe opreme in kanalov (izoliranih in neizoliranih) odvodnih sistemov (telovadnice, sanitarije, garderobe, hodniki, …), demontaža požarnih loput, aksialnih ventilatorjev komplet z iznosom na začasno gradbiščno deponijo. "]
[null,null,"ur","0"]
[]
["2.","Čiščenje objekta po demontažah"]
[null,null,"kpl","0"]
[]
["3.","Odvoz odvečnega materiala na deponijo (kanali, izolacija, oprema), vključno s potrdilom o ravnanju z gradbenimi odpadki."]
[null,null,"kpl","0"]
[]
["12.","Obračun po količinah, ki izhajajo iz potrjenega gradbenega dnevnika in ob upoštevanju kalkulativnih osnov","kpl","0"]
[]
[null,"SKUPAJ DEMONTAŽA",null,null,null,{"$f":"SUM(F12:F24)","v":0},null,{"$f":"SUM(H12:H24)","v":0},null,{"$f":"SUM(J12:J24)","v":0}]
[]
[]
[]
["B.","PREZARAČEVALNI SISTEM KN 1"]
[]
["1.","PREZRAČEVALNA NAPRAVA KN1"]
[null,"Dobava, montaža in zagon kompaktne klimatske naprave za zunanjo postavitev.\nKompaktna klimatska naprava namenjena za dovod svežega zraka in odvod izrabljenega zraka. Naprava je horizontalne izvedbe s čelnimi priključki in namenjena za zunanjo postavitev na tla oz. namestitev na jekleni podest. Krmilna oprema je integrirana v napravi.\nOhišje:\nIzdelano v dvostenski izvedbi s stenami iz pocinkane jeklene pločevine, zaščitene s prevleko Magnelis (MgZn) in z vmesno izolacijo iz mineralne volne debeline 50 mm.\n- zaščita pred korozijo: razred C5\n- mehanska stabilnost: razred D2\n- faktor toplotne prehodnosti: T2 po EN 1886\n- faktor toplotnih mostov: TB2 po EN 1886\nFiltri:\n- vrečasti filter F7-ePM1 60% dovod\n- vrečasti filter M5-ePM10 60% odvod\nVentilatorji:\nEnergijsko učinkovit dovodni in odvodni ventilator z varčnim EC motorjem in zvezno regulacijo pretoka.\nRekuperator:\nVisoko-učinkovit protitočni ploščni rekuperator z izkoristkom do 90% in by-pass loputo s pogonom.\nOddaljevanje rekuperatorja - SEKCIJSKO.\nKontrolna omarica je locirana zunaj naprave na ohišju, kar omogoča lažje upravljanje in priključitev zunanjih komponent. Vsa tipala so integrirana v napravi.\nDigitalni krmilnik na dotik omogoča številne načine temperaturne in pretočne regulacije, rekuperacijo v poletnem in zimskem času, prosto in nočno hlajenje, delovanje po tedenskem urniku, nadzor zamazanosti filtrov, nadzor nad delovanjem delov in funkcijami, besedilne alarme na LCD posluževalnem zaslonu. Dinamična funkcijska shema na zaslonu omogoča vizualno spremljanje parametrov v obratovanju in njihov dostop.\nRegulacijski sistem ima vgrajen WEB server ter je povezljiv na CNS preko ModBUS-a. Omogoča tudi povezavo preko Cloud-a in spremljanje parametrov ter alarmov na daljavo."]
[null,"Tehnične karakteristike:\n- napajanje: 230V/1f/50Hz\n- dovod zraka: 3000 m3/h, 400 Pa\n- odvod zraka: 3000 m3/h, 400 Pa\n- Pem. maks. ventilatorjev: 2 x 2,455 kW\ntoplotni izkoristek rekuperatorja po EN308: 82,8 %\nvrnjena toplotna energija: 28,5 kW\n- dimenzije: 2742 x 1083 x 1695 mm\n- teža: 525 kg\n- električni priklop: 3x400V; 3x16A, 4,88 kW"]
[null,"Naprava ustreza Ecodesign direktivi za 2016 in 2018 in spada v A+ energijski razred. Naprava ima Eurovent certifikat."]
[null,"Dodatna oprema:                   \nregulacijska loputa z vzmetnim pogonom TUNE-AHU-SE007-700x400 + Belimo LF24  / 2 kos   \nkanalski reverzibilen DX izmenjevalec z banico za kondenz in izločevalnikom kapljic Qhl=19,44kW (temp.vpiha= 16°C), Qgr= 16,14 (temp. vpiha=22°C) s hladivom R32  - 1 kos      \nsifon za odvod kondenzata od prenosnika toplote in DX hladilnika / 2 kos     \nstreha za zunanjo postavitev  - 1 kos                                                                                                                                                 "]
[null,"Daljinski tablo za posluževanje klimata. Ožičenje od lokacije prezračevalne naprave do lokacije tabloja na stopnišču galerije je zajeto v elektro delih."]
[null,"Ustreza proizvod Systemair Slovenija oziroma proizvod drugega proizvajalca enakih ali boljših karakteristik."]
[null,"Tip: TOPVEX SC60-L-S","kpl","0"]
[]
["2.","Trda guma za preprečevanje prenosa vibracij, za montažo pod klimate, debeline 1,5 do 2 cm, odgovarja Mafund ali podobno (cca. 10 x 20 cm)"]
[null,null,"kos","0"]
[]
["3.","Dušilnik zvoka za vgradnjo v pločevinaste zračne kanale.\nSestavljajo ga ohišje iz pocinkane plocevine s priključnimi prirobnicami, dušilne kulise z okvirjem iz pocinkane\nplocevine, ki so zašcitene s premazom proti odnašanju vlaken, z vodilom za zmanjšanje padca tlaka na obeh straneh, z vsem pritrdilnim in tesnilnim materialom. \nDebelina kulis: d= 100 mm"]
[null,"Pretok zraka 3000 m3/h"]
[null,"Ustreza: Lindab tip: TUNE-S oziroma proizvod drugega proizvajalca enakih ali boljših karakteristik."]
[null,"Dimenzije \n(razd. Med kulisami - širina kulis - širina - višina - dolžina):"]
[null,"dim: TUNE-S-150/100-1000-600-1500 - zun., odp.,odv. zrak","kos","0"]
[null,"dim: TUNE-S-150/100-1000-700-1500 - sveži zrak","kos","0"]
[]
["4.","Dobava in vgradnja zaščitne rešetke izdelane iz aluminijastih profilov komplet z mrežo proti insektom, barvane v barvi po izboru arhitekta komplet s protiokvirjem in montažnim ter tesnilnim materialom."]
[null,"Odgovarja Linadb tip WLA oziroma proizvod drugega proizvajalca enakih ali boljših karakteristik."]
[null,"WLA-22-1000-600","kos","0"]
[]
["5.","Električni priklop, zagon in šolanje:\nPriklop naprave, potem ko so predhodno s strani inštalaterja dobavljeni in napeljani kabli skladno z načrtom električnih kablov, zagon in šolanje uporabnika."]
[null,null,"kpl","0"]
[]
["6.","Toplotna črpalka zrak / freon za prezračevalni sistem KN 1"]
[null,"Dobava in montaža - zunanja enota deljene izvedbe toplotne črpalke namenjene za zunanjo postavitev."]
[null,"Zunanja kompresorsko-kondenzatorska enota, toplotna črpalka z variabilno količino hladiva (VRF), predvidena za ogrevanje in hlajenje zraka v prezračevalni napravi, z okolju prijaznim hladilnim sredstvom R410A."]
[null,"Naprava, ter proizvajalec naprave, sta certificirana po glavnih in priznanih standardih in smernicah in s tem zagotavljata ustrezen nivo kvalitete in skladnost z EU zakonodajo (CE, Eurovent, ISO9001, ISO14001, ipd.)"]
[null,"Naprava je primerna za zunanjo postavitev, grajena iz ohišja iz pocinkane pločevine, dodatno prašno barvanega (poliestersko termalno, debelina nanosa min. 70μ)."]
[null,"Enota je zračno hlajenja, sestavljena iz izmenjevalnika iz aluminijastih lamel, navlečenih na bakrene cevi. Aluminijaste lamele so dodatno prevlečene s plastjo posebnega akrilnega in hidrofilskega premaza, ki zagotavlja dolgo življensko dobo ob visoki odpornosti na atmosfersko korozijo (kisli dež, sol)."]
[null,"Naprava kot celota je opremljena z večimi spiralnimi hermetičnimi kompresorji (1 ali 2, odvisno od tipa naprave), od katerih je vsaj eden popolnoma brezkoračno krmiljen (INVERTER motor), za zagotavljanje natančnega prilagajanja potrebam po hladilni ali ogrevni moči. Preostali kompresorji so stopenjski (ON/OFF). Naprava omogoča obratovanje tudi v primeru, če je kateri od kompresorjev v okvari (ti, \"emergency operation\"). Vsi kompresorji so zvočno izolirani in opremljeni z električnimi grelniki karterja olja."]
[null,"Za odvod kondenzacijske toplote je predviden visokoučinkoviti aksialni ventilator z DC INVERTER motorjem (brezkoračna regulacija), ki se prilagaja dejanskim potrebam kondenzatorja oz. uparjalnika. Naprava je v komplet sestavljena še z vsemi potrebnimi cevnimi in električnimi povezavami, mikroprocesorskim krmiljem, oljnim separatorjem, sesalnim akumulatorjem, tipala za visoki in nizki tlak, zaščitni termostati, varovalke, fazne zaščite, zaščite proti preobremenitvi kompresorjev, termične zaščite, tekočinske in plinske zaporne ventile, magnetne ventile in vso potrebno senzoriko in krmilje za varno, neprekinjeno in zanesljivo delovanje."]
[null,"Komplet z antivibracijskimi konzolami za pritrditev na zid iz pocinkane pločevine premazane z epoksi barvo, antivibracijskimi vložki, z zagonom, navodili za uporabo, ter montažnim in pritrdilnim materialom. Dobavljeno z napolnjenim hladivom in mazalnim oljem."]
[null,"TEHNIČNI PODATKI:"]
[null,"- elektično napajanje: 400V / 3 faze / 50 Hz"]
[null,"- maksimalni električni tok (MCA) = 18,5 A"]
[null,"- nazivna moč hlajenja: Qhl = 22,4 kW"]
[null,"- priključna električna moč - hlajenje : 4,29 kW"]
[null,"- nazivna moč ogrevanja: Qgr = 25 kW"]
[null,"- priključna električna moč - ogrevanje : 4,50 kW"]
[null,"območje delovanja - hlajenje: -5 ° C do + 46 ºC\ntemperatura pred izmenjevalcem: 15 do + 30 ºC"]
[null,"območje delovanja - gretje: -20 ° C do +25 ºC\ntemperatura pred izmenjevalcem: 10 do +25 ºC"]
[null,"- faktor učinkovitosti - hlajenje EER: > 4.29"]
[null,"- faktor učinkovitosti - ogrevanje COP: > 4.50"]
[null,"- zvočni tlak (1m od naprave in 1,5m od tal): 57 dB (A)"]
[null,"- dimenzije (V × Š × D): 1680 x 930 x 765 mm"]
[null,"- masa: 187 kg"]
[null,"- največja dovoljena dolžina cevne povezave: 50 m"]
[null,"- največja dovoljena višinska razlika cevne povezave: 30 m"]
[null,"- medij: R410a"]
[null,"- cevni priključek hladiva - tekoča faza: 9,5 mm"]
[null,"- cevni priključek hladiva - plinska faza: 19,1 mm"]
[null,"Odgovarja DAIKIN VRV-IV oziroma proizvod drugega proizvajalca enakih ali boljših karakteristik."]
[null,"DAIKIN ERQ200AW1","kpl","0"]
[]
["7.","Dobava in montaža - AHU KIT  z regulacijska omaric0 za sisteme s toplotnimi črpalkami ZRAK/ZRAK proizvajalca VRV enote. Omogoča nadzor in regulacijo hlajenja/ogrevanja na podlagi temperature pretoka medija."]
[null,"Enota VRV sistema, kot komplet elektronskega ekspanzijskega ventila in pripadajoče elektronike, EEV montiran v kovinsko ohišje, primerno za notranjo ali zunanjo montažo, iz prašno barvanega (poliesterni nanost, min. 70μm) nerjavečega jekla. Krog vsebuje EEV s pogonom, cevno povezavo in pripadajoče filtre, za enostavno in zanesljivo montažo."]
[null,"Krmilna omarica je iz vodoodpornega ohišja primernega za notranjo in zunanjo montažo (min. IP 65). V ohišju so potrebne kabelske odprtine, ter mikroprocesorsko krmilje sistema, s kabelskimi povezavami, priključnimi mesti in vsemi potrebnimi tipali za varno, stabilno in zanesljivo delovanje."]
[null,"Sistem omogoča priključitev več tipov ekspanzijskih ventilov, tudi vzporedne povezave več ventilov (do 3), za kapacitete od 3,5 do 62kW v režimu hlajenja, ter 5,5 do 69kW v režimu ogrevanja."]
[null,"Krmilje sistema omogoča:"]
[null,"kontrola temperature vpiha iz krmilnika prezračevalne naprave s signalom 0-10V, s pomočjo spremembe temperature uparjanja ali kondenzacije (odvisno od režima delovanja sistema)"]
[null,"obratovanje s fiksnimi vrednostmi kapacitete oz. temperature uparjanja ali kondenzacije (uparjanje +3 do +10°C, kondenzacija +43 do +49°C"]
[null,"obratovanje s standardnim žičnim daljinskim upravljalnikom (npr. Daikin BRC), na nastavljeno temperaturo prostora s pomočjo tipala v povratnem zraku"]
[null,"kontrola in povratne informacije s pomočjo prostih kontaktov in signalov, kot na primer vklop/izklop naprave, preklop med režimom ogrevanja in hlajenja, povratna informacija o delovanju ali alarmu sistema, signal ob odtaljevanju naprave v režimu ogrevanja ali ob funkciji vračanja olja sistema, ipd., za uskladitev delovanja s krmilnikom prezračevalne naprave"]
[null,"V kompletu vsi potrebni temperaturni senzorji za krmiljenje količine polnjenja toplotnega izmenjevalnika."]
[null,"komplet s pripadajočim daljinskim upravljalnikom za nastavitve ter upravljanje z AHU kitom."]
[null,"TEHNIČNI PODATKI:"]
[null,"- električno napajanje 1F/220V/50Hz"]
[null,"- omarica IP 65"]
[null,"- komplet s potrebnimi električnimi povezavami, ki niso zajete v elektro delu načrta"]
[null,"- Hladilna zmogljivost: Qh = do 24,6 kW"]
[null,"- Grelna zmogljivost: Qg = do 27,7 kW"]
[null,"- Dimenzije (D x V x G): 215 x 401 x 78 mm"]
[null,"- Teža: 2.9 kg"]
[null,"Odgovarja DAIKIN VRV-IV oziroma proizvod drugega proizvajalca enakih ali boljših karakteristik."]
[null,"DAIKIN AHU-kit EKEXV200 + EKEQFCBA","kpl","0"]
[]
["8.","Električni priklop, zagon in šolanje:\nPriklop naprave, potem ko so predhodno s strani inštalaterja dobavljeni in napeljani kabli skladno z načrtom električnih kablov, zagon VRV sistema s strani pooblaščenega serviserja, izdaja potrdila o zagonu in šolanje uporabnika."]
[null,null,"kpl","0"]
[]
["9.","Dobava in montaža - cevovodi iz bakrenih cevi za povezavo hladilnih naprav po navodilih proizvajalca, s tovarniško (manjše dimenzije) ali dodatno izolacijo (večje dimenzije), po EN 12735-1, trdo spojeni v atmosferi z uporabo zaščitnega plina (dušik - N2), vključno s fitingi, tesnilnim in dodajnim materialom, zunaj objekta z dodatno UV in fizično zaščito (proti direktnemu sončnemu obsevanju in fizičnim poškodbam izolacije), ustreznih dimenzij:                                               \nOPOMBA: Cevi hladilnega medija vodene na prostem morajo biti izolirane/zaščitene proti mehanskimi in vremenskimi poškodbami (ptice, UV sevanje,…)"]
[null,"9,5 mm (R3/8”)","m","0"]
[null,"19,1 mm (R3/4”)","m","0"]
[]
["10.","Dobava in montaža - kabelske police s pokrovom (neperforirane) za vodenje razvodov split sistema objekta montirane zunaj po objektu ali kovinski konstrukciji, iz pocinkane pločevine, skupaj z podporami iz pocinkane pločevine za montažo polic, komplet z obešalnim in pritrdilnim materialom in pokorovom."]
[null,"širine 10 cm","m","0"]
[]
["11.","Zaščita bakrenih cevovodov (par bakrenih cevi s tovarniško izolacijo) izven objekta, oplaščeno z aluminijastim (Alu) oklepom, zaščiteno z zaščitno PP cevjo, za zaščito instalacije pred fizičnimi poškodbami in direktnim sončnim sevanjem (UV zaščita)"]
[null,"ali podobno","kpl","0"]
[]
["12.","Pritrdilni material za montažo sistema ogrevanja in hlajenja, vključno s pritrdilnimi trakovi, profili, navojnimi palicami, podložkami, maticami, ipd. potrebnimi za montažo notranjih enot in bakrene instalacije sistema"]
[null,null,"kg","0"]
[]
["13.","Dobava in montaža signalnih kablov v zaščitnem opletu (pogojno brez, z zagotovitvijo minimalnih razdalj do bližnjih energetskih kablov) za povezavo med zunanjimi in notranjimi enotami, ter morebitno povezavo do žičnih daljinskih upravljalnikov"]
[null,"*komunikacijska povezava se izvede od zunanje do zanje notranje enote zaporedno! Vzporedna vezava (prekinjanje komunikacijeske povezave, zvezda, ipd.) ni dovoljena."]
[null,"razred kabla znotraj objekta skladno NPV Ccas1d2a1 (B2cas1d1a1 na evakuacijskih poteh)"]
[null,"- 2 x 0,75mm2 oklopljen kabel za signal oz. komunikacijo","m","0"]
[]
["14.","Izvedba odtoka kondenzata od zunanje enote ob objektu, vključno z lovilnim koritom iz nerjavne pločevine nameščenim pod zunanjo enoto, opremljeno s samoregulirnim grelnim kablom, ki preprečuje zamrzovanje kondenzata v zimskih ekstremih, odtok speljan v ponikovanje objekta, bližnji žleb, ipd."]
[null,null,"kpl","0"]
[]
["15.","Dobava in montaža - tlačne cevi namenjene odvodu kondenza komplet s fazonskimi kosi (odcepi, kolena, prehodni reducirni komadi itd), izdelani iz trdega polivinil-klorida (PP), za spajanje z lepljenjem, opremljeno s samoregulirnim grelnim kablom, ki preprečuje zamrzovanje kondenzata v zimskih ekstremih vključno z izolacijo zaščiteno pred vremenskimi vplivi in UV žarki."]
[null,"ø 32 ","m","0"]
[]
["16.","Vakuumiranje, polnjenje sistema z delovnim plinom (R410a, predvideno cca. 0.5kg), tlačni preizkus trdnosti in tesnjenja cevovoda z inertnim plinom (dušik, N2 - 24ur, 40bar), vključno s potrebnim materialom (čepi), ter izdelavo pisnega poročila o uspešno opravljenem tlačnem preizkusu; predaja gradbeno tehnične dokumentacije, označitev medije in smeri pretokov…,"]
[null,"skladno z navodili proizvajalca","kpl","0"]
[]
["17.","Perforirani dovodni kanal s pritrdilnimi elementi, izdelan iz pocinkane pločevine, barvan v RAL 9003."]
[null,"Sistem sestavljata 2 veji, vsaka dolžine L=26 m"]
[null,"Podatki za posamezno vejo:"]
[null,"- pretok zraka nominalno na vejo1.500 m3/h"]
[null,"- statični tlak pred kanalom 150 Pa"]
[null,"- temperatura vpiha zraka zima 20ºC - 22 ºC;"]
[null,"- temperatura vpiha zraka leto 20 ºC (ne nižje kot 18ºC)"]
[null,"- komplet s tovarniškimi objemkami za montažo na strop"]
[null,"- komplet s tovarniškimi objemkami za spajanje elementov"]
[null,"Ustreza Brofer oziroma proizvod drugega proizvajalca enakih ali boljših karakteristik."]
[null,"Kot proizvod DIEM (BROFER) ID"]
[null,"ID 400/RAL9003 (3000 m3/h)  ","kpl","0"]
[]
["18.","Pravokotni zračni kanali iz pocinkane pločevine, ravne površine kanalov oblikovno ojačane z izbočenjem / vbočenjem površine, vključno z  oblikovnimi kosi, revizijskimi odprtinami, obešali ter tesnilnim in montažnim materialom.  \nSkladno z zahtevami standarda DIN ENV 12097 so v zračne kanale nameščene revizijske odprtine z zrakotesnimi pokrovi    \nMin. debelina kanalov po EN 1505  (DIN 24190), EN 1506 (DIN24152) in sicer:"]
[null," - d=0,75 mm za kanale do a = 500 mm, m2"]
[null," - d=0,88 mm za kanale do a = 1000 mm, m2"]
[null," - d=1,13 mm za kanale do a > 1000 mm, m2"]
[null,null,"kg","0"]
[]
["19.","Toplotna izolacija kanalov svežega in odpdadnega zraka v področjih hladnih con s parozapornim materialom iz sintetičnega kavčuka z zaprto celično strukturo, ki je težko gorljiva in samougasljiva, ki ne kaplja in širi ognja – vrste B1 (po DIN 4102, 1. del (05.98)), s toplotno prevodnostjo λ < 0,033 W/mK pri 0 °C (po DIN EN 12667), primerna za temperaturno območje –-50 do + 85 °C, s koeficientom upornosti proti difuziji vodne pare μ > 10000;"]
[null,"Kompletna izolacija je zaščitena Al pločevino vodotesne izvedbe, komplet z okrasnimi rozetami na prehodih skozi steno."]
[null,"Izolacija dovodnih in odvodnih kanalov vodenih zunaj od prezračevalne naprave vključno do preboja skozi steno - debelina 50 mm (navedena je površina kanalov)"]
[null,"Ustreza Armacell oziroma proizvod drugega proizvajalca enakih ali boljših karakteristik."]
[null,"ARMACELL tip ARMAFLEX XG-25 / dvojna debelina","m2","0"]
[]
["20.","Toplotna izolacija kanalov svežega in odpdadnega zraka v področjih hladnih con s parozapornim materialom iz sintetičnega kavčuka z zaprto celično strukturo, ki je težko gorljiva in samougasljiva, ki ne kaplja in širi ognja – vrste B1 (po DIN 4102, 1. del (05.98)), s toplotno prevodnostjo λ < 0,033 W/mK pri 0 °C (po DIN EN 12667), primerna za temperaturno območje –-50 do + 85 °C, s koeficientom upornosti proti difuziji vodne pare μ > 10000;"]
[null,"Izolacija dovodnih in odvodnih kanalov vodenih skozi steno - debelina 25 mm (navedena je površina kanalov)"]
[null,"Ustreza Armacell oziroma proizvod drugega proizvajalca enakih ali boljših karakteristik."]
[null,"ARMACELL tip ARMAFLEX XG-25","m2","0"]
[]
["21.","Pravokotni zračni kanali iz pocinkane pločevine, ravne površine kanalov oblikovno ojačane z izbočenjem / vbočenjem površine, vključno z  oblikovnimi kosi, revizijskimi odprtinami, obešali ter tesnilnim in montažnim materialom.  \nSkladno z zahtevami standarda DIN ENV 12097 so v zračne kanale nameščene revizijske odprtine z zrakotesnimi pokrovi    \nMin. debelina kanalov po EN 1505  (DIN 24190), EN 1506 (DIN24152) in sicer:"]
[null,"Barvan RAL 9003"]
[null,"700 x 400 Barvan RAL 9003","m","0"]
[null,"700 x 400","m","0"]
[]
["22.","Oblikovni kos - hlače, dimenzije:"]
[null,"- vhodni kanal 700 x 400 mm"]
[null,"- izhodni kanal 400 x 400 mm (2x)"]
[null,"- redukcija 400 x 400 v ø400 (2x)"]
[null,"- barvano v RAL 9003"]
[null,null,"kos","0"]
[]
["23.","Dobava in montaža - okrogla dušilna loputa, montirana v kanal, namenjena dodatni regulaciji pretoka zraka, skupaj s pritrdilnim, montažnim in tesnilnim materialom, ohišje lopute barvano v RAL 9003"]
[null,"Odgovarja Systemair oziroma proizvod drugega proizvajalca enakih ali boljših karakteristik."]
[null,"TUNE-R-400-B","kos","0"]
[]
["24.","Dobava in montaža - okrogli zračni kanali izdelani iz pocinkane pločevine, kompletno s fazonskimi kosi, pritrdilnim in tesnilnim materialom, ter originalnimi spojnimi objemkami. Vse barvano v RAL 9003 za sledeče dimenzije:"]
[null,"Odgovarja Pichler sistem gladkih kanalov LFBR (vodeno vidno v telovadnici) oziroma proizvod drugega proizvajalca enakih ali boljših karakteristik."]
[null,"- ravni kanal ø400 (16 x 1m, 3 x 0,5m)","m","0"]
[null,"- koleno ø400/90º","kos","0"]
[null,"- T kos ø600/ø400/ø400","kos","0"]
[null,"- koleno ø600/90º","kos","0"]
[null,"- ravni kanal ø600 (2 x 1m. 1 x 0,5 m)","m","0"]
[null,"- zaključno dno ø400","kos","0"]
[]
["25.","Dobava in montaža - okrogli zračni kanali izdelani iz pocinkane pločevine (spiro cevi), kompletno s fazonskimi kosi razred tesnjenja “C” - sistem Spiro-safe-system, pritrdilnim in tesnilnim materialom, ter originalnimi spojnimi objemkami. Dimenzija od 80 mm do 200 mm se spaja z objemkami in prirobnicami tipa “PF”, od dimenzije ø200 pa z objemkami in prirobnicami AF Vse barvano v RAL 9003 za sledeče dimenzije:"]
[null,"Odgovarja Pichler (vodeno vidno zunaj) oziroma proizvod drugega proizvajalca enakih ali boljših karakteristik."]
[null,"ø 600","m","0"]
[null,"koleno ø600/90º","kos","0"]
[]
["26.","Obešala in držala ter različnih standardni jeklenih profilov, vroče cinkani, komplet z obešalnim in drobnim montažnim materialom. Montažni in obešalni material je barvan v RAL 9003."]
[null,"Odgovarja sistem HILTI oziroma proizvod drugega proizvajalca enakih ali boljših karakteristik.","kg","0"]
[]
["27.","Dobava in montaža - jeklena odvodna rešetka z okvirjem, prirejena za montažo na okrogel kanal, barvana v barvi RAL 9003, skupaj s pritrdilnim in montažnim materialom;"]
[null,"Odgovarja Systemair NOVA-CA , oziroma proizvod drugega proizvajalca enakih ali boljših karakteristik, dimenzije:"]
[null,"NOVA-CA-500x150-R1","kos","0"]
[]
["28.","Dobava in postavitev napisnih ploščic izdelanih iz trajnega materiala z napisom, komplet s pritrditvijo ter namestitev oznak smeri toka skladno s standardi."]
[null,null,"kpl","0"]
[]
["29.","Nastavitev prezračevalnih sistemov vključno z nastavitvami distribucijskih elementov ter izvedba meritev doseženih parametrov s strani pooblaščene institucije komplet z zapisnikom."]
[null,null,"pš","0"]
[]
["30.","Pripravljalna in zaključna dela, zarisovanje, splošni, manipulativni, zavarovalni in transportni stroški"]
[null,null,null,0.05]
[]
["12.","Obračun po količinah, ki izhajajo iz potrjenega gradbenega dnevnika in ob upoštevanju kalkulativnih osnov","kpl","0"]
[]
[null,"SKUPAJ PREZRAČEVANJE - SISTEM KN 1",null,null,null,{"$f":"SUM(F36:F217)","v":0},null,{"$f":"SUM(H36:H217)","v":0},null,{"$f":"SUM(J36:J217)","v":0}]
[]
[]
["C.","PREZARAČEVALNI SISTEM KN 2"]
[]
["1.","PREZRAČEVALNA NAPRAVA KN2"]
[null,"Dobava, montaža in zagon kompaktne klimatske naprave za zunanjo postavitev.\nKompaktna klimatska naprava namenjena za dovod svežega zraka in odvod izrabljenega zraka. Naprava je horizontalne izvedbe s s čelnimi priključki in namenjena za zunanjo postavitev na tla oz. namestitev na jekleni podest. Krmilna oprema je integrirana v napravi.\nOhišje:\nIzdelano v dvostenski izvedbi s stenami iz pocinkane jeklene pločevine, zaščitene s prevleko Magnelis (MgZn) in z vmesno izolacijo iz mineralne volne debeline 50 mm.\n- zaščita pred korozijo: razred C5\n- mehanska stabilnost: razred D2\n- faktor toplotne prehodnosti: T2 po EN 1886\n- faktor toplotnih mostov: TB2 po EN 1886\nFiltri:\n- vrečasti filter F7-ePM1 60% dovod\n- vrečasti filter M5-ePM10 60% odvod\nVentilatorji:\nEnergijsko učinkovit dovodni in odvodni ventilator z varčnim EC motorjem in zvezno regulacijo pretoka.\nRekuperator:\nVisoko-učinkovit protitočni ploščni rekuperator z izkoristkom do 90% in by-pass loputo s pogonom.\nOddaljevanje rekuperatorja - SEKCIJSKO.\nKontrolna omarica je locirana zunaj naprave na ohišju, kar omogoča lažje upravljanje in priključitev zunanjih komponent. Vsa tipala so integrirana v napravi.\nDigitalni krmilnik na dotik omogoča številne načine temperaturne in pretočne regulacije, rekuperacijo v poletnem in zimskem času, prosto in nočno hlajenje, delovanje po tedenskem urniku, nadzor zamazanosti filtrov, nadzor nad delovanjem delov in funkcijami, besedilne alarme na LCD posluževalnem zaslonu. Dinamična funkcijska shema na zaslonu omogoča vizualno spremljanje parametrov v obratovanju  in njihov dostop.\nRegulacijski sistem ima vgrajen WEB server ter je povezljiv na CNS preko ModBUS-a. Omogoča tudi povezavo preko Cloud-a in spremljanje parametrov ter alarmov na daljavo."]
[null,"Tehnične karakteristike:\nnapajanje: 400V/1f/50Hz\ndovod zraka: 2320 m3/h, 400 Pa\nodvod zraka: 2400 m3/h, 400 Pa\nPem. maks. ventilatorjev: 2 x 1,17 kW\ntoplotni izkoristek rekuperatorja po EN308: 84,0 %\nvrnjena toplotna energija: 22,29 kW\n- dimenzije: 2540 x 879 x 1695 mm\n- teža: 410 kg\n- električni priklop: 3x400V; 3x10A, 2,28 kW"]
[null,"Naprava ustreza Ecodesign direktivi za 2016 in 2018 in spada v A+ energijski razred. Naprava ima Eurovent certifikat in ustreza HVAC-higienskem standardu VDI6022 "]
[null,"Dodatna oprema:                                                                                                                                                                                  \nzaporna loputa z vzmetnim pogonom TUNE-AHU-SE003-500x400 + Belimo LF24  / 2 kos\nkanalski reverzibilen DX izmenjevalec z banico za kondenz in izločevalnikom kapljic Qhl=14,42kW (temp.vpiha= 16°C), Qgr= 12,62kW (temp. vpiha= 22°C) s hladivom R32  - 1 kos\nsifon za odvod kondenzata od prenosnika toplote in DX hladilnika / 2 kos\nstreha za zunanjo postavitev  - 1 kos "]
[null,"Ustreza proizvod Systemair Slovenija oziroma proizvod drugega proizvajalca enakih ali boljših karakteristik."]
[null,"Tip: TOPVEX SC35-R-S","kpl","0"]
[]
["2.","Trda guma za preprečevanje prenosa vibracij, za montažo pod klimate, debeline 1,5 do 2 cm, odgovarja Mafund ali podobno (cca. 10 x 20 cm)"]
[null,null,"kos","0"]
[]
["3.","Dušilnik zvoka za vgradnjo v pločevinaste zračne kanale.\nSestavljajo ga ohišje iz pocinkane plocevine s priključnimi prirobnicami, dušilne kulise z okvirjem iz pocinkane\nplocevine, ki so zašcitene s premazom proti odnašanju vlaken, z vodilom za zmanjšanje padca tlaka na obeh straneh, z vsem pritrdilnim in tesnilnim materialom. \nDebelina kulis: d= 100 mm"]
[null,"Pretok zraka 2400 m3/h"]
[null,"Ustreza: Lindab tip: TUNE-S oziroma proizvod drugega proizvajalca enakih ali boljših karakteristik."]
[null,"Dimenzije \n(razd. Med kulisami - širina kulis - širina - višina - dolžina):"]
[null,"dim: TUNE-S-150/83-700-400-1500 - sveži in odp. zrak","kos","0"]
[null,"dim: TUNE-S-150/83-700-500-1500 - odv.zrak","kos","0"]
[null,"dim: TUNE-S-150/50-1000-500-1500 - dovodni zrak","kos","0"]
[]
["4.","Dobava in vgradnja zaščitne rešetke izdelane iz aluminijastih profilov komplet z mrežo proti insektom, barvane v barvi po izboru arhitekta komplet s protiokvirjem in montažnim ter tesnilnim materialom."]
[null,"Odgovarja Linadb tip WLA oziroma proizvod drugega proizvajalca enakih ali boljših karakteristik."]
[null,"WLA-22-700-600","kos","0"]
[]
["5.","Električni priklop, zagon in šolanje:\nPriklop naprave, potem ko so predhodno s strani inštalaterja dobavljeni in napeljani kabli skladno z načrtom električnih kablov, zagon in šolanje uporabnika."]
[null,null,"kpl","0"]
[]
["6.","Toplotna črpalka zrak / freon za prezračevalni sistem KN 2"]
[null,"Dobava in montaža - zunanja enota deljene izvedbe toplotne črpalke namenjene za zunanjo postavitev."]
[null,"Zunanja kompresorsko-kondenzatorska enota, toplotna črpalka z variabilno količino hladiva (VRF), predvidena za ogrevanje in hlajenje zraka v prezračevalni napravi, z okolju prijaznim hladilnim sredstvom R410A."]
[null,"Naprava, ter proizvajalec naprave, sta certificirana po glavnih in priznanih standardih in smernicah in s tem zagotavljata ustrezen nivo kvalitete in skladnost z EU zakonodajo (CE, Eurovent, ISO9001, ISO14001, ipd.)"]
[null,"Naprava je primerna za zunanjo postavitev, grajena iz ohišja iz pocinkane pločevine, dodatno prašno barvanega (poliestersko termalno, debelina nanosa min. 70μ)."]
[null,"Enota je zračno hlajenja, sestavljena iz izmenjevalnika iz aluminijastih lamel, navlečenih na bakrene cevi. Aluminijaste lamele so dodatno prevlečene s plastjo posebnega akrilnega in hidrofilskega premaza, ki zagotavlja dolgo življensko dobo ob visoki odpornosti na atmosfersko korozijo (kisli dež, sol)."]
[null,"Naprava kot celota je opremljena z večimi spiralnimi hermetičnimi kompresorji (1 ali 2, odvisno od tipa naprave), od katerih je vsaj eden popolnoma brezkoračno krmiljen (INVERTER motor), za zagotavljanje natančnega prilagajanja potrebam po hladilni ali ogrevni moči. Preostali kompresorji so stopenjski (ON/OFF). Naprava omogoča obratovanje tudi v primeru, če je kateri od kompresorjev v okvari (ti, \"emergency operation\"). Vsi kompresorji so zvočno izolirani in opremljeni z električnimi grelniki karterja olja."]
[null,"Za odvod kondenzacijske toplote je predviden visokoučinkoviti aksialni ventilator z DC INVERTER motorjem (brezkoračna regulacija), ki se prilagaja dejanskim potrebam kondenzatorja oz. uparjalnika. Naprava je v komplet sestavljena še z vsemi potrebnimi cevnimi in električnimi povezavami, mikroprocesorskim krmiljem, oljnim separatorjem, sesalnim akumulatorjem, tipala za visoki in nizki tlak, zaščitni termostati, varovalke, fazne zaščite, zaščite proti preobremenitvi kompresorjev, termične zaščite, tekočinske in plinske zaporne ventile, magnetne ventile in vso potrebno senzoriko in krmilje za varno, neprekinjeno in zanesljivo delovanje."]
[null,"Komplet z antivibracijskimi konzolami za pritrditev na zid iz pocinkane pločevine premazane z epoksi barvo, antivibracijskimi vložki, z zagonom, navodili za uporabo, ter montažnim in pritrdilnim materialom. Dobavljeno z napolnjenim hladivom in mazalnim oljem."]
[null,"TEHNIČNI PODATKI:"]
[null,"- elektično napajanje: 400V / 3 faze / 50 Hz"]
[null,"- maksimalni električni tok (MCA) = 11,9 A"]
[null,"- nazivna moč hlajenja: Qhl = 14,0 kW"]
[null,"- priključna električna moč - hlajenje : 3,52 kW"]
[null,"- nazivna moč ogrevanja: Qgr = 16,0 kW"]
[null,"- priključna električna moč - ogrevanje : 4,0 kW"]
[null,"območje delovanja - hlajenje: -5°C do + 46 ºC\ntemperatura pred izmenjevalcem: 15ºC do + 30 ºC"]
[null,"območje delovanja - gretje: -20 ºC do +25 ºC\ntemperatura pred izmenjevalcem: 10 do +25 ºC"]
[null,"- faktor učinkovitosti - hlajenje EER: > 3,98"]
[null,"- faktor učinkovitosti - ogrevanje COP: > 4.00"]
[null,"- zvočni tlak (1m od naprave in 1,5m od tal): 54 dB (A)"]
[null,"- dimenzije (V × Š × D): 1680 x 930 x 765 mm"]
[null,"- masa: 159 kg"]
[null,"- medij: R410a"]
[null,"- cevni priključek hladiva - tekoča faza: 9,5 mm"]
[null,"- cevni priključek hladiva - plinska faza: 15,9 mm"]
[null,"Odgovarja DAIKIN VRV-IV oziroma proizvod drugega proizvajalca enakih ali boljših karakteristik."]
[null,"DAIKIN ERQ125AW1","kpl","0"]
[]
["7.","Dobava in montaža - AHU KIT  z regulacijska omaric0 za sisteme s toplotnimi črpalkami ZRAK/ZRAK proizvajalca VRV enote. Omogoča nadzor in regulacijo hlajenja/ogrevanja na podlagi temperature pretoka medija."]
[null,"Enota VRV sistema, kot komplet elektronskega ekspanzijskega ventila in pripadajoče elektronike, EEV montiran v kovinsko ohišje, primerno za notranjo ali zunanjo montažo, iz prašno barvanega (poliesterni nanost, min. 70μm) nerjavečega jekla. Krog vsebuje EEV s pogonom, cevno povezavo in pripadajoče filtre, za enostavno in zanesljivo montažo."]
[null,"Krmilna omarica je iz vodoodpornega ohišja primernega za notranjo in zunanjo montažo (min. IP 65). V ohišju so potrebne kabelske odprtine, ter mikroprocesorsko krmilje sistema, s kabelskimi povezavami, priključnimi mesti in vsemi potrebnimi tipali za varno, stabilno in zanesljivo delovanje."]
[null,"Sistem omogoča priključitev več tipov ekspanzijskih ventilov, tudi vzporedne povezave več ventilov (do 3), za kapacitete od 3,5 do 62kW v režimu hlajenja, ter 5,5 do 69kW v režimu ogrevanja."]
[null,"Krmilje sistema omogoča:"]
[null,"kontrola temperature vpiha iz krmilnika prezračevalne naprave s signalom 0-10V, s pomočjo spremembe temperature uparjanja ali kondenzacije (odvisno od režima delovanja sistema)"]
[null,"obratovanje s fiksnimi vrednostmi kapacitete oz. temperature uparjanja ali kondenzacije (uparjanje +3 do +10°C, kondenzacija +43 do +49°C"]
[null,"obratovanje s standardnim žičnim daljinskim upravljalnikom (npr. Daikin BRC), na nastavljeno temperaturo prostora s pomočjo tipala v povratnem zraku"]
[null,"kontrola in povratne informacije s pomočjo prostih kontaktov in signalov, kot na primer vklop/izklop naprave, preklop med režimom ogrevanja in hlajenja, povratna informacija o delovanju ali alarmu sistema, signal ob odtaljevanju naprave v režimu ogrevanja ali ob funkciji vračanja olja sistema, ipd., za uskladitev delovanja s krmilnikom prezračevalne naprave"]
[null,"V kompletu vsi potrebni temperaturni senzorji za krmiljenje količine polnjenja toplotnega izmenjevalnika."]
[null,"komplet s pripadajočim daljinskim upravljalnikom za nastavitve ter upravljanje z AHU kitom."]
[null,"TEHNIČNI PODATKI:"]
[null,"- električno napajanje 1F/220V/50Hz"]
[null,"- omarica IP 65"]
[null,"- komplet s potrebnimi električnimi povezavami, ki niso zajete v elektro delu načrta"]
[null,"- Hladilna zmogljivost: Qh = do 15,4 kW"]
[null,"- Grelna zmogljivost: Qg = do 17,3 kW"]
[null,"- Dimenzije (D x V x G): 215 x 401 x 78 mm"]
[null,"- Teža: 2.9 kg"]
[null,"Odgovarja DAIKIN VRV-IV oziroma proizvod drugega proizvajalca enakih ali boljših karakteristik."]
[null,"DAIKIN AHU-kit EKEXV200 + EKEQFCBA","kpl","0"]
[]
["8.","Električni priklop, zagon in šolanje:\nPriklop naprave, potem ko so predhodno s strani inštalaterja dobavljeni in napeljani kabli skladno z načrtom električnih kablov, zagon VRV sistema s strani pooblaščenega serviserja, izdaja potrdila o zagonu in šolanje uporabnika."]
[null,null,"kpl","0"]
[]
["9.","Dobava in montaža - cevovodi iz bakrenih cevi za povezavo hladilnih naprav po navodilih proizvajalca, s tovarniško (manjše dimenzije) ali dodatno izolacijo (večje dimenzije), po EN 12735-1, trdo spojeni v atmosferi z uporabo zaščitnega plina (dušik - N2), vključno s fitingi, tesnilnim in dodajnim materialom, zunaj objekta z dodatno UV in fizično zaščito (proti direktnemu sončnemu obsevanju in fizičnim poškodbam izolacije), ustreznih dimenzij:                                               \nOPOMBA: Cevi hladilnega medija vodene na prostem morajo biti izolirane/zaščitene proti mehanskimi in vremenskimi poškodbami (ptice, UV sevanje,…)- kot npr. euroflex UV cev "]
[null,"9,5 mm","m","0"]
[null,"15,9 mm","m","0"]
[]
["10.","Dobava in montaža - kabelske police s pokrovom (neperforirane) za vodenje razvodov split sistema objekta montirane zunaj po objektu ali kovinski konstrukciji, iz pocinkane pločevine, skupaj z podporami iz pocinkane pločevine za montažo polic, komplet z obešalnim in pritrdilnim materialom in pokorovom."]
[null,"širine 10 cm","m","0"]
[]
["11.","Zaščita bakrenih cevovodov (par bakrenih cevi s tovarniško izolacijo) izven objekta, oplaščeno z aluminijastim (Alu) oklepom, zaščiteno z zaščitno PP cevjo, za zaščito instalacije pred fizičnimi poškodbami in direktnim sončnim sevanjem (UV zaščita)"]
[null,"ali podobno","kpl","0"]
[]
["12.","Pritrdilni material za montažo sistema ogrevanja in hlajenja, vključno s pritrdilnimi trakovi, profili, navojnimi palicami, podložkami, maticami, ipd. potrebnimi za montažo notranjih enot in bakrene instalacije sistema"]
[null,null,"kg","0"]
[]
["13.","Dobava in montaža signalnih kablov v zaščitnem opletu (pogojno brez, z zagotovitvijo minimalnih razdalj do bližnjih energetskih kablov) za povezavo med zunanjimi in notranjimi enotami, ter morebitno povezavo do žičnih daljinskih upravljalnikov"]
[null,"*komunikacijska povezava se izvede od zunanje do zanje notranje enote zaporedno! Vzporedna vezava (prekinjanje komunikacijeske povezave, zvezda, ipd.) ni dovoljena."]
[null,"razred kabla znotraj objekta skladno NPV Ccas1d2a1 (B2cas1d1a1 na evakuacijskih poteh)"]
[null,"- 2 x 0,75mm2 oklopljen kabel za signal oz. komunikacijo","m","0"]
[]
["14.","Izvedba odtoka kondenzata od zunanje enote ob objektu, vključno z lovilnim koritom iz nerjavne pločevine nameščenim pod zunanjo enoto, opremljeno s samoregulirnim grelnim kablom, ki preprečuje zamrzovanje kondenzata v zimskih ekstremih, odtok speljan v ponikovanje objekta, bližnji žleb, ipd."]
[null,null,"kpl","0"]
[]
["15.","Dobava in montaža - tlačne cevi namenjene odvodu kondenza komplet s fazonskimi kosi (odcepi, kolena, prehodni reducirni komadi itd), izdelani iz trdega polivinil-klorida (PP), za spajanje z lepljenjem, opremljeno s samoregulirnim grelnim kablom, ki preprečuje zamrzovanje kondenzata v zimskih ekstremih vključno z izolacijo zaščiteno pred vremenskimi vplivi in UV žarki."]
[null,"ø 32 ","m","0"]
[]
["16.","Vakuumiranje, polnjenje sistema z delovnim plinom (R410a, predvideno cca. 0.5kg), tlačni preizkus trdnosti in tesnjenja cevovoda z inertnim plinom (dušik, N2 - 24ur, 40bar), vključno s potrebnim materialom (čepi), ter izdelavo pisnega poročila o uspešno opravljenem tlačnem preizkusu; predaja gradbeno tehnične dokumentacije, označitev medije in smeri pretokov…,"]
[null,"skladno z navodili proizvajalca","kpl","0"]
[]
["17.","Perforirani dovodni kanal s pritrdilnimi elementi, izdelan iz pocinkane pločevine, barvan v RAL 9003."]
[null,"Sistem sestavljata 2 veji, vsaka dolžine L=11 m"]
[null,"Podatki za posamezno vejo:"]
[null,"- pretok zraka nominalno na vejo 550 m3/h"]
[null,"- statični tlak tlak pred kanalom 150 Pa"]
[null,"- temperatura vpiha zraka zima 20ºC - 22 ºC;"]
[null,"- temperatura vpiha zraka leto 20 ºC (ne nižje kot 18ºC)"]
[null,"- komplet s tovarniškimi objemkami za montažo na strop"]
[null,"- komplet s tovarniškimi objemkami za spajanje elementov"]
[null,"Ustreza Brofer oziroma proizvod drugega proizvajalca enakih ali boljših karakteristik."]
[null,"Kot proizvod DIEM (BROFER) ID"]
[null,"ID 250/RAL9003 (1100 m3/h)  ","kpl","0"]
[]
["18.","Pravokotni zračni kanali iz pocinkane pločevine, ravne površine kanalov oblikovno ojačane z izbočenjem / vbočenjem površine, vključno z  oblikovnimi kosi, revizijskimi odprtinami, obešali ter tesnilnim in montažnim materialom.  \nSkladno z zahtevami standarda DIN ENV 12097 so v zračne kanale nameščene revizijske odprtine z zrakotesnimi pokrovi    \nMin. debelina kanalov po EN 1505  (DIN 24190), EN 1506 (DIN24152) in sicer:"]
[null," - d=0,75 mm za kanale do a = 500 mm, m2"]
[null," - d=0,88 mm za kanale do a = 1000 mm, m2"]
[null," - d=1,13 mm za kanale do a > 1000 mm, m2"]
[null,null,"kg","0"]
[]
["19.","Toplotna izolacija kanalov svežega in odpdadnega zraka v področjih hladnih con s parozapornim materialom iz sintetičnega kavčuka z zaprto celično strukturo, ki je težko gorljiva in samougasljiva, ki ne kaplja in širi ognja – vrste B1 (po DIN 4102, 1. del (05.98)), s toplotno prevodnostjo λ < 0,033 W/mK pri 0 °C (po DIN EN 12667), primerna za temperaturno območje –-50 do + 85 °C, s koeficientom upornosti proti difuziji vodne pare μ > 10000;"]
[null,"Kompletna izolacija je zaščitena Al pločevino vodotesne izvedbe, komplet z okrasnimi rozetami na prehodih skozi steno."]
[null,"Izolacija dovodnih in odvodnih kanalov vodenih zunaj od prezračevalne naprave vključno do preboja skozi steno - debelina 50 mm (navedena je površina kanalov)"]
[null,"Ustreza Armacell oziroma proizvod drugega proizvajalca enakih ali boljših karakteristik."]
[null,"ARMACELL tip ARMAFLEX XG-25 / dvojna debelina ","m2","0"]
[]
["20.","Toplotna izolacija kanalov svežega in odpdadnega zraka v področjih hladnih con s parozapornim materialom iz sintetičnega kavčuka z zaprto celično strukturo, ki je težko gorljiva in samougasljiva, ki ne kaplja in širi ognja – vrste B1 (po DIN 4102, 1. del (05.98)), s toplotno prevodnostjo λ < 0,033 W/mK pri 0 °C (po DIN EN 12667), primerna za temperaturno območje –-50 do + 85 °C, s koeficientom upornosti proti difuziji vodne pare μ > 10000;"]
[null,"Izolacija dovodnih in odvodnih kanalov vodenih v hladni strehi - debelina 50 mm (navedena je površina kanalov)"]
[null,"Ustreza Armacell oziroma proizvod drugega proizvajalca enakih ali boljših karakteristik."]
[null,"ARMACELL tip ARMAFLEX XG-25 / dvojna debelina","m2","0"]
[]
["21.","Toplotna izolacija kanalov svežega in odpdadnega zraka v področjih hladnih con s parozapornim materialom iz sintetičnega kavčuka z zaprto celično strukturo, ki je težko gorljiva in samougasljiva, ki ne kaplja in širi ognja – vrste B1 (po DIN 4102, 1. del (05.98)), s toplotno prevodnostjo λ < 0,033 W/mK pri 0 °C (po DIN EN 12667), primerna za temperaturno območje –-50 do + 85 °C, s koeficientom upornosti proti difuziji vodne pare μ > 10000;"]
[null,"Izolacija dovodnih in odvodnih kanalov vodenih v objektu (velika in mala telovadnica) - debelina 13 mm (navedena je površina kanalov)"]
[null,"Ustreza Armacell oziroma proizvod drugega proizvajalca enakih ali boljših karakteristik."]
[null,"ARMACELL tip ARMAFLEX XG-13","m2","0"]
[]
["22.","Izolacija vseh kanalov, ki niso izolirani pri prehodu skozi gradbeno konstrukcijo zaradi preprečevanja prenosa hrupa in vibracij s ploščami iz sintetičnega kavčuka. Učinek zvočne izolativnosti 30 dB(A)  po DIN EN ISO 3822, težko gorljiva in samougasljiva, ki ne kaplja in širi ognja – vrste B1 (po DIN 4102, 1. del (05.98)), s toplotno prevodnostjo λ < 0,033 W/mK pri 0 °C (po DIN EN 12667), primerna za temperaturno območje -50 do + 85 °C;"]
[null,"debelina 10 mm"]
[null,"Ustreza Armacell oziroma proizvod drugega proizvajalca enakih ali boljših karakteristik."]
[null,"ARMACELL tip ARMAFLEX XG","m2","0"]
[]
["23.","Dobava in montaža - okrogla dušilna loputa, montirana v kanal, namenjena dodatni regulaciji pretoka zraka, skupaj s pritrdilnim, montažnim in tesnilnim materialom, ohišje lopute barvano v RAL 9003"]
[null,"Ustreza Systemair oziroma proizvod drugega proizvajalca enakih ali boljših karakteristik."]
[null,"TUNE-R-250-B","kos","0"]
[]
["24.","Dobava in montaža - okrogli zračni kanali izdelani iz pocinkane pločevine, kompletno s fazonskimi kosi, pritrdilnim in tesnilnim materialom, ter originalnimi spojnimi objemkami. Vse barvano v RAL 9003 za sledeče dimenzije:"]
[null,"Odgovarja Pichler sistem gladkih kanalov LFBR (vodeno vidno v telovadnici) oziroma proizvod drugega proizvajalca enakih ali boljših karakteristik."]
[null,"- ravni kanal ø355 (2 x 0.5 m)","m","0"]
[null,"- koleno ø350/90º","kos","0"]
[null,"- T kos ø355/ø250/ø250","kos","0"]
[null,"- ravni kanal ø250 (2 x 1m)","m","0"]
[null,"- koleno ø250/90º ","kos","0"]
[]
["25.","Obešala in držala ter različnih standardni jeklenih profilov, vroče cinkani, komplet z obešalnim in drobnim montažnim materialom. Montažni in obešalni material je barvan v RAL 9003."]
[null,"Ustreza sistem HILTI oziroma proizvod drugega proizvajalca enakih ali boljših karakteristik.","kg","0"]
[]
["26.","Dobava in montaža - okrogli zračni kanali izdelani iz pocinkane pločevine (spiro cevi), kompletno s fazonskimi kosi razred tesnjenja “C” - sistem Spiro-safe-system, pritrdilnim in tesnilnim materialom, za sledeče dimenzije:"]
[null,"Odgovarja Pichler oziroma proizvod drugega proizvajalca enakih ali boljših karakteristik."]
[null,"ø 125","m","0"]
[null,"ø 100","m","0"]
[]
["27.","Obešala in držala ter različnih standardni jeklenih profilov, vroče cinkani, komplet z obešalnim in drobnim montažnim materialom, kot npr. sistem HILTI oziroma proizvod drugega proizvajalca enakih ali boljših karakteristik."]
[null,null,"kg","0"]
[]
["28.","Dobava in montaža - pravokotna dušilna loputa, montirana v kanal, namenjena dodatni regulaciji pretoka zraka, skupaj s pritrdilnim, montažnim in tesnilnim materialom."]
[null,"Odgovarja Systemair oziroma proizvod drugega proizvajalca enakih ali boljših karakteristik."]
[null,"TUNE-S- 350 x 150 ","kos","0"]
[null,"TUNE-S- 300 x 200 ","kos","0"]
[]
["29.","Dobava in montaža - krožnikasti prezračevalni ventil za dovod zraka v garderobej in ostalih prostorov, skupaj z montažnim in pritrdilnim materialom ter montažnimi kosi"]
[null,"Odgovarja Systemair  oziroma proizvod drugega proizvajalca enakih ali boljših karakteristik."]
[null,"TTF-100-SW","kos","0"]
[null,"TTF-125-SW","kos","0"]
[]
["30.","Dobava in montaža - krožnikasti prezračevalni ventil za odvod zraka iz sanitarij in ostalih prostorov, skupaj z montažnim in pritrdilnim materialom ter montažnimi kosi"]
[null,"Odgovarja Systemair oziroma proizvod drugega proizvajalca enakih ali boljših karakteristik."]
[null,"BALANCE-E-100-SW","kos","0"]
[null,"BALANCE-E-125-SW","kos","0"]
[]
["31.","Dobava in montaža - jeklena odvodna rešetka z okvirjem, prirejena za montažo na kanal, barvana v barvi RAL 9003, skupaj s pritrdilnim in montažnim materialom ter protiokvirjem, barvana v RAL 9003;"]
[null,"Odgovarja Systemair NOVA-A oziroma proizvod drugega proizvajalca enakih ali boljših karakteristik., dimenzije"]
[null,"NOVA-A-1-1-500x200-R1 / RAL 9003","kos","0"]
[]
["32.","Dobava in montaža - aluminijasta vratna rešetka z okvirjem, prirejena za montažo v vrata, eloksirana, skupaj s pritrdilnim in montažnim materialom ter protiokvirjem,"]
[null,"Odgovarja Systemair NOVA-D oziroma proizvod drugega proizvajalca enakih ali boljših karakteristik, dimenzije"]
[null,"NOVA-D-1-400x150-UR1-AN","kos","0"]
[]
["33.","Dobava in montaža - požarna loputa za montažo v pravokotni zračni kanal, sestavljena iz ohišja iz jeklene pocinkane pločevine, lamele iz posebnega izolacijskega materiala, termičnega sprožila (proženje pri 70±2°C), dodatnega elektromotornega pogona 230V z vzmetjo in dveh končnih stikal, tesnila iz mehke, na temperaturo odporne vrvice za ustrezno dimno tesnost lopute in ležajev. Požarna odpornost lopute mora biti preizkušena in v RS potrjena kot ustrezna za čas 90 minut. "]
[null,"Komplet s kanalskimi kompenzatorji raztezkov na obeh straneh požarne lopute za vgradnjo požarnih loput skladno z zahtevami TSG-1-001 točka 2.6.4/2 (ÖNORM H 6031)."]
[null,"Odgovarja Systemair oziroma proizvod drugega proizvajalca enakih ali boljših karakteristik, dimenzije"]
[null,"FDR-3G ø125","kpl","0"]
[]
["34.","Dobava in montaža - akustično in toplotno izolativna fleksibilna cev za povezavo med kanalskim razvodom in elementi za distribucijo zraka."]
[null,"Sestavljena iz:"]
[null,"- perforirane notranje cevi iz aluminija, laminirane s poliestrom,"]
[null,"- poliesterske zaščitne folije za zaščito pred difuzijo delcev steklene volne,"]
[null,"- termična in akustična izolativna plast iz stekene volne,"]
[null,"- zunanja zaščitna plast iz aluminija, ojačana s poliestrom."]
[null,"Fleksibilna cev je izdelana skladno s standardom EN 13180."]
[null,"skupaj z objemkami in ostalim montažnim materialom"]
[null,"Odgovarja SONOCONNECT L25MP oziroma proizvod drugega proizvajalca enakih ali boljših karakteristik."]
[null,"ø 100","m","0"]
[null,"ø 125","m","0"]
[]
["35.","Dobava in postavitev napisnih ploščic izdelanih iz trajnega materiala z napisom, komplet s pritrditvijo ter namestitev oznak smeri toka skladno s standardi."]
[null,null,"kpl","0"]
[]
["36.","Nastavitev prezračevalnih sistemov vključno z nastavitvami distribucijskih elementov ter izvedba meritev doseženih parametrov s strani pooblaščene institucije komplet z zapisnikom."]
[null,null,"pš","0"]
[]
["37.","Pripravljalna in zaključna dela, zarisovanje, splošni, manipulativni, zavarovalni in transportni stroški"]
[null,null,null,0.05]
[]
["38.","Obračun po količinah, ki izhajajo iz potrjenega gradbenega dnevnika in ob upoštevanju kalkulativnih osnov","kpl","0"]
[]
[null,"SKUPAJ PREZRAČEVANJE - SISTEM KN 2",null,null,null,{"$f":"SUM(F229:F443)","v":0},null,{"$f":"SUM(H229:H443)","v":0},null,{"$f":"SUM(J229:J443)","v":0}]
[]
[]
["D.","OSTALI PREZRAČEVALNI SISTEMI"]
[]
["1.","Dobava in montaža - okrogli zračni kanali izdelani iz elektro prevodne plastike PP-S-EL vključno s fazonskimi kosi, redukacijami ter spojnim materialom ter zaključno kapo na strehi / ali na steni objekta. Okrogli kanali so namenjeni za odvod zraka od kemijske omare namenjene za hrambo kemikalij, odvodni ventilator je del omare. Dodatno je predviden odvod od odsesovalne roke iz laboratorija za naravoslovne predmete."]
[null,"Pred naročilom elementov uskladiti dimenzijo plastičnih cevi z dimenzijo oz. zahtevami dobavitelja omare za kemikalije."]
[null,"Odgovarja Plama Podgrad oziroma proizvod drugega proizvajalca enakih ali boljših karakteristik."]
[null,"predvideno PP-S-EL ø125 ","m","0"]
[null,"predvideno PP-S-EL ø180","m","0"]
[]
["2.","Ventilator za odvod zraka od odsesovalne roke - končna varianta ventilatorja se izbere na osnovi tipa odsesovalne roke in vodenja zraka ali na steno ali na streho."]
["2.1.","Dobava in montaža ventilatorja v primeru horizontalnega odvoda zraka iz prostora skozi steno objekta. - centrifugalni kanalski ventilator RADAX RR za neposredno vgradnjo v kanalski sistem."]
[null,"Ohišje iz visokokakovostne, nezlomljive in antistatične plastike. Površinska upornost manjša od 1 GOhm. Protieksplozijska zaščita E Exe II 2G, povečana varnost. Na voljo je certifikat tipa ES o preskusu v skladu z ATEX."]
[null,"Visoko zmogljiv radialni rotor z nazaj ukrivljenimi plastičnimi rezili. Delovanje brez tresljajev zahvaljujoč dinamičnemu uravnoteženju v skladu s kakovostjo G 6.3 VDI 2060 in DIN ISO 1940."]
[null,"Enofazni AC kondenzatorski motor, zaprta konstrukcija, vzdrževanje in brez radijskih motenj, zatesnjeni, nizkohrupni kroglični ležaji z dolgotrajnim mazanjem, navitje impregnirano za zaščito pred vlago."]
[null,"Centrifugalni linijski ventilator, 1-PH EX zaščiten II 2G Ex eb h IIB + H2 T3 Gb"]
[null,"- pretok zraka 200 m3/h, pri 200 Pa"]
[null,"- električna moč 0,2 kW"]
[null,"- električna napetost 1f / 230 V, 50 Hz"]
[null,"- delovni tok 0,920 A"]
[null,"- zagonski tok 2,852 A"]
[null,"- IP zaščita IP54"]
[null,"- max. temperatura 50 ºC"]
[null,"- teža 7,15 hg"]
[null,"- zračni hrup 65 dB (A) na 1 m"]
[null,"Pred naročilom ventilatorja obvezno uskladiti zahteve za pretok zraka in tlačni padec glede na naročeno odsesovalno roko."]
[null,"Odgovarja HELIOS oziroma proizvod drugega proizvajalca enakih ali boljših karakteristik."]
[null,"tip RRK 200 EX + stikalo za spremenljiv pretok","kos","0"]
[]
["2.1.","Opcija - v primeru montaže ventilatorja na strehi objekta - odvisno od izvedbe montaže odsesovalne roke."]
[null,"Centrifugalni odsesovalni ventilatorji z enim vhodom iz antistatične plastike ATEX za delovanje v eksplozivnih atmosferah, z neiskrečimi motorji CEE ExII2G Ex e ali CEE ExII2G Ex d."]
[null,"ventilator:"]
[null,"• Ohišje iz ATEX antistatične plastike."]
[null,"• Naprej zakrivljen rotor, iz antistatične plastike ATEX."]
[null,"motor:"]
[null,"• Motorji razreda F s krogličnimi ležaji, zaščita IP55. ATEX certifikat. Povečana varnost Ex \"e\" ali eksplozijsko zaščitena Ex \"d\"."]
[null,"• Trifazni 230/400 V 50 Hz (do 4 kW) in 400/690 V 50 Hz (moči večje od 4 kW)."]
[null,"• Najvišja temperatura zraka za prevoz: -20 ºC +80 ºC."]
[null,"dodelava:"]
[null,"• Protikorozijsko iz ATEX plastičnega materiala."]
[null,"Pred naročilom ventilatorja obvezno uskladiti zahteve za pretok zraka in tlačni padec glede na naročeno odsesovalno roko."]
[null,"Odgovarja SODECA oziroma proizvod drugega proizvajalca enakih ali boljših karakteristik."]
[null,"tip CPV-1020-4T + RM stikalo za spremenljiv pretok","kos","0"]
[]
["3.","Dobava in montaža ventilatorja za prezračevanja prostora kabineta računalnice na osnovi povišanja temperature prostora / delovanje s stenskim termostatom  - centrifugalnega kopalniškega ventilatorja za nadometno vgradnjo, z nadometnim ohišjem in dekorativno masko na prednji strani. Ohišje mora imeti horizontalni priključek ø80 mm, vgrajeno tesno nepovratno loputo in protipožarno loputo. Delovanje ventilatorja s časovnikom vezano na prižig luči v kopalnici. Ventilator mora omogočati priključitev večih ventilatorjev na skupno prezračevalno vertikalo, kar mora biti razvidno iz tehnične dokumentacije naprave. Kapaciteta ventilatorja je 60/100 m3/h. V sklopu d"]
[null,"Ustreza proizvod Meltem oziroma proizvod drugega proizvajalca enakih ali boljših karakteristik."]
[null,"tip VARIO II 30/100-NZ / ohišje tip A (nadometno) komplet s stenskim termostatom ter stikalom za vklop na prvo hitrost","kos","0"]
[]
["4.","Dobava in montaža - oprema za montažo ventilatorja z izhodom na zid objekta sestoječe iz:"]
[null,"- plastična cev ø125","m","0"]
[null,"- zaščitna rešetka za namestitev na zid, bele barve","kpl","0"]
[null,"- vratna rešetka NOVA-D-1-400x150-UR1-AN","kpl","0"]
[]
["5.","Dobava in montaža rešetk za naravno prezračevanje garderobe - aluminijasta vratna rešetka z okvirjem, ter jeklena prezračevalna rešetka z protiokvirjem prirejena za montažo na steno, skupaj s pritrdilnim in montažnim materialom ter protiokvirjem,"]
[null,"Prezračevanje garderobe v glasbeni učilnici"]
[null,"Odgovarja Systemair NOVA-D / NOVA-A oziroma proizvod drugega proizvajalca enakih ali boljših karakteristik, dimenzije"]
[null,"NOVA-D-1-400x150-UR1-AN"]
[null,"NOVA-A-1-1-400x150 RAL 9003","kpl","0"]
[]
["6.","Dobava in montaža okroglega kanalskega ventilatorja\niz plastičnega materiala za vgradnjo na okrogli zračni kanal. S priloženimi nosilci za montažo ventilatorja na steno ali strop. Pritrditev na okrogli kanal se izvede s kanalskimi objemkami FK, ki zmanjšajo prenos vibracij po kanalu. Ventilator se lahko vgradi v poljubnem položaju in ne zahteva dodatnega vzdrževanja. Rotor ventilatorja ima nazaj zakrivljene lopatice in je statično in dinamično centriran. Naprava ima vgrajen termični kontakt z električnim resetom za zaščito motorja. Regulacija hitrosti je mogoča od 0-100%. \nZaščita motorja IP 44. Izolacijski razred motorja B-F.\nDodatno dobaviti in montirati brezstopenjsko stikalo za ventilator REE 1. "]
[null,"Kabinet ŠVZ"]
[null,"- qdel\t\t\t\t120 m3/h"]
[null,"- Pel\t\t\t\t29 W"]
[null,"- Uel\t\t\t\t230V /1f"]
[null,"- Iel\t\t\t\t0,117 A"]
[null,"- zaščitni razred, motor\t\tIP 44"]
[null,"Systemair RVK 100 E2 SILEO + REE 1","kpl",1,null,{"$f":"E511*$D511","v":0},{"$f":"+E511*MM","v":0},{"$f":"+G511*D511","v":0},{"$f":"+E511-G511","v":0},{"$f":"+I511*D511","v":0}]
[]
["7.","Dobava in montaža okroglega kanalskega ventilatorja\niz plastičnega materiala za vgradnjo na okrogli zračni kanal. S priloženimi nosilci za montažo ventilatorja na steno ali strop. Pritrditev na okrogli kanal se izvede s kanalskimi objemkami FK, ki zmanjšajo prenos vibracij po kanalu. Ventilator se lahko vgradi v poljubnem položaju in ne zahteva dodatnega vzdrževanja. Rotor ventilatorja ima nazaj zakrivljene lopatice in je statično in dinamično centriran. Naprava ima vgrajen termični kontakt z električnim resetom za zaščito motorja. Regulacija hitrosti je mogoča od 0-100%. \nZaščita motorja IP 44. Izolacijski razred motorja B-F.\nDelovanje preko časovnika (zajeto v EI delu)"]
[null,"Sanitarije zbornica"]
[null,"- qdel\t\t\t\t120 m3/h"]
[null,"- Pel\t\t\t\t29 W"]
[null,"- Uel\t\t\t\t230V /1f"]
[null,"- Iel\t\t\t\t0,117 A"]
[null,"- zaščitni razred, motor\t\tIP 44"]
[null,"Systemair RVK 100 E2 SILEO","kpl",1,null,{"$f":"E520*$D520","v":0},{"$f":"+E520*MM","v":0},{"$f":"+G520*D520","v":0},{"$f":"+E520-G520","v":0},{"$f":"+I520*D520","v":0}]
[]
["8.","Dobava in montaža - okrogli zračni kanali izdelani iz pocinkane pločevine (spiro cevi), kompletno s fazonskimi kosi razred tesnjenja “C” - sistem Spiro-safe-system, pritrdilnim in tesnilnim materialom, za sledeče dimenzije:"]
[null,"Odgovarja Pichler oziroma proizvod drugega proizvajalca enakih ali boljših karakteristik."]
[null,"ø 125","m",6,null,{"$f":"E524*$D524","v":0},{"$f":"+E524*MM","v":0},{"$f":"+G524*D524","v":0},{"$f":"+E524-G524","v":0},{"$f":"+I524*D524","v":0}]
[null,"ø 100","m",6,null,{"$f":"E525*$D525","v":0},{"$f":"+E525*MM","v":0},{"$f":"+G525*D525","v":0},{"$f":"+E525-G525","v":0},{"$f":"+I525*D525","v":0}]
[]
["9.","Dobava in montaža - akustično in toplotno izolativna fleksibilna cev za povezavo med kanalskim razvodom in elementi za distribucijo zraka."]
[null,"Sestavljena iz:"]
[null,"- perforirane notranje cevi iz aluminija, laminirane s poliestrom,"]
[null,"- poliesterske zaščitne folije za zaščito pred difuzijo delcev steklene volne,"]
[null,"- termična in akustična izolativna plast iz stekene volne,"]
[null,"- zunanja zaščitna plast iz aluminija, ojačana s poliestrom."]
[null,"Fleksibilna cev je izdelana skladno s standardom EN 13180."]
[null,"skupaj z objemkami in ostalim montažnim materialom"]
[null,"Odgovarja SONOCONNECT L25MP oziroma proizvod drugega proizvajalca enakih ali boljših karakteristik."]
[null,"ø 100","m",2,null,{"$f":"E536*$D536","v":0},{"$f":"+E536*MM","v":0},{"$f":"+G536*D536","v":0},{"$f":"+E536-G536","v":0},{"$f":"+I536*D536","v":0}]
[]
["10.","Dobava in montaža - krožnikasti prezračevalni ventil za odvod zraka iz sanitarij in ostalih prostorov, skupaj z montažnim in pritrdilnim materialom ter montažnimi kosi"]
[null,"Odgovarja Systemair oziroma proizvod drugega proizvajalca enakih ali boljših karakteristik."]
[null,"BALANCE-E-100-SW","kos",7,null,{"$f":"E540*$D540","v":0},{"$f":"+E540*MM","v":0},{"$f":"+G540*D540","v":0},{"$f":"+E540-G540","v":0},{"$f":"+I540*D540","v":0}]
[]
["11.","Dobava in montaža - jeklena odvodna rešetka z okvirjem, prirejena za montažo na kanal, barvana v barvi RAL 9003, skupaj s pritrdilnim in montažnim materialom ter protiokvirjem, barvana v RAL 9003;"]
[null,"Odgovarja Systemair NOVA-A oziroma proizvod drugega proizvajalca enakih ali boljših karakteristik., dimenzije"]
[null,"NOVA-A-1-1-200x100-H-SW / RAL 9003","kos",2,null,{"$f":"E544*$D544","v":0},{"$f":"+E544*MM","v":0},{"$f":"+G544*D544","v":0},{"$f":"+E544-G544","v":0},{"$f":"+I544*D544","v":0}]
[]
["12.","Dobava in montaža zunanje zaščitne rešetke, barvane v barvi po izboru arhitekta, komplet s pripadajočim montažnim, tesnilnim in pritrdilnim materialom."]
[null,"Odgovarja Systemair"]
[null,"IGC-150","kos",1,null,{"$f":"E548*$D548","v":0},{"$f":"+E548*MM","v":0},{"$f":"+G548*D548","v":0},{"$f":"+E548-G548","v":0},{"$f":"+I548*D548","v":0}]
[]
["13.","Dobava in montaža zaključne kosa “fajfe” na strehi objekta, dimenzije po popisu mm, vključno z mrežico proti mrčesu. Zaključni kos se izolira z izolacijo iz sintetičnega kavčuka z zaprto celično strukturo debeline 25 mm ter zaščiti z AL pločevino. Višina izpustne rešetke je min. 0,6 m od strehe."]
[null,"ø125","kpl",1,null,{"$f":"E551*$D551","v":0},{"$f":"+E551*MM","v":0},{"$f":"+G551*D551","v":0},{"$f":"+E551-G551","v":0},{"$f":"+I551*D551","v":0}]
[null,"ø100","kpl",1,null,{"$f":"E552*$D552","v":0},{"$f":"+E552*MM","v":0},{"$f":"+G552*D552","v":0},{"$f":"+E552-G552","v":0},{"$f":"+I552*D552","v":0}]
[]
["14.","Toplotna izolacija kanalov svežega in odpdadnega zraka v področjih hladnih con s parozapornim materialom iz sintetičnega kavčuka z zaprto celično strukturo, ki je težko gorljiva in samougasljiva, ki ne kaplja in širi ognja – vrste B1 (po DIN 4102, 1. del (05.98)), s toplotno prevodnostjo λ < 0,033 W/mK pri 0 °C (po DIN EN 12667), primerna za temperaturno območje –-50 do + 85 °C, s koeficientom upornosti proti difuziji vodne pare μ > 10000;"]
[null,"Izolacija dovodnih in odvodnih kanalov vodenih v objektu (velika in mala telovadnica) - debelina 13 mm (navedena je površina kanalov)"]
[null,"Ustreza Armacell oziroma proizvod drugega proizvajalca enakih ali boljših karakteristik."]
[null,"ARMACELL tip ARMAFLEX XG-13","m2",3.5,null,{"$f":"E557*$D557","v":0},{"$f":"+E557*MM","v":0},{"$f":"+G557*D557","v":0},{"$f":"+E557-G557","v":0},{"$f":"+I557*D557","v":0}]
[]
["15.","Dobava in montaža ventilatorja za prezračevanja prostora skladišča (glesbena učilnica) na delovanje preko stikala ali preko vklopa luči - centrifugalnega kopalniškega ventilatorja za nadometno vgradnjo, z nadometnim ohišjem in dekorativno masko na prednji strani. Ohišje mora imeti horizontalni priključek ø80 mm, vgrajeno tesno nepovratno loputo. Delovanje ventilatorja preko luči ali s stalnim vklopom na prvo hitrost preko stikala. Ventilator mora omogočati priključitev večih ventilatorjev na skupno prezračevalno vertikalo, kar mora biti razvidno iz tehnične dokumentacije naprave. Kapaciteta ventilatorja je 30/160 m3/h."]
[null,"Ustreza proizvod Meltem oziroma proizvod drugega proizvajalca enakih ali boljših karakteristik."]
[null,"tip VARIO II 30/60 / ohišje podometno","kos",1,null,{"$f":"E561*$D561","v":0},{"$f":"+E561*MM","v":0},{"$f":"+G561*D561","v":0},{"$f":"+E561-G561","v":0},{"$f":"+I561*D561","v":0}]
[]
["16.","Dobava in montaža - aluminijasta vratna rešetka z okvirjem, prirejena za montažo v vrata, eloksirana, skupaj s pritrdilnim in montažnim materialom ter protiokvirjem,"]
[null,"Odgovarja Systemair NOVA-D oziroma proizvod drugega proizvajalca enakih ali boljših karakteristik, dimenzije"]
[null,"NOVA-D-1-300x100-UR1-AN","kos",1,null,{"$f":"E565*$D565","v":0},{"$f":"+E565*MM","v":0},{"$f":"+G565*D565","v":0},{"$f":"+E565-G565","v":0},{"$f":"+I565*D565","v":0}]
[]
[17,"Pregled obstoječega sistema prezračevanja sanitarij (M in Ž) ter izvedba zagona ventilatorjev za odvod zraka iz sanitarij. Po izvedenem zagonu nastaviti količine zraka na posameznem odvodnem mestu."]
[null,null,"ur",20,null,{"$f":"E568*$D568","v":0},{"$f":"+E568*MM","v":0},{"$f":"+G568*D568","v":0},{"$f":"+E568-G568","v":0},{"$f":"+I568*D568","v":0}]
[18,"Nastavitev prezračevalnih sistemov vključno z nastavitvami distribucijskih elementov ter izvedba meritev doseženih parametrov s strani pooblaščene institucije komplet z zapisnikom.","kpl",0,null,{"$f":"E569*$D569","v":0},{"$f":"+E569*MM","v":0},{"$f":"+G569*D569","v":0},{"$f":"+E569-G569","v":0},{"$f":"+I569*D569","v":0}]
[]
["8.","Pripravljalna in zaključna dela, zarisovanje, splošni, manipulativni, zavarovalni in transportni stroški"]
[null,null,null,0.05,{"$f":"SUM(F448:F568)*D572","v":0},{"$f":"+E572","v":0},{"$f":"+E572*MM","v":0},{"$f":"+G572","v":0},{"$f":"+E572-G572","v":0},{"$f":"+I572","v":0}]
[]
["12.","Obračun po količinah, ki izhajajo iz potrjenega gradbenega dnevnika in ob upoštevanju kalkulativnih osnov","kpl",1,{"$f":"SUM(F447:F572)*0.05","v":0},{"$f":"+E574","v":0},null,null,{"$f":"+E574","v":0},{"$f":"+F574","v":0}]
[]
[null,"SKUPAJ PREZRAČEVANJE - OSTALI SISTEMI",null,null,null,{"$f":"SUM(F447:F575)","v":0},null,{"$f":"SUM(H447:H575)","v":0},null,{"$f":"SUM(J447:J575)","v":0}]
[]
[]
[null,"SKUPAJ PREZRAČEVANJE",null,null,null,{"$f":"+F576+F444+F218+F25","v":0},null,{"$f":"+H576+H444+H218+H25","v":0},null,{"$f":"+J576+J444+J218+J25","v":0}]

{"sheet":"AB-.POŽARNE VODE","index":38,"n_rows":85,"n_cols":5,"rows_kept":85,"cut":false,"hidden":false,"merged":[]}
["Investitor:   ","Mestna občina Ljubljana"]
[null,"Konzorcij družb Petrol d. d. in Resalta d. o. o. "]
["Objekt:      ","OŠ Savsko naselje, Matjaževa ulica 4, Ljubljana"]
[null," - Celovita prenova objekta s statično, požarno in energetsko sanacijo."]
["Štev. proj.:     "]
["Datum:      ","April 2022"]
[]
[]
[]
[]
[null,"REKAPITULACIJA"]
[null,"POŽARNE VODE Objekt A in B,   "]
[]
[]
[null,"Ponudbena vrednost - skupna rekapitulacija","Vrednost  brez popusta","Popust","Vrednost s popustom"]
[null,"AB-PV_ZEMELJSKA DELA ",{"$f":"'AB-PV_ZEMELJSKA DELA '!$F$38","v":0},{"$f":"'AB-PV_ZEMELJSKA DELA '!$H$38","v":0},{"$f":"'AB-PV_ZEMELJSKA DELA '!$J$38","v":0}]
[null,"AB-PV_TESARSKA DELA",{"$f":"'AB-PV_TESARSKA DELA'!$F$10","v":0},{"$f":"'AB-PV_TESARSKA DELA'!$H$10","v":0},{"$f":"'AB-PV_TESARSKA DELA'!$J$10","v":0}]
[null,"AB-PV_BETONSKA DELA",{"$f":"'AB-PV_BETONSKA DELA'!$F$17","v":0},{"$f":"'AB-PV_BETONSKA DELA'!$H$17","v":0},{"$f":"'AB-PV_BETONSKA DELA'!$J$17","v":0}]
[null,"AB-PV_ZIDARSKA DELA",{"$f":"'AB-PV_ZIDARSKA DELA'!$F$12","v":0},{"$f":"'AB-PV_ZIDARSKA DELA'!$H$12","v":0},{"$f":"'AB-PV_ZIDARSKA DELA'!$J$12","v":0}]
[null,"AB-PV_POŽARNA OPREMA",{"$f":"'AB-PV_POŽARNA OPREMA'!$F$29","v":0},{"$f":"'AB-PV_POŽARNA OPREMA'!$H$29","v":0},{"$f":"'AB-PV_POŽARNA OPREMA'!$J$29","v":0}]
[null,"SKUPAJ",{"$f":"SUM(C16:C20)","v":0},{"$f":"SUM(D16:D20)","v":0},{"$f":"SUM(E16:E20)","v":0}]
[null,"22% DDV",null,null,{"$f":"+E21*0.22","v":0}]
[null,"Objekt A in B  POŽARNE VODE SKUPAJ Z DDV",null,null,{"$f":"+E21+E22","v":0}]
[]
[]
[]
[null,"OBVEZNOSTI IZVAJALCA, KI MORAJO BITI ZAJETE V ENOTNIH CENAH"]
[]
[1,"• V cenah je potrebno zajeti tudi ves osnovni in pomožni material, vsa pomožna dela, transportne, manipulativne stroške, skratka vse za gotova izvedena dela po postavkah."]
[]
[2,"• Izvajalec del je pred oddajo ponudbe dolžan preveriti ustreznost samih popisov del in količin glede na vse načrte, projekta PZI, ki so del razpisne dokumentacije, oziroma so mu na vpogled pri investitorju. Prav tako je izvajalec dolžan prebrati vse tekstualne dele, kot so tehnična poročila k posameznim načrtom, analizo cen in ostalo ter pregledati vse detajle in sheme. V času izdelave ponudbe bo ponudniku omogočen temeljit pregled lokacije za izvedbo del. V primeru ugotovljenih neskladnosti je v času priprave ponudbe obvezan o tem obvestiti  projektanta in investitorja.  "]
[]
[3,"• V vsaki ceni/enoto in za komplet je zajeti vse sestavne dele za gotove montirane in finalno obdelane izdelke objekta v skladu s projektom, brez dodatnih del, z izdelavo vse montažno tehnične dokumentacije, detajlov izvedbe (delavniške dokumentacije), katerih potrditev je obvezna s strani odgovornih projektantov posameznih načrtov, strokovnega nadzora, naročnika in investitorja. V ceni vseh postavk je zajeti še vse ostalo iz razpisnih pogojev, kar s tem popisom ni zajeto."]
[]
[4,"• Vse izmere je potrebno preveriti po posameznih projektih oz. načrtih, v primeru nejasnosti je potrebno v času izdelave ponudbe podati vprašanja investitorju, naročniku in projektantu. "]
[]
[5,"• V popisu so navedena komercialna imena materialov, naprav in opreme zaradi določitve kvalitete. Ponujen material, barvna karta, naprave in oprema  mora biti enake ali boljše kvalitete kot je predpisana s projektom. \n"]
[]
[6,"• Izvajalec, ponudnik mora nuditi izvedbo del v skladu z izvedenim popisom in s strani projektantov predvidenimi materiali, ki so usklajeni s strokovnim nadzorom, naročnikom in investitorjem. Izvajalec lahko ponudi alternativni material oz. način storitve izvedbe del. V tem primeru mora material oz. storitev zagotavljati najmanj predpisan nivo z obstoječimi popisi del, pred karkšno koli zamenjavo pa je izvajalec dolžan pridobiti pisno potrditev s strani projektanta, strokovnega nazdora, naročnika in investitorja. Brez pisne potrditve udeležencev pri gradnji, vgradnja le teh ni možna!\n"]
[]
[7,"• Vsi elementi strojne in elektro opreme, prav tako pa tudi vsi ostali ponujeni elementi, oprema in inštalacije, morajo poleg funkcije in tehničnih karakteristik ustrezati tudi dimenzijsko projektiranim rešitvam. Oprema ne sme presegati projektiranih dimenzij."]
[]
[8,"• V ceni vsakih posameznih del je po potrebi zajeti zaščito obstoječih prostorov, vse potrebne delovne in pomožne odre kot tudi čiščenje vseh elementov po končanih delih."]
[]
[9,"• Ponudnik je odgovoren za računsko pravilnost oddane ponudbe."]
[]
[10,"• V ceni posameznih postavk je zajeti vse elemente, ki so navedeni v opisu postavke, ne glede na različnost zahtevanih gradbeno - obrtniških in instalacijskih del, razen v postavkah kjer je eksplicitno navedeno, da so določeni elementi zajeti v drugi postavki oz. pri drugih delih."]
[]
[11,"• Dela je treba izvajati po določilih veljavnih tehničnih predpisov in skladno z obveznimi standardi, veljavno zakonodajo in podzakonskimi akti ter predloženim projektom PZI."]
[]
[12,"• V cenah na enoto mora ponudnik zajeti vse pričakovane stroške:\n• stroške vseh pripravljalnih del,\n• stroške priprave, prijave gradbišča, odstranitev eventuelnih ovir in ureditev delovnega platoja, organizacije, označevanja, ureditve, zavarovanja in varovanja gradbišča s predpisano prometno signalizacijo (kot so letve, opozorilne vrvice, znaki, svetlobna telesa,...), izdelave obvestilne table, gradbiščne table, čišenju vozil pred vključevanjem v promet, vključno z odstranitvijo po končani izvedbi ter odstranitvijo vseh varoval in prometne signalizacije, ki je tekom izvedbe služila zavarovanju gradbišča; \n• stroške garancij, ki jih mora izvajalec predložiti naročniku;\n• stroške izdelave situacij \n• in vse ostale stroške, ki so za izvedbo in končno polno funkcioniranje prostorov v objektu nujno potrebni"]
[]
[13,"• meritve, teste, preizkuse, pripravljalna, zaključna dela, zavarovalne, transportne, manipulativne stroške je potrebno zajeti v posameznih postavkah in se jih ne obračunava ločeno;\n• izvajalec je dolžan vse spremembe dokumentirati, priskrbeti oz. predati projektantom vse podloge in podatke za izvedbo PID-ov;\n• izvajalec sam izdela montažne skice in detajle za izvedbo instalacij med prenovo prostorov, za kar ni ločene postavke v ponudbenem predračunu;\n• stroške nabave in vgradnje vsega materiala in opreme, predvidenega za vgradnjo in montažo;\n• stroške prevozov, raztovarjanja in skladiščenja na objektu ter notranjega transporta v objektu;\n• nadzor potreben za izdelavo Izkaza požarne varnosti;\n• stroške zaključnih del na objektu z odvozom odvečnega materiala in stroške vzpostavitve prvotnega stanja, kjer bo to potrebno;\n• stroške izdelave ali najema, koriščenja, montaže in demontaže vseh delovnih odrov, zaščitnih odrov in ograj, potrebnih za izvedbo gradbeno obrtniških in instalacijskih del v objektu, ki jih predvideva popis del; \n"]
[]
[14,"• zagotovitev primernega prostora (pisarna v obstoječih prostorih) za izvajanje rednih sestankov na objektu;                               \n• stroške zbiranja in predložitve investitorju vse ustrezne dokumente, izjave o skladnosti, ateste, meritve, poročila idr. tudi od vseh svojih podizvajalcev ter ostalih izvajalcev in dobaviteljev na projektu (tudi od dobavitelja tehnološke opreme); \n• stroški izvedbe poskusnega obratovanja s poudarkom na vseh inštalacijah, pri čemer je potrebno pri poskusnem obratovanju uporabiti tudi že vse kemikalije, pline idr., ki so v posameznih napravah, elementih, inštalacijah predvidene – vsi morebitni preizkusi s specialnimi plini in kemikalijami;"]
[]
[15,"• morebitne stroške povzročene na obstoječem objektu, ki bi nastali v zvezi z prenovo predmeta tega razpisa;"]
[]
[16,"• stroške zavarovanja objekta v času izvedbe del in delavcev ter materiala na gradbišču v času izvajanja del, od začetka del do dokončanja. Zavarovanje mora biti izvršeno pri pooblaščeni zavarovalni družbi najmanj v višini pogodbene vrednosti za ves čas trajanja izvedbe del do uspešne primopredaje prostorov, izvajalec mora kopijo police za vrednost predpisanih del dostaviti naročniku ob podpisu zapisnika o uvedbi v delo;\n• stroške vzdrževanja dostopnih poti na obstoječem objektu in stroške čiščenja javnih ter drugih poti in okolja izven gradbišča, ki jih bo onesnažil s svojimi vozili ali deli izvajalec ali njegov podizvajalec;\n• stroške čiščenja prostorov med izvajanjem del in končnega temeljitega zidarskega ter gospodinjskega čiščenja objekta, kar zadeva delo izvajalca in vseh podizvajalcev, med izvedbo del in pred primopredajo prostorov;\n• stroške električne energije, vode, TK priključkov in morebitne ostale stroške v času gradnje;\n• stroške predpisanih ukrepov varstva pri delu in varstva pred požarom, ki jih mora izvajalec obvezno upoštevati;\n• stroške za popravilo morebitnih škod, ki bi nastale na objektu kot celoti oz. delu objekta, dovoznih cestah, zunanjem okolju ter na sosednjih objektih po krivdi izvajalca kot posledica izvajanja del;\n"]
[]
[17,"• stroške vseh predpisanih kontrol na  zahtevo naročnika, investitorja oz. nadzora, materialov, atestov in garancij za materiale vgrajene v objekt oz. prostore, stroške nostrifikacije in meritev pooblaščenih institucij pri čemer morajo biti dokumenti obvezno prevedeni v slovenščino in nostrificirani od pooblaščene institucije v RS;\n• stroške izdelave elaborata zapore cest, postavitev morebitnih potrebnih cestnih zapor in prometne signalizacije;\n• stroške dobave posameznih elementov, začasnega deponiranja (npr. vodovodnih cevi ipd.) in zavarovanja deponiranega materiala z vsemi prevozi in prenosi na objektu, iz deponije do mesta vgradnje; \n"]
[]
[18,"• stroške pomožnih gradbenih del (od zarisovanja, vrtanja zidov, izvedba prebojev, beljenja zidov, vzpostavljanja prvotnega stanja idr.);\n• stroške pospravljanja, čiščenja delovišča po končani gradnji in vzpostavitev prostorov in okolice v prvotno stanje                                                                                                                                                                                                                                                                                                                                                         \n"]
[]
[19,"• stroške koordinacije, sodelovanja in usklajevanja z dobavitelji tehnološke in vse ostale pohištvene ter multimedijske opreme ter z vsemi ostalimi so oz. podizvajalci na objektu (ih);\n• stroške morebitnih prilagoditev mikrolokacij inštalacijskih priključkov oziroma strojnih in elektro inštalacij glede na izvedbene projekte pohištvene in tehnološke opreme;\nstroške prilagoditve projektov oz. preprojektiranja v primeru potrebe po le-tem zaradi ponujenih drugačnih, vendar kvalitetno in tehnično ustreznih, tipov opreme, ki jih morajo izvesti projektanti objekta, vključno s potrditvijo\n• čiščenje in vzpostavitev okolice v prvotno stanje tudi izven gradbišča oz.lastništva naročnika;\n• zajeta priprava vseh potrebnih seznamov povezanih z inštalacijamii;\n"]
[]
[20,"• v času gradnje mora ponudnik zagotoviti vse potrebne varnostne ukrepe in tako organizacijo na objektu, da bo preprečeno onesnaževanje voda, ki bi nastalo zaradi transporta, skladiščenja in uporabe tekočih goriv in drugih nevarnih snovi oziroma v primeru nezgod zagotoviti takojšnje ukrepanje za to usposobljenih delavcev. \n• Vsa začasna skladišča in pretakališča goriv, olj in maziv ter drugih nevarnih snovi morajo biti zaščitena pred možnostjo izliva v tla in vodotok. Po končani gradnji mora ponudnik odstraniti vse za potrebe gradnje postavljene provizorije in odstraniti vse ostanke začasnih deponij\n"]
[]
[21,"• Vzorci:\n• Izvajalec mora za vse proizvode, oziroma elemente za vgradnjo, ki so navedeni v projektu ali drugače zahtevani s strani projektanta in naročnika dostaviti ali izdelati vzorčne primere na objektu in sicer najmanj v treh enakovrednih vzorcih, kot pomoč projektantu in naročniku za dokončno opredelitev med različnimi proizvodi, kot pomoč projektantu in naročniku za dokončno opredelitev med različnimi površinskimi obdelavami, kot referenčni primerek in merilo za kakovost, vključno vizualni izgled, kot vzorec za preizkušanje, ki služi za dokazovanje skladnosti proizvodov, kadar je to preizkušanje nujno opraviti na objektu, oziroma kadar gre za utemeljen dvom v izpolnjevanje predpisanih zahtev glede že vgrajenega oziroma dobavljenega proizvoda.\n• Vrednost izdelave vzorcev mora biti vključena skupno v ponudbeno ceno. Ustreznost izdelave potrdi naročnik na predlog odgovornega projektanta. Pisna potrditev vzorcev mora biti vnesena v gradbeni dnevnik oz. izvedena s posebnim zapisnikom, s strani predstavnika naročnika in odgovornega projektanta predmetnega področja. Elemente brez potrditve vzorcev ni dovoljeno vgrajevati - izvajati pred potrditvijo vzorcev oziroma materialov.\n"]
[]
[22,"• Pomembne splošne opombe:\n• Popis je veljaven le v kombinaciji z vsemi grafičnimi prilogami, risbami, načrti, tehničnim poročilom, sestavami konstrukcij, shemami oken in vrat in ostalimi sestavinami PZI projekta. Natančnejši opisi, način in kvaliteta izdelave, barve, velikost elementov, načini pritrjevanja, načini stikovanja z ostalimi elementi objekta, morebitna požarna varnost elementov in podobno so razvidni iz prej naštetih sestavin PZI projekta. Ponudba mora vsebovati ves pritrdilni material, vgradnjo zaključnih profilov, pločevin in kotnikov, izdelavo vseh potrebnih podkonstrukcij, dodatnega izsekavanja AB in zidanih sten, ponovnega odpiranja montažnih sten in podobna dela potrebna za vgradnjo posameznega elementa objekta, izdelavo vseh drobnih gradbenih, obrtniških in instalacijskih del ter ostalega četudi to ni neposredno navedeno popisu GOI del, a je kljub temu razvidno iz grafičnih prilog in ostalih prej naštetih sestavnih delov PZI projekta. Nujna je tudi kombinacija popisa s požarnim elaboratom, ki opredeljuje požarno varnost posameznih konstrukcij in gradbenih elementov objekta. Obvezno je upoštevati vse zahteve iz študije požarne varnosti. Ponudba, ki se sklicuje zgolj na tekstualni del popisa ni veljavna oziroma je nepopolna in nepravilna. Z oddajo ponudbe vsak ponudnik izjavlja, da je skrbno preučil vse prej omenjene sestavne dele PZI projekta in da je v skupno vrednost vključil vsa dodatna, nepredvidena in presežna dela ter material, ki zagotavljajo popolno, zaključeno in celostno izvedbo prenove prostorov, ki jih obravnava projekt  kot tudi vsa dela, ki niso neposredno opisana ali našteta v tekstualnem delu popisa, a so kljub temu razvidna iz grafičnih prilog in ostalih prej naštetih sestavnih delov PZI projekta. Vsak ponudnik z oddajo ponudbe prav tako izjavlja, da je PZI dokumentacija popolna in da je sposoben v popolnosti kvalitetno izvesti predmetno prenovo prostorov. Za vse nejasnosti mora ponudnik v razpisnem roku, ki je namenjen postavljanju vprašanj, pisno kontaktirati investitorja. Kontaktiranje ali postavljanje vprašanj neposredno odgovornemu vodji projekta, projektantskim organizacijam, ki so sodelovale pri izdelavi projekta ali posameznim odgovornim projektantom NI DOVOLJENO, brez VEDNOSTI NAROČNIKA IN. INVESTITORJA."]
[]
[23,"• Vse vrednosti instalacijskih del v posamezni ponudbi (strojna in elektro dela) morajo, četudi ni to posebej označeno ali navedeno v popisu GOI del, upoštevati vsa dela namenjena prilagajanju trenutnemu stanju na objektu. V skupni vrednosti ponudbe mora biti vključeno tudi morebitno dodatno izsekavanje utorov in prebojev v zidane ali armirano-betonske stene, ponovno demontiranje in montiranje vseh vrst montažnih sten, vsa dodatna dela za zagotavljanje primernih križanj med posameznimi instalacijskimi vodi, izdelava vseh vrst ojačitev konstrukcij in podobna dela, ki zagotavljajo kakovostno vgradnjo vseh vrst instalacijskih vodov in niso posebej navedena v popisu GOI del. V ponudbi morajo biti upoštevana vsa drobna strojna in elektro instalacijska dela in transporti. Skupna ponudbena vrednost mora vključevati vse stroške morebitnega sušenja  estrihov."]
[]
[24,"• Posamezni ponudnik oz. izvajalec z oddajo ponudbe izjavlja, da bo predmetno gradnjo prostorov izvajal izključno skladno PZI projektno dokumentacijo. Vse morebitne spremembe in dopolnitve lahko izdelajo izključno projektanti tega projekta, pri čemer bo morala biti vsaka sprememba in dopolnitev pisno zavedena v gradbeni dnevnik, žigosana in podpisana s strani odgovornih projektantov in odgovornega nadzornika ter pooblaščenega predstavnika naročnika. Kot spremembe PZI projektne dokumentacije se bo štelo vsakršno spreminjanje sestav vertikalnih in horizontalnih obdelav, instalacijskih vodov in  elementov instalacij, oziroma strojne in elektro opreme, kot tudi spreminjanje gradbenih materialov, notranjih in zunanjih tlakov, materialov ograj, finalnih obdelav sten, in podobno."]
[]
[25,"• Odpadki:\n• Izvajalec je dolžan brezpogojno upoštevati vso veljavno zakonodajo. Izvajalec je dolžan v imenu (po pooblastilu) investitorja ravnati z odpadki v skladu z Uredbo o ravnanju z odpadki, ki nastanejo pri gradbenih delih (Ur.l.RS št. 34/08) \n• V ceni postavke je potrebno zajeti odvoz materiala na trajno deponijo, s plačilom vseh taks\n• Izvajalec je dolžan izdelati elaborat ravnanja z gradbenimi odpadki, voditi evidenco o vrstah in količinah gradbenih odpadkov ter predložiti vse evidenčne liste o odvozu odpadkov.\n"]
[]
[]
[]
[null,"Maribor, ______________"]
[]
[]
[]
[null,null,"Žig in podpis ponudnika"]

{"sheet":"AB-PV_ZEMELJSKA DELA ","index":39,"n_rows":38,"n_cols":10,"rows_kept":38,"cut":false,"hidden":false,"merged":[]}
[]
[null,"Objekt A in B,   POŽARNE VODE"]
[]
[null,"PV-ZEMELJSKA DELA"]
[]
[null,"Opomba:"]
[null,"Način izvedbe zameljskih del je prepuščen tehnologiji in opremljenosti izvajalca!"]
[null,"- V c.e.m. je potrebno zajeti ročne izkope, peščene posteljice in zasipe s komprimiranjem za izvedbo talnih inštalacij v objektu (kanalizacija, ...)"]
[]
[null,"Izkop gradbene jame mora biti opravljen v prisotnosti geomehanika, oziroma potrebno je pred začetkom izvedbe zemeljskih del pregledati geotehnično poročilo, po izkopu gradbene jame pa teren pregleda geomehanik! "]
[null,"OPOMBA: "]
[null,"Evtl. Varovanje gradbene jame in ostala tehnična vprašanja se urejajo na licu mesta po navodilih geomehanskega nadzora!"]
[]
["ZAP. ŠT.","OPIS","     ME","KOLIČUNA","CENA/ENOTO","SKUPAJ","POPUST","POPUST SKUPAJ","CENA/ENOTO S POPUSTOM","SKUPAJ S POPUSTOM"]
[]
["1","Površinski plitvi odriv humusa oziroma mešanega zgornjega sloja iz travne ruše in zemlje (evtl. delno iz peščenega nasutja), vse  v terenu III. kategorije  na mestu izgradnje objekta.  Površinski izkop mešanega  materiala oziroma humusa, povprečne globine cca 30 cm, z direktnim odlaganjem  na deponijo na gradbišču, kjer se dober material kopiči posebej za ponovno vgraditev za zelenice in zasipe ob objektih, slab mešan material pa ločeno, za kasnejši odvoz na mestno deponijo ali pa se uporabi za izravnavo parcele oziroma evtl. za nasip."]
[null,null,"m3",30,null,{"$f":"E17*D17","v":0},{"$f":"+E17*MM","v":0},{"$f":"+G17*D17","v":0},{"$f":"+E17-G17","v":0},{"$f":"+I17*D17","v":0}]
[]
["2","Široki izkop gradbene jame, v zemljini III. Ktg., globine do spodnjega roba tamponskega nasutja pod požarnimi hranilniki, z odlaganjem materiala na gradbiščno deponijo - dober material za zasip za temelji oziroma planiranje okolice, slab material pa za kasnejši odvoz na deponijo.\nGlobina izkopa cca 4,00 do cca 5 m (glede na obstoječe kote terena) ."]
[null,null,"m3",470,null,{"$f":"E20*D20","v":0},{"$f":"+E20*MM","v":0},{"$f":"+G20*D20","v":0},{"$f":"+E20-G20","v":0},{"$f":"+I20*D20","v":0}]
[]
["3","Planiranje dna gradbene jame s točnostjo +- 3 cm z valjanjem in utrjevanjem do predpisane zbitosti."]
[null,null,"m2",100,null,{"$f":"E23*D23","v":0},{"$f":"+E23*MM","v":0},{"$f":"+G23*D23","v":0},{"$f":"+E23-G23","v":0},{"$f":"+I23*D23","v":0}]
[]
["4","Dobava in vgrajevanje komprimiranega sloja tamponskega nasutja, zasip med temelji, debeline min. 40 cm, vključno z utrjevanjem do predpisane zbitosti. Material  0-32 mm, utrjevanje po plasteh deb. 20 cm, izvedva z vsemi transporti in pomožnimi deli, preizkusi in meritvami. \n \n"]
[null,"a.) Geotekstil: ","m2",100,null,{"$f":"E26*D26","v":0},{"$f":"+E26*MM","v":0},{"$f":"+G26*D26","v":0},{"$f":"+E26-G26","v":0},{"$f":"+I26*D26","v":0}]
[null,"b.) Tamponsko nasutje: ","m3",50,null,{"$f":"E27*D27","v":0},{"$f":"+E27*MM","v":0},{"$f":"+G27*D27","v":0},{"$f":"+E27-G27","v":0},{"$f":"+I27*D27","v":0}]
[]
["5","Zasip gradbene jame z izkopanim materialom, obcisternah se v deb 20 cm vgradi frakcija 0-8 mm, v  slojih po 30 cm z materialom iz gradbiščne deponije, kateremu se odstranijo neuporabni delci, vključno z utrjevanjem po plasteh do predpisane zbitosti."]
[null,"a. frakcija 0-8 ","m3",32,null,{"$f":"E30*D30","v":0},{"$f":"+E30*MM","v":0},{"$f":"+G30*D30","v":0},{"$f":"+E30-G30","v":0},{"$f":"+I30*D30","v":0}]
[null,"b. izkopani material","m3",320,null,{"$f":"E31*D31","v":0},{"$f":"+E31*MM","v":0},{"$f":"+G31*D31","v":0},{"$f":"+E31-G31","v":0},{"$f":"+I31*D31","v":0}]
[]
["7","Odvoz odvečnega materiala v trajno deponijo. V kolikor ni drugače dogovorjeno z investitorjem, je višek izkopanega materiala stvar izvajalca, ki ga odstrani iz gradbišča. Kvaliteta materiala je razvidna iz geološkega poročila. Odškodnino vključiti v ponudbeno ceno. \nOpomba: V količini zajet ves predviden odvečni material (v raščenem stanju) pri izvedbi zemeljskih del za izgradnjo objekta.\n"]
[null,null,"m3",220,null,{"$f":"E34*D34","v":0},{"$f":"+E34*MM","v":0},{"$f":"+G34*D34","v":0},{"$f":"+E34-G34","v":0},{"$f":"+I34*D34","v":0}]
[]
["8","Planiranje terena po končanem delu","m2",140,null,{"$f":"E36*D36","v":0},{"$f":"+E36*MM","v":0},{"$f":"+G36*D36","v":0},{"$f":"+E36-G36","v":0},{"$f":"+I36*D36","v":0}]
[]
[null,"SKUPAJ PV-ZEMELJSKA DELA",null,null,null,{"$f":"SUM(F15:F37)","v":0},null,{"$f":"SUM(H15:H37)","v":0},null,{"$f":"SUM(J15:J37)","v":0}]

{"sheet":"AB-PV_TESARSKA DELA","index":40,"n_rows":10,"n_cols":10,"rows_kept":10,"cut":false,"hidden":false,"merged":[]}
[]
[null,"Objekt A in B,   POŽARNE VODE"]
[]
[null,"PV-TESARSKA DELA"]
[]
["ZAP. ŠT.","OPIS","     ME","KOLIČUNA","CENA/ENOTO","SKUPAJ","POPUST","POPUST SKUPAJ","CENA/ENOTO S POPUSTOM","SKUPAJ S POPUSTOM"]
[]
["1.","Naprava in odstranitev opaža čelnih ploskev AB temeljne plošče objekta (trakt D) debeline 50 cm, s prenosom materiala, čiščenjem lesa in vsemi pomožnimi deli. Skupaj cca 110 m1.\nOPOMBA:\nPred betoniranjem je potrebno vstaviti zaščitne cevi za evtl. vertikalne in horizontalne prehode ali razvode  instalacij","m2",46,null,{"$f":"E8*D8","v":0},{"$f":"+E8*MM","v":0},{"$f":"+G8*D8","v":0},{"$f":"+E8-G8","v":0},{"$f":"+I8*D8","v":0}]
[]
[null,"SKUPAJ PV-TESARSKA DELA",null,null,null,{"$f":"SUM(F8:F9)","v":0},null,{"$f":"SUM(H8:H9)","v":0},null,{"$f":"SUM(J8:J9)","v":0}]

{"sheet":"AB-PV_BETONSKA DELA","index":41,"n_rows":17,"n_cols":10,"rows_kept":17,"cut":false,"hidden":false,"merged":[]}
[]
[null,"Objekt A in B,   POŽARNE VODE"]
[]
[null,"PV-BETONSKA DELA"]
[]
["ZAP. ŠT.","OPIS","     ME","KOLIČUNA","CENA/ENOTO","SKUPAJ","POPUST","POPUST SKUPAJ","CENA/ENOTO S POPUSTOM","SKUPAJ S POPUSTOM"]
[]
["1","Podložni beton kvalitete B.1, C 8/10, agregat frakcije 0-16 mm. \nPodbeton pod temelji , deb. 10 cm. Podložni beton zaglajen.","m3",2,null,{"$f":"E8*D8","v":0},{"$f":"+E8*MM","v":0},{"$f":"+G8*D8","v":0},{"$f":"+E8-G8","v":0},{"$f":"+I8*D8","v":0}]
[]
[]
["2","Dobava in vgrajevanje betona C 25/30, v AB konstrukcije prereza 0,12 do 0,50 m3/m2/m1.\ntemelji","m3",48,null,{"$f":"E11*D11","v":0},{"$f":"+E11*MM","v":0},{"$f":"+G11*D11","v":0},{"$f":"+E11-G11","v":0},{"$f":"+I11*D11","v":0}]
[]
[]
[null,"Dobava in vgradnja  krivljenih palic rebraste armature, ne glede na premer palic, ter armaturnih mrež, vključno z distančniki mrež (distančne kače), s polaganjem, vezanjem, s prenosi do mesta vgraditve in s pomožnimi deli. Količina armature je podana na osnovi ocene 120kg/m3 vgrajenega betona. Za točne količine se držati izvlečkov načrtov gradbenih konstrukcij. Podana skupna količina mrež in palic ne glede na kvaliteto in presek. ","kg",600,null,{"$f":"E14*D14","v":0},{"$f":"+E14*MM","v":0},{"$f":"+G14*D14","v":0},{"$f":"+E14-G14","v":0},{"$f":"+I14*D14","v":0}]
[]
[]
[null,"SKUPAJ PV-BETONSKA DELA",null,null,null,{"$f":"SUM(F7:F16)","v":0},null,{"$f":"SUM(H7:H16)","v":0},null,{"$f":"SUM(J7:J16)","v":0}]

{"sheet":"AB-PV_ZIDARSKA DELA","index":42,"n_rows":12,"n_cols":10,"rows_kept":12,"cut":false,"hidden":false,"merged":[]}
[]
[null,"Objekt A in B,   POŽARNE VODE"]
[]
[null,"PV-ZIDARSKA DELA"]
[]
["ZAP. ŠT.","OPIS","     ME","KOLIČUNA","CENA/ENOTO","SKUPAJ","POPUST","POPUST SKUPAJ","CENA/ENOTO S POPUSTOM","SKUPAJ S POPUSTOM"]
[]
["1.","Dobava in vgradnja jaška iz polietilena, krožnega prereza s premerom 62.5 cm, globokega do 1,0 m. nadgradnja jaška pri rezervoarju za gasolno vodo, vključno z ab vencem ter LTŽ pokrovom nosilnosti 25 kn, ter vsemi pomožnimi in zaključnimi deli.","kos",2,null,{"$f":"E8*D8","v":0},{"$f":"+E8*MM","v":0},{"$f":"+G8*D8","v":0},{"$f":"+E8-G8","v":0},{"$f":"+I8*D8","v":0}]
[]
["2.","Dobava ter montaža pritrjeval za rezervoar za gasilno vodo, RF trakovi deb 4 mm, širine 10 cm, pritrjeni na betonski podstavek z triglav vijaki, 4 kos na mesto pritrjevanja. Vključno z španerji za pritrjevanje cisterne ter semi pomožnimi in zaključnimi deli. 2 kompleta na sidrišče.","kpl",8,null,{"$f":"E10*D10","v":0},{"$f":"+E10*MM","v":0},{"$f":"+G10*D10","v":0},{"$f":"+E10-G10","v":0},{"$f":"+I10*D10","v":0}]
[]
[null,"SKUPAJ PV-ZIDARSKA DELA",null,null,null,{"$f":"SUM(F7:F11)","v":0},null,{"$f":"SUM(H7:H11)","v":0},null,{"$f":"SUM(J7:J11)","v":0}]

{"sheet":"AB-PV_POŽARNA OPREMA","index":43,"n_rows":29,"n_cols":10,"rows_kept":29,"cut":false,"hidden":false,"merged":[]}
[]
[null,"Objekt A in B,   POŽARNE VODE"]
[]
[null,"PV-POŽARNA OPREMA"]
[]
["ZAP. ŠT.","OPIS","     ME","KOLIČUNA","CENA/ENOTO","SKUPAJ","POPUST","POPUST SKUPAJ","CENA/ENOTO S POPUSTOM","SKUPAJ S POPUSTOM"]
[]
["1.","Dobava ter vgrajevanje rezervoarja za gasilno vodo kapacitete 50.000 l, polaganje na pripravljeno podlago. V jašek je vgrajena seesalna cev z gasilsko spojko velikosti A ter sesalnim košem na dnu rezervoarja in povratnim ventilom za izpust. Rezervoar izveden v skaldu z DIN 14230. Dobaviti z revizijskimi odprtinami, ventilacijsko cev, dostopno nerjavečo lestvijo,.... Referenčni produkt RoTerra 2450.","kos",2,null,{"$f":"E8*D8","v":0},{"$f":"+E8*MM","v":0},{"$f":"+G8*D8","v":0},{"$f":"+E8-G8","v":0},{"$f":"+I8*D8","v":0}]
[]
["2.","Modularna povezava rezervoarjev za gasilsko vodo z cevjo DN 300. \nPovezava na spodnejm delu rezervoarja. Vključno z pripravljlnimi in zaključnimi deli.","kpl",1,null,{"$f":"E10*D10","v":0},{"$f":"+E10*MM","v":0},{"$f":"+G10*D10","v":0},{"$f":"+E10-G10","v":0},{"$f":"+I10*D10","v":0}]
[]
["3.","Dobava in montaža - inox ravni ali kotni mehanski plovni ventil, primeren za vzdrževanje nivoja vode v požarnem bazenu, komplet z višinsko nastavljivim plovcem, primeren za tlake do PN 10, komplet z montažni, tesnilnim in pritrdilnim materialom. "]
[null,"DN 50","kos",1,null,{"$f":"E13*D13","v":0},{"$f":"+E13*MM","v":0},{"$f":"+G13*D13","v":0},{"$f":"+E13-G13","v":0},{"$f":"+I13*D13","v":0}]
[]
[null,"Krogelni navojni ventil s polnim pretokom, sestoječ se iz nikanega ohišja iz prešane medenine MS58, z vgrajeno kromirano kovano kroglo iz medenine, ki ima tesnilo iz teflona PTFE in dolgo ročico iz silumina odgovarjajoče barve (modra-hladno, rdeča-toplo). Komplet s tesnilnim in montažnim materialom. Delovna temperatura -15 do 120ºC, pri PN6, DVGW certifikat nazivne velikosti:"]
[null,"DN 50","kos",1,null,{"$f":"E16*D16","v":0},{"$f":"+E16*MM","v":0},{"$f":"+G16*D16","v":0},{"$f":"+E16-G16","v":0},{"$f":"+I16*D16","v":0}]
[]
[null,"Dobava in montaža - nerjaveča cev za vodo, za navojne spoje komplet s fazonskimi in oblikovnimi kosi,pritrdilnim in tesnilnim materialom"]
[null,"DN 50","m",50,null,{"$f":"E19*D19","v":0},{"$f":"+E19*MM","v":0},{"$f":"+G19*D19","v":0},{"$f":"+E19-G19","v":0},{"$f":"+I19*D19","v":0}]
[]
[null,"Sistem za direktno črpanje iz bazena - sesalna stan - sestav:"]
[null,"Nerjaveča cev za izvedbo gasilskega priključka, komplet s tesnilnim, pritrdilnim in montažnim materialom"]
[null,"- DN 150","m",4,null,{"$f":"E23*D23","v":0},{"$f":"+E23*MM","v":0},{"$f":"+G23*D23","v":0},{"$f":"+E23-G23","v":0},{"$f":"+I23*D23","v":0}]
[null,"- nerjaveči cevni lok 90 º, DN 150","kos",1,null,{"$f":"E24*D24","v":0},{"$f":"+E24*MM","v":0},{"$f":"+G24*D24","v":0},{"$f":"+E24-G24","v":0},{"$f":"+I24*D24","v":0}]
[null,"- nerjaveči reducirni kos DN 150 / DN 100","kos",1,null,{"$f":"E25*D25","v":0},{"$f":"+E25*MM","v":0},{"$f":"+G25*D25","v":0},{"$f":"+E25-G25","v":0},{"$f":"+I25*D25","v":0}]
[null,"- gasilska spojka tip “A” s cevnim navojem","kos",1,null,{"$f":"E26*D26","v":0},{"$f":"+E26*MM","v":0},{"$f":"+G26*D26","v":0},{"$f":"+E26-G26","v":0},{"$f":"+I26*D26","v":0}]
[null,"- nerjaveč priredilni in vijačni material","kg",5,null,{"$f":"E27*D27","v":0},{"$f":"+E27*MM","v":0},{"$f":"+G27*D27","v":0},{"$f":"+E27-G27","v":0},{"$f":"+I27*D27","v":0}]
[]
[null,"SKUPAJ PV-POŽARNA OPREMA",null,null,null,{"$f":"SUM(F7:F28)","v":0},null,{"$f":"SUM(H7:H28)","v":0},null,{"$f":"SUM(J7:J28)","v":0}]

{"sheet":"AB-K. REKAP. ELEK. INSTALACIJE","index":44,"n_rows":31,"n_cols":5,"rows_kept":31,"cut":false,"hidden":false,"merged":[]}
["Investitor:   ","Mestna občina Ljubljana"]
[null,"Konzorcij družb Petrol d. d. in Resalta d. o. o. "]
["Objekt:      ","OŠ Savsko naselje, Matjaževa ulica 4, Ljubljana"]
[null," - Celovita prenova objekta s statično, požarno in energetsko sanacijo."]
["Štev. proj.:     "]
["Datum:      ","April 2022"]
[]
[null,"REKAPITULACIJA"]
[null,"ELEKTRO INSTALACIJE Objekt A in B,   "]
[]
[]
[null,"Ponudbena vrednost - skupna rekapitulacija","Vrednost  brez popusta","Popust","Vrednost s popustom"]
["1.","Močnostne elektroinstalacije - ŠOLA; trakt A+B"]
["a.","SVETILKE SPLOŠNE RAZSVETLJAVE",{"$f":"'AB-A.SVETILKE'!$F$61","v":0},{"$f":"'AB-A.SVETILKE'!$H$61","v":0},{"$f":"'AB-A.SVETILKE'!$J$61","v":0}]
["b.","SVETILKE VARNOSTNE RAZSVETLJAVE",{"$f":"'AB-B.VARNOSTNA '!$F$79","v":0},{"$f":"'AB-B.VARNOSTNA '!$H$79","v":0},{"$f":"'AB-B.VARNOSTNA '!$J$79","v":0}]
["c.","INSTALACIJSKI MATERIAL",{"$f":"'AB-C.INST MAT'!$F$273","v":0},{"$f":"'AB-C.INST MAT'!$H$273","v":0},{"$f":"'AB-C.INST MAT'!$J$273","v":0}]
["d.","RAZDELILNIKI",{"$f":"'AB-D.RAZDELILNIKI'!$F$283","v":0},{"$f":"'AB-D.RAZDELILNIKI'!$H$283","v":0},{"$f":"'AB-D.RAZDELILNIKI'!$J$283","v":0}]
["e.","EL. GRETJE ODTOKOV IN ŽLEBOV",{"$f":"'AB-E.GRETJE ODTOKOV'!$F$45","v":0},{"$f":"'AB-E.GRETJE ODTOKOV'!$H$45","v":0},{"$f":"'AB-E.GRETJE ODTOKOV'!$J$45","v":0}]
["f.","UPS NAPRAVA",{"$f":"'AB-F.UPS'!$F$52","v":0},{"$f":"'AB-F.UPS'!$H$52","v":0},{"$f":"'AB-F.UPS'!$J$52","v":0}]
["g.","STRELOVOD",{"$f":"'AB-G.STRELOVOD'!$F$49","v":0},{"$f":"'AB-G.STRELOVOD'!$H$49","v":0},{"$f":"'AB-G.STRELOVOD'!$J$49","v":0}]
["h.","KOMPENZACIJA",{"$f":"'AB-H.KOMPENZACIJA'!$F$22","v":0},{"$f":"'AB-H.KOMPENZACIJA'!$H$22","v":0},{"$f":"'AB-H.KOMPENZACIJA'!$J$22","v":0}]
["j.","POLNILNICA ZA EL. AVTOMOBILE",{"$f":"'AB-J.POLNILNICA'!$F$47","v":0},{"$f":"'AB-J.POLNILNICA'!$H$47","v":0},{"$f":"'AB-J.POLNILNICA'!$J$47","v":0}]
["k.","DEMONTAŽNA IN DRUGA DELA",{"$f":"'AB-K.DEMONTAŽA'!$F$55","v":0},{"$f":"'AB-K.DEMONTAŽA'!$H$55","v":0},{"$f":"'AB-K.DEMONTAŽA'!$J$55","v":0}]
["l.","DOKUMENTACIJA",{"$f":"'AB-L. DOKUMENTI'!$F$15","v":0},{"$f":"'AB-L. DOKUMENTI'!$H$15","v":0},{"$f":"'AB-L. DOKUMENTI'!$J$15","v":0}]
["2.","Telekomunikacije - ŠOLA; trakt A+B"]
["a.","SIGNALNO KOMUNIKACIJSKE INŠTALACIJE",{"$f":"'AB-2. REKAPIT. Telekomunikacije'!$C$15","v":0},{"$f":"'AB-2. REKAPIT. Telekomunikacije'!$D$15","v":0},{"$f":"'AB-2. REKAPIT. Telekomunikacije'!$E$15","v":0}]
["b.","TEHNIČNO VARNOSTNI SISTEMI",{"$f":"'AB-2. REKAPIT. Telekomunikacije'!$C$16","v":0},{"$f":"'AB-2. REKAPIT. Telekomunikacije'!$D$16","v":0},{"$f":"'AB-2. REKAPIT. Telekomunikacije'!$E$16","v":0}]
["c.","MULTIMEDIJSKA OPREMA",{"$f":"'AB-2. REKAPIT. Telekomunikacije'!$C$17","v":0},{"$f":"'AB-2. REKAPIT. Telekomunikacije'!$D$17","v":0},{"$f":"'AB-2. REKAPIT. Telekomunikacije'!$E$17","v":0}]
[null,"SKUPAJ",{"$f":"SUM(C13:C28)","v":0},{"$f":"SUM(D13:D28)","v":0},{"$f":"SUM(E13:E28)","v":0}]
[null,"22% DDV",null,null,{"$f":"+E29*0.22","v":0}]
[null,"Objekt A in B   ELEKTRO INSTALACIJE SKUPAJ Z DDV",null,null,{"$f":"+E29+E30","v":0}]

{"sheet":"AB-1. REKAPIT. MOČNOSTNE - ŠOLA","index":45,"n_rows":31,"n_cols":5,"rows_kept":31,"cut":false,"hidden":false,"merged":[]}
["Investitor:   ","Mestna občina Ljubljana"]
[null,"Konzorcij družb Petrol d. d. in Resalta d. o. o. "]
["Objekt:      ","OŠ Savsko naselje, Matjaževa ulica 4, Ljubljana"]
[null," - Celovita prenova objekta s statično, požarno in energetsko sanacijo."]
["Štev. proj.:     "]
["Datum:      ","April 2022"]
[]
[]
[]
[]
[]
[null,"REKAPITULACIJA"]
[null,"MOČNOSTNE  ELEKTROINSTALACIJE Objekt A in B,   "]
[]
[]
[null,"Ponudbena vrednost - skupna rekapitulacija","Vrednost  brez popusta","Popust","Vrednost s popustom"]
["1.","Močnostne elektroinstalacije - ŠOLA; trakt A+B"]
["a.","SVETILKE SPLOŠNE RAZSVETLJAVE",{"$f":"'AB-A.SVETILKE'!$F$61","v":0},{"$f":"'AB-A.SVETILKE'!$H$61","v":0},{"$f":"'AB-A.SVETILKE'!$J$61","v":0}]
["b.","SVETILKE VARNOSTNE RAZSVETLJAVE",{"$f":"'AB-B.VARNOSTNA '!$F$79","v":0},{"$f":"'AB-B.VARNOSTNA '!$H$79","v":0},{"$f":"'AB-B.VARNOSTNA '!$J$79","v":0}]
["c.","INSTALACIJSKI MATERIAL",{"$f":"'AB-C.INST MAT'!$F$273","v":0},{"$f":"'AB-C.INST MAT'!$H$273","v":0},{"$f":"'AB-C.INST MAT'!$J$273","v":0}]
["d.","RAZDELILNIKI",{"$f":"'AB-D.RAZDELILNIKI'!$F$283","v":0},{"$f":"'AB-D.RAZDELILNIKI'!$H$283","v":0},{"$f":"'AB-D.RAZDELILNIKI'!$J$283","v":0}]
["e.","EL. GRETJE ODTOKOV IN ŽLEBOV",{"$f":"'AB-E.GRETJE ODTOKOV'!$F$45","v":0},{"$f":"'AB-E.GRETJE ODTOKOV'!$H$45","v":0},{"$f":"'AB-E.GRETJE ODTOKOV'!$J$45","v":0}]
["f.","UPS NAPRAVA",{"$f":"'AB-F.UPS'!$F$52","v":0},{"$f":"'AB-F.UPS'!$H$52","v":0},{"$f":"'AB-F.UPS'!$J$52","v":0}]
["g.","STRELOVOD",{"$f":"'AB-G.STRELOVOD'!$F$49","v":0},{"$f":"'AB-G.STRELOVOD'!$H$49","v":0},{"$f":"'AB-G.STRELOVOD'!$J$49","v":0}]
["h.","KOMPENZACIJA",{"$f":"'AB-H.KOMPENZACIJA'!$F$22","v":0},{"$f":"'AB-H.KOMPENZACIJA'!$H$22","v":0},{"$f":"'AB-H.KOMPENZACIJA'!$J$22","v":0}]
["j.","POLNILNICA ZA EL. AVTOMOBILE",{"$f":"'AB-J.POLNILNICA'!$F$47","v":0},{"$f":"'AB-J.POLNILNICA'!$H$47","v":0},{"$f":"'AB-J.POLNILNICA'!$J$47","v":0}]
["k.","DEMONTAŽNA IN DRUGA DELA",{"$f":"'AB-K.DEMONTAŽA'!$F$55","v":0},{"$f":"'AB-K.DEMONTAŽA'!$H$55","v":0},{"$f":"'AB-K.DEMONTAŽA'!$J$55","v":0}]
["l.","DOKUMENTACIJA",{"$f":"'AB-L. DOKUMENTI'!$F$15","v":0},{"$f":"'AB-L. DOKUMENTI'!$H$15","v":0},{"$f":"'AB-L. DOKUMENTI'!$J$15","v":0}]
[null,"SKUPAJ",{"$f":"SUM(C17:C28)","v":0},{"$f":"SUM(D17:D28)","v":0},{"$f":"SUM(E17:E28)","v":0}]
[null,"22% DDV",null,null,{"$f":"+E29*0.22","v":0}]
[null,"Objekt A in B   MOČNOSTNE  ELEKTROINSTALACIJE SKUPAJ Z DDV",null,null,{"$f":"+E29+E30","v":0}]

{"sheet":"AB-UVODNI LIST   ","index":46,"n_rows":40,"n_cols":2,"rows_kept":40,"cut":false,"hidden":false,"merged":[]}
[]
[3,"Objekt A in B,   MOČNOSTNE ELEKTROINSTALACIJE"]
[]
["3/1.4","POPIS MATERIALA IN DEL - ŠOLA"]
["3/1.0","UVOD"]
[]
[null,"Izvajalec je dolžan pred pričetkom izvajanja instalacije načrt pregledati in nadzornemu inženirju podati pripombe na morebitne najdene nepravilnosti. Pri izvajanju del se mora sproti usklajevati z izvajalci ostalih instalacij. Prestavitve zaradi morebitnega neuskaljevanje gredo na račun izvajalca. Vsa dobavljena oprema mora biti 1.kvalitete. Vsi elementi del morajo biti izdelani strokovno in kvalitetno po detajlih in iz materiala kot je navedeno v opisu. Ves vgrajeni material mora po kvaliteti ustrezati veljavnim tehničnim predpisom in normam. Vse vgrajene naprave in stroji morajo biti certificirane za evropsko tržišče in imeti CE oznako. Vsi stroji in naprave morajo biti opremljeni s tablicami z oznako proizvajalca, tipom in nominalnimi karakteristikami tako za strojni kot elektro del, če ta obstaja. V kolikor je tablica na nedostopnem mestu je potrebno neuničljivo kopijo tablice namestiti na vidno mesto na stroju ali napravi."]
[null,"Po končanih delih mora vsa originalna navodila  in garancijske liste (v kolikor so prva oz. druga  v tujem jeziku, ta prevedana v slovenščino) predati investitorju."]
[null,"V času preizkusa mora sistem obratovati z predvidenimi zahtevami glede pretoka, tlaka in temperatur."]
[null,"Preizkus delovanja z opravljenimi meritvami mora biti izveden v poletnem in zimskem obratovalnem obdobju."]
[null,"Podroben tehnični opis opreme in elementov z jasno navedenimi robnimi pogoji je podan v nadaljevanju. Negativna odstopanja od razpisanih tehničnih zmogljivosti, učinkovitosti in kakovosti strojne opreme, materiala in del niso sprejemljiva, saj se razpisane obravnavajo kot najmanjše potrebne.  "]
[]
[null,"ENOTNA CENA MORA VSEBOVATI:"]
[null,"- vsa potrebna pripravljalna dela "]
[null,"- vse potrebne transporte, notranje in zunanje"]
[null,"- vse potrebne manipulativne stroške in zavarovanja do predaje investitorju"]
[null,"- vse potrebno delo"]
[null,"- vsa potrebna pomožna sredstva za vgrajevanje na objektu kot so lestve, odri in podobno"]
[null,"- usklajevanje z osnovnim načrtom in posvetovanje s projektantom, nadzornikom, investitorjem, naročnikom…"]
[null,"- terminsko usklajevanje del z ostalimi izvajalci na objektu"]
[null,"- čiščenje prostorov po končanih delih in odvoz odpadnega meteriala na stalno mestno deponijo"]
[null,"- plačilo komunalnega prispevka za stalno mestno deponijo odpadnega materiala"]
[null,"- vsa potrebna higijensko tehnična preventivna zaščita delavcev na gradbišču"]
[null,"- izdelavo vseh potrebnih detajlov in dopolnilnih del, katera je potrebno izvesti za dokončanje posameznih del,"]
[null,"tudi če potrebni detajli niso podrobno obdelani v načrtu navedeni in opisani v popisu del, in so ta dopolnila nujna za pravilno funkcioniranje posameznih sistemov in elementov objekta."]
[null,"- skladiščenje materiala na gradbišču"]
[null,"- preizkušanje kvalitete za vse materiale, ki se vgrajujejo in dokazovanje kvalitete z atesti"]
[null,"- ves potreben glavni, pomožni, pritrdilni in vezni material"]
[null,"- požarnovarno tesnenje prebojev pri prehodu instalacije skozi meje požarnih sektorjev ali celic"]
[null,"- popravilo eventuelno povzročene škode ostalim izvajalcem na gradbišču"]
[null,"- merjenje na objektu pred pričetkom izdelave ali vgrajevanja posameznih elementov"]
[null,"- vse potrebne zaščitne premaze"]
[null,"- izdelava tehnoloških risb za proizvodnjo s potrebnimi detajli"]
[null,"- izdelava ustreznih delavniških risb in o potrebi enopolnih in vezalnih shem glede na dejansko dobavljeno opremo!"]
[null,"- izdelava in izrez odprtin za vgradnjo inštalacijskih in drugih elementov"]
[null,"- izdelava vseh izračunov vezanih na izdelavo elementov, potrebnih za doseganje predpisanih zahtev"]
[null,"- meritve električnih inštalacij po posameznih sklopih, izdaja zapisnikov, atestov in potrdil"]
[null,"- pridobitev certifikatov pooblaščenih organizacij za posamezne sklope"]
[null,"- sprotno beleženje vseh sprememb nastalih med izvedbo z vrisovanjem v PZI načrt ter obveščanje odgovornega projektanta (OP) o njih s pridobitvijo soglasij nanje in priprava podatkov za izdelavo PID dokumentacije"]
[null,"- podučitev pooblaščene osebe določene s strani investitorja"]

{"sheet":"AB-A.SVETILKE","index":47,"n_rows":61,"n_cols":10,"rows_kept":61,"cut":false,"hidden":false,"merged":[]}
[]
["3/1.1","Objekt A in B,   SVETILKE SPLOŠNE RAZSVETLJAVE"]
[]
["ZAP. ŠT.","OPIS","     ME","KOLIČUNA","CENA/ENOTO","SKUPAJ","POPUST","POPUST SKUPAJ","CENA/ENOTO S POPUSTOM","SKUPAJ S POPUSTOM"]
[]
["3/1.1","SVETILKE SPLOŠNE RAZSVETLJAVE"]
[]
[null,"Pri formiranju cene za posamezno postavko glej tudi splošni opis uvodnega dela popisa."]
[]
[null,"Splošen opis, ki velja za vse svetilke"]
["0","V popisu so podani tipi svetil proizvajalca Philips, kar je zahteva naročnika glede na to, da so vsa ostala svetila v objektu prav tako dobavljena s strani Philipsa."]
[null,"Projektant elektroinštalacij in arhitekt morata pred dobavo in vgradnjo  potrditi vse vzorce svetilk."]
[null,"Za vse svetilke, ki se vgradijo v spuščen strop, je potrebno pred dobavo svetilk preveriti tip dobavljenega stropa"]
[null,"V kolikor pri vsaki svetilki ni posebej napisano velja sledeč opis in pripadajoča oprema:"]
[null,"-zunanje svetilke so izdelane iz Al litine, prašno barvane z visoko stopnjo korozijske zaščite"]
[null,"-vse vgradne stenske in talne svetilke morajo biti\nopremljene z ustrezno dozo za montažo v zid oz v tla. Izvedeno mora biti tako, da se ne nabira kondenz pod steklom."]
[null,"-vse svetilke opremljene s steklom morajo biti tesnjene proti vstopu mrčesa"]
[null,"-montažni pribor"]
[null,"-odgovarjajoča  predstikalna naprava oz. napajalnik, za svetilke, ki jo potrebujejo"]
[null,"-brez opisa je zaščita IP 20 po IEC 529 . Stopnja zaščite IP mora enaka ali večja od predpisane."]
[]
[null,"DEMONTAŽA IN PONOVNA MONTAŽA obstoječih svetilk"]
["1","Pazljiva demontaža obstoječih svetilk, čiščenje svetilk, skladiščenje svetilk, ter ponovna montaža svetilk, priklop in testiranje. Obstoječe svetilke so montirane pretežno v vseh prostorih šole. Svetilke so novejše izdelave in so LED. Svetilke so bile vgrajene med leti 2017 do 2018. Ponovna montaža teh svetilk v kabinete, pisarne, avle, hodnike in pomožne prostore."]
[null,"S1  (Philips SM120V LED37S/840 PSU W20L120, učilnice na stropu)","kos","352",null,{"$f":"E24*D24","v":0},{"$f":"+E24*MM","v":0},{"$f":"+G24*D24","v":0},{"$f":"+E24-G24","v":0},{"$f":"+I24*D24","v":0}]
[null,"S2  (Philips SM120V LED27S/840 PSU W20L120 hodnik, avla)","kos","144",null,0,0,0,0,0]
[null,"S3  (Philips WT120C LED22S/840 PSU L1200 pomožni prostori)","kos","36",null,0,0,0,0,0]
[null,"S7  (Philips WT120C LED40S/840 PSU L1200 pomožni prostori)","kos","52",null,0,0,0,0,0]
[null,"RT1-reflektor  (Philips BVP110 LED 42/NW S mala telovadnica)","kos","12",null,0,0,0,0,0]
[null,"RT2-reflektor  (Philips BVP130 LED160-4S/740 A velika telovadnica)","kos","16",null,0,0,0,0,0]
[null,null,null,{"$f":"SUM(D24:D29)","v":0}]
[null,"DOBAVA IN MONTAŽA novih svetilk"]
["1","(R1) Svetilka za bazene, velikosti 460mm x  410mm x 104mm, ohišje iz aluminija, sive barve, pokrov iz kaljenega stekla, odporna proti prahom in vlagi IP65, odporna proti udarcem IK07,  barvna temperatura 4000K, indeks barvnega videza nad 80, ozek snop svetlobe, izhodni svetlobni tok svetilke 17000lm, priključna moč svetilke 120W, življenjska doba 75.000h L78, DALI regulacijska, izvedba s stropnim/stenskim nosilcem, garancija 5 let."]
[null,"PHILIPS BY480P (LED170S ali LED 130S/840 PSD WB GC SWP BR)","kos","0"]
[]
["2","(S1-NOVA) Nadgradna LED svetilka bele barve, velikosti 1200mm x 200mm x 69mm, ohišje iz pocinkane pločevine, optika iz poli-karbonata UGR<19, izhodni svetlobni tok svetilke 3100lm _3700lm_4300lm, priključna moč svetilke 22W_26W_31W, življenska doba vsaj 50.000 ur pri 70% vzdrževanega svetlobnega toka, indeks barvnega videza vsaj 80, barvna temperatura 4000K, garancija 5 let"]
[null,"Philips SM136V 31S_37S_43S/840 PSU W20L120 OC","kos","0"]
[]
["3","(S2-NOVA) Nadgradna LED svetilka bele barve, velikosti 1200mm x 200mm x 69mm, ohišje iz pocinkane pločevine, izhodni svetlobni tok svetilke 3100lm _3700lm_4300lm, priključna moč svetilke 22W_26W_31W, življenska doba vsaj 50.000 ur pri 70% vzdrževanega svetlobnega toka, indeks barvnega videza vsaj 80, barvna temperatura 4000K, garancija 5 let"]
[null,"Philips SM136V 31S_37S_43S/840 PSU W20L120 NOC","kos","0"]
[]
[{"$f":"A38+1","v":4},"(S5-NOVA) Nadgradna LED svetilka , velikosti 350mm x 350mm x 70mm zaščita proti prahu in vlagi IP65, stopnja zaščite pred udarci IK08, ohišje v beli barvi, ojačano z steklenimi vlakni, pokrov iz polikarbonata, izhodni svetlobi tok svetilke vsaj 2000lm, priključna moč svetilke največ 22W, življenska doba vsaj 50.000 ur pri 80% vzdrževanega svetlobnega toka, indeks barvnega videza vsaj 80, barvna temperatura vira 4000K, 5 letna garancija., kot Philips, tip: WL130V LED20S/840, LED, 22W, 2000Lm, 90Lm/W, 4000K, v zaščiti IP65","kos","0"]
[]
[{"$f":"A41+1","v":5},"(S6-NOVA) Nadgradna LED svetilka z integriranim senzorjem, velikosti 350mm x 350mm x 70mm zaščita proti prahu in vlagi IP65, stopnja zaščite pred udarci IK08, ohišje v beli barvi, ojačano z steklenimi vlakni, pokrov iz polikarbonata, izhodni svetlobi tok svetilke vsaj 2000lm, priključna moč svetilke največ 23W, življenska doba vsaj 50.000 ur pri 80% vzdrževanega svetlobnega toka, indeks barvnega videza vsaj 80, barvna temperatura vira 4000K, 5 letna garancija., kot Philips, tip: WL130V LED20S/840 MDU, LED, 23W, 2000Lm, 80Lm/W, 4000K, v zaščiti IP65","kos","0"]
[]
[7,"(S7-NOVA) Nadgradna LED vodotesna svetilka, kot Philips, tip: WT120C G2 LED40S/840, LED, 28.6W, 4000Lm, 143Lm/W, 4000K, v zaščiti IP65, bele barve","kos","0"]
[]
[8,"(S8-NOVA) Tračni sistem Maxos fusion dolžine 3450mm, za razsvetljavo šolske table:\nMaxos fusion svetilka LL512X LED31S/840 A20 - 2 kos\nMaxos fusion tračnica dolžine 2276 mm - 1 kos\nMaxos fusion tračnica dolžine 1138 mm - 1 kos\nMaxos fusion napajanje - 1 kos\nMaxos fusion spojni element - 1 kos\nMaxos fusion pokrov - 1 kos\nMaxos fusion obešalni pribor - 3 kos","kpl","0"]
[]
[9,"(S13-NOVA) Asimetričen LED reflektor, zaščita pred prahom in vlago IP66, zaščitena proti udarcem IK08, ohšje iz tlačno ulitega aluminija, kaljeno visokoprosojno steklo. Možnost zamenjave led modula ali napajalnika. Svetobni tok svetilke  4200lm, priključna moč svetilke 38W, barvna temperatura 4000K, indeks barvnega videza 70, barvna temperatura vira 4000K, komplet z montažnim priborom, 5 letna garancija.","kos","0"]
[]
["10","DALI vmesnik kot tip: DALI ACU BT Osram","kos","0"]
[]
["11","Meritev osvetljenosti po prostorih in nastavitev razsvetljave/svetilk na predpisane vrednosti osvetlitve (nivo osvetlitve), ki so defenirane v tehničnem poročilu oz. veljavnimi predpisi.","kpl","0"]
[]
["12","Izdelava montažnega načrta, izris detajlov vpetja svetilk, sodelovanje in svetovanje dobavitelja svetilk pri montaži","ur","0"]
[]
["13","Drobni montažni material, transport in manipulacijski stroški","%",0.03,{"$f":"SUM(F6:F55)*D57","v":0},{"$f":"+E57","v":0},{"$f":"+E57*MM","v":0},{"$f":"+G57","v":0},{"$f":"+E57-G57","v":0},{"$f":"+I57","v":0}]
[]
["14","Obračun po količinah, ki izhajajo iz potrjenega gradbenega dnevnika in ob upoštevanju kalkulativnih osnov","kpl",1,{"$f":"SUM(F7:F57)*0.05","v":0},{"$f":"E59*D59","v":0},{"$f":"+E59*MM","v":0},{"$f":"+G59*D59","v":0},{"$f":"+E59-G59","v":0},{"$f":"+I59*D59","v":0}]
[]
["3/1.1","SVETILKE SPLOŠNE RAZSVETLJAVE",null,null,null,{"$f":"SUM(F6:F60)","v":0},null,{"$f":"SUM(H6:H60)","v":0},null,{"$f":"SUM(J6:J60)","v":0}]

{"sheet":"AB-B.VARNOSTNA ","index":48,"n_rows":79,"n_cols":10,"rows_kept":79,"cut":false,"hidden":false,"merged":[]}
[]
["3/1.2","Objekt A in B,   SVETILKE VARNOSTNE RAZSVETLJAVE"]
[]
["ZAP. ŠT.","OPIS","     ME","KOLIČUNA","CENA/ENOTO","SKUPAJ","POPUST","POPUST SKUPAJ","CENA/ENOTO S POPUSTOM","SKUPAJ S POPUSTOM"]
[]
["3/1.2","SVETILKE VARNOSTNE RAZSVETLJAVE"]
[]
[null,"Pri formiranju cene za posamezno postavko glej tudi splošni opis uvodnega dela popisa."]
[]
[null,"Splošen opis sistema varnostne razsvetljave"]
[null,"- Sistem mora biti v celoti izdelan in izveden v skladu z SIST EN 1838, SIST 50171, SIST 50172 in DIN VDE 0108/10.89/10.89."]
[null,"- Vse varnostne svetilke, moduli in naprave so sestavni del enovitega sistema zasilne razsvetljave s centralnim nadzorom svetilk. Vsi elementi sistema morajo imeti oznako ENEC potrjeno od neodvisnega laboratorija."]
[null,"- Vsi elementi morajo biti izvedeni v skladu z ISO 9001. "]
[null,"- Pred naročilom je potrebno natančno preveriti rešitev postavitve in montaže vezano na dokončne načrte arhitekture."]
[" "]
[null,"Opomba: Predviden je sistem proizvajalca Eaton. Svetilke z lastnimi akumulatorji in centralnim nadzornim sistemom CGLine+. Ponudnik lahko nudi enakovreden primerljiv proizvod\n"]
[]
[1,"EM01 - Nadometna LED varnostna svetilka. Ohišje izdelano iz belega polikarbonata. Dimenzije 270x119x49mm. Opremljena s sistemom centraliziranega nadzora CGLine+ z avtomatskim testiranjem. Svetilka z priborom primerna za stensko , stropno in vgradno montažo. Stopnja zaščite svetilke IP42 v skladu z EN 60598 standardom (z ustreznimi deli). Svetilka zasnovana za delovanje na 220-240 VAC, 50/60Hz. Vgrajena  NiCd baterija 1.7Ah, 3,6V. Primerna za delovne temperature od +5°C do +30°C. Vir svetlobe LED traka, učinkovit svetlobni tok 100lm. Svetilka  je primerna za varnostno razsvetljavo, osvetlitev  evakuacijskih poti ali kot piktogramska svetilka (vidljivost 20m). Avtonomija svetilke 3 ure. \nKot npr. oz. enakovrednot: Eaton SafeLite SL20 SL2-42D3D-CGL","kos",10,null,{"$f":"D18*E18","v":0},{"$f":"+E18*MM","v":0},{"$f":"+G18*D18","v":0},{"$f":"+E18-G18","v":0},{"$f":"+I18*D18","v":0}]
[]
[2,"EM02 - Nadometna LED varnostna svetilka. Ohišje izdelano iz belega polikarbonata. Dimenzije 270x119x49mm. Opremljena s sistemom centraliziranega nadzora CGLine+ z avtomatskim testiranjem. Svetilka z priborom primerna za stensko , stropno in vgradno montažo. Stopnja zaščite svetilke IP42 v skladu z EN 60598 standardom (z ustreznimi deli). Svetilka zasnovana za delovanje na 220-240 VAC, 50/60Hz. Vgrajena  NiCd baterija 1.7Ah, 3,6V. Primerna za delovne temperature od +5°C do +30°C. Vir svetlobe LED traka, učinkovit svetlobni tok 100lm. Svetilka  je primerna za varnostno razsvetljavo, osvetlitev  evakuacijskih poti ali kot piktogramska svetilka (vidljivost 20m). Avtonomija svetilke 3 ure. \nKot npr. oz. enakovrednot: Eaton SafeLite SL20 SL2-42D3D-CGL",null,5,null,{"$f":"D20*E20","v":0},{"$f":"+E20*MM","v":0},{"$f":"+G20*D20","v":0},{"$f":"+E20-G20","v":0},{"$f":"+I20*D20","v":0}]
[]
["2.1.","Vgradno podnožje za montažo svetilke v spuščen strop, dimenzije 316x161.5mm\nKot npr. oz. enakovrednot: Eaton SafeLite SL2RB","kos",5,null,{"$f":"D22*E22","v":0},{"$f":"+E22*MM","v":0},{"$f":"+G22*D22","v":0},{"$f":"+E22-G22","v":0},{"$f":"+I22*D22","v":0}]
[]
[3,"EM03 - Nadometna LED varnostna svetilka. Ohišje izdelano iz belega polikarbonata. Dimenzije 270x119x49mm. Opremljena s sistemom centraliziranega nadzora CGLine+ z avtomatskim testiranjem. Svetilka z priborom primerna za stensko , stropno in vgradno montažo. Stopnja zaščite svetilke IP65 v skladu z EN 60598 standardom (z ustreznimi deli). Svetilka zasnovana za delovanje na 220-240 VAC, 50/60Hz. Vgrajena  NiCd baterija 1.7Ah, 3,6V. Primerna za delovne temperature od +5°C do +30°C. Vir svetlobe LED traka, učinkovit svetlobni tok 100lm. Svetilka  je primerna za varnostno razsvetljavo, osvetlitev  evakuacijskih poti ali kot piktogramska svetilka (vidljivost 20m). Avtonomija svetilke 3 ure. \nKot npr. oz. enakovrednot: Eaton SafeLite SL20 SL2-65D3D-CGL",null,6,null,{"$f":"D24*E24","v":0},{"$f":"+E24*MM","v":0},{"$f":"+G24*D24","v":0},{"$f":"+E24-G24","v":0},{"$f":"+I24*D24","v":0}]
[]
[4,"EM04 - Svetilka za zasilno razsvetljavo, dolga življenska doba svetlobnega vira 50.000 ur, certifikat ENEC v skladu z zahtevami EN60598-1, EN60598-2-22, EN1838 in EN62034. Opremljena s sistemom centraliziranega nadzora CGLine+ z avtomatskim testiranjem z dvobarvnim LED indikatorjem stanja (rumeno-oranžna). Delovanje v trajnem in pripravnem spoju, z izhodom svetlobe v zasilnem načinu najmanj 300 lm, trajanjem 3 ure, magnetno preskusno funkcijo za ročno preverjanje, način mirovanja, Ni-Cd HT baterijami in hitrim priključkom za trdo in mehko žico do 2,5 mm2.\nKot npr. oz. enakovredno: Eaton NexiTech LED 300lm CGLine","kos",19,null,{"$f":"D26*E26","v":0},{"$f":"+E26*MM","v":0},{"$f":"+G26*D26","v":0},{"$f":"+E26-G26","v":0},{"$f":"+I26*D26","v":0}]
[]
[5,"EM05 - LED samostojna vgradna varnostna svetilka okrogle oblike, izhodni svetlobni tok 200Lm, stalni ali pripravni spoj nastavljiv preko stikala, avtonomija 1h,s sistemom centraliziranega nadzora CGLine+ z avtomatskim testiranjem, stopnja zaščite IP66, izrez standardne velikosti (Ø 64-78mm), uporaba za osvetljevanje evakuacijske poti ali za odprte prostore, ozka in široka porazdelitev svetlobe je nastavljiva, delovanje na 220-240 VAC, 50/60Hz, Primerna za delovne temperature od +5°C do +45°C, nizek ekološki odtis, nizka poraba in litijeva baterija, kvadratna izvedba možna z dodatnim okvirjem. \nKot npr. oz. enakovredno: Eaton RoundTech RT2RSEO200CGL1HIP simetrična",null,40,null,{"$f":"D28*E28","v":0},{"$f":"+E28*MM","v":0},{"$f":"+G28*D28","v":0},{"$f":"+E28-G28","v":0},{"$f":"+I28*D28","v":0}]
[]
[6,"EM06 - Zasilna svetilka nadgradna, z optiko za odprte prostore, opremljena s sistemom centraliziranega nadzora CGLine+ z avtomatskim testiranjem, LED, dimenzije 170x170x50mm pripravno / trajno delovanje, IP44, 144 lm, trajanje 3 ure\nTIP KOT:  Eaton Micropoint 2 MP2SO3HCGL","kos",1,null,{"$f":"D30*E30","v":0},{"$f":"+E30*MM","v":0},{"$f":"+G30*D30","v":0},{"$f":"+E30-G30","v":0},{"$f":"+I30*D30","v":0}]
[]
[7,"EM07 -  Zasilna svetilka nadgradna, z optiko za evakuacijske poti, opremljena s sistemom centraliziranega nadzora CGLine+ z avtomatskim testiranjem, LED, dimenzije 170x170x50mm pripravno / trajno delovanje, IP44, 145 lm, trajanje 3 ure\nTIP KOT:  Eaton Micropoint 2 MP2SE3HCGL","kos",8,null,{"$f":"D32*E32","v":0},{"$f":"+E32*MM","v":0},{"$f":"+G32*D32","v":0},{"$f":"+E32-G32","v":0},{"$f":"+I32*D32","v":0}]
[]
[8,"EM08 -  Nadometna LED varnostna svetilka. Ohišje izdelano iz belega polikarbonata. Dimenzije 270x119x49mm. Opremljena s sistemom centraliziranega nadzora CGLine+ z avtomatskim testiranjem. Svetilka z priborom primerna za stensko , stropno in vgradno montažo. Stopnja zaščite svetilke IP42 v skladu z EN 60598 standardom (z ustreznimi deli). Svetilka zasnovana za delovanje na 220-240 VAC, 50/60Hz. Vgrajena  NiCd baterija 1.7Ah, 3,6V. Primerna za delovne temperature od +5°C do +30°C. Vir svetlobe LED traka, učinkovit svetlobni tok 100lm. Svetilka  je primerna za varnostno razsvetljavo, osvetlitev  evakuacijskih poti ali kot piktogramska svetilka (vidljivost 20m). Avtonomija svetilke 3 ure. \nKot npr. oz. enakovrednot: Eaton SafeLite SL20 SL2-42D3D-CGL","kos",54,null,{"$f":"D34*E34","v":0},{"$f":"+E34*MM","v":0},{"$f":"+G34*D34","v":0},{"$f":"+E34-G34","v":0},{"$f":"+I34*D34","v":0}]
[]
["8.1.","Set piktogramskih nalepk GOR, DOL, LEVO, DESNO skladnih z ISO7010, razpoznavnosti 20m.\nKot npr. oz. enakovredno:  Eaton SafeLite SL24A ","kos",54,null,{"$f":"D36*E36","v":0},{"$f":"+E36*MM","v":0},{"$f":"+G36*D36","v":0},{"$f":"+E36-G36","v":0},{"$f":"+I36*D36","v":0}]
[]
[9,"EM09 -  Nadometna LED varnostna svetilka. Ohišje izdelano iz belega polikarbonata. Dimenzije 270x119x49mm. Opremljena s sistemom centraliziranega nadzora CGLine+ z avtomatskim testiranjem. Svetilka z priborom primerna za stensko , stropno in vgradno montažo. Stopnja zaščite svetilke IP42 v skladu z EN 60598 standardom (z ustreznimi deli). Svetilka zasnovana za delovanje na 220-240 VAC, 50/60Hz. Vgrajena  NiCd baterija 1.7Ah, 3,6V. Primerna za delovne temperature od +5°C do +30°C. Vir svetlobe LED traka, učinkovit svetlobni tok 100lm. Svetilka  je primerna za varnostno razsvetljavo, osvetlitev  evakuacijskih poti ali kot piktogramska svetilka (vidljivost 20m). Avtonomija svetilke 3 ure. \nKot npr. oz. enakovrednot: Eaton SafeLite SL20 SL2-42D3D-CGL","kos",3,null,{"$f":"D38*E38","v":0},{"$f":"+E38*MM","v":0},{"$f":"+G38*D38","v":0},{"$f":"+E38-G38","v":0},{"$f":"+I38*D38","v":0}]
[]
["9.1.","Set piktogramskih nalepk GOR, DOL, LEVO, DESNO skladnih z ISO7010, razpoznavnosti 20m.\nKot npr. oz. enakovredno:  Eaton SafeLite SL24A","kos",3,null,{"$f":"D40*E40","v":0},{"$f":"+E40*MM","v":0},{"$f":"+G40*D40","v":0},{"$f":"+E40-G40","v":0},{"$f":"+I40*D40","v":0}]
[]
[10,"EM10 -  Nadometna LED varnostna svetilka. Ohišje izdelano iz belega polikarbonata. Dimenzije 270x119x49mm. Opremljena s sistemom centraliziranega nadzora CGLine+ z avtomatskim testiranjem. Svetilka z priborom primerna za stensko , stropno in vgradno montažo. Stopnja zaščite svetilke IP65 v skladu z EN 60598 standardom (z ustreznimi deli). Svetilka zasnovana za delovanje na 220-240 VAC, 50/60Hz. Vgrajena  NiCd baterija 1.7Ah, 3,6V. Primerna za delovne temperature od +5°C do +30°C. Vir svetlobe LED traka, učinkovit svetlobni tok 100lm. Svetilka  je primerna za varnostno razsvetljavo, osvetlitev  evakuacijskih poti ali kot piktogramska svetilka (vidljivost 20m). Avtonomija svetilke 3 ure. \nKot npr. oz. enakovrednot: Eaton SafeLite SL20 SL2-65D3D-CGL",null,8,null,{"$f":"D42*E42","v":0},{"$f":"+E42*MM","v":0},{"$f":"+G42*D42","v":0},{"$f":"+E42-G42","v":0},{"$f":"+I42*D42","v":0}]
[]
["10.1.","Set piktogramskih nalepk GOR, DOL, LEVO, DESNO skladnih z ISO7010, razpoznavnosti 20m.\nKot npr. oz. enakovredno:  Eaton SafeLite SL24A","kos",8,null,{"$f":"D44*E44","v":0},{"$f":"+E44*MM","v":0},{"$f":"+G44*D44","v":0},{"$f":"+E44-G44","v":0},{"$f":"+I44*D44","v":0}]
[]
[11,"EM11 - Nadometna LED varnostna svetilka. Ohišje izdelano iz belega polikarbonata. Dimenzije 270x119x49mm. Opremljena s sistemom centraliziranega nadzora CGLine+ z avtomatskim testiranjem. Svetilka z priborom primerna za stensko , stropno in vgradno montažo. Stopnja zaščite svetilke IP42 v skladu z EN 60598 standardom (z ustreznimi deli). Svetilka zasnovana za delovanje na 220-240 VAC, 50/60Hz. Vgrajena  NiCd baterija 1.7Ah, 3,6V. Primerna za delovne temperature od +5°C do +30°C. Vir svetlobe LED traka, učinkovit svetlobni tok 100lm. Svetilka  je primerna za varnostno razsvetljavo, osvetlitev  evakuacijskih poti ali kot piktogramska svetilka (vidljivost 20m). Avtonomija svetilke 3 ure. \nKot npr. oz. enakovrednot: Eaton SafeLite SL20 SL2-42D3D-CGL","kos",8,null,{"$f":"D46*E46","v":0},{"$f":"+E46*MM","v":0},{"$f":"+G46*D46","v":0},{"$f":"+E46-G46","v":0},{"$f":"+I46*D46","v":0}]
[]
["11.1.","Dvostranska piktogramska pleksi tabla, smer DOL/PRAZNO skladna z ISO7010, razpoznavnosti 20m, dimenzije 208,6x104,5mm.\nKot npr. oz. enakovredno: Eaton SafeLite SL2PPD","kos",8,null,{"$f":"D48*E48","v":0},{"$f":"+E48*MM","v":0},{"$f":"+G48*D48","v":0},{"$f":"+E48-G48","v":0},{"$f":"+I48*D48","v":0}]
[]
["12.","EM12 - Nadometna LED varnostna svetilka. Ohišje izdelano iz belega polikarbonata. Dimenzije 270x119x49mm. Opremljena s sistemom centraliziranega nadzora CGLine+ z avtomatskim testiranjem. Svetilka z priborom primerna za stensko , stropno in vgradno montažo. Stopnja zaščite svetilke IP42 v skladu z EN 60598 standardom (z ustreznimi deli). Svetilka zasnovana za delovanje na 220-240 VAC, 50/60Hz. Vgrajena  NiCd baterija 1.7Ah, 3,6V. Primerna za delovne temperature od +5°C do +30°C. Vir svetlobe LED traka, učinkovit svetlobni tok 100lm. Svetilka  je primerna za varnostno razsvetljavo, osvetlitev  evakuacijskih poti ali kot piktogramska svetilka (vidljivost 20m). Avtonomija svetilke 3 ure. \nKot npr. oz. enakovrednot: Eaton SafeLite SL20 SL2-42D3D-CGL","kos",3,null,{"$f":"D50*E50","v":0},{"$f":"+E50*MM","v":0},{"$f":"+G50*D50","v":0},{"$f":"+E50-G50","v":0},{"$f":"+I50*D50","v":0}]
["12.1.","Vgradno podnožje za montažo svetilke v spuščen strop, dimenzije 316x161.5mm\nKot npr. oz. enakovrednot: Eaton SafeLite SL2RB","kos",3,null,0,0,0,0,0]
["12.2.","Dvostranska piktogramska pleksi tabla, smer DOL/PRAZNO skladna z ISO7010, razpoznavnosti 20m, dimenzije 208,6x104,5mm.\nKot npr. oz. enakovredno: Eaton SafeLite SL2PPD","kos",3,null,0,0,0,0,0]
["13.","EM13 - Nadometna LED varnostna svetilka. Ohišje izdelano iz belega polikarbonata. Dimenzije 270x119x49mm. Opremljena s sistemom centraliziranega nadzora CGLine+ z avtomatskim testiranjem. Svetilka z priborom primerna za stensko , stropno in vgradno montažo. Stopnja zaščite svetilke IP42 v skladu z EN 60598 standardom (z ustreznimi deli). Svetilka zasnovana za delovanje na 220-240 VAC, 50/60Hz. Vgrajena  NiCd baterija 1.7Ah, 3,6V. Primerna za delovne temperature od +5°C do +30°C. Vir svetlobe LED traka, učinkovit svetlobni tok 100lm. Svetilka  je primerna za varnostno razsvetljavo, osvetlitev  evakuacijskih poti ali kot piktogramska svetilka (vidljivost 20m). Avtonomija svetilke 3 ure. \nKot npr. oz. enakovrednot: Eaton SafeLite SL20 SL2-42D3D-CGL","kos",5,null,0,0,0,0,0]
["13.1.","Vgradno podnožje za montažo svetilke v spuščen strop, dimenzije 316x161.5mm\nKot npr. oz. enakovrednot: Eaton SafeLite SL2RB","kos",5,null,0,0,0,0,0]
["13.2.","Dvostranska piktogramska pleksi tabla, smer LEVO/DESNO skladna z ISO7010, razpoznavnosti 20m, dimenzije 208,6x104,5mm.\nKot npr. oz. enakovredno: Eaton SafeLite SL2PPLR","kos",5,null,0,0,0,0,0]
["14.","EM14 - LED samostojna vgradna varnostna svetilka okrogle oblike, izhodni svetlobni tok 200Lm, stalni ali pripravni spoj nastavljiv preko stikala, avtonomija 1h,s sistemom centraliziranega nadzora CGLine+ z avtomatskim testiranjem, stopnja zaščite IP66, izrez standardne velikosti (Ø 64-78mm), uporaba za osvetljevanje evakuacijske poti ali za odprte prostore, ozka in široka porazdelitev svetlobe je nastavljiva, delovanje na 220-240 VAC, 50/60Hz, Primerna za delovne temperature od +5°C do +45°C, nizek ekološki odtis, nizka poraba in litijeva baterija, kvadratna izvedba možna z dodatnim okvirjem. \nKot npr. oz. enakovredno: Eaton RoundTech RT2RSEO200CGL1HIP asimetrična","kos",16,null,0,0,0,0,0]
["15.","EM15 - Nadometna LED varnostna svetilka. Ohišje izdelano iz belega polikarbonata. Dimenzije 270x119x49mm. Opremljena s sistemom centraliziranega nadzora CGLine+ z avtomatskim testiranjem. Svetilka z priborom primerna za stensko , stropno in vgradno montažo. Stopnja zaščite svetilke IP42 v skladu z EN 60598 standardom (z ustreznimi deli). Svetilka zasnovana za delovanje na 220-240 VAC, 50/60Hz. Vgrajena  NiCd baterija 1.7Ah, 3,6V. Primerna za delovne temperature od +5°C do +30°C. Vir svetlobe LED traka, učinkovit svetlobni tok 100lm. Svetilka  je primerna za varnostno razsvetljavo, osvetlitev  evakuacijskih poti ali kot piktogramska svetilka (vidljivost 20m). Avtonomija svetilke 3 ure. \nKot npr. oz. enakovrednot: Eaton SafeLite SL20 SL2-42D3D-CGL","kos",2,null,0,0,0,0,0]
["15.1.","Set piktogramskih nalepk GOR, DOL, LEVO, DESNO skladnih z ISO7010, razpoznavnosti 20m.\nKot npr. oz. enakovredno:  Eaton SafeLite SL24A","kos",2,null,0,0,0,0,0]
["16.","EM16 - Svetilka za zasilno razsvetljavo, dolga življenska doba svetlobnega vira 50.000 ur, certifikat ENEC v skladu z zahtevami EN60598-1, EN60598-2-22, EN1838 in EN62034. Opremljena s sistemom centraliziranega nadzora CGLine+ z avtomatskim testiranjem z dvobarvnim LED indikatorjem stanja (rumeno-oranžna). Delovanje v trajnem in pripravnem spoju, z izhodom svetlobe v zasilnem načinu najmanj 300 lm, trajanjem 3 ure, magnetno preskusno funkcijo za ročno preverjanje, način mirovanja, Ni-Cd HT baterijami in hitrim priključkom za trdo in mehko žico do 2,5 mm2.\nKot npr. oz. enakovredno: Eaton NexiTech LED 300lm CGLine","kos",4,null,0,0,0,0,0]
["16.1.","Vgradni montažni kit za montažo zasilne svetilke NexiTech v spuščen strop (izrez 272x95 mm). Kot npr. oz. enakovredno: Eaton NEXI-FC","kos",4,null,0,0,0,0,0]
["17.","EM17 - Svetilka za zasilno razsvetljavo, dolga življenska doba svetlobnega vira 50.000 ur, certifikat ENEC v skladu z zahtevami EN60598-1, EN60598-2-22, EN1838 in EN62034. Opremljena s sistemom centraliziranega nadzora CGLine+ z avtomatskim testiranjem z dvobarvnim LED indikatorjem stanja (rumeno-oranžna). Delovanje v trajnem in pripravnem spoju, z izhodom svetlobe v zasilnem načinu najmanj 300 lm, trajanjem 3 ure, magnetno preskusno funkcijo za ročno preverjanje, način mirovanja, stopnja zaščite svetilke IP65, Ni-Cd HT baterijami in hitrim priključkom za trdo in mehko žico do 2,5 mm2.\nKot npr. oz. enakovredno: Eaton NexiTech LED 300lm CGLine IP65","kos",6,null,0,0,0,0,0]
["18.","EM18 - Zasilna svetilka z lastnim akumulatorjem za nadometno stropno ali zidno montažo, z optiko prilagojeno za pokrivanje velikih površin in certifikatom ENEC. Opremljen s sistemom centraliziranega nadzora CGLine+ z avtomatskim testiranjem z dvobarvnim LED indikatorjem stanja (rumeno-oranžna). Stopnja zaščite IP40, delovanje v pripravnem ali stalnem spoju, z izhodno močjo svetlobe, ki ni manjša od 1000 lm, avtonomija 1h, dimenzije: 292x111x40 mm. Komplet z montažnim priborom.\nKot npr. oz. enakovredno: Eaton NexiTech LED NEXI1000-CGL","kos",2,null,0,0,0,0,0]
[19,"Zaščitna mreža za svetilko zasilne razsvetljave\nKot npr. oz. enakovredno: Eaton SafeLite SL2PG","kos",4,null,0,0,0,0,0]
[20,"Kovinska mreža za zasilna svetila SiRiOS. Kot npr. oz. enakovredno: Eaton SiRiOS O-EL-GRID","kos",12,null,0,0,0,0,0]
[]
[]
[null,"NADZORNI SISTEM VARNOSTNE RAZSVETLJAVE"]
[1,"CGLINE + mrežni krmilnik ZA PRITRDITEV na DIN letev. Napajalna napetost: 230V AC, 50 / 60 Hz, poraba energije: <4 W pripravljenosti, <21 W pri polni obremenitvi. CGLINE+ komunikacija: 4 podatkovne linije z do 200 svetilkomi vsaka, Ethernet Port: 1 X RJ45, USB povezave: 1 X izvoz (USB1), 1x naprava (USB2). Vsi rezultati preskusov so shranjeni v elektronski knjigi dnevnika vsaj 4 leta.\nTIP KOT: Eaton CGLINE + Web Controller ","kos",1,null,{"$f":"D68*E68","v":0},{"$f":"+E68*MM","v":0},{"$f":"+G68*D68","v":0},{"$f":"+E68-G68","v":0},{"$f":"+I68*D68","v":0}]
[2,"Programiranje mrežnega krmilnika","kos",1,null,{"$f":"D69*E69","v":0},{"$f":"+E69*MM","v":0},{"$f":"+G69*D69","v":0},{"$f":"+E69-G69","v":0},{"$f":"+I69*D69","v":0}]
[3,"Sodelovanje pri pregledu","kos",1,null,{"$f":"D70*E70","v":0},{"$f":"+E70*MM","v":0},{"$f":"+G70*D70","v":0},{"$f":"+E70-G70","v":0},{"$f":"+I70*D70","v":0}]
[4,"Šolanje kadra in predaja upravitelju","kos",1,null,{"$f":"D71*E71","v":0},{"$f":"+E71*MM","v":0},{"$f":"+G71*D71","v":0},{"$f":"+E71-G71","v":0},{"$f":"+I71*D71","v":0}]
[]
[null,"OSTALO:"]
[1,"Meritev osvetljenosti varnostne razsvetljave po končanih delih in pridobitev ter predaja potrdila o brezhibnem delovanju varnostne razsvetljave\n","kpl",1,null,{"$f":"D74*E74","v":0},{"$f":"+E74*MM","v":0},{"$f":"+G74*D74","v":0},{"$f":"+E74-G74","v":0},{"$f":"+I74*D74","v":0}]
[{"$f":"A74+1","v":2},"Drobni, vezni in spojni material","kpl",1,null,{"$f":"D75*E75","v":0},{"$f":"+E75*MM","v":0},{"$f":"+G75*D75","v":0},{"$f":"+E75-G75","v":0},{"$f":"+I75*D75","v":0}]
[]
["3","Obračun po količinah, ki izhajajo iz potrjenega gradbenega dnevnika in ob upoštevanju kalkulativnih osnov","kpl",1,{"$f":"SUM(F7:F75)*0.05","v":0},{"$f":"D77*E77","v":0},{"$f":"+E77*MM","v":0},{"$f":"+G77*D77","v":0},{"$f":"+E77-G77","v":0},{"$f":"+I77*D77","v":0}]
[]
["3/1.2","SVETILKE VARNOSTNE RAZSVETLJAVE",null,null,null,{"$f":"SUM(F6:F78)","v":0},null,{"$f":"SUM(H6:H78)","v":0},null,{"$f":"SUM(J6:J78)","v":0}]

{"sheet":"AB-C.INST MAT","index":49,"n_rows":273,"n_cols":10,"rows_kept":273,"cut":false,"hidden":false,"merged":[]}
[]
["3/1.3","Objekt A in B,   INSTALACIJSKI MATERIAL"]
[]
["ZAP. ŠT.","OPIS","     ME","KOLIČUNA","CENA/ENOTO","SKUPAJ","POPUST","POPUST SKUPAJ","CENA/ENOTO S POPUSTOM","SKUPAJ S POPUSTOM"]
[]
["3/1.3","INSTALACIJSKI MATERIAL"]
[]
[null,"Pri formiranju cene za posamezno postavko glej tudi splošni opis uvodnega dela popisa."]
[]
[null,"KABLI"]
[null,"Splošno za vse kable"]
[null,"Kabli morajo biti izdelani skladno s standardom SIST EN 50575:2014+A1:2016 in z upoštevanjem vzdržnih tokov po IEC HD 60364-5-52. Skladno z uredbo EU 305/2011 (CPR) morajo biti kabli opremljeni z izjavo o lastnostih DoP (Declaration of Performance) - oznaka CE, ki  kable razvršča glede na odpornost proti gorenju, sproščanje toplote in širjenje plamena."]
[null,"Kabli morajo imeti minimalni odziv na ogenj \nB2ca s1d1a1"]
[]
["1","Energetski kabel s finožičnimi Cu  vodniki z zmanjšano emisijo strupenih plinov  - 1kV položen pretežno na  kabelske police, delno v cevi"]
[null,"N2XH-J  5x4   ","m",120,null,{"$f":"D16*E16","v":0},{"$f":"+E16*MM","v":0},{"$f":"+G16*D16","v":0},{"$f":"+E16-G16","v":0},{"$f":"+I16*D16","v":0}]
[null,"N2XH-J  5x6   ","m",210,null,0,0,0,0,0]
[null,"N2XH-J  5x10   ","m",360,null,0,0,0,0,0]
[null,"N2XH-J  5x16   ","m",140,null,0,0,0,0,0]
[null,"N2XH-J  5x25    ","m",62,null,{"$f":"D20*E20","v":0},0,0,0,0]
[null,"N2XH-J  5x35    ","m",90,null,0,0,0,0,0]
[null,"N2XH-J  5x50    ","m",42,null,0,0,0,0,0]
[null,"N2XH-J  4x95    ","m",78,null,0,0,0,0,0]
[null,"N2XH-J  4x150","m",120,null,0,0,0,0,0]
[]
["2","Kabel s Cu vodniki - 0,5 kV položen pretežno na kabelske police in delno v cevi"]
[null,"NHXMH-O  2x1.5","m",638,null,{"$f":"D27*E27","v":0},{"$f":"+E27*MM","v":0},{"$f":"+G27*D27","v":0},{"$f":"+E27-G27","v":0},{"$f":"+I27*D27","v":0}]
[null,"NHXMH-O  3x1.5","m",780,null,0,0,0,0,0]
[null,"NHXMH-J  3x1.5","m",33200,null,0,0,0,0,0]
[null,"NHXMH-J  4x1.5","m",4150,null,0,0,0,0,0]
[null,"NHXMH-J  5x1.5","m",1780,null,0,0,0,0,0]
[null,"NHXMH-J  3x2.5","m",22900,null,0,0,0,0,0]
[null,"NHXMH-J  5x2.5","m",280,null,0,0,0,0,0]
[]
["3","Kabel s finožičnimi Cu vodniki - 0,5kV, položen pretežno na kabelske police in delno v cevi."]
[null,"HSLH  3x1,5","m",250,null,{"$f":"D36*E36","v":0},{"$f":"+E36*MM","v":0},{"$f":"+G36*D36","v":0},{"$f":"+E36-G36","v":0},{"$f":"+I36*D36","v":0}]
[null,"HSLH  7x1,5","m",180,null,{"$f":"D37*E37","v":0},{"$f":"+E37*MM","v":0},{"$f":"+G37*D37","v":0},{"$f":"+E37-G37","v":0},{"$f":"+I37*D37","v":0}]
[null,"HSLH  2x2,5","m",30,null,{"$f":"D38*E38","v":0},{"$f":"+E38*MM","v":0},{"$f":"+G38*D38","v":0},{"$f":"+E38-G38","v":0},{"$f":"+I38*D38","v":0}]
[]
["4","Kabel s finožičnimi Cu vodniki - 0,5kV, PVC izolacijo in pletenim oklopom, položen pretežno na kabelske police, delno v cevi."]
[null,"HSLCH 2x0,75","m",210,null,{"$f":"D41*E41","v":0},{"$f":"+E41*MM","v":0},{"$f":"+G41*D41","v":0},{"$f":"+E41-G41","v":0},{"$f":"+I41*D41","v":0}]
[]
["5","Telekomunikacijski vodnik s PVC izolacijo in oklopom, položen pretežno na kabelske police, delno v cevi."]
[null,"J-H(St)-H 2x2x0.8","m",2870,null,{"$f":"D44*E44","v":0},{"$f":"+E44*MM","v":0},{"$f":"+G44*D44","v":0},{"$f":"+E44-G44","v":0},{"$f":"+I44*D44","v":0}]
[null,"UTP 4x2x23AWG, kat.6, LSHF","m",50,null,{"$f":"D45*E45","v":0},{"$f":"+E45*MM","v":0},{"$f":"+G45*D45","v":0},{"$f":"+E45-G45","v":0},{"$f":"+I45*D45","v":0}]
[]
["6","Kabelski čevlji Cu - cevni, komplet s samokrčno izolacijo in stiskanjem na kabel"]
[null,"16 mm2, fi 8mm","kos",176,null,{"$f":"D48*E48","v":0},{"$f":"+E48*MM","v":0},{"$f":"+G48*D48","v":0},{"$f":"+E48-G48","v":0},{"$f":"+I48*D48","v":0}]
[null,"25 mm2, fi 10mm","kos",16,null,{"$f":"D49*E49","v":0},0,0,0,0]
[null,"35 mm2, fi 10mm","kos",22,null,0,0,0,0,0]
[null,"50 mm2, fi 12mm","kos",8,null,0,0,0,0,0]
[null,"70 mm2, fi 12mm","kos",8,null,0,0,0,0,0]
[null,"95 mm2, fi 12mm","kos",16,null,0,0,0,0,0]
[null,"150 mm2, fi 16mm","kos",16,null,0,0,0,0,0]
[]
["7","Kabelska polica iz perforirane hladno pocinkane pločevine pobarvane z belo barvo z zaokroženimi robovi, komplet z obešalnim in pritrdilnim  priborom, pokrovom, tipskimi fazonskimi kosi (križišča, odcepi, krivine, kolena, zožitve...), kovinskimi zidnimi čepi za beton in vijaki M10, sledeče širine :"]
[null,"Kot npr.: HERMI ali enakovredno"]
[null,"100/50 mm","m",180,null,{"$f":"D58*E58","v":0},{"$f":"+E58*MM","v":0},{"$f":"+G58*D58","v":0},{"$f":"+E58-G58","v":0},{"$f":"+I58*D58","v":0}]
[null,"200/50 mm","m",290,null,{"$f":"D59*E59","v":0},{"$f":"+E59*MM","v":0},{"$f":"+G59*D59","v":0},{"$f":"+E59-G59","v":0},{"$f":"+I59*D59","v":0}]
[null,"300/50 mm","m",80,null,{"$f":"D60*E60","v":0},{"$f":"+E60*MM","v":0},{"$f":"+G60*D60","v":0},{"$f":"+E60-G60","v":0},{"$f":"+I60*D60","v":0}]
[]
["8","Kabelska polica iz perforirane hladno pocinkane pločevine  pobarvane z belo barvo z zaokroženimi robovi, komplet s pokrovom, obešalnim in pritrdilnim  priborom, tipskimi fazonskimi kosi (križišča, odcepi, krivine, kolena, zožitve...), kovinskimi zidnimi čepi za beton in vijaki M10, sledeče širine:"]
[null,"Kot npr.: HERMI ali enakovredno"]
[null,"100/50 mm s pokrovom","m",60,null,{"$f":"D64*E64","v":0},{"$f":"+E64*MM","v":0},{"$f":"+G64*D64","v":0},{"$f":"+E64-G64","v":0},{"$f":"+I64*D64","v":0}]
[]
["9","Kabelska lestev iz pocinkanih profilov, položena vertikalno v jaških ali ob steni, komplet s konzolami in pritrdilnim priborom, kovinskimi zidnimi čepi za beton, vijaki M10, ter priborom za pritrditev kablov, širine:"]
[null,"Kot npr.: HERMI ali enakovredno"]
[null,"300 mm","m",40,null,{"$f":"D68*E68","v":0},{"$f":"+E68*MM","v":0},{"$f":"+G68*D68","v":0},{"$f":"+E68-G68","v":0},{"$f":"+I68*D68","v":0}]
[]
["10","Parapetni kanal iz obarvane pločevine in s kovinsko pregrado za močnostne inštalacije in signalno-komunikacijske inštalacije. Kanal \nnaj bo opremljen komplet s pokrovom, pregradami, spojkami in \npritrdilnim materialom."]
[null,"Kot npr.: ELBA ali enakovredno"]
[null,"170/72mm, s pregrado","m",260,null,{"$f":"D72*E72","v":0},{"$f":"+E72*MM","v":0},{"$f":"+G72*D72","v":0},{"$f":"+E72-G72","v":0},{"$f":"+I72*D72","v":0}]
[null,"zaključek kanala","kos",120,null,{"$f":"D73*E73","v":0},{"$f":"+E73*MM","v":0},{"$f":"+G73*D73","v":0},{"$f":"+E73-G73","v":0},{"$f":"+I73*D73","v":0}]
[null,null,null,null,0]
["11","Talni stebriček dvostranski višine 60 cm; bele barve, komplet s pokrovi in pritrdilnim materialom",null,null,0]
[null,"Kot npr.: ELBA ali enakovredno",null,null,0]
[null,"AT-OK 160/110/x","kos",7,null,{"$f":"D77*E77","v":0},{"$f":"+E77*MM","v":0},{"$f":"+G77*D77","v":0},{"$f":"+E77-G77","v":0},{"$f":"+I77*D77","v":0}]
[]
["12","Konstrukcijsko jeklo, raznih profilov, opleskano z osnovno in končno barvo","kg",210,null,{"$f":"D79*E79","v":0},{"$f":"+E79*MM","v":0},{"$f":"+G79*D79","v":0},{"$f":"+E79-G79","v":0},{"$f":"+I79*D79","v":0}]
[]
["13","Instalacijska plastična cev, položena nadometno, komplet z razvodnimi dozami, pritrdilnim materialom."]
[null,"PN raznih dimenzij","m",4520,null,{"$f":"D82*E82","v":0},{"$f":"+E82*MM","v":0},{"$f":"+G82*D82","v":0},{"$f":"+E82-G82","v":0},{"$f":"+I82*D82","v":0}]
[]
["14","Instalacijska trda plastična gibljiva, negorljiva rebrasta cev,  položena v  predelne stene (knauf ali zidane), komplet z dozami in pritrdilnim materialom"]
[null,"Kot npr.: Frankishe "]
[null,"Tip: FBY-EL-F Highspeed ali enakovredno - raznih dimenzij","m",15980,null,{"$f":"D86*E86","v":0},{"$f":"+E86*MM","v":0},{"$f":"+G86*D86","v":0},{"$f":"+E86-G86","v":0},{"$f":"+I86*D86","v":0}]
[]
["15","Instalacijska trda plastična gibljiva rebrasta cev, položena v liti beton ali tlak, komplet z dozami in pritrdilnim materialom"]
[null,"Kot npr.: Frankishe "]
[null,"Tip: FFKuS-EM-F Highspeed ali enakovredno - raznih dimenzij","m",5210,null,{"$f":"D90*E90","v":0},{"$f":"+E90*MM","v":0},{"$f":"+G90*D90","v":0},{"$f":"+E90-G90","v":0},{"$f":"+I90*D90","v":0}]
[]
["16","Gibljiva zaščitna plastična cev, ojačena s spiralno opleteno trdo plastično žico raznih  dimenzij. \nKot npr.: Euroflex ali enakovredno"]
[null,"EUROFLEX raznih dimenzij","m",240,null,{"$f":"D93*E93","v":0},{"$f":"+E93*MM","v":0},{"$f":"+G93*D93","v":0},{"$f":"+E93-G93","v":0},{"$f":"+I93*D93","v":0}]
[]
[17,"Plastična gibljiva rebrasta cev, povprečne dolžine 2 m, raznih dimenzij, komplet z odgovarjajočo uvodnico na obeh koncih. \nKot npr.: Euroflex ali enakovredno","kos",22,null,{"$f":"D95*E95","v":0},{"$f":"+E95*MM","v":0},{"$f":"+G95*D95","v":0},{"$f":"+E95-G95","v":0},{"$f":"+I95*D95","v":0}]
[]
["18","Trda pregibna zaščitna plastična cev z gladko notranjo steno položena\nv predpripravljen teren z ustrezno pritrditvijo. Dobava v kolutu, sledečih dimenzij:"]
[null,"Kot npr.: Stigmaflex TK/EL ali enakovredno"]
[null,"DN 75/64 mm","m",70,null,{"$f":"D99*E99","v":0},{"$f":"+E99*MM","v":0},{"$f":"+G99*D99","v":0},{"$f":"+E99-G99","v":0},{"$f":"+I99*D99","v":0}]
[null,"DN 110/95 mm","m",40,null,{"$f":"D100*E100","v":0},{"$f":"+E100*MM","v":0},{"$f":"+G100*D100","v":0},{"$f":"+E100-G100","v":0},{"$f":"+I100*D100","v":0}]
[]
["19","Podometno stikalo, 250V, 10A, komplet z ustrezno dozo, montažnim\nin končnim okvirjem za montažo več stikal skupaj - modularni \nprogram."]
[null,"Kot npr.: Tem Čatež Soft ali enakovredno"]
[null,"navadno ","kos",138,null,{"$f":"D104*E104","v":0},{"$f":"+E104*MM","v":0},{"$f":"+G104*D104","v":0},{"$f":"+E104-G104","v":0},{"$f":"+I104*D104","v":0}]
[null,"menjalno","kos",16,null,0,0,0,0,0]
[null,"tipkalo","kos",104,null,0,0,0,0,0]
[null,"stikalo gor - dol (za žaluzije)","kos",158,null,0,0,0,0,0]
[null,"stikalo 1-0-2 (svetilke)","kos",8,null,0,0,0,0,0]
[null,"zatemnilno stikalo - dimmer","kos",4,null,0,0,0,0,0]
[]
["20","Nadometno stikalo v plastičnem ohišju  250V, 10A, IP 55"]
[null,"Kot npr.: Tem Čatež, Tip: Fontana ali enakovredno"]
[null,"navadno","kos",2,null,{"$f":"D113*E113","v":0},{"$f":"+E113*MM","v":0},{"$f":"+G113*D113","v":0},{"$f":"+E113-G113","v":0},{"$f":"+I113*D113","v":0}]
[null,"menjalno","kos",6,null,{"$f":"D114*E114","v":0},{"$f":"+E114*MM","v":0},{"$f":"+G114*D114","v":0},{"$f":"+E114-G114","v":0},{"$f":"+I114*D114","v":0}]
[null,"križno","kos",1,null,{"$f":"D115*E115","v":0},{"$f":"+E115*MM","v":0},{"$f":"+G115*D115","v":0},{"$f":"+E115-G115","v":0},{"$f":"+I115*D115","v":0}]
[]
[21,"Zaskočno tipkalo za izklop v sili, z rdečo tipko na rumeni podlagi. Tipkalo naj ima mirni in delovni kontakt 10A. V sklopu tipkala naj bo rumena plastična ploščica z vgraviranim napisom v skladu z tripolno shemo. Komplet za vgradnjo v parapetni kanal.","kpl",4,null,{"$f":"D117*E117","v":0},{"$f":"+E117*MM","v":0},{"$f":"+G117*D117","v":0},{"$f":"+E117-G117","v":0},{"$f":"+I117*D117","v":0}]
[]
[22,"Nadometna doza, tipske izvedbe z tremi odprtinami na čelni plošči, za vgradnjo treh različnih elementov. \nV dozo so vgrajeni: \n-zaskočno tipkalo za izklop v sili z rdečo tipko na rumeni podlagi, tipkalo naj ima mirni in delovni kontakt 10A, z rumeno plastično ploščico z vgraviranim napisom Izklop v sili,\n-tipka s ključem tipkalo naj ima mirni in delovni kontakt 10A, z napisom Vklop,\n-signalna LED svetilka zelene barve, 230V, z napisom Delovanje.","kpl",2,null,{"$f":"D119*E119","v":0},{"$f":"+E119*MM","v":0},{"$f":"+G119*D119","v":0},{"$f":"+E119-G119","v":0},{"$f":"+I119*D119","v":0}]
[]
["23","Krmilna omarica žaluzij\nPodometna pravokotna razvodna doza, za vgradnjo v knauf strop, z vgrajeno opremo: rele za povezavo več senčil na en izhod iz krmilnika oziroma stikala gor-dol (množitev signala za žaluzije), komplet z uvodnicami in pritrdilnim priborom"]
[null,"KOŽ (oznaka v načrtu)","kpl",10,null,{"$f":"D122*E122","v":0},{"$f":"+E122*MM","v":0},{"$f":"+G122*D122","v":0},{"$f":"+E122-G122","v":0},{"$f":"+I122*D122","v":0}]
[]
["24","Krmilna omarica senčil za telovadnico\nNadometna omarica 4x24 modulov, za vgradnjo na steno z vgrajeno opremo: "]
[null,"1 kos … napajalnik ENTIA EL-PS01"]
[null,"1 kos … Glavni krmilnik EL-MO1 z gate-way povezavo"]
[null,"4 kos … Modul 16 - izhodov; (Expander EL-E1601)"]
[null,"3 kos … Sens controler EL-S01"]
[null,"1 kos … Senzor jakosti vetra z relejem"]
[null,"1 kos … Senzor svetlobe in osvetljenosti z relejem"]
[null,"1 kos … glavno stikalo 25A 3p."]
[null,"4 kos … inštalacijski odklopnik C10A/1p."]
[null,"1 kpl … drobni in vezni material"]
[null,"520 m … kabel NHXH E30 4x1,5 mm2, ognjeodporen, s polaganjem"]
[null,"1 kpl … programiranje in parametriranje, glede na želje uporabnika"]
[null,null,"kpl",1,null,{"$f":"D136*E136","v":0},{"$f":"+E136*MM","v":0},{"$f":"+G136*D136","v":0},{"$f":"+E136-G136","v":0},{"$f":"+I136*D136","v":0}]
[]
["25","Senzor gibanja (IR), za zunanjo in notranjo stropno \nmontažo, z možnostjo nastavljanja občutlivosti 2-2000lx, časa vklopa 10sek - 15min,  IP54, montažna višina do 4m, kvadraten, komplet z relejem oz. kontaktorjem in dozo za neposredni vklop svetilke"]
[null,"Obremenitev:\n-2000W - omsko breme - navadne sijalke\n-1000W - fluo svetilke KVG\n-500W -fluo ali LED svetilke EVG"]
[null,"Proizvajalec: STEINEL ali enakovredno"]
[null,"S2 - IS 3360, kot 360°, doseg r = 20m, montiran na stropu, bel, nadgraden oz. vgraden pri spuščenem stropu","kos",56,null,{"$f":"D141*E141","v":0},{"$f":"+E141*MM","v":0},{"$f":"+G141*D141","v":0},{"$f":"+E141-G141","v":0},{"$f":"+I141*D141","v":0}]
[null,"S1 - IS 345, kot 180°, doseg  r = 20x4m, montiran na steni h=2,2m, bel, za hodnike, nadgraden","kos",2,null,{"$f":"D142*E142","v":0},{"$f":"+E142*MM","v":0},{"$f":"+G142*D142","v":0},{"$f":"+E142-G142","v":0},{"$f":"+I142*D142","v":0}]
[]
["26","Podometna vtičnica, komplet z ustrezno dozo, montažnim in končnim okvirjem za montažo več vtičnic skupaj- modularni program."]
[null,"Kot npr.: Tem Čatež ali enakovredno"]
[null,"250V, 16A, 1P+N+PE","kos",158,null,{"$f":"D146*E146","v":0},{"$f":"+E146*MM","v":0},{"$f":"+G146*D146","v":0},{"$f":"+E146-G146","v":0},{"$f":"+I146*D146","v":0}]
[null,"250V, 16A, 1P+N+PE s pokrovom","kos",30,null,{"$f":"D147*E147","v":0},{"$f":"+E147*MM","v":0},{"$f":"+G147*D147","v":0},{"$f":"+E147-G147","v":0},{"$f":"+I147*D147","v":0}]
[]
["27","Vtičnica z vodoravnimi kontakti, za vgradnjo v parapetni kanal, komplet z odgovarjajočo dozo, okvirjem in pritrdilnim materialom."]
[null,"Kot npr.: ELBA, Tip: ... ali enakovredno"]
[null,"250V, 16A, 1P+N+PE - trojna","kos",220,null,{"$f":"D151*E151","v":0},{"$f":"+E151*MM","v":0},{"$f":"+G151*D151","v":0},{"$f":"+E151-G151","v":0},{"$f":"+I151*D151","v":0}]
[null,"250V, 16A, 1P+N+PE - enojna s pokrovom","kos",28,null,{"$f":"D152*E152","v":0},{"$f":"+E152*MM","v":0},{"$f":"+G152*D152","v":0},{"$f":"+E152-G152","v":0},{"$f":"+I152*D152","v":0}]
[null,"400V, 16A, 1P+N+PE - rdeča motorska","kos",2,null,{"$f":"D153*E153","v":0},{"$f":"+E153*MM","v":0},{"$f":"+G153*D153","v":0},{"$f":"+E153-G153","v":0},{"$f":"+I153*D153","v":0}]
[]
["28","Podometna doza za fiksni priključek"]
[null,"Kot npr.: Tem Čatež ali enakovredno"]
[null,"250V, 16A, 1P+N+PE - doza s pokrovom (priključitev žaluzij)","kos",142,null,{"$f":"D157*E157","v":0},{"$f":"+E157*MM","v":0},{"$f":"+G157*D157","v":0},{"$f":"+E157-G157","v":0},{"$f":"+I157*D157","v":0}]
[null,"250V, 16A, 1P+N+PE - doza in priključnica","kos",86,null,{"$f":"D158*E158","v":0},{"$f":"+E158*MM","v":0},{"$f":"+G158*D158","v":0},{"$f":"+E158-G158","v":0},{"$f":"+I158*D158","v":0}]
[null,"400V, 16A, 3P+N+PE -  doza in priključnica","kos",4,null,{"$f":"D159*E159","v":0},{"$f":"+E159*MM","v":0},{"$f":"+G159*D159","v":0},{"$f":"+E159-G159","v":0},{"$f":"+I159*D159","v":0}]
[]
["29","Nadometna vtičnica v plastičnem ohišju in s pokrovom, IP 44"]
[null,"Kot npr.: TEM Čatež, Tip: Fontana ali enakovredno"]
[null,"250V, 16A, 1P+N+PE","kos",10,null,{"$f":"D163*E163","v":0},{"$f":"+E163*MM","v":0},{"$f":"+G163*D163","v":0},{"$f":"+E163-G163","v":0},{"$f":"+I163*D163","v":0}]
[]
["30","Nadometna euro vtičnica v plastičnem ohišju in s pokrovom, IP 44 - CEE"]
[null,"Kot npr.: Gewiss, Tip: CEE ali enakovredno"]
[null,"400V, 16A, 3P+N+PE ","kos",2,null,{"$f":"D167*E167","v":0},{"$f":"+E167*MM","v":0},{"$f":"+G167*D167","v":0},{"$f":"+E167-G167","v":0},{"$f":"+I167*D167","v":0}]
[null,"400V, 32A, 3P+N+PE ","kos",2,null,{"$f":"D168*E168","v":0},{"$f":"+E168*MM","v":0},{"$f":"+G168*D168","v":0},{"$f":"+E168-G168","v":0},{"$f":"+I168*D168","v":0}]
[]
["31","Nadometna razvodna doza, komplet z uvodnicami in pritrdilnim priborom"]
[null,"80 x 80 x 40 mm","kos",180,null,{"$f":"D171*E171","v":0},{"$f":"+E171*MM","v":0},{"$f":"+G171*D171","v":0},{"$f":"+E171-G171","v":0},{"$f":"+I171*D171","v":0}]
[null,"100 x 100 x 50 mm","kos",46,null,{"$f":"D172*E172","v":0},{"$f":"+E172*MM","v":0},{"$f":"+G172*D172","v":0},{"$f":"+E172-G172","v":0},{"$f":"+I172*D172","v":0}]
[null,"180 x 120 x 50 mm","kos",20,null,{"$f":"D173*E173","v":0},{"$f":"+E173*MM","v":0},{"$f":"+G173*D173","v":0},{"$f":"+E173-G173","v":0},{"$f":"+I173*D173","v":0}]
[]
["32","Kovinska zaščita za stikala in vtičnice v telovadnici, komplet z montažnim in pritrdilnim priborom.","kos",8,null,{"$f":"D175*E175","v":0},{"$f":"+E175*MM","v":0},{"$f":"+G175*D175","v":0},{"$f":"+E175-G175","v":0},{"$f":"+I175*D175","v":0}]
[null,null,null,null,0]
["33","Zvijavi vodnik z zmanjšano emisijo strupenih plinov in z rumeno-zeleno izolacijo za izenačevanje potencialov in povezavo kovinskih mas, položen prosto ali uvlečen v predhodno položene instalacijske cevi"]
[null,"H07Z1-K  6","m",3780,null,{"$f":"D178*E178","v":0},{"$f":"+E178*MM","v":0},{"$f":"+G178*D178","v":0},{"$f":"+E178-G178","v":0},{"$f":"+I178*D178","v":0}]
[null,"H07Z1-K 10","m",880.00000000000011,null,0,0,0,0,0]
[null,"H07Z1-K 16","m",420,null,0,0,0,0,0]
[null,"H07Z1-K 35","m",80,null,0,0,0,0,0]
[null,"H07Z1-K 70","m",60,null,0,0,0,0,0]
[null,"H07Z1-K 120","m",40,null,0,0,0,0,0]
[]
["34","Ozemljilna žica; položeno  ob kabelski polici komplet z ustreznimi objemkami"]
[null,"Rf 8 mm","m",140,null,{"$f":"D186*E186","v":0},{"$f":"+E186*MM","v":0},{"$f":"+G186*D186","v":0},{"$f":"+E186-G186","v":0},{"$f":"+I186*D186","v":0}]
[]
["35","Povezava kovinskih mas z vodnikom za izenačevanje potencialov, komplet z ustreznimi objemkami in pritrdilnim materialom","kos",316,null,{"$f":"D188*E188","v":0},{"$f":"+E188*MM","v":0},{"$f":"+G188*D188","v":0},{"$f":"+E188-G188","v":0},{"$f":"+I188*D188","v":0}]
[]
["36","GIP- glavna izenačitev potenciala. Cu zbiralka 30 x 5 mm, dolžine 300mm, skupaj z vijaki 8xM8,  3xM10, za izenačevanje potencialov, nameščena na izolatorjih pritrjenih na el. polici ali zidu,  kompletno s pritrdilnim materialom. (Oznaka v načrtu GIP)","kos",1,null,{"$f":"D190*E190","v":0},{"$f":"+E190*MM","v":0},{"$f":"+G190*D190","v":0},{"$f":"+E190-G190","v":0},{"$f":"+I190*D190","v":0}]
[]
["37","Podometna doza za izenačevanje potencialov, komplet s Cu zbiralko in pritrdilnim materialom. (Oznaka v načrtu DIP)","kos",15,null,{"$f":"D192*E192","v":0},{"$f":"+E192*MM","v":0},{"$f":"+G192*D192","v":0},{"$f":"+E192-G192","v":0},{"$f":"+I192*D192","v":0}]
[]
["38","Zbiralka za izenačitev potencialov IP, skupaj z vijaki, dolžine zbiralke  cca 250mm na nosilcih za montažo na kabelsko polico, za povezavo izpostavljenih kovinskih mas na izenačevanje potencialov. (H-EB01)","kos",16,null,{"$f":"D194*E194","v":0},{"$f":"+E194*MM","v":0},{"$f":"+G194*D194","v":0},{"$f":"+E194-G194","v":0},{"$f":"+I194*D194","v":0}]
[]
["39","Zatesnitev prehodov kabelskih polic med požarnimi  sektorji s protipožarnimi blazinicami."]
[null,"Ob montaži je potrebno upoštevati navodila proizvajalca. Po montaži je potrebno zaporo označiti s podatki o sistemu in izdelovalcu. "]
[null,"Za celotno konstrukcijo je potrebno predložiti ustrezna dokazila o požarnih odpornostih."]
[null,"Kot npr.: Piroterm, Tip: PB ali enakovredno"]
[null,"Blazinice 10x20x3cm - EI 60 ","kos",52,null,{"$f":"D200*E200","v":0},{"$f":"+E200*MM","v":0},{"$f":"+G200*D200","v":0},{"$f":"+E200-G200","v":0},{"$f":"+I200*D200","v":0}]
[null,"Blazinice 20x20x3cm - EI 60","kos",30,null,{"$f":"D201*E201","v":0},{"$f":"+E201*MM","v":0},{"$f":"+G201*D201","v":0},{"$f":"+E201-G201","v":0},{"$f":"+I201*D201","v":0}]
[]
["40","Zatesnitev prehodov posameznih kablov med požarnimi  sektorji s protipožarnimi kitom v kartušah po 300cm³."]
[null,"Ob montaži je potrebno upoštevati navodila proizvajalca. Po montaži je potrebno zaporo označiti s podatki o sistemu in izdelovalcu. "]
[null,"Za celotno konstrukcijo je potrebno predložiti ustrezna dokazila o požarnih odpornostih."]
[null,"Kot npr.: Piroterm, Tip: PK expan ali enakovredno"]
[null,"Kartuša 300ml","kos",24,null,{"$f":"D207*E207","v":0},{"$f":"+E207*MM","v":0},{"$f":"+G207*D207","v":0},{"$f":"+E207-G207","v":0},{"$f":"+I207*D207","v":0}]
[]
["41","Instalacijski požarnoodporni tulec za instalacijo kablov v ali skozi požarnoodporne stene F30-F90"]
[null,"Kot npr.: Kaiser, Tip: LS... ali enakovredno"]
[null,"Tip: LS 90 9459-01 - raznih dimenzij","kos",28,null,{"$f":"D211*E211","v":0},{"$f":"+E211*MM","v":0},{"$f":"+G211*D211","v":0},{"$f":"+E211-G211","v":0},{"$f":"+I211*D211","v":0}]
[null,"Tip: LS 90 9459-02 - raznih dimenzij","kos",26,null,{"$f":"D212*E212","v":0},{"$f":"+E212*MM","v":0},{"$f":"+G212*D212","v":0},{"$f":"+E212-G212","v":0},{"$f":"+I212*D212","v":0}]
[]
["42","Zatesnitev prehodov kabelskih polic med požarnimi  sektorji s protipožarnim premazom."]
[null,"Ob montaži je potrebno upoštevati navodila proizvajalca. Po montaži je potrebno zaporo označiti s podatki o sistemu in izdelovalcu. "]
[null,"Za celotno konstrukcijo je potrebno predložiti ustrezna dokazila o požarnih odpornostih."]
[null,"Kot npr.: Piroterm BP ali enakovredno"]
[null,"horizontalni prehod dimenzij 40x15 cm","kos",3,null,{"$f":"D218*E218","v":0},{"$f":"+E218*MM","v":0},{"$f":"+G218*D218","v":0},{"$f":"+E218-G218","v":0},{"$f":"+I218*D218","v":0}]
[null,"horizontalni prehod dimenzij 30x15 cm","kos",6,null,{"$f":"D219*E219","v":0},{"$f":"+E219*MM","v":0},{"$f":"+G219*D219","v":0},{"$f":"+E219-G219","v":0},{"$f":"+I219*D219","v":0}]
[null,"vertikalni prehod dimenzij fi100 mm","kos",12,null,{"$f":"D220*E220","v":0},{"$f":"+E220*MM","v":0},{"$f":"+G220*D220","v":0},{"$f":"+E220-G220","v":0},{"$f":"+I220*D220","v":0}]
[]
["43","Izdelava napisnih ploščic iz trde plastike velikosti cca 40x80x3mm z vgraviranimi črkovnimi in številčnimi oznakami elementov iz tlorisnih in vezalnih shem (velikost pisave 10mm), komplet s pritrdilnim materialom za namestitev ploščic na elemente strojnih naprav","kos ",32,null,{"$f":"D222*E222","v":0},{"$f":"+E222*MM","v":0},{"$f":"+G222*D222","v":0},{"$f":"+E222-G222","v":0},{"$f":"+I222*D222","v":0}]
[]
["44","Izdelava napisnih ploščic oziroma tablic za oznake kablov iz poltrde plastike, z neizbrisljivo vpisanimi oznakami kablov iz vezalnih in enopolnih shem (velikost pisave cca 10mm), komplet s plastično vezico za namestitev ploščice na kabel"]
[null,"velikosti cca 40x80mm - dovodni kabli","kos ",90,null,{"$f":"D225*E225","v":0},{"$f":"+E225*MM","v":0},{"$f":"+G225*D225","v":0},{"$f":"+E225-G225","v":0},{"$f":"+I225*D225","v":0}]
[null,"velikosti cca 20x60mm - ostali kabli","kos ",740,null,{"$f":"D226*E226","v":0},{"$f":"+E226*MM","v":0},{"$f":"+G226*D226","v":0},{"$f":"+E226-G226","v":0},{"$f":"+I226*D226","v":0}]
[]
["45","Izdelava napisnih ploščic oziroma nalepk za označevanje vseh vtičnic, stikal, priključkov in razvodnih doz, z neizbrisljivo vpisanimi oznakami iz vezalnih in enopolnih shem (velikost pisave cca 8mm).","kos ",1450,null,{"$f":"D228*E228","v":0},{"$f":"+E228*MM","v":0},{"$f":"+G228*D228","v":0},{"$f":"+E228-G228","v":0},{"$f":"+I228*D228","v":0}]
[]
["46","Priključek kabla s tremi ali štirimi vodniki na ventilatorski konvektor, kalorifer, požarno loputo, dimno loputo, el. pisoar, fenomat, rolo vrata, hitrotekoča vrata, dvižna ploščad, senčila, žaluzije, ventilator oz. krmilni ali regulacijski element…"]
[null,"el.pogon senčila oz. okna","kos",158,null,{"$f":"D231*E231","v":0},{"$f":"+E231*MM","v":0},{"$f":"+G231*D231","v":0},{"$f":"+E231-G231","v":0},{"$f":"+I231*D231","v":0}]
[null,"el. pipe in pisoarji","kos",20,null,0,0,0,0,0]
[null,"priklop požarnih loput  230V","kos",6,null,{"$f":"D233*E233","v":0},0,0,0,0]
[null,"priklop okna za ODT","kos",26,null,{"$f":"D234*E234","v":0},0,0,0,0]
[null,"priklop kuhalne plošče 230V","kos",2,null,{"$f":"D235*E235","v":0},0,0,0,0]
[null,"priklop črpališča","kos",1,null,0,0,0,0,0]
[null,"konvektor (stropni ali stenski)","kos",10,null,{"$f":"D237*E237","v":0},0,0,0,0]
[null,"ventilator do 1kW/400V","kos",8,null,{"$f":"D238*E238","v":0},0,0,0,0]
[]
["47","Priključek kompaktnih naprav, ki imajo prigrajeno svojo elektro omaro in so zajete v popisu strojnih instalacij "]
[null,"VRV sistem","kos",1,null,{"$f":"D241*E241","v":0},{"$f":"+E241*MM","v":0},{"$f":"+G241*D241","v":0},{"$f":"+E241-G241","v":0},{"$f":"+I241*D241","v":0}]
[null,"klimat","kos",2,null,{"$f":"D242*E242","v":0},{"$f":"+E242*MM","v":0},{"$f":"+G242*D242","v":0},{"$f":"+E242-G242","v":0},{"$f":"+I242*D242","v":0}]
[null,"split sistem","kos",3,null,{"$f":"D243*E243","v":0},{"$f":"+E243*MM","v":0},{"$f":"+G243*D243","v":0},{"$f":"+E243-G243","v":0},{"$f":"+I243*D243","v":0}]
[]
["48","Priklop el. elementov"]
[null,"el.razdelilci predvideni v objektu","kos",15,null,{"$f":"D246*E246","v":0},{"$f":"+E246*MM","v":0},{"$f":"+G246*D246","v":0},{"$f":"+E246-G246","v":0},{"$f":"+I246*D246","v":0}]
[null,"el.razdelilci obstoječi v objektu","kos",5,null,{"$f":"D247*E247","v":0},{"$f":"+E247*MM","v":0},{"$f":"+G247*D247","v":0},{"$f":"+E247-G247","v":0},{"$f":"+I247*D247","v":0}]
[null,"komunikacijska vozlišča","kos",2,null,{"$f":"D248*E248","v":0},{"$f":"+E248*MM","v":0},{"$f":"+G248*D248","v":0},{"$f":"+E248-G248","v":0},{"$f":"+I248*D248","v":0}]
[null,"kompenzacija","kos",3,null,{"$f":"D249*E249","v":0},{"$f":"+E249*MM","v":0},{"$f":"+G249*D249","v":0},{"$f":"+E249-G249","v":0},{"$f":"+I249*D249","v":0}]
[null,"centrale VNC, JP, AC, domofon,…","kos",8,null,{"$f":"D250*E250","v":0},{"$f":"+E250*MM","v":0},{"$f":"+G250*D250","v":0},{"$f":"+E250-G250","v":0},{"$f":"+I250*D250","v":0}]
[]
["49","Dobava in montaža SKN - svetlobne klicne naprave (WC invalidi)  certificiran proizvod v naslednji sestavi:",null,null,0]
[null,"~ pozivna zvočno svetlobna kombinacija - 1 kos"]
[null,"~ Klicna potezna tipka K-SOS - 1 kos"]
[null,"~ Razrešitvena kombinacija R-SOS - 1 kos"]
[null,"~ Kontrolna enota P-SOS - 1 kos"]
[null,"~ Akustični pozivnik AP1-SOS - 1 kos"]
[null,"~ Napajalnik za SKN - 1 kos"]
[null,null,"kpl",1,null,{"$f":"D259*E259","v":0},{"$f":"+E259*MM","v":0},{"$f":"+G259*D259","v":0},{"$f":"+E259-G259","v":0},{"$f":"+I259*D259","v":0}]
[null,null,null,null,null,{"$f":"D260*E260","v":0}]
[50,"Zarisovanje, funkcionalni preizkus, označevanje vseh elementov (obvezno trajne oznake na vtičnicah stikalih, priključkih,...)  in spuščanje v pogon ","kpl",1,null,{"$f":"D261*E261","v":0},{"$f":"+E261*MM","v":0},{"$f":"+G261*D261","v":0},{"$f":"+E261-G261","v":0},{"$f":"+I261*D261","v":0}]
[]
[51,"Usklajevanje s strojnim gradbenim izvajalcem, krovcem, fasaderi,... - režijske ure","ur",60,null,{"$f":"D263*E263","v":0},{"$f":"+E263*MM","v":0},{"$f":"+G263*D263","v":0},{"$f":"+E263-G263","v":0},{"$f":"+I263*D263","v":0}]
[]
[52,"Označevanje vseh vtičnic, stikal, tokokrogov, varnostnih svetilk, električnih porabnikov,…","kpl",1,null,{"$f":"D265*E265","v":0},{"$f":"+E265*MM","v":0},{"$f":"+G265*D265","v":0},{"$f":"+E265-G265","v":0},{"$f":"+I265*D265","v":0}]
[]
[53,"Označevanje vseh požarno zatesnjenih prebojev z ustreznimi oznakami","kpl",1,null,{"$f":"D267*E267","v":0},{"$f":"+E267*MM","v":0},{"$f":"+G267*D267","v":0},{"$f":"+E267-G267","v":0},{"$f":"+I267*D267","v":0}]
[]
[54,"Drobni, vezni in spojni material (upoštevati tudi mavec, mivko,…)","kpl",1,null,{"$f":"D269*E269","v":0},{"$f":"+E269*MM","v":0},{"$f":"+G269*D269","v":0},{"$f":"+E269-G269","v":0},{"$f":"+I269*D269","v":0}]
[]
["55","Obračun po količinah, ki izhajajo iz potrjenega gradbenega dnevnika in ob upoštevanju kalkulativnih osnov","kpl",1,{"$f":"SUM(F6:F269)*0.05","v":0},{"$f":"D271*E271","v":0},{"$f":"+E271*MM","v":0},{"$f":"+G271*D271","v":0},{"$f":"+E271-G271","v":0},{"$f":"+I271*D271","v":0}]
[]
[{"$f":"A2","v":"3/1.3"},{"$f":"B2","v":"Objekt A in B,   INSTALACIJSKI MATERIAL"},null,null,null,{"$f":"SUM(F6:F271)","v":0},null,{"$f":"SUM(H6:H271)","v":0},null,{"$f":"SUM(J6:J271)","v":0}]

{"sheet":"AB-D.RAZDELILNIKI","index":50,"n_rows":283,"n_cols":15,"rows_kept":283,"cut":false,"hidden":false,"merged":[]}
[]
["3/1.4","Objekt A in B,   RAZDELILNIKI"]
[]
["ZAP. ŠT.","OPIS","     ME","KOLIČUNA","CENA/ENOTO","SKUPAJ","POPUST","POPUST SKUPAJ","CENA/ENOTO S POPUSTOM","SKUPAJ S POPUSTOM"]
[]
["3/1.4","RAZDELILNIKI"]
[]
[null,"OPOMBE:"]
[null,"Oprema v el. razdelilnikh: kot Legrand, Eaton ali Eti oziroma enakovredno; obvezno testiranje vseh el. razdelilnikov z ustrezno dokumentacijo, predložitev vseh certifikatov vgrajene opreme. Upoštevati sestavljanje v delavnici, transport in montažo na predvidenem mestu z vsemi priklopi kablov"]
[null,"Izdelati je potrebno delavniške risbe izgledov razdelilnikov, ki jih morata potrditi projektant, pooblaščeni predstavnik uporabnika in nadzornik!"]
[null,"Dimenzijo razdelilnikov je potrebno prilagoditi vstopni dimenziji v prostor. Pred naročanjem je potrebno preveriti izvedene gradbene dimenzije prostorov za postavitev razdelilnikov, kakor tudi že montirano strojno in tehnološko opremo. Po potrebi je potrebno korigirati dimenzije razdelilnikov."]
[]
[null,"Električni razdelilniki / Nizkonapetostni sestavi"]
[null,"Razdelilniki so prostostoječe ali vgradne izvedbe, izdelani iz dekapirane jeklene pločevine in profilov, opleskani z osnovno in končno barvo.Opremljeni so z vrati po robu obloženimi z gumijastim profilom, tipsko ključavnico objekta, montažno ploščo prilagojeno dimeziji el. razdelilnika ter žepom za načrte formata A4 z notranje strani. Vsak element v razdelilniku mora imeti oznako iz enopolne sheme. \nZaščita je IP 43."]
[]
["1","ER-G (glavni el. razdelilnik)"]
[null,"El. razdelilnik razvoda moči (glavna el. omara celotnega kompleksa) R-G, tipske, modularne, prostostoječe izvedbe, izdelan iz dvakrat dekapirane jeklene pločevine in profilov, opleskan z osnovno in končno barvo-prašni nanos, barva RAL7035, IP54, IK08, ustrezno s standardom IEC 61439, tip XL³4000, FORM 2b; kot Legrand.\nKabelski dovod od zgoraj, odvodi od zgoraj.\nDimenzija razdelilnika (VxŠxG): 2175x1200x400mm\nV razdelilniku je vgrajena sledeča oprema (upoštevati dobavo, montažo in transport):","kos",1]
[null,"dobava in montaža:"]
[null,"Odklopnik MCCB  DPX3 630 S2 3P 400A 36kA , kot Legrand electronic  ","kos",1]
[null,"DPX3 pomožni/signalni kontakt, ","kos",6]
[null,"DPX3 630 pokrov kontaktov, ","kos",1]
[null,"DPX3 630 priključni kontakti 4x150mm ","kpl",1]
[null,"DPX3 630 izklopna tuljava 230V, ","kos",1]
[null,"Odklopnik, MCCB DPX3 250 EL.3P 200A 36kA, kot Legrand electronic ","kos",1]
[null,"Odklopnik, MCCB DPX3 160 EL.3P 160A 36kA, kot Legrand electronic ","kos",2]
[null,"Odklopnik, MCCB DPX3 160 EL.3P 100A 36kA, kot Legrand electronic ","kos",3]
[null,"Odklopnik, MCCB DPX3 160 EL.3P 50A 36kA, kot Legrand electronic ","kos",2]
[null,"Varovalčni ločilnik NV00, do160A komplet s talilnimi vložki 3x160A, ","kos",1]
[null,"Varovalčni ločilnik SP51 10x38 3P, do 25A komplet s talilnimi vložki, ","kos",2]
[null,"Instalacijski odklopnik TX3 1P C6 10 kA,","kos",1]
[null,"Instalacijski odklopnik TX3 1P C10 10 kA,","kos",1]
[null,"zaščitno stikalo na diferenčni tok RCCB; 40A,4p,30mA; tip A","kos ",1]
[null,"Prenapetostna zaščita T1+T2 8kA 3P, ","kos",1]
[null,"Večfunkcijski analizator mreže za merjenje električnih parametrov in RS485 izhodom za priključitev na ModBus sistem, kot tip ETIMETER ENA3 Eti, komplet z adapterjem USB-RS485 za prenos podatkov","kos",6]
[null,"Tokovni transformator tip CTL, Legrand ali enak:"]
[null,"300/5A, 10VA","kos",4]
[null,"200/5A, 10VA","kos",3]
[null,"100/5A, 10VA","kos",9]
[null,"50/5A, 10VA","kos",3]
[null,"Modbus communication interface RS485","kos",1]
[null,"Drobni in vezni material kot so PVC kanali, Cu zbiralke, vijaki, žica ustreznega preseka, zaključne letve za vrstne sponke, vezice, obešalo za dokumentacijo, označevalne ploščice za elemente, napisne ploščice stikal in lučk,...","kpl",1]
[null,"povezava razdelilnika na instalacijo na terenu","ur",30]
[null,"SKUPAJ","kpl",1,null,{"$f":"D43*E43","v":0},{"$f":"+E43*MM","v":0},{"$f":"+G43*D43","v":0},{"$f":"+E43-G43","v":0},{"$f":"+I43*D43","v":0}]
[]
["2","R-P.G1"]
[null,"El. razdelilnik razvoda moči R-P.G1, tipske, podometne izvedbe, izdelan iz dvakrat dekapirane jeklene pločevine in profilov, opleskan z osnovno in končno barvo-prašni nanos, barva RAL7035, IP43, IK08, ustrezno s standardom IEC 61439-1&2, t\nKabelski dovod od zgoraj, ali spodaj odvodi od zgoraj in spodaj.\nDimenzija razdelilnika (VxŠxG): 1000x800x250mm.\nV razdelilniku je vgrajena sledeča oprema:","kos",1]
[null,"dobava in montaža:"]
[null,"Glavno stikalo, CLBS 125 3P; 125A kot Eti","kpl",1]
[null,"Varovalčni ločilnik kot Legrand SP 58 (do 125A; 3p.) komplet z vložki","kos",9]
[null,"Varovalčni ločilnik kot Legrand SP 51 (do 50A; 3p.) komplet z vložki","kos",2]
[null,"zaščitno stikalo na diferenčni tok RCCB; 40A,4p,30mA; tip A","kos ",4]
[null,"Prenapetostna zaščita PZH R1 275/12,5/3+1 , kot Hermi","kpl",1]
[null,"Instalacijski odklopnik do 25A 1p.; 10 kA","kos",10]
[null,"Instalacijski odklopnik do 25A 3p.; 10 kA","kos",1]
[null,"Zbiralka N, PE","kpl",1]
[null,"Drobni in vezni material kot so PVC kanali, Cu zbiralke, vijaki, žica ustreznega preseka, zaključne letve za vrstne sponke, vezice, obešalo za dokumentacijo, označevalne ploščice za elemente, napisne ploščice stikal in lučk,...","kpl",1]
[null,"povezava razdelilnika na instalacijo na terenu","ur",14]
[null,"SKUPAJ","kpl",1,null,{"$f":"D58*E58","v":0},{"$f":"+E58*MM","v":0},{"$f":"+G58*D58","v":0},{"$f":"+E58-G58","v":0},{"$f":"+I58*D58","v":0}]
[]
["3","R-ŠP.A"]
[null,"El. razdelilnik etažni R-ŠP.A, tipske, prostostoječe izvedbe, izdelan iz dvakrat dekapirane jeklene pločevine in profilov, opleskan z osnovno in končno barvo-prašni nanos, barva RAL7035, IP43, IK08, ustrezno s standardom IEC 61439-1&2, t\nKabelski dovod od zgoraj, ali spodaj odvodi od zgoraj in spodaj.\nDimenzija razdelilnika (VxŠxG): 2000x600x250mm na podstavku višine 100mm.\nV razdelilniku je vgrajena sledeča oprema:","kos",1]
[null,"dobava in montaža:"]
[null,"Glavno stikalo, CLBS 63 3P; 63A kot Eti","kpl",1]
[null,"Varovalčni ločilnik kot Legrand SP 51 (do 50A; 3p.) komplet z vložki","kos",6]
[null,"zaščitno stikalo na diferenčni tok RCCB; 40A,4p,30mA; tip A","kos ",3]
[null,"Prenapetostna zaščita PZH R1 275/12,5/3+1 , kot Hermi","kpl",1]
[null,"Instalacijski odklopnik do 25A 1p.; 10 kA","kos",29]
[null,"Instalacijski odklopnik do 25A 3p.; 10 kA","kos",1]
[null,"motorsko zaščitno stikalo MPE 25; 1,0-1,6A","kos",1]
[null,"močnostni kontaktor MC-12a; 230V","kos",1]
[null,"inštalacijski kontaktor R20-20; 230V","kos",1]
[null,"preklopno stikalo 1-0-2; 10A","kos",2]
[null,"stikalna ura; Timer; Digi, 1-kanal","kos",1]
[null,"impulzni rele (stikalo) 16A; 230V","kos",2]
[null,"Zbiralka N, PE","kpl",1]
[null,"Drobni in vezni material kot so PVC kanali, Cu zbiralke, vijaki, žica ustreznega preseka, zaključne letve za vrstne sponke, vezice, obešalo za dokumentacijo, označevalne ploščice za elemente, napisne ploščice stikal in lučk,...","kpl",1]
[null,"povezava razdelilnika na instalacijo na terenu","ur",20]
[null,"SKUPAJ","kpl",1,null,{"$f":"D78*E78","v":0},{"$f":"+E78*MM","v":0},{"$f":"+G78*D78","v":0},{"$f":"+E78-G78","v":0},{"$f":"+I78*D78","v":0}]
[]
["4","R-ŠP.B"]
[null,"El. razdelilnik etažni R-ŠP.B, tipske, prostostoječe izvedbe, izdelan iz dvakrat dekapirane jeklene pločevine in profilov, opleskan z osnovno in končno barvo-prašni nanos, barva RAL7035, IP43, IK08, ustrezno s standardom IEC 61439-1&2, t\nKabelski dovod od zgoraj, ali spodaj odvodi od zgoraj in spodaj.\nDimenzija razdelilnika (VxŠxG): 2000x600x250mm na podstavku višine 100mm.\nV razdelilniku je vgrajena sledeča oprema:","kos",1]
[null,"dobava in montaža:"]
[null,"Glavno stikalo, CLBS 63 3P; 63A kot Eti","kpl",1]
[null,"Varovalčni ločilnik kot Legrand SP 51 (do 50A; 3p.) komplet z vložki","kos",6]
[null,"zaščitno stikalo na diferenčni tok RCCB; 40A,4p,30mA; tip A","kos ",3]
[null,"Prenapetostna zaščita PZH R1 275/12,5/3+1 , kot Hermi","kpl",1]
[null,"Instalacijski odklopnik do 25A 1p.; 10 kA","kos",32]
[null,"Instalacijski odklopnik do 25A 3p.; 10 kA","kos",1]
[null,"motorsko zaščitno stikalo MPE 25; 1,0-1,6A","kos",1]
[null,"močnostni kontaktor MC-12a; 230V","kos",1]
[null,"preklopno stikalo 1-0-2; 10A","kos",1]
[null,"stikalna ura; Timer; Digi, 1-kanal","kos",1]
[null,"impulzni rele (stikalo) 16A; 230V","kos",2]
[null,"Zbiralka N, PE","kpl",1]
[null,"Drobni in vezni material kot so PVC kanali, Cu zbiralke, vijaki, žica ustreznega preseka, zaključne letve za vrstne sponke, vezice, obešalo za dokumentacijo, označevalne ploščice za elemente, napisne ploščice stikal in lučk,...","kpl",1]
[null,"povezava razdelilnika na instalacijo na terenu","ur",22]
[null,"SKUPAJ","kpl",1,null,{"$f":"D97*E97","v":0},{"$f":"+E97*MM","v":0},{"$f":"+G97*D97","v":0},{"$f":"+E97-G97","v":0},{"$f":"+I97*D97","v":0}]
[]
["5","R-Š1N.A"]
[null,"El. razdelilnik etažni R-Š1N.A, tipske, prostostoječe izvedbe, izdelan iz dvakrat dekapirane jeklene pločevine in profilov, opleskan z osnovno in končno barvo-prašni nanos, barva RAL7035, IP43, IK08, ustrezno s standardom IEC 61439-1&2, t\nKabelski dovod od zgoraj, ali spodaj odvodi od zgoraj in spodaj.\nDimenzija razdelilnika (VxŠxG): 2000x600x250mm na podstavku višine 100mm.\nV razdelilniku je vgrajena sledeča oprema:","kos",1]
[null,"dobava in montaža:"]
[null,"Glavno stikalo, CLBS 63 3P; 63A kot Eti","kpl",1]
[null,"Varovalčni ločilnik kot Legrand SP 51 (do 50A; 3p.) komplet z vložki","kos",6]
[null,"zaščitno stikalo na diferenčni tok RCCB; 40A,4p,30mA; tip A","kos ",3]
[null,"Prenapetostna zaščita PZH R1 275/12,5/3+1 , kot Hermi","kpl",1]
[null,"Instalacijski odklopnik do 25A 1p.; 10 kA","kos",31]
[null,"Instalacijski odklopnik do 25A 3p.; 10 kA","kos",1]
[null,"motorsko zaščitno stikalo MPE 25; 1,0-1,6A","kos",1]
[null,"močnostni kontaktor MC-12a; 230V","kos",1]
[null,"inštalacijski kontaktor R20-20; 230V","kos",2]
[null,"rele z zakasnjenim izklopom CTM91H; 230Vac","kos",1]
[null,"preklopno stikalo 1-0-2; 10A","kos",2]
[null,"stikalna ura; Timer; Digi, 1-kanal","kos",1]
[null,"impulzni rele (stikalo) 16A; 230V","kos",2]
[null,"Zbiralka N, PE","kpl",1]
[null,"Drobni in vezni material kot so PVC kanali, Cu zbiralke, vijaki, žica ustreznega preseka, zaključne letve za vrstne sponke, vezice, obešalo za dokumentacijo, označevalne ploščice za elemente, napisne ploščice stikal in lučk,...","kpl",1]
[null,"povezava razdelilnika na instalacijo na terenu","ur",20]
[null,"SKUPAJ","kpl",1,null,{"$f":"D118*E118","v":0},{"$f":"+E118*MM","v":0},{"$f":"+G118*D118","v":0},{"$f":"+E118-G118","v":0},{"$f":"+I118*D118","v":0}]
[]
["6","R-Š1N.B"]
[null,"El. razdelilnik etažni R-Š1N.B, tipske, prostostoječe izvedbe, izdelan iz dvakrat dekapirane jeklene pločevine in profilov, opleskan z osnovno in končno barvo-prašni nanos, barva RAL7035, IP43, IK08, ustrezno s standardom IEC 61439-1&2, t\nKabelski dovod od zgoraj, ali spodaj odvodi od zgoraj in spodaj.\nDimenzija razdelilnika (VxŠxG): 2000x600x250mm na podstavku višine 100mm.\nV razdelilniku je vgrajena sledeča oprema:","kos",1]
[null,"dobava in montaža:"]
[null,"Glavno stikalo, CLBS 63 3P; 63A kot Eti","kpl",1]
[null,"Varovalčni ločilnik kot Legrand SP 51 (do 50A; 3p.) komplet z vložki","kos",6]
[null,"zaščitno stikalo na diferenčni tok RCCB; 40A,4p,30mA; tip A","kos ",3]
[null,"Prenapetostna zaščita PZH R1 275/12,5/3+1 , kot Hermi","kpl",1]
[null,"Instalacijski odklopnik do 25A 1p.; 10 kA","kos",32]
[null,"Instalacijski odklopnik do 25A 3p.; 10 kA","kos",1]
[null,"motorsko zaščitno stikalo MPE 25; 1,0-1,6A","kos",1]
[null,"močnostni kontaktor MC-12a; 230V","kos",1]
[null,"inštalacijski kontaktor R20-20; 230V","kos",1]
[null,"rele z zakasnjenim izklopom CTM91H; 230Vac","kos",1]
[null,"preklopno stikalo 1-0-2; 10A","kos",1]
[null,"stikalna ura; Timer; Digi, 1-kanal","kos",1]
[null,"impulzni rele (stikalo) 16A; 230V","kos",2]
[null,"Zbiralka N, PE","kpl",1]
[null,"Drobni in vezni material kot so PVC kanali, Cu zbiralke, vijaki, žica ustreznega preseka, zaključne letve za vrstne sponke, vezice, obešalo za dokumentacijo, označevalne ploščice za elemente, napisne ploščice stikal in lučk,...","kpl",1]
[null,"povezava razdelilnika na instalacijo na terenu","ur",22]
[null,"SKUPAJ","kpl",1,null,{"$f":"D139*E139","v":0},{"$f":"+E139*MM","v":0},{"$f":"+G139*D139","v":0},{"$f":"+E139-G139","v":0},{"$f":"+I139*D139","v":0}]
[]
["7","R-Š1N.RU"]
[null,"El. razdelilnik etažni R-Š1N.RU, tipske, podometne izvedbe, izdelan iz dvakrat dekapirane jeklene pločevine in profilov, opleskan z osnovno in končno barvo-prašni nanos, barva RAL7035, IP43, IK08, ustrezno s standardom IEC 61439-1&2, t\nKabelski dovod od zgoraj, ali spodaj odvodi od zgoraj in spodaj.\nDimenzija razdelilnika (VxŠxG): 920x335x110mm.\nV razdelilniku je vgrajena sledeča oprema:","kos",1]
[null,"dobava in montaža:"]
[null,"Glavno stikalo, CLBS 25 3P; 25A kot Eti","kpl",1]
[null,"zaščitno stikalo na diferenčni tok RCCB; 40A,4p,30mA; tip A","kos ",1]
[null,"Prenapetostna zaščita PZH R1 275/12,5/3+1 , kot Hermi","kpl",1]
[null,"Instalacijski odklopnik do 25A 1p.; 10 kA","kos",15]
[null,"Zbiralka N, PE","kpl",1]
[null,"Drobni in vezni material kot so PVC kanali, Cu zbiralke, vijaki, žica ustreznega preseka, zaključne letve za vrstne sponke, vezice, obešalo za dokumentacijo, označevalne ploščice za elemente, napisne ploščice stikal in lučk,...","kpl",1]
[null,"povezava razdelilnika na instalacijo na terenu","ur",6]
[null,"SKUPAJ","kpl",1,null,{"$f":"D151*E151","v":0},{"$f":"+E151*MM","v":0},{"$f":"+G151*D151","v":0},{"$f":"+E151-G151","v":0},{"$f":"+I151*D151","v":0}]
[]
["8","R-Š2N.A"]
[null,"El. razdelilnik etažni R-Š2N.A, tipske, prostostoječe izvedbe, izdelan iz dvakrat dekapirane jeklene pločevine in profilov, opleskan z osnovno in končno barvo-prašni nanos, barva RAL7035, IP43, IK08, ustrezno s standardom IEC 61439-1&2, t\nKabelski dovod od zgoraj, ali spodaj odvodi od zgoraj in spodaj.\nDimenzija razdelilnika (VxŠxG): 2000x600x250mm na podstavku višine 100mm.\nV razdelilniku je vgrajena sledeča oprema:","kos",1]
[null,"dobava in montaža:"]
[null,"Glavno stikalo, CLBS 63 3P; 63A kot Eti","kpl",1]
[null,"Varovalčni ločilnik kot Legrand SP 51 (do 50A; 3p.) komplet z vložki","kos",6]
[null,"zaščitno stikalo na diferenčni tok RCCB; 40A,4p,30mA; tip A","kos ",3]
[null,"Prenapetostna zaščita PZH R1 275/12,5/3+1 , kot Hermi","kpl",1]
[null,"Instalacijski odklopnik do 25A 1p.; 10 kA","kos",31]
[null,"Instalacijski odklopnik do 25A 3p.; 10 kA","kos",1]
[null,"motorsko zaščitno stikalo MPE 25; 1,0-1,6A","kos",1]
[null,"močnostni kontaktor MC-12a; 230V","kos",1]
[null,"inštalacijski kontaktor R20-20; 230V","kos",1]
[null,"impulzni rele (stikalo) 16A; 230V","kos",2]
[null,"Zbiralka N, PE","kpl",1]
[null,"Drobni in vezni material kot so PVC kanali, Cu zbiralke, vijaki, žica ustreznega preseka, zaključne letve za vrstne sponke, vezice, obešalo za dokumentacijo, označevalne ploščice za elemente, napisne ploščice stikal in lučk,...","kpl",1]
[null,"povezava razdelilnika na instalacijo na terenu","ur",20]
[null,"SKUPAJ","kpl",1,null,{"$f":"D169*E169","v":0},{"$f":"+E169*MM","v":0},{"$f":"+G169*D169","v":0},{"$f":"+E169-G169","v":0},{"$f":"+I169*D169","v":0}]
[]
["9","R-Š2N.B"]
[null,"El. razdelilnik etažni R-Š2N.B, tipske, prostostoječe izvedbe, izdelan iz dvakrat dekapirane jeklene pločevine in profilov, opleskan z osnovno in končno barvo-prašni nanos, barva RAL7035, IP43, IK08, ustrezno s standardom IEC 61439-1&2, t\nKabelski dovod od zgoraj, ali spodaj odvodi od zgoraj in spodaj.\nDimenzija razdelilnika (VxŠxG): 2000x600x250mm na podstavku višine 100mm.\nV razdelilniku je vgrajena sledeča oprema:","kos",1]
[null,"dobava in montaža:"]
[null,"Glavno stikalo, CLBS 63 3P; 63A kot Eti","kpl",1]
[null,"Varovalčni ločilnik kot Legrand SP 51 (do 50A; 3p.) komplet z vložki","kos",6]
[null,"zaščitno stikalo na diferenčni tok RCCB; 40A,4p,30mA; tip A","kos ",6]
[null,"Prenapetostna zaščita PZH R1 275/12,5/3+1 , kot Hermi","kpl",1]
[null,"Instalacijski odklopnik do 25A 1p.; 10 kA","kos",41]
[null,"Instalacijski odklopnik do 25A 3p.; 10 kA","kos",1]
[null,"motorsko zaščitno stikalo MPE 25; 1,0-1,6A","kos",1]
[null,"močnostni kontaktor MC-18a; 230V","kos",1]
[null,"močnostni kontaktor MC-12a; 230V","kos",1]
[null,"inštalacijski kontaktor R20-20; 230V","kos",3]
[null,"impulzni rele (stikalo) 16A; 230V","kos",2]
[null,"Zbiralka N, PE","kpl",1]
[null,"Drobni in vezni material kot so PVC kanali, Cu zbiralke, vijaki, žica ustreznega preseka, zaključne letve za vrstne sponke, vezice, obešalo za dokumentacijo, označevalne ploščice za elemente, napisne ploščice stikal in lučk,...","kpl",1]
[null,"povezava razdelilnika na instalacijo na terenu","ur",24]
[null,"SKUPAJ","kpl",1,null,{"$f":"D188*E188","v":0},{"$f":"+E188*MM","v":0},{"$f":"+G188*D188","v":0},{"$f":"+E188-G188","v":0},{"$f":"+I188*D188","v":0}]
[]
["10","R-P-IT"]
[null,"El. razdelilnik etažni R-P-IT, tipske, podometne izvedbe, izdelan iz dvakrat dekapirane jeklene pločevine in profilov, opleskan z osnovno in končno barvo-prašni nanos, barva RAL7035, IP43, IK08, ustrezno s standardom IEC 61439-1&2, t\nKabelski dovod od zgoraj, ali spodaj odvodi od zgoraj in spodaj.\nDimenzija razdelilnika (VxŠxG): 920x335x110mm.\nV razdelilniku je vgrajena sledeča oprema:","kos",1]
[null,"dobava in montaža:"]
[null,"Glavno stikalo, CLBS 25 3P; 25A kot Eti","kpl",1]
[null,"Preklopno stikalo, CLBS 25 3P; 1-0-2 (preklop mreža/UPS)","kpl",1]
[null,"zaščitno stikalo na diferenčni tok RCCB; 40A,4p,30mA; tip A","kos ",1]
[null,"Prenapetostna zaščita PZH R1 275/12,5/3+1 , kot Hermi","kpl",1]
[null,"Instalacijski odklopnik do 25A 1p.; 10 kA","kos",15]
[null,"Zbiralka N, PE","kpl",1]
[null,"Drobni in vezni material kot so PVC kanali, Cu zbiralke, vijaki, žica ustreznega preseka, zaključne letve za vrstne sponke, vezice, obešalo za dokumentacijo, označevalne ploščice za elemente, napisne ploščice stikal in lučk,...","kpl",1]
[null,"povezava razdelilnika na instalacijo na terenu","ur",8]
[null,"SKUPAJ","kpl",1,null,{"$f":"D201*E201","v":0},{"$f":"+E201*MM","v":0},{"$f":"+G201*D201","v":0},{"$f":"+E201-G201","v":0},{"$f":"+I201*D201","v":0}]
[]
[11,"R-P-B1","kos",1]
[null,"Električna razdelilna omara R-P-B1 (pritličje - bazen); je predvidena kot vgradna omara, zaščite IP43 dimenzij 1070x766x110 mm (vxšxg) 6-vrstna s 36 poli; (kot Hager) izdelana  iz 2x dekapirane pločevine, pobarvane (sive barve), z montažnimi ploščami, z napisi,  vrati, ključavnico in vgrajeno opremo;","kos",1]
[null,"Glavno stikalo, CLBS 63 3P; 63A kot Eti","kpl",1]
[null,"Varovalčni ločilnik kot Legrand SP 51 (do 50A; 3p.) komplet z vložki","kos",5]
[null,"zaščitno stikalo na diferenčni tok RCCB; 40A,4p,30mA; tip A","kos ",3]
[null,"prenapetostni odvodnik PZH III V3+1","kpl",1]
[null,"nstalacijski odklopnik do 25A 1p.; 10 kA","kos",32]
[null,"instalacijski odklopnik do 25A 3p.; 10 kA","kos",1]
[null,"instalacijski kontaktor R20-40; 1p. 20A","kos",4]
[null,"kompbinirano zaščitno stikalo KZS 16/0,03A; tip A","kos",14]
[null,"preklopno stikalo 1-0-2; 10A","kos",1]
[null,"stikalna ura; 1-kanal; 2xpreklopni kontakt","kos",2]
[null,"Astro ura; 1-kanal","kos",1]
[null,"motorsko zaščitno stikalo MP25 1,0-1,6A","kos",1]
[null,"močnostni kontaktor MC-12a; 3p. 230V tuljava","kos",1]
[null,"Zbiralka N, PE","kpl",1]
[null,"vgradnja napajalnika za domofon","kpl",1]
[null,"Drobni in vezni material kot so PVC kanali, Cu zbiralke, vijaki, žica ustreznega preseka, zaključne letve za vrstne sponke, vezice, obešalo za dokumentacijo, označevalne ploščice za elemente, napisne ploščice stikal in lučk,...","kpl",1]
[null,"povezava razdelilnika na instalacijo na terenu","ur",22]
[null,"SKUPAJ","kpl",1,null,{"$f":"D222*E222","v":0},{"$f":"+E222*MM","v":0},{"$f":"+G222*D222","v":0},{"$f":"+E222-G222","v":0},{"$f":"+I222*D222","v":0}]
[]
[12,"R-P-B2","kos",1]
[null,"Električna razdelilna omara R-P-B2 (pritličje); je predvidena kot vgradna omara, zaščite IP43 dimenzij 920x550x110 mm (vxšxg) 5-vrstna s 24 poli; (kot Hager) izdelana  iz 2x dekapirane pločevine, pobarvane (sive barve), z montažnimi ploščami, z napisi,  vrati, ključavnico in vgrajeno opremo;","kos",1]
[null,"Glavno stikalo, CLBS 63 3P; 63A kot Eti","kpl",1]
[null,"Varovalčni ločilnik kot Legrand SP 51 (do 50A; 3p.) komplet z vložki","kos",4]
[null,"zaščitno stikalo na diferenčni tok RCCB; 40A,4p,30mA; tip A","kos ",2]
[null,"prenapetostni odvodnik PZH III V3+1","kpl",1]
[null,"nstalacijski odklopnik do 25A 1p.; 10 kA","kos",30]
[null,"Zbiralka N, PE","kpl",1]
[null,"Drobni in vezni material kot so PVC kanali, Cu zbiralke, vijaki, žica ustreznega preseka, zaključne letve za vrstne sponke, vezice, obešalo za dokumentacijo, označevalne ploščice za elemente, napisne ploščice stikal in lučk,...","kpl",1]
[null,"povezava razdelilnika na instalacijo na terenu","ur",14]
[null,"SKUPAJ","kpl",1,null,{"$f":"D234*E234","v":0},{"$f":"+E234*MM","v":0},{"$f":"+G234*D234","v":0},{"$f":"+E234-G234","v":0},{"$f":"+I234*D234","v":0}]
[]
[13,"R-1N-T"]
[null,"Električna razdelilna omara R-1N-TEL (telovadnica); je predvidena kot vgradna omara, zaščite IP43 dimenzij 920x550x110 mm (vxšxg) 5-vrstna s 24 poli; (kot Hager) izdelana  iz 2x dekapirane pločevine, pobarvane (sive barve), z montažnimi ploščami, z napisi,  vrati, ključavnico in vgrajeno opremo;","kos",1]
[null,"bremensko stikalo 63A; 3p.","kos ",1]
[null,"varovalčni ločilnik kot Legrand SP 51 (do 50A; 3p.) komplet z vložki","kos",2]
[null,"zaščitno stikalo na diferenčni tok RCCB; 40A,4p,30mA; tip A","kos ",3]
[null,"prenapetostni odvodnik PZH III V3+1","kpl",1]
[null,"instalacijski odklopnik do 25A 1p.; 10 kA","kos",20]
[null,"instalacijski odklopnik do 25A 3p.; 10 kA","kos",6]
[null,"instalacijski kontaktor R20-40; 1p. 20A","kos",1]
[null,"impulzni rele 16A/230V","kos",2]
[null,"preklopno stikalo 1-0-2; 10A","kos",1]
[null,"stikalna ura; 1-kanal; 2xpreklopni kontakt","kos",1]
[null,"motorsko zaščitno stikalo MP25 1,0-1,6A","kos",1]
[null,"Zbiralka N, PE","kpl",1]
[null,"Drobni in vezni material kot so PVC kanali, Cu zbiralke, vijaki, žica ustreznega preseka, zaključne letve za vrstne sponke, vezice, obešalo za dokumentacijo, označevalne ploščice za elemente, napisne ploščice stikal in lučk,...","kpl",1]
[null,"SKUPAJ","kpl",1,null,{"$f":"D251*E251","v":0},{"$f":"+E251*MM","v":0},{"$f":"+G251*D251","v":0},{"$f":"+E251-G251","v":0},{"$f":"+I251*D251","v":0}]
[]
["14","R-2N-STR"]
[null,"El. razdelilnik strojna oprema R-2N-STR, tipske, prostostoječe izvedbe, izdelan iz dvakrat dekapirane jeklene pločevine in profilov, opleskan z osnovno in končno barvo-prašni nanos, barva RAL7035, IP43, IK08, ustrezno s standardom IEC 61439-1&2, t\nKabelski dovod od zgoraj, ali spodaj odvodi od zgoraj in spodaj.\nDimenzija razdelilnika (VxŠxG): 2000x600x250mm na podstavku višine 100mm.\nV razdelilniku je vgrajena sledeča oprema:","kos",1]
[null,"dobava in montaža:"]
[null,"Glavno stikalo, CLBS 100 3P; 100A kot Eti","kpl",1]
[null,"Varovalčni ločilnik kot Legrand SP 51 (do 50A; 3p.) komplet z vložki","kos",7]
[null,"zaščitno stikalo na diferenčni tok RCCB; 40A,4p,30mA; tip A","kos ",1]
[null,"Prenapetostna zaščita PZH R1 275/12,5/3+1 , kot Hermi","kpl",1]
[null,"Instalacijski odklopnik do 25A 1p.; 10 kA","kos",6]
[null,"Instalacijski odklopnik do 25A 3p.; 10 kA","kos",1]
[null,"vgradnja opreme za ogrevanje odtokov inžlebov","kos",1]
[null,"Zbiralka N, PE","kpl",1]
[null,"Drobni in vezni material kot so PVC kanali, Cu zbiralke, vijaki, žica ustreznega preseka, zaključne letve za vrstne sponke, vezice, obešalo za dokumentacijo, označevalne ploščice za elemente, napisne ploščice stikal in lučk,...","kpl",1]
[null,"povezava razdelilnika na instalacijo na terenu","ur",14]
[null,"SKUPAJ","kpl",1,null,{"$f":"D266*E266","v":0},{"$f":"+E266*MM","v":0},{"$f":"+G266*D266","v":0},{"$f":"+E266-G266","v":0},{"$f":"+I266*D266","v":0}]
[]
["15","Električna razdelilna omara  R-HS (hišniško stanovanja); • kovinska kombinirana stanovanjska omarica proizvod MonelPro:\n• dimenzije: širina 420 mm, višina 750 mm,\nglobina 130 mm\n• dvojna steklena vrata v kovinskem okvirju s ključavnico\n• perforacija na bočnih straneh omogoča boljšo zračnost\n• tonirano steklo\n• 2 polici STK\n• možnost namestitve 40 vgradnih instalacijskih elementov\n• dovod kablov: zgoraj, spodaj, levo, desno ter hrbtišču omarice\n• barva omarice, Ral 9010 oz. po dogovoru; Ral karta\n• možnost izvedbe omaric drugih dimenzij                              in vgrajeno opremo:","kos",1,null,null,null,null,null,null,null,null,null,null,"¸¸"]
[null,"odklopilno stikalo"]
[null,"40A; 3P, SV340","kos",1]
[null,"zaščitno stikalo na diferenčni tok EFI-4"]
[null,"40/0,03 A TIP A","kos",2]
[null,"enopolni instalacijski odklopnik do 25A; 10kA; B ali C karakteristika","kos",14]
[null,"dvopolni instalacijski odklopnik 16A; 10kA; C karakteristika","kos",1]
[null,"tropolni instalacijski odklopnik 16A; 10kA; C karakteristika","kos",1]
[null,"prenapetostni odvodniki Hermi; PZH R1 275/12,5/3+1 ","kpl",1]
[null,"vrstne sponke,zbiralnice, drobni in vezni material ","kpl",1]
[null,"povezava razdelilnika na instalacijo na terenu","ur",6]
[null,"SKUPAJ","kpl",1,null,{"$f":"D279*E279","v":0},{"$f":"+E279*MM","v":0},{"$f":"+G279*D279","v":0},{"$f":"+E279-G279","v":0},{"$f":"+I279*D279","v":0}]
[]
["16","Obračun po količinah, ki izhajajo iz potrjenega gradbenega dnevnika in ob upoštevanju kalkulativnih osnov","kpl",1,{"$f":"SUM(F9:F278)*0.05","v":0},{"$f":"D281*E281","v":0},{"$f":"+E281*MM","v":0},{"$f":"+G281*D281","v":0},{"$f":"+E281-G281","v":0},{"$f":"+I281*D281","v":0}]
[]
[{"$f":"A2","v":"3/1.4"},{"$f":"B2","v":"Objekt A in B,   RAZDELILNIKI"},null,null,null,{"$f":"SUM(F8:F282)","v":0},null,{"$f":"SUM(H8:H282)","v":0},null,{"$f":"SUM(J8:J282)","v":0}]

{"sheet":"AB-E.GRETJE ODTOKOV","index":51,"n_rows":45,"n_cols":10,"rows_kept":45,"cut":false,"hidden":false,"merged":[]}
[]
["3/1.5","Objekt A in B,   EL. GRETJE ODTOKOV IN ŽLEBOV"]
[]
["ZAP. ŠT.","OPIS","     ME","KOLIČUNA","CENA/ENOTO","SKUPAJ","POPUST","POPUST SKUPAJ","CENA/ENOTO S POPUSTOM","SKUPAJ S POPUSTOM"]
[]
["3/1.5","EL. GRETJE ODTOKOV IN ŽLEBOV"]
[]
[null,"Pri formiranju cene za posamezno postavko glej tudi splošni opis uvodnega dela popisa."]
[]
[null,"Dobava in montaža (kot kabelske grelne instalacije EGRO Zorman ali enakovredno); upoštevati ročni vklop s stikalom:"]
[1,"Ogrevanje žlebov in odtokov"]
[null,"Grelni kabli proti zmrzali za montažo v žlebove, žlote in odtočne cevi meteorne vode. Predvideno je ogrevanje cca 30-50W/m, za kar so predvideni kabli z grelno močjo cca 15-25W/m. Podana je  dolžina žlebov in odtokov:"]
[null,"~ odtok premera 10 cm; dolžine 10 m","kos",6,null,{"$f":"D13*E13","v":0},{"$f":"+E13*MM","v":0},{"$f":"+G13*D13","v":0},{"$f":"+E13-G13","v":0},{"$f":"+I13*D13","v":0}]
[null,"~ odtok premera 18 cm; dolžine 12 m","kos",8,null,{"$f":"D14*E14","v":0},{"$f":"+E14*MM","v":0},{"$f":"+G14*D14","v":0},{"$f":"+E14-G14","v":0},{"$f":"+I14*D14","v":0}]
[null,"~ žlota širine 20 cm","m",40,null,{"$f":"D15*E15","v":0},{"$f":"+E15*MM","v":0},{"$f":"+G15*D15","v":0},{"$f":"+E15-G15","v":0},{"$f":"+I15*D15","v":0}]
[null,"~ žleb širine 12 cm","m",136,null,{"$f":"D16*E16","v":0},{"$f":"+E16*MM","v":0},{"$f":"+G16*D16","v":0},{"$f":"+E16-G16","v":0},{"$f":"+I16*D16","v":0}]
[]
[2,"Oprema vgrajena v el. razdelilec skupne rabe R-2N-STR:","kos",1]
[null," - Glavno stikalo 63A; 3p.","kos",1]
[null," - Stikalo na diferenčni tok EFI4 40/0,03A","kos",1]
[null," - Preklopno stikalo 1-0-2; 10A","kos",1]
[null," - Močnostni kontaktor 40A; 4p, ","kos",1]
[null,"~ enopolni instalacijski odklopnik do 25A; 10kA; Schrack","kos",7]
[null," - vgradni termostat ITR-3","kos",1]
[null," - signalna svetilka LED - rdeča; 230V","kos",1]
[null," - tipalo temperature in vlage","kos",1]
[null," - Elektronski sklop s tipali za samodejni vklop ob prisotnosti snega ali ledu","kos",1]
[]
[null,null,"kpl",1,null,{"$f":"D29*E29","v":0},{"$f":"+E29*MM","v":0},{"$f":"+G29*D29","v":0},{"$f":"+E29-G29","v":0},{"$f":"+I29*D29","v":0}]
[]
[3,"Kabel s Cu vodniki - 0,5 kV položen pretežno v cevi"]
[null,"ÖLFLEX® CLASSIC 100 H  3 x 2.5","m",870,null,{"$f":"D32*E32","v":0},{"$f":"+E32*MM","v":0},{"$f":"+G32*D32","v":0},{"$f":"+E32-G32","v":0},{"$f":"+I32*D32","v":0}]
[]
[4,"Kabel za priklop tipal"]
[null,"J-H(ST)H 3x2x0,8mm","m",76,null,0,{"$f":"+E35*MM","v":0},{"$f":"+G35*D35","v":0},{"$f":"+E35-G35","v":0},{"$f":"+I35*D35","v":0}]
[]
[5,"Raychem spoj","kos",26,null,0,{"$f":"+E37*MM","v":0},{"$f":"+G37*D37","v":0},{"$f":"+E37-G37","v":0},{"$f":"+I37*D37","v":0}]
[]
[6,"Instalacijska UV obstojna rebrasta cev, položena podometno ali nadometno, komplet z dozami in pritrdilnim materialom raznih dimenzij","m",650,null,0,{"$f":"+E39*MM","v":0},{"$f":"+G39*D39","v":0},{"$f":"+E39-G39","v":0},{"$f":"+I39*D39","v":0}]
[]
[7,"Meritve, vezalne sheme, navodila za vzdrževanje, izjave","kpl",1,null,0,{"$f":"+E41*MM","v":0},{"$f":"+G41*D41","v":0},{"$f":"+E41-G41","v":0},{"$f":"+I41*D41","v":0}]
[]
["8","Obračun po količinah, ki izhajajo iz potrjenega gradbenega dnevnika in ob upoštevanju kalkulativnih osnov","kpl",1,{"$f":"SUM(F13:F41)*0.05","v":0},{"$f":"D43*E43","v":0},{"$f":"+E43*MM","v":0},{"$f":"+G43*D43","v":0},{"$f":"+E43-G43","v":0},{"$f":"+I43*D43","v":0}]
[]
[{"$f":"A2","v":"3/1.5"},{"$f":"B2","v":"Objekt A in B,   EL. GRETJE ODTOKOV IN ŽLEBOV"},null,null,null,{"$f":"SUM(F7:F43)","v":0},null,{"$f":"SUM(H7:H43)","v":0},null,{"$f":"SUM(J7:J43)","v":0}]

{"sheet":"AB-F.UPS","index":52,"n_rows":52,"n_cols":10,"rows_kept":52,"cut":false,"hidden":false,"merged":[]}
[]
["3/1.6","Objekt A in B,   UPS NAPRAVA"]
[]
["ZAP. ŠT.","OPIS","     ME","KOLIČUNA","CENA/ENOTO","SKUPAJ","POPUST","POPUST SKUPAJ","CENA/ENOTO S POPUSTOM","SKUPAJ S POPUSTOM"]
[]
[]
["3/1.6","UPS NAPRAVA"]
[]
[null,"Pri formiranju cene za posamezno postavko glej tudi splošni opis uvodnega dela popisa."]
[]
[null,"Dobava in montaža naprave za brezprekinitveno napajanje."]
[null,"Ustreznost naprave s standardi:\nCE certifikat, varnostni standard SIST EN 62040-1-1, elektromagnetna skladnost SIST EN 62040-2, tehnične specifikacije SIST EN62040-3, Certifikat pooblaščene institucije o doseganju stopnje učinkovitosti naprave."]
[null,"Ponudnik opreme mora imeti poslovanje urejeno skladno s standardom ISO9001, kar dokazuje z ustreznim veljavnim certifikatom. "]
[]
[1,"Sistem za brezprekinitveno napajanje -UPS"]
[null,"Nazivna moč 10kVA/10kW, 3 fazni vhod, 3 fazni izhod, izhodni faktor moči 1, z možnostjo paralelnega delovanja do 6 naprav."]
[null,"ON line tehnologija delovanja (klasifikacija VFI-SS-111 po SIST EN62040-3), tri nivojski IGBT pretvorniki, ločen dovod za glavni dovod in ločen za bypas dovod"]
[null,"Avtonomija delovanja naprave minimalno 15 minut pri obremenitvi 9 kW, nameščeni akumulatorji znotraj ohišja UPS naprave minimalno v dveh nizih."]
[]
[null,"Ostale tehnične zahteve:"]
[null,"Vhodna napetost  (3f+N) 400 V (240-480V), 50Hz ± 10%"]
[null,"Dvojni vhod (ločeno glavno in bypas napajanje)"]
[null,"Vhodni faktor moči ≥ 0,99 "]
[null,"Skupno popačenje vhodnega toka THDI pri 100% Pn < 2,5% "]
[]
[null,"Izhodna napetost (3f+N)  400 V  ± 1% (nastavljivo 380/415V), 50Hz "]
[null,"Izhodni faktor moči 1 (brez zmanjšanja delovne moči naprave za porabnike v razponu faktorja moči 0,9 induktivni do 0,9 kapacitivni), "]
[null,"Skupno napetostno popačenje pri linearnih bremenih <1%, pri nelinearnih <3%"]
[null,"Skupna učinkovitost celotne naprave do 96% v ON line načinu delovanja v razponu obremenitve med 50 in 100%, v ECO načinu do 98%, "]
[null,"Maksimalna toplotna disipacija v ON-line načinu in pri polnjenju akumulatorjev, maksimalni izhodni moči in minimalni vhodni napetosti < 0,93 kW."]
[null,"Preobremenljivost  inverterja 125% za 10 minut, 150% za 1 minuto"]
[null,"Avtomatski in ročni bypas vgrajen v napravi, "]
[null,"Barvni grafični LCD zaslon za odčitavanje delovnih parametrov na napravi, "]
[null,"Vgrajeni komunikacijski vmesniki za MODBUS TCP, MODBUS/JBUS RTU, LAN, "]
[null,"Vgrajen vmesnik za WEB/SNMP nadzor in priključitev naprave na Ethernet omrežje skupaj s programsko opremo za zaustavitev različnih operacijskih sistemov, "]
[null,"Delovna temperatura 0º - 40ºC (priporočena 15º - 25ºC za doseganje optimalne življenjske dobe akumulatorjev) "]
[null,"Relativna vlažnost 0-95% brez kondenza "]
[null,"Nivo hrupa na 1 m po ISO3746 -  < 52 dBA "]
[null,"Stopnja zaščite IP20 "]
[]
[null,"Dimenzije:"]
[null,"Dimenzije naprave. Višina: 80 cm, Širina: 45 cm, Globina: 80 cm"]
[null,"Masa 190 kg"]
[]
[null,"Naprava naj bo predvidena sledeče moči in avtonomije, kompletno s prvim zagonom:"]
[null,"Kot npr.:Socomec, model Masterys Green Power 2.0, 10kVA/10kW, 400V, 3:3 ali enakovredno","kos",1,null,{"$f":"D46*E46","v":0},{"$f":"+E46*MM","v":0},{"$f":"+G46*D46","v":0},{"$f":"+E46-G46","v":0},{"$f":"+I46*D46","v":0}]
[]
[2,"Dostava opreme na lokacijo objekta, namestitev, priklop na pripravljene instalacije, testiranje in zagon, šolanje uporabnika","kpl",1,null,{"$f":"D48*E48","v":0},{"$f":"+E48*MM","v":0},{"$f":"+G48*D48","v":0},{"$f":"+E48-G48","v":0},{"$f":"+I48*D48","v":0}]
[]
["3","Obračun po količinah, ki izhajajo iz potrjenega gradbenega dnevnika in ob upoštevanju kalkulativnih osnov","kpl",1,{"$f":"SUM(F6:F48)*0.05","v":0},{"$f":"D50*E50","v":0},{"$f":"+E50*MM","v":0},{"$f":"+G50*D50","v":0},{"$f":"+E50-G50","v":0},{"$f":"+I50*D50","v":0}]
[]
[{"$f":"A2","v":"3/1.6"},{"$f":"B2","v":"Objekt A in B,   UPS NAPRAVA"},null,null,null,{"$f":"SUM(F7:F51)","v":0},null,{"$f":"SUM(H7:H51)","v":0},null,{"$f":"SUM(J7:J51)","v":0}]

{"sheet":"AB-G.STRELOVOD","index":53,"n_rows":49,"n_cols":10,"rows_kept":49,"cut":false,"hidden":false,"merged":[]}
[]
["3/1.7","Objekt A in B,   STRELOVOD"]
[]
["ZAP. ŠT.","OPIS","     ME","KOLIČUNA","CENA/ENOTO","SKUPAJ","POPUST","POPUST SKUPAJ","CENA/ENOTO S POPUSTOM","SKUPAJ S POPUSTOM"]
[]
["3/1.7","STRELOVOD"]
[]
[null,"Pri formiranju cene za posamezno postavko glej tudi splošni opis uvodnega dela popisa."]
[]
[null,"Opomba: \npredvidena je nova strelovodna inštalacija na objektu A in B. Na strehi je predvideno vse novo, nove vertikale v ceveh pod izolacijo, nove merilne omarice v fasadi, nov obroč okoli objekta. Povezava novega ozemljila okoli objekta z obstoječim ozemljilom v temeljih in novim ozemljilom prizidka. "]
[null,"Za izkop okoli objekta se uskladiti z gradbenim izvajalcem, da se uredi v sklopu urejanja okolice. Potrebno je paziti na obstoječe ozemljilo oziroma krake iz temeljskega ozemljila, ter na obstoječe in nove ostale inštalacije v zemlji okoli objekta."]
[]
[null,"LOVILNI SISTEM STRELOVODNE INSTALACIJE"]
[1,"Dobava in montaža slemenskega/strešnega nosilnega elementa SON16 (Rf-K) iz nerjavečega jekla za pritrjevanje strelovodnega vodnika AH1 Al fi 8mm na pločevinasto trapetno kritino oziroma pločevinasto kapo atike. \nProizvajalec HERMI ali enakovredno","kos",630,null,{"$f":"E14*D14","v":0},{"$f":"+E14*MM","v":0},{"$f":"+G14*D14","v":0},{"$f":"+E14-G14","v":0},{"$f":"+I14*D14","v":0}]
[2,"Dobava in montaža strešnega nosilnega elementa SON17C  primeren za ravne strehe z bitumensko izolacijo ipd.\nSestava: nosilec in betonska kocka \nProizvajalec HERMI ali enakovredno","kos",75,null,{"$f":"E15*D15","v":0},{"$f":"+E15*MM","v":0},{"$f":"+G15*D15","v":0},{"$f":"+E15-G15","v":0},{"$f":"+I15*D15","v":0}]
[3,"Dobava in montaža lovilne palice LOP3,0 (Al) višine h=3,0m vključno z ustreznim pritrdilnim materialom za montažo na betonski dimnik. \nProizvajalec HERMI ali enakovredno\n","kos",6,null,{"$f":"E16*D16","v":0},{"$f":"+E16*MM","v":0},{"$f":"+G16*D16","v":0},{"$f":"+E16-G16","v":0},{"$f":"+I16*D16","v":0}]
[4,"Dobava in montaža izoliranega lovilnega sistema strelovodne instalacije IZO45 višine h=(4,5+0,5)m z vstavljenim odvodnim Izoliranim Strelovodnim Vodnikom HERMI ali enakovredno ISVH dolžine l=6m za zaščito anten in siren na vrhu dimnika. Proizvajalec HERMI ali enakovredno","kos",1,null,{"$f":"D17*E17","v":0},{"$f":"+E17*MM","v":0},{"$f":"+G17*D17","v":0},{"$f":"+E17-G17","v":0},{"$f":"+I17*D17","v":0}]
[]
[null,"ODVODNI SISTEM STRELOVODNE INSTALACIJE"]
[5,"Dobava in montaža zidnega nosilnega elementa ZON03 DIREKT (Rf-V) za pritrjevanje okroglega strelovodnega vodnika AH4 fi 8mm s PVC oblogo na trde stene - izvedba podometnih odvodov. \nProizvajalec HERMI ali enakovredno\n","kos",230,null,{"$f":"E20*D20","v":0},{"$f":"+E20*MM","v":0},{"$f":"+G20*D20","v":0},{"$f":"+E20-G20","v":0},{"$f":"+I20*D20","v":0}]
[6,"Dobava in montaža zidne merilne omarice ZON05 A  (PVC/Rf)  za izvedbo merilnih spojev pri podometnih vertikalnih odvodih na fasadi. Dimenzije zidne merilne omarice 200 x 150 x 100 mm (D x Š x V), telo omarice je izdelano iz umetnih materialov, obstojnih na atmosferi (PVC) in se montira v steno objekta v času gradnje. Pokrov omarice je izdelan iz nerjaveče pločevine (Rf) in se montira po zaključku fasadnega sloja in omogoča z distančnimi vijaki popolno prileganje na fasado, ne glede na debelino le-te.\nProizvajalec HERMI ali enakovredno\n","kos",20,null,{"$f":"E21*D21","v":0},{"$f":"+E21*MM","v":0},{"$f":"+G21*D21","v":0},{"$f":"+E21-G21","v":0},{"$f":"+I21*D21","v":0}]
[7,"Dobava in montaža cevnih objemk KON 10 A,  za pritrjevanje ploščatega strelovodnega vodnika RH1 Rf 30 x 3,5 mm na odtočne cevi. \nProizvajalec HERMI ali enakovredno\n","kos",18,null,{"$f":"E22*D22","v":0},{"$f":"+E22*MM","v":0},{"$f":"+G22*D22","v":0},{"$f":"+E22-G22","v":0},{"$f":"+I22*D22","v":0}]
[null,"KONTAKTNI MATERIAL IN STRELOVODNI VODNIKI"]
[8,"Dobava in montaža merilne sponke KON02  za izdelavo merilnega spoja med strelovodnim vodnikom AH1 in ozemljilnim trakom. \nProizvajalec HERMI ali enakovredno","kos",20,null,{"$f":"D24*E24","v":0},{"$f":"+E24*MM","v":0},{"$f":"+G24*D24","v":0},{"$f":"+E24-G24","v":0},{"$f":"+I24*D24","v":0}]
[9,"Dobava in montaža sponke KON03 + svorniki (Rf-V) iz nerjavečega jekla za izvedbo vijačnih merilnih  spojev med okroglimi strelovodnimi vodniki ter kovinskimi konstrukcijami. \nProizvajalec HERMI ali enakovredno","kos",20,null,0,0,0,0,0]
[10,"Dobava in montaža sponke KON04 A iz nerjavečega jekla za medsebojno spajanje okroglih strelovodnih vodnikov. \nProizvajalec HERMI ali enakovredno","kos",60,null,0,0,0,0,0]
[11,"Dobava in montaža kontaktne sponke KON05 iz nerjavečega jekla za izvedbo kontaktnih spojev med strelovodnim vodnikom AH1 Al fi 8mm in pločevinastimi deli. \nProizvajalec HERMI ali enakovredno","kos",25,null,0,0,0,0,0]
[12,"Dobava in montaža žlebne sponke KON06 (Rf-V)  za izdelavo spojev med strelovodnim vodnikom in žlebnim koritom. \nProizvajalec HERMI ali enakovredno","kos",26,null,0,0,0,0,0]
[13,"Dobava in montaža sponke KON07 iz nerjavečega jekla za povezovanje okroglega strelovodnega vodnika na lovilne palice. \nProizvajalec HERMI ali enakovredno","kos",10,null,0,0,0,0,0]
[14,"Dobava in montaža odkapnika KON21 (Rf-V) za preprečitev zatekanja vode v steno po strelovodnem vodniku v primeru podometnih vertikalnih odvodov. \nProizvajalec HERMI ali enakovredno","kos",20,null,{"$f":"E30*D30","v":0},0,0,0,0]
[15,"Dobava in montaža oznak merilnih mest MŠ. \nProizvajalec HERMI ali enakovredno","kos",20,null,0,0,0,0,0]
[16,"Dobava in montaža strelovodnega vodnika AH1 Al fi 8mm na tipske strelovodne nosilne elemente. \nProizvajalec HERMI ali enakovredno","m",320,null,{"$f":"E32*D32","v":0},0,0,0,0]
[17,"Proizvajalec HERMI ali enakovredno","m",260,null,{"$f":"E33*D33","v":0},0,0,0,0]
[null,"OZEMLJITVENI SISTEM STRELOVODNE INSTALACIJE IN IZENAČITVE POTENCIALOV",null,null,null,null,0,0,0,0]
[18,"Dobava in montaža ploščatega vodnika RH1*H2 30x3,5 mm iz nerjavečega jekla 30x3,5 mm za izvedbo ozemljitvene instalacije. \nProizvajalec HERMI ali enakovredno","m",440,null,{"$f":"D35*E35","v":0},0,0,0,0]
[19,"Dobava in montaža sponke KON01 iz nerjavečega jekla za izvedbo spojev med ploščatim strelovodnim vodniki. \nProizvajalec HERMI ali enakovredno","kos",65,null,{"$f":"D36*E36","v":0},0,0,0,0]
[20,"Dobava in montaža sponke KON01 iz nerjavečega jekla za izvedbo vijačnih merilnih  spojev med ploščatimi strelovodnimi vodniki ter kovinskimi konstrukcijami. \nProizvajalec HERMI ali enakovredno","kos",20,null,{"$f":"D37*E37","v":0},0,0,0,0]
[21,"Dobava in montaža termo skrčljive cevi za zaščito ploščatega strelovodnega vodnika pri izvedbi podometnih vertikalnih odvodov - vodnik ne sme biti položen neposredno v sloj toplotne izolacije fasade objekta. Termoskrčjiva cev se namesti na ploščati strelovodni vodnik na dolžini vodnika, ki je nameščen podometno do zidne merine omarice ZON05 A.\nProizvajalec HERMI ali enakovredno","m",20,null,{"$f":"E38*D38","v":0},0,0,0,0]
[22,"Vizuelni pregled, meritve strelovodne napeljave z izdajo merilnega poročila s pripadajočo tehnično dokumentacijo","kpl",1,null,{"$f":"D39*E39","v":0},0,0,0,0]
[]
[23,"Drobni in montažni material ","kpl",1,null,{"$f":"D41*E41","v":0},{"$f":"+E41*MM","v":0},{"$f":"+G41*D41","v":0},{"$f":"+E41-G41","v":0},{"$f":"+I41*D41","v":0}]
[]
[24,"Transportni in manipulativni stroški  ","kpl",1,null,{"$f":"D43*E43","v":0},{"$f":"+E43*MM","v":0},{"$f":"+G43*D43","v":0},{"$f":"+E43-G43","v":0},{"$f":"+I43*D43","v":0}]
[]
[25,"Meritve strelovodne napeljave z izdajo poročila in merilnih protokolov; komplet a celotno strelovodno napeljavo obstoječega objekta in prizidka","kpl",1,null,{"$f":"D45*E45","v":0},{"$f":"+E45*MM","v":0},{"$f":"+G45*D45","v":0},{"$f":"+E45-G45","v":0},{"$f":"+I45*D45","v":0}]
[]
["26","Obračun po količinah, ki izhajajo iz potrjenega gradbenega dnevnika in ob upoštevanju kalkulativnih osnov","kpl",1,{"$f":"SUM(F5:F45)*0.05","v":0},{"$f":"D47*E47","v":0},{"$f":"+E47*MM","v":0},{"$f":"+G47*D47","v":0},{"$f":"+E47-G47","v":0},{"$f":"+I47*D47","v":0}]
[]
[{"$f":"A2","v":"3/1.7"},{"$f":"B2","v":"Objekt A in B,   STRELOVOD"},null,null,null,{"$f":"SUM(F6:F48)","v":0},null,{"$f":"SUM(H6:H48)","v":0},null,{"$f":"SUM(J6:J48)","v":0}]

{"sheet":"AB-H.KOMPENZACIJA","index":54,"n_rows":22,"n_cols":10,"rows_kept":22,"cut":false,"hidden":false,"merged":[]}
[]
["3/1.8","Objekt A in B,   KOMPENZACIJA"]
[]
["ZAP. ŠT.","OPIS","     ME","KOLIČUNA","CENA/ENOTO","SKUPAJ","POPUST","POPUST SKUPAJ","CENA/ENOTO S POPUSTOM","SKUPAJ S POPUSTOM"]
[]
["3/1.8","KOMPENZACIJA"]
[]
[null,"Pri formiranju cene za posamezno postavko glej tudi splošni opis uvodnega dela popisa."]
[]
[1,"Dobava in montaža avtomatske filtrske kompenzacijske naprave tipa ASK2-70, 70kvar  z naslednjimi tehničnimi parametri: ","kpl",1,null,{"$f":"D10*E10","v":0},{"$f":"+E10*MM","v":0},{"$f":"+G10*D10","v":0},{"$f":"+E10-G10","v":0},{"$f":"+I10*D10","v":0}]
[null,"nazivna napetost 400V a.c."]
[null,"tokovna prestava 150/5A"]
[null,"dovodi in odvodi od zgoraj"]
[null,"izvedba meritev višjeharmonskih komponent s strani dobavitelja opreme"]
[]
[2,"Dobava in montaža kabla 1kV                                                   N2XH-J 3x70+35 mm²","m",14,null,{"$f":"D16*E16","v":0},{"$f":"+E16*MM","v":0},{"$f":"+G16*D16","v":0},{"$f":"+E16-G16","v":0},{"$f":"+I16*D16","v":0}]
[]
[3,"Izdelava elaborata o meritvah kompenzacije in analizi višjeharmonikov po montaži in zagonu celotnega centra in prilagoditev filtrov ter kompenzacije (ocenjeno)","kos",1,null,{"$f":"D18*E18","v":0},{"$f":"+E18*MM","v":0},{"$f":"+G18*D18","v":0},{"$f":"+E18-G18","v":0},{"$f":"+I18*D18","v":0}]
[]
["4","Obračun po količinah, ki izhajajo iz potrjenega gradbenega dnevnika in ob upoštevanju kalkulativnih osnov","kpl",1,{"$f":"SUM(F9:F18)*0.05","v":0},{"$f":"D20*E20","v":0},{"$f":"+E20*MM","v":0},{"$f":"+G20*D20","v":0},{"$f":"+E20-G20","v":0},{"$f":"+I20*D20","v":0}]
[]
[{"$f":"A2","v":"3/1.8"},{"$f":"B2","v":"Objekt A in B,   KOMPENZACIJA"},null,null,null,{"$f":"SUM(F6:F21)","v":0},null,{"$f":"SUM(H6:H21)","v":0},null,{"$f":"SUM(J6:J21)","v":0}]

{"sheet":"AB-J.POLNILNICA","index":55,"n_rows":47,"n_cols":10,"rows_kept":47,"cut":false,"hidden":false,"merged":[]}
[]
["3/1.9","Objekt A in B,   POLNILNICA ZA EL. AVTOMOBILE"]
[]
["ZAP. ŠT.","OPIS","     ME","KOLIČUNA","CENA/ENOTO","SKUPAJ","POPUST","POPUST SKUPAJ","CENA/ENOTO S POPUSTOM","SKUPAJ S POPUSTOM"]
[]
["3/1.9","POLNILNICA ZA EL. AVTOMOBILE"]
[]
[null,"Pri formiranju cene za posamezno postavko glej tudi splošni opis uvodnega dela popisa."]
[]
[null,"OPOMBE:\n-Popis zajema električne inštalacije za eno navadno (22kW) polnilno postajo. V popisu niso zajeta gradbena dela (izkopi, kineta, robniki, zaščite...).\n-Inštalacijo je potrebno prilagoditi dobavljenemu sistemu avtomobilskih polnilnic.\n-Polnilnice morajo omogočati prilagajanje moči glede na trenutno konično moč objekta."]
[]
[1,"Polnilna postaja za elektirčne avtomobile moči 22kW vgrajena na stebriček, s komunikacijsko povezavo in vtičnico tip 2. Aktivacija polnilnice preko RFID kartice ali PIN kode. Komplet z vso pripadajočo opremo (podstavek, temelj) za zunanjo talno vgranjo na parkirnih prostorih.  Komplet z montažo in vključevanjem v obratovanje."]
[null,"Kot npr.:  Etrel INCH Pro, 22kW  ali enakovredno","kpl",1,null,{"$f":"D13*E13","v":0},{"$f":"+E13*MM","v":0},{"$f":"+G13*D13","v":0},{"$f":"+E13-G13","v":0},{"$f":"+I13*D13","v":0}]
[]
["2","Energetski kabel s finožičnimi Cu  vodniki z zmanjšano emisijo strupenih plinov  - 1kV položen pretežno na  kabelske police, delno v cevi"]
[null,"FG160M16  5x10   ","m",90,null,{"$f":"D16*E16","v":0},{"$f":"+E16*MM","v":0},{"$f":"+G16*D16","v":0},{"$f":"+E16-G16","v":0},{"$f":"+I16*D16","v":0}]
[]
["3","Trda pregibna zaščitna plastična cev z gladko notranjo steno položena\nv predpripravljen teren z ustrezno pritrditvijo. Dobava v kolutu, sledečih dimenzij:"]
[null,"Kot npr.: Stigmaflex TK/EL ali enakovredno"]
[null,"DN 50/44 mm","m",10,null,{"$f":"D20*E20","v":0},{"$f":"+E20*MM","v":0},{"$f":"+G20*D20","v":0},{"$f":"+E20-G20","v":0},{"$f":"+I20*D20","v":0}]
[]
["4","Izdelava napisnih ploščic oziroma tablic za oznake kablov iz poltrde plastike, z neizbrisljivo vpisanimi oznakami kablov iz vezalnih in enopolnih shem (velikost pisave cca 10mm), komplet s plastično vezico za namestitev ploščice na kabel"]
[null,"velikosti cca 40x80mm - dovodni kabli","kos ",2,null,{"$f":"D23*E23","v":0},{"$f":"+E23*MM","v":0},{"$f":"+G23*D23","v":0},{"$f":"+E23-G23","v":0},{"$f":"+I23*D23","v":0}]
[]
["5","Priključek kabla na polnilno postajo električnih avtomobilov","kos",1,null,{"$f":"D25*E25","v":0},{"$f":"+E25*MM","v":0},{"$f":"+G25*D25","v":0},{"$f":"+E25-G25","v":0},{"$f":"+I25*D25","v":0}]
[]
["6","Nerjaveči železni valjanec  Rf 30 x 3,5 mm H4, položen v teren (povezava el. polnilnih postaj) "]
[null,"Kot npr.: Hermi, tip RH1 H4 ali enakovredno","m",10,null,{"$f":"D28*E28","v":0},{"$f":"+E28*MM","v":0},{"$f":"+G28*D28","v":0},{"$f":"+E28-G28","v":0},{"$f":"+I28*D28","v":0}]
[]
["7","Križna  sponka \nKot npr.: Hermi ali enakovredno","kos",2,null,{"$f":"D30*E30","v":0},{"$f":"+E30*MM","v":0},{"$f":"+G30*D30","v":0},{"$f":"+E30-G30","v":0},{"$f":"+I30*D30","v":0}]
[]
["8","Povezava el. polnilnih postaj na ozemljitev (izdelava spoja po detajlu dobavljenih polnilnih postaj)","kos",1,null,{"$f":"D32*E32","v":0},{"$f":"+E32*MM","v":0},{"$f":"+G32*D32","v":0},{"$f":"+E32-G32","v":0},{"$f":"+I32*D32","v":0}]
[]
["9","Zvijavi vodnik z rumeno-zeleno izolacijo za izenačevanje potencialov in povezavo kovinskih mas za povezavo med ozemljitvenim valjancem in polnilno postajo"]
[null,"H07Z1-K 16","m",5,null,{"$f":"D35*E35","v":0},{"$f":"+E35*MM","v":0},{"$f":"+G35*D35","v":0},{"$f":"+E35-G35","v":0},{"$f":"+I35*D35","v":0}]
[]
["10","Meritve električnih inštalacij po posameznih sklopih, izdaja zapisnikov, atestov in potrdil","kpl",1,null,{"$f":"D37*E37","v":0},{"$f":"+E37*MM","v":0},{"$f":"+G37*D37","v":0},{"$f":"+E37-G37","v":0},{"$f":"+I37*D37","v":0}]
[]
["11","Vrisovanje sprememb inštalacij v času gradnje v PZI izvod načrta električnih inštalacij s potrjevanjem nadzornega organa","kpl",1,null,{"$f":"D39*E39","v":0},{"$f":"+E39*MM","v":0},{"$f":"+G39*D39","v":0},{"$f":"+E39-G39","v":0},{"$f":"+I39*D39","v":0}]
[]
["12","Zarisovanje, funkcionalni preizkus, instalacijske meritve in spuščanje v pogon ",null,0.05,{"$f":"SUM(F13:F39)*D41","v":0},{"$f":"+E41","v":0},{"$f":"+E41*MM","v":0},{"$f":"+G41","v":0},{"$f":"+E41-G41","v":0},{"$f":"+I41","v":0}]
[]
["13","Drobni montažni material, transport in manipulacijski stroški",null,0.05,{"$f":"SUM(F13:F39)*D43","v":0},{"$f":"+E43","v":0},{"$f":"+E43*MM","v":0},{"$f":"+G43","v":0},{"$f":"+E43-G43","v":0},{"$f":"+I43","v":0}]
[]
["14","Obračun po količinah, ki izhajajo iz potrjenega gradbenega dnevnika in ob upoštevanju kalkulativnih osnov","kpl",1,{"$f":"SUM(F5:F43)*0.05","v":0},{"$f":"+E45","v":0},{"$f":"+E45*MM","v":0},{"$f":"+G45","v":0},{"$f":"+E45-G45","v":0},{"$f":"+I45","v":0}]
[]
[{"$f":"A2","v":"3/1.9"},{"$f":"B2","v":"Objekt A in B,   POLNILNICA ZA EL. AVTOMOBILE"},null,null,null,{"$f":"SUM(F7:F46)","v":0},null,{"$f":"SUM(H7:H46)","v":0},null,{"$f":"SUM(J7:J46)","v":0}]

{"sheet":"AB-K.DEMONTAŽA","index":56,"n_rows":55,"n_cols":10,"rows_kept":55,"cut":false,"hidden":false,"merged":[]}
[]
["3/1.10","Objekt A in B,   DEMONTAŽNA IN DRUGA DELA"]
[]
["ZAP. ŠT.","OPIS","     ME","KOLIČUNA","CENA/ENOTO","SKUPAJ","POPUST","POPUST SKUPAJ","CENA/ENOTO S POPUSTOM","SKUPAJ S POPUSTOM"]
[]
["3/1.10","DEMONTAŽNA IN DRUGA DELA"]
[]
[null,"Pri formiranju cene za posamezno postavko glej tudi splošni opis uvodnega dela popisa."]
[null,"Pred določitvijo cene predlagamo ogled obstoječega objekta. Le na podlagi ogleda je mogoče določiti pravo ceno."]
[]
[1,"Postavitev gradbene omarice v vseh etažah in pred telovadnico. Omarica mora biti v skladu s predpisi.","kpl",4,null,{"$f":"D11*E11","v":0},{"$f":"+E11*MM","v":0},{"$f":"+G11*D11","v":0},{"$f":"+E11-G11","v":0},{"$f":"+I11*D11","v":0}]
[]
[2,"Pregled obstoječih tokokrogov, ki potekajo skozi adaptirani prostor in morajo za časa adaptacije ostati v funkciji. Te tokokroge je potrebno osamiti in provizorično zaščititi pred poškodbami.","kpl",1,null,{"$f":"D13*E13","v":0},{"$f":"+E13*MM","v":0},{"$f":"+G13*D13","v":0},{"$f":"+E13-G13","v":0},{"$f":"+I13*D13","v":0}]
[]
[3,"Demontaža vseh razdelilnikov v vseh prostorih kjer je predvidena prenov (18 razdelilnikov pretežno vgradne izvedbe + 2x prostostoječe izvedbe)","kpl",1,null,{"$f":"D15*E15","v":0},{"$f":"+E15*MM","v":0},{"$f":"+G15*D15","v":0},{"$f":"+E15-G15","v":0},{"$f":"+I15*D15","v":0}]
[]
[4,"Demontaža vseh kablov od obstoječh razdelilnikov, komplet z odstranitvijo kablov do priključkov v vseh prostorih kjer je predvidena prenova.","kpl",1,null,{"$f":"D17*E17","v":0},{"$f":"+E17*MM","v":0},{"$f":"+G17*D17","v":0},{"$f":"+E17-G17","v":0},{"$f":"+I17*D17","v":0}]
[]
[5,"Demontaža vseh vtičniic, prilkjučkov, stikal, parapetnih kanalov, polic,... v vseh prostorih kjer je predvidena prenova (pozor objekt ima neto površino cca 5500 m2 neto)","kpl",1,null,{"$f":"D19*E19","v":0},{"$f":"+E19*MM","v":0},{"$f":"+G19*D19","v":0},{"$f":"+E19-G19","v":0},{"$f":"+I19*D19","v":0}]
[]
[6,"Demontaža vseh svetilk v vseh prostorih kjer je predvidena prenova in na fasadi. Svetilke novejše izdelave se ponovno uporabi. To so svetilke proizvajalca Philips, vgrajene med leti 2017 in 2018. Ostale svetilke starejšega tipa se demontira in odstrani","kpl",1,null,{"$f":"D21*E21","v":0},{"$f":"+E21*MM","v":0},{"$f":"+G21*D21","v":0},{"$f":"+E21-G21","v":0},{"$f":"+I21*D21","v":0}]
[]
[7,"Demontaža vseh svetilk v prostorih bazena (prostor bazena, graderobe in sanitarije) , ki se nahaja v pritličju objekta","kpl",1,null,{"$f":"D23*E23","v":0},{"$f":"+E23*MM","v":0},{"$f":"+G23*D23","v":0},{"$f":"+E23-G23","v":0},{"$f":"+I23*D23","v":0}]
[]
[8,"Demontaža obstoječe strelovodne napeljave; lovilni vodi in odvodi","kpl",1,null,{"$f":"D25*E25","v":0},{"$f":"+E25*MM","v":0},{"$f":"+G25*D25","v":0},{"$f":"+E25-G25","v":0},{"$f":"+I25*D25","v":0}]
[]
[9,"Odvoz demontiranega materiala s kamionom na zato predvideno deponijo oziroma v skladišče investitorja na lokaciji do 10 km. ","kpl",6,null,{"$f":"D27*E27","v":0},{"$f":"+E27*MM","v":0},{"$f":"+G27*D27","v":0},{"$f":"+E27-G27","v":0},{"$f":"+I27*D27","v":0}]
[]
[10,"Gradbena pomoč instalaterjem (prebijanje, zazidava odprtin, vrtanje lukenj do fi 100 mm)","kos ",40,null,{"$f":"D29*E29","v":0},{"$f":"+E29*MM","v":0},{"$f":"+G29*D29","v":0},{"$f":"+E29-G29","v":0},{"$f":"+I29*D29","v":0}]
[]
[11,"Drobna gradbena pomoč instalaterjem - zazidava odprtin po dolbenju v stene","kpl",1,null,{"$f":"D31*E31","v":0},{"$f":"+E31*MM","v":0},{"$f":"+G31*D31","v":0},{"$f":"+E31-G31","v":0},{"$f":"+I31*D31","v":0}]
[]
[12,"Dolbljenje betonskih sten za montažo instalacijskih cevi sledečih dimenzij"]
[null,"dimenzij preseka do cca 6x3cm","m",870,null,{"$f":"D34*E34","v":0},{"$f":"+E34*MM","v":0},{"$f":"+G34*D34","v":0},{"$f":"+E34-G34","v":0},{"$f":"+I34*D34","v":0}]
[]
[13,"Izkop za potrebe polaganja ozemnljitvenega traku"]
[null,"~strojni in ročni izkop (50%/50%) v terenu IV. kategorije, globine 0,8m in širine 0,3m ","m1",280,null,{"$f":"D37*E37","v":0},{"$f":"+E37*MM","v":0},{"$f":"+G37*D37","v":0},{"$f":"+E37-G37","v":0},{"$f":"+I37*D37","v":0}]
[null,"~odstranitev obstoječih robnikov in plošč","m1",140,null,{"$f":"D38*E38","v":0},{"$f":"+E38*MM","v":0},{"$f":"+G38*D38","v":0},{"$f":"+E38-G38","v":0},{"$f":"+I38*D38","v":0}]
[null,"~čiščenje, planiranja in urejanje trase","m1",280,null,{"$f":"D39*E39","v":0},{"$f":"+E39*MM","v":0},{"$f":"+G39*D39","v":0},{"$f":"+E39-G39","v":0},{"$f":"+I39*D39","v":0}]
[]
[14,"Dobava materiala in izdelava cevne kabelske kanalizacije različnega števila cevi preseka  PVC  110 oz. 50mm, izkop v zem. III. - IV. Ktg., v povozni površini, globina kanala 0,81m, dobava in polaganje ozemljitvenega valjanca, zaščita cevi obbetoniranje, zasip kanala , nakladanje viška materiala in odvoz na deponijo, čiščenje trase"]
[null,"1x PVC cev fi 50 mm","m1",60,null,{"$f":"D42*E42","v":0},{"$f":"+E42*MM","v":0},{"$f":"+G42*D42","v":0},{"$f":"+E42-G42","v":0},{"$f":"+I42*D42","v":0}]
[null,"2x PVC cev fi 50 mm","m1",40,null,{"$f":"D43*E43","v":0},{"$f":"+E43*MM","v":0},{"$f":"+G43*D43","v":0},{"$f":"+E43-G43","v":0},{"$f":"+I43*D43","v":0}]
[null,"1x PVC cev fi 110 mm","m1",30,null,{"$f":"D44*E44","v":0},{"$f":"+E44*MM","v":0},{"$f":"+G44*D44","v":0},{"$f":"+E44-G44","v":0},{"$f":"+I44*D44","v":0}]
[]
[15,"Dobava materiala in izdelava betonskega kabelskega jaška v nepovozni površini, strojni izkop v zemljišču IV. ktg. jašek opremljen z LŽ lahkim pokrovom nosilnosti 125kN, enostranski opaž, nakladanje in odvoz odvečnega materiala ter stroški začasne in končne deponije, ometavanje in finalna obdelava jaška, čiščenje okolice"]
[null,"~ betonska cev fi 80 cm s pokrovom","kos",1,null,{"$f":"D47*E47","v":0},{"$f":"+E47*MM","v":0},{"$f":"+G47*D47","v":0},{"$f":"+E47-G47","v":0},{"$f":"+I47*D47","v":0}]
[]
[16,"Dobava materiala in izdelava cevne kabelske kanalizacije različnega števila cevi preseka  PVC  110 oz. 50mm, izkop v zem. III. - IV. Ktg., v povozni površini, globina kanala 0,81m, dobava in polaganje ozemljitvenega valjanca, zaščita cevi obbetoniranje, zasip kanala , nakladanje viška materiala in odvoz na deponijo, čiščenje trase","kpl",1,null,{"$f":"D49*E49","v":0},{"$f":"+E49*MM","v":0},{"$f":"+G49*D49","v":0},{"$f":"+E49-G49","v":0},{"$f":"+I49*D49","v":0}]
[null,null,null,null,0]
[17,"Vsa nepredvidena dela z vpisom v gradbeni dnevnik, obračun na osnovi dejanskih stroškov za delo, material in prevoz - ocenjeno",null,0.05,{"$f":"SUM(F11:F49)*D51","v":0},{"$f":"+E51","v":0},{"$f":"+E51*MM","v":0},{"$f":"+G51","v":0},{"$f":"+E51-G51","v":0},{"$f":"+I51","v":0}]
[]
["18","Obračun po količinah, ki izhajajo iz potrjenega gradbenega dnevnika in ob upoštevanju kalkulativnih osnov","kpl",1,{"$f":"SUM(F5:F51)*0.05","v":0},{"$f":"+E53","v":0},{"$f":"+E53*MM","v":0},{"$f":"+G53","v":0},{"$f":"+E53-G53","v":0},{"$f":"+I53","v":0}]
[]
[{"$f":"A2","v":"3/1.10"},{"$f":"B2","v":"Objekt A in B,   DEMONTAŽNA IN DRUGA DELA"},null,null,null,{"$f":"SUM(F5:F54)","v":0},null,{"$f":"SUM(H5:H54)","v":0},null,{"$f":"SUM(J5:J54)","v":0}]

{"sheet":"AB-L. DOKUMENTI","index":57,"n_rows":15,"n_cols":10,"rows_kept":15,"cut":false,"hidden":false,"merged":[]}
[]
["3/1.11","Objekt A in B,   DOKUMENTACIJA"]
[]
["ZAP. ŠT.","OPIS","     ME","KOLIČUNA","CENA/ENOTO","SKUPAJ","POPUST","POPUST SKUPAJ","CENA/ENOTO S POPUSTOM","SKUPAJ S POPUSTOM"]
[]
["3/1.11","DOKUMENTACIJA"]
[]
["1","Meritve električnih inštalacij po posameznih sklopih, izdaja zapisnikov, atestov in potrdil","kpl",1,null,{"$f":"D8*E8","v":0},{"$f":"+E8*MM","v":0},{"$f":"+G8*D8","v":0},{"$f":"+E8-G8","v":0},{"$f":"+I8*D8","v":0}]
[]
["2","Vrisovanje sprememb inštalacij v času gradnje v PZI izvod načrta električnih inštalacij s potrjevanjem nadzornega organa","kpl",1,null,{"$f":"D10*E10","v":0},{"$f":"+E10*MM","v":0},{"$f":"+G10*D10","v":0},{"$f":"+E10-G10","v":0},{"$f":"+I10*D10","v":0}]
[]
["3","Pridobitev certifikatov pooblaščenih organizacij za posamezne sklope","kpl",1,null,{"$f":"D12*E12","v":0},{"$f":"+E12*MM","v":0},{"$f":"+G12*D12","v":0},{"$f":"+E12-G12","v":0},{"$f":"+I12*D12","v":0}]
[]
[]
[{"$f":"A2","v":"3/1.11"},{"$f":"B2","v":"Objekt A in B,   DOKUMENTACIJA"},null,null,null,{"$f":"SUM(F8:F14)","v":0},null,{"$f":"SUM(H8:H14)","v":0},null,{"$f":"SUM(J8:J14)","v":0}]

{"sheet":"AB-2. REKAPIT. Telekomunikacije","index":58,"n_rows":20,"n_cols":5,"rows_kept":20,"cut":false,"hidden":false,"merged":[]}
["Investitor:   ","Mestna občina Ljubljana"]
[null,"Konzorcij družb Petrol d. d. in Resalta d. o. o. "]
["Objekt:      ","OŠ Savsko naselje, Matjaževa ulica 4, Ljubljana"]
[null," - Celovita prenova objekta s statično, požarno in energetsko sanacijo."]
["Štev. proj.:     "]
["Datum:      ","April 2022"]
[]
[]
[]
[null,"REKAPITULACIJA"]
[null,"TELEKOMUNIKACIJE Objekt A in B,   "]
[]
[]
[null,"Ponudbena vrednost - skupna rekapitulacija","Vrednost  brez popusta","Popust","Vrednost s popustom"]
["2/2.1.","SIGNALNO KOMUNIKACIJSKE INŠTALACIJE",{"$f":"'AB-A.SIGNALNO KOM. INŠTALACIJE'!$F$180","v":0},{"$f":"'AB-A.SIGNALNO KOM. INŠTALACIJE'!$H$180","v":0},{"$f":"'AB-A.SIGNALNO KOM. INŠTALACIJE'!$J$180","v":0}]
["2/2.2.","TEHNIČNO VARNOSTNI SISTEMI",{"$f":"'AB-B.TEHNIČNO VARNOSTNI SISTEMI'!$D$257","v":0},{"$f":"'AB-B.TEHNIČNO VARNOSTNI SISTEMI'!$E$257","v":0},{"$f":"'AB-B.TEHNIČNO VARNOSTNI SISTEMI'!$F$257","v":0}]
["2/2.3.","MULTIMEDIJSKA OPREMA",{"$f":"'AB-C.MULTIMEDIJSKA OPREMA'!$F$96","v":0},{"$f":"'AB-C.MULTIMEDIJSKA OPREMA'!$H$96","v":0},{"$f":"'AB-C.MULTIMEDIJSKA OPREMA'!$J$96","v":0}]
[null,"SKUPAJ",{"$f":"SUM(C15:C17)","v":0},{"$f":"SUM(D15:D17)","v":0},{"$f":"SUM(E15:E17)","v":0}]
[null,"22% DDV",null,null,{"$f":"+E18*0.22","v":0}]
[null,"Objekt A in B   TELEKOMUNIKACIJE SKUPAJ Z DDV",null,null,{"$f":"+E18+E19","v":0}]

{"sheet":"AB-A.SIGNALNO KOM. INŠTALACIJE","index":59,"n_rows":180,"n_cols":10,"rows_kept":180,"cut":false,"hidden":false,"merged":[]}
[]
["3/2.1","Objekt A in B,   SIGNALNO KOMUNIKACIJSKE INŠTALACIJE"]
[]
["ZAP. ŠT.","OPIS","     ME","KOLIČUNA","CENA/ENOTO","SKUPAJ","POPUST","POPUST SKUPAJ","CENA/ENOTO S POPUSTOM","SKUPAJ S POPUSTOM"]
[]
["3/2.1.1","STRUKTURIRAN SISTEM TELEFONSKEGA IN PODATKOVNEGA OMREŽJA"]
[]
[null,"ZAHTEVE za kable:"]
[null,"Kabli moraj biti  Cat 6A"]
[null,"10 Gbit/s ready  (500 MHz)"]
[null,"Podporajo naj 802.3af (PoE-Power over Ethernet)"]
[null,"Kabli morajo biti tipa LSFROH (Low smoke free of halogen)"]
[null,"Izvedene meritve vsekega posameznega komunikacijskega priključka (baker in optika)"]
[null,"Izvedbena dokumentacije s priloženimi meritvami iz prejšnje točke"]
[null,"Vsi elementi ožičenja naj izpolnjujo zahteve Cat 6A"]
[null,"Minimalno 20 let garancije na izvedbo in vgrajen material"]
[]
[1,"Komunikacijsko vozlišče GKV (glavno vozlišče - OŠ SAVSKO NASELJE), sestavljeno iz 19\" prostostoječe omare, višine 42HE (2000 mm), širine 800mm in globine 800mm, s steklenimi sprednjimi vrati, snemljivo zadnjo steno in vertikalnimi organizatorji. Omara ima vgrajene sledeče elemente: v strop vgrajeno hladilno enoto s štirimi ventilatorji z elektronskim termostatom,  štiri fiksne perforirane police: polica 19'' PS 900 do 120kg (2 kos), polica 19'' PS 900 do 28kg (2 kos); 19 palčna izvlečna polica, nosilnost do 10 kg, 2U; dve razdelilni jakotočni letvici s prenapetostno zaščito in devetimi šuko vtičnicami, ozemljitvena zbiralka","kos",2,null,{"$f":"D18*E18","v":0},{"$f":"+E18*MM","v":0},{"$f":"+G18*D18","v":0},{"$f":"+E18-G18","v":0},{"$f":"+I18*D18","v":0}]
[null,"Optični delilnik, 12x LCLC konektor, 1 HE,komplet z optično kaseto in pokrovom ","kos",2,null,{"$f":"D19*E19","v":0},{"$f":"+E19*MM","v":0},{"$f":"+G19*D19","v":0},{"$f":"+E19-G19","v":0},{"$f":"+I19*D19","v":0}]
[null,"optični zaključni kabel LC, \"single mode\" -50/125 um, dolžine 2,0m z ustreznim certifikatom                    ","kos",24,null,{"$f":"D20*E20","v":0},{"$f":"+E20*MM","v":0},{"$f":"+G20*D20","v":0},{"$f":"+E20-G20","v":0},{"$f":"+I20*D20","v":0}]
[null,"Distribucijski panel višine 1HE (delilnik STP, polno zaseden),  z 24 priključki RJ45 Cat.6A, možnost barvnega in fizičnega kodiranja, za zaključitev U/FTP kablov, možnost pritrditve stranskega organizatorja, vgrajen v 19˝ komunikacijsko om.","kos",10,null,{"$f":"D21*E21","v":0},{"$f":"+E21*MM","v":0},{"$f":"+G21*D21","v":0},{"$f":"+E21-G21","v":0},{"$f":"+I21*D21","v":0}]
[null,"Organizator ožičenja 1 HE, kovinsko v črni barvi,","kos",10,null,{"$f":"D22*E22","v":0},{"$f":"+E22*MM","v":0},{"$f":"+G22*D22","v":0},{"$f":"+E22-G22","v":0},{"$f":"+I22*D22","v":0}]
[]
[2,"Komunikacijsko vozlišče KV-RU (komunikacijska omarica - računalniška učilnica), sestavljeno iz 19\" prostostoječe omare, višine 42HE (2000 mm), širine 600mm in globine 600mm, s steklenimi sprednjimi vrati, snemljivo zadnjo steno in vertikalnimi organizatorji. Omara ima vgrajene sledeče elemente: v strop vgrajeno hladilno enoto s štirimi ventilatorji z elektronskim termostatom,  dve fiksni perforirani polici; dve razdelilni jakotočni letvici s prenapetostno zaščito in devetimi šuko vtičnicami, ozemljitvena zbiralka","kos",2,null,{"$f":"D24*E24","v":0},{"$f":"+E24*MM","v":0},{"$f":"+G24*D24","v":0},{"$f":"+E24-G24","v":0},{"$f":"+I24*D24","v":0}]
[null,"Optični delilnik, 12x LCLC konektor, 1 HE,komplet z optično kaseto in pokrovom ","kos",1,null,{"$f":"D25*E25","v":0},{"$f":"+E25*MM","v":0},{"$f":"+G25*D25","v":0},{"$f":"+E25-G25","v":0},{"$f":"+I25*D25","v":0}]
[null,"optični zaključni kabel LC, \"single mode\" -50/125 um, dolžine 2,0m z ustreznim certifikatom                    ","kos",12,null,{"$f":"D26*E26","v":0},{"$f":"+E26*MM","v":0},{"$f":"+G26*D26","v":0},{"$f":"+E26-G26","v":0},{"$f":"+I26*D26","v":0}]
[null,"Distribucijski panel višine 1HE (delilnik STP, polno zaseden),  z 24 priključki RJ45 Cat.6A, možnost barvnega in fizičnega kodiranja, za zaključitev U/FTP kablov, možnost pritrditve stranskega organizatorja, vgrajen v 19˝ komunikacijsko om.","kos",3,null,{"$f":"D27*E27","v":0},{"$f":"+E27*MM","v":0},{"$f":"+G27*D27","v":0},{"$f":"+E27-G27","v":0},{"$f":"+I27*D27","v":0}]
[null,"Organizator ožičenja 1 HE, kovinsko v črni barvi,","kos",3,null,{"$f":"D28*E28","v":0},{"$f":"+E28*MM","v":0},{"$f":"+G28*D28","v":0},{"$f":"+E28-G28","v":0},{"$f":"+I28*D28","v":0}]
[]
[3,"Komunikacijska vtičnica, s samozaporno protiprašno zaščito, komplet z odgovarjajočo dozo za podometno vgradnjo ali parapetni kanal oziroma v talno dozo"]
[null,"vtičnica UTP, kat.6A,-(dvojna, komplet z ustreznimi konektorji)-parapetni kanal, talna doza, stebriček","kos",115,null,{"$f":"D31*E31","v":0},{"$f":"+E31*MM","v":0},{"$f":"+G31*D31","v":0},{"$f":"+E31-G31","v":0},{"$f":"+I31*D31","v":0}]
[null,"vtičnica UTP, kat.6A, - (dvojna, komplet z ustreznimi konektorji)-podometna ali nadometna","kos",4,null,0,0,0,0,0]
[null,"vtičnica UTP, kat.6A, - (enojna, komplet z ustreznimi konektorji)-podometna ali nadometna","kos",2,null,0,0,0,0,0]
[null,"vtičnica UTP, kat.6A, - (upoštevati vtičnico RJ45 montirano na stropu - priklop Wi-FI antene)","kos",36,null,0,0,0,0,0]
[null,"HDMI vtičnica - montaža v parapetni kanal","kos",43,null,0,0,0,0,0]
[null,"USB vtičnica dvojna - montaža v parapetni kanal","kos",43,null,0,0,0,0,0]
[]
[4,"Telekomunikacijski instalacijski kabel ((minimalni razred odziva na ogenj: B2ca s1d1a1)) položen na polico, kanal oz. uvlečen  v instalacijsko cev ali parapetni kanal (upoštevati zahteve navedene v uvodu)"]
[null,"U/FTP podatkovni kabel, Cat. 6A LS0H, 500 MHz, 23 AWG (skladen z ISO/IEC 11801 adm.2 inTIA/EIA 568- C.2 za podporo 10GBASE-T); kot tip:  R&M ali enak","m",14800,null,{"$f":"D39*E39","v":0},{"$f":"+E39*MM","v":0},{"$f":"+G39*D39","v":0},{"$f":"+E39-G39","v":0},{"$f":"+I39*D39","v":0}]
[null,"Kabel HDMI dolžine 4m položeni v parapetni kanal med vtičnicama","kos",28,null,{"$f":"D40*E40","v":0},{"$f":"+E40*MM","v":0},{"$f":"+G40*D40","v":0},{"$f":"+E40-G40","v":0},{"$f":"+I40*D40","v":0}]
[null,"Kabel USB dolžine 4m položeni v parapetni kanal med vtičnicama","kos",28,null,{"$f":"D41*E41","v":0},{"$f":"+E41*MM","v":0},{"$f":"+G41*D41","v":0},{"$f":"+E41-G41","v":0},{"$f":"+I41*D41","v":0}]
[]
[5,"Optično vlakno 12 x 9/125, OS2, SM, v LSOH zaščitnem plašču, s polaganjem na pripravljene trase","m",140,null,{"$f":"D43*E43","v":0},{"$f":"+E43*MM","v":0},{"$f":"+G43*D43","v":0},{"$f":"+E43-G43","v":0},{"$f":"+I43*D43","v":0}]
[null,"Optično vlakno 2 x 9/125, OS2, SM, v LSOH zaščitnem plašču, s polaganjem na pripravljene trase","m",90,null,{"$f":"D44*E44","v":0},{"$f":"+E44*MM","v":0},{"$f":"+G44*D44","v":0},{"$f":"+E44-G44","v":0},{"$f":"+I44*D44","v":0}]
[]
[6,"Kabelske police pobarvane z belo barvo izdelane iz hladnocinkane pločevine, kompletno s potrebnim veznim, spojnim in nosilnim materialom ter pokrovi, vse po DIN50975/50976 z nanosom cinka 60-80um, višina 6cm, pobarvane (bela barva). Kot naprimer ELBA"]
[null,"200 mm","m",280,null,{"$f":"D47*E47","v":0},{"$f":"+E47*MM","v":0},{"$f":"+G47*D47","v":0},{"$f":"+E47-G47","v":0},{"$f":"+I47*D47","v":0}]
[null,"100 mm","m",150,null,{"$f":"D48*E48","v":0},{"$f":"+E48*MM","v":0},{"$f":"+G48*D48","v":0},{"$f":"+E48-G48","v":0},{"$f":"+I48*D48","v":0}]
[]
[7,"Instalacijska plastična gibljiva rebrasta cev, siva, negorljiva, brezhalogena, položena podometno v , komplet z razvodnimi dozami in pritrdilnim materialom"]
[null," - i. c. fi 16 mm","m",7450,null,{"$f":"D51*E51","v":0},{"$f":"+E51*MM","v":0},{"$f":"+G51*D51","v":0},{"$f":"+E51-G51","v":0},{"$f":"+I51*D51","v":0}]
[null," - i. c. fi 23 mm","m",1020,null,{"$f":"D52*E52","v":0},{"$f":"+E52*MM","v":0},{"$f":"+G52*D52","v":0},{"$f":"+E52-G52","v":0},{"$f":"+I52*D52","v":0}]
[null," - i. c. fi 36 mm","m",240,null,{"$f":"D53*E53","v":0},{"$f":"+E53*MM","v":0},{"$f":"+G53*D53","v":0},{"$f":"+E53-G53","v":0},{"$f":"+I53*D53","v":0}]
[]
[8,"Instalacijska plastična cev, položena nadometno, komplet z razvodnimi dozami in pritrdilnim materialom"]
[null,"PN 16","m",870,null,{"$f":"D56*E56","v":0},{"$f":"+E56*MM","v":0},{"$f":"+G56*D56","v":0},{"$f":"+E56-G56","v":0},{"$f":"+I56*D56","v":0}]
[null,"PN 23","m",240,null,{"$f":"D57*E57","v":0},{"$f":"+E57*MM","v":0},{"$f":"+G57*D57","v":0},{"$f":"+E57-G57","v":0},{"$f":"+I57*D57","v":0}]
[]
[9,"NIK kanal raznih dimenzij"]
[null," - NIK 2-3","m",120,null,{"$f":"D60*E60","v":0},{"$f":"+E60*MM","v":0},{"$f":"+G60*D60","v":0},{"$f":"+E60-G60","v":0},{"$f":"+I60*D60","v":0}]
[]
[10,"Ozemljitvena zbiralka univerzalnega ožičenja nameščena v novem TK prostoru, z ozemljitveno zbiralko Cu 250x100x6mm za priklop vodnikov P/F-Y 6,16,25 mm2","kos",1,null,{"$f":"E62*D62","v":0},{"$f":"+E62*MM","v":0},{"$f":"+G62*D62","v":0},{"$f":"+E62-G62","v":0},{"$f":"+I62*D62","v":0}]
[]
[11,"Zaključevanje U/FTP kablov kat. 6A na delilnem panelu in vtičnici","kos",240,null,{"$f":"E64*D64","v":0},{"$f":"+E64*MM","v":0},{"$f":"+G64*D64","v":0},{"$f":"+E64-G64","v":0},{"$f":"+I64*D64","v":0}]
[]
[12,"Meritve UTP/FTP ClassEA instalacije (meritve v skladu s standardi in certificiranimi merilniki); obvezna predaja končnega poročila","kos",240,null,{"$f":"E66*D66","v":0},{"$f":"+E66*MM","v":0},{"$f":"+G66*D66","v":0},{"$f":"+E66-G66","v":0},{"$f":"+I66*D66","v":0}]
[]
[13,"Meritev optične povezave-Power meter (slabljenje) ","kos",36,null,{"$f":"E68*D68","v":0},{"$f":"+E68*MM","v":0},{"$f":"+G68*D68","v":0},{"$f":"+E68-G68","v":0},{"$f":"+I68*D68","v":0}]
[]
[14,"Označevanje vseh komunikacijskih kablov, portov na panelih ter vtičnicah","kpl",1,null,{"$f":"D70*E70","v":0},{"$f":"+E70*MM","v":0},{"$f":"+G70*D70","v":0},{"$f":"+E70-G70","v":0},{"$f":"+I70*D70","v":0}]
[]
[15,"Povezava naprav na položeno, označeno in preizkušeno instalacijonaravnava parametrov in spuščanje sistema v pogon; Sistemska garancija principala (20 let)","kpl",1,null,{"$f":"D72*E72","v":0},{"$f":"+E72*MM","v":0},{"$f":"+G72*D72","v":0},{"$f":"+E72-G72","v":0},{"$f":"+I72*D72","v":0}]
[]
["16","Obračun po količinah, ki izhajajo iz potrjenega gradbenega dnevnika in ob upoštevanju kalkulativnih osnov","kpl",1,{"$f":"SUM(F18:F72)*0.05","v":0},{"$f":"D74*E74","v":0},{"$f":"+E74*MM","v":0},{"$f":"+G74*D74","v":0},{"$f":"+E74-G74","v":0},{"$f":"+I74*D74","v":0}]
[]
["3/2.1.1","STRUKTURIRAN SISTEM TELEFONSKEGA IN PODATKOVNEGA OMREŽJA",null,null,null,{"$f":"SUM(F18:F75)","v":0},null,{"$f":"SUM(H18:H75)","v":0},null,{"$f":"SUM(J18:J75)","v":0}]
[]
["3/2.1.2","OZVOČENJE"]
["A. ","OPREMA SPLOŠNEGA OZVOČENJA ŠOLE"]
[null,"Oprema, storitev"]
[1,"Centralna naprava ozvočenja šole (kot SEA Sežana), sestavljena iz:"]
[" -","SMX468  matrični mikser 6/8, vhod za mikrofon za obvestila, prednostni vhod za požarna obvestila in zvonenje, LCD zaslon, napisi v slovenskem jeziku, 2HE-rack 19\" ","kos",1,null,{"$f":"D82*E82","v":0},{"$f":"+E82*MM","v":0},{"$f":"+G82*D82","v":0},{"$f":"+E82-G82","v":0},{"$f":"+I82*D82","v":0}]
[" -","SDA 2100 močnostni avdio ojačevalnik 2 x 100W/100V, 19\"","kos",1,null,0,0,0,0,0]
[" -","SDA2300 močnostni avdio ojačevalnik 2 X 300W/100V, 19\"","kos",1,null,0,0,0,0,0]
[" -","SNN1121  močnostni avdio ojačevalnik 2X50W/100V, 19\"","kos",1,null,0,0,0,0,0]
[" -","DNT499DAB  internetni radio, USB /mp-3 predvajalnik    19\", vgradni","kos",1,null,0,0,0,0,0]
[" -","24HE/19\"   vgradno ohišje","kos",1,null,0,0,0,0,0]
[" -","SPM1200  monitorski zvočnik z regulatorjem","kos",1,null,0,0,0,0,0]
[" -","SVA1200/V  enota za zvonenje z glasbo- vklop iz programatorja zvonenja, z enoto za požarna obvestila- vklop s ključem, ločeno zvonenje nižja in višja stopnja.","kos",1,null,0,0,0,0,0]
[" -","SPU1200/k mrežna-napajalna ennota 230V  z enoto za daljinski vklop ( zvonenje) in komunikatorjem  za povezavo z napravo v športni dvorani.","kos",1,null,0,0,0,0,0]
[" -","SNO1330/A   namizni mikrofon na gibljivem vratu, 5m kabla","kos",1,null,0,0,0,0,0]
[]
[2,"HMPE700 programator zvonenja z DCF Sprejemnikom točnega časa TR1E","kpl",1,null,{"$f":"D93*E93","v":0},{"$f":"+E93*MM","v":0},{"$f":"+G93*D93","v":0},{"$f":"+E93-G93","v":0},{"$f":"+I93*D93","v":0}]
[3,"Nadometna zvočna monarica 10/5W/100V ble barve, SPL104 dB,BG-NO6","kos",52,null,{"$f":"D94*E94","v":0},{"$f":"+E94*MM","v":0},{"$f":"+G94*D94","v":0},{"$f":"+E94-G94","v":0},{"$f":"+I94*D94","v":0}]
[4," Regulator glasnosti , kpl. z vgradno dozo fi 68, beli 100W/100V, vgradni, beli,","kos",2,null,0,{"$f":"+E95*MM","v":0},{"$f":"+G95*D95","v":0},{"$f":"+E95-G95","v":0},{"$f":"+I95*D95","v":0}]
[5,"Regulator glasnosti , kpl. z vgradno dozo fi 68, beli 35W/100V, vgradni, beli","kos",32,null,0,{"$f":"+E96*MM","v":0},{"$f":"+G96*D96","v":0},{"$f":"+E96-G96","v":0},{"$f":"+I96*D96","v":0}]
[6,"Oprema šolskega radia"]
[null,"Namizni 6-kanalni avdio mikser , 4 x mikrofonski vhod, 2 x stereo linijski vhod, izhod za slušalke (kot tip SEA)","kos",1,null,0,{"$f":"+E98*MM","v":0},{"$f":"+G98*D98","v":0},{"$f":"+E98-G98","v":0},{"$f":"+I98*D98","v":0}]
[null,"CD/USB/MP-3 predvajalnik (kot UCD-100) osvetljene tipke","kos",1,null,0,0,0,0,0]
[null,"ozvočenja preko mrežne povezave ali UTP kalbla","kos",1,null,0,0,0,0,0]
[null,"namizno ohišje 6HE","kos",1,null,0,0,0,0,0]
[null,"Stereo naglavne polzaprte slušalke","kos",1,null,0,0,0,0,0]
[null,"Aktivni monitorski zvočniki 50W (G3 Par)","kos",1,null,{"$f":"D103*E103","v":0},0,0,0,0]
[null,"PGA-48 Namizni mikrofon na stojalu, 3m kabla XLR","kos",1,null,{"$f":"D104*E104","v":0},0,0,0,0]
[null,"Povezava v sistem, zagon, nastavitve","kos",1,null,{"$f":"D105*E105","v":0},0,0,0,0]
[7,"Instalacija ozvočenja"]
[" -","FG180M16 2 x 1,5 mm2 kabel za zvočnike                                   cca","m",480,null,0,{"$f":"+E107*MM","v":0},{"$f":"+G107*D107","v":0},{"$f":"+E107-G107","v":0},{"$f":"+I107*D107","v":0}]
[" -","FG180M16 3 x 1,5 mm2 kabel za zvočnike                                    cca","m",1450,null,0,0,0,0,0]
[" -","Razvodne doze Fi 60","kos",62,null,0,0,0,0,0]
[" -","Vgradna   doza  Fi 68","kos",15,null,0,0,0,0,0]
[" -","Montaža zvočnikov","kos",52,null,0,0,0,0,0]
[" -","Montaža regulatorjev","kos",34,null,0,0,0,0,0]
[" -","Instalacijske cevi fi 16 mm in kanali NIK 3","m",1480,null,0,0,0,0,0]
[" -","Drobni priključni in vezni material","kpl",1,null,0,0,0,0,0]
[" -","Dokumentacija","kpl",1,null,0,0,0,0,0]
[9,"Priklop opreme na položeno instalacijo in montirane zvočnike in regulatorje, zagon, poučitev uporabnika","kpl",1,null,0,0,{"$f":"+G116*D116","v":0},{"$f":"+E116-G116","v":0},{"$f":"+I116*D116","v":0}]
[]
["10","Obračun po količinah, ki izhajajo iz potrjenega gradbenega dnevnika in ob upoštevanju kalkulativnih osnov","kpl",1,{"$f":"SUM(F82:F116)*0.05","v":0},{"$f":"D118*E118","v":0},{"$f":"+E118*MM","v":0},{"$f":"+G118*D118","v":0},{"$f":"+E118-G118","v":0},{"$f":"+I118*D118","v":0}]
[]
[null,"SKUPAJ A oprema šolskega ozvočenja",null,null,null,{"$f":"SUM(F82:F119)","v":0},null,{"$f":"SUM(H82:H119)","v":0},null,{"$f":"SUM(J82:J119)","v":0}]
[]
["B. ","OZVOČENJE TELOVADNICE"]
[1,"Centralna naprava ozvočenja v sestavi:"]
[null,"1832FXPRO 18 kanalni mikser 10 x monoMIC , 4 x stereo mikser, RACK verzija","kom",1,null,{"$f":"D124*E124","v":0},{"$f":"+E124*MM","v":0},{"$f":"+G124*D124","v":0},{"$f":"+E124-G124","v":0},{"$f":"+I124*D124","v":0}]
[null,"UCD100 CD- mp3 /USB predvajalnik, 19\"- Pitch Control","kom",1,null,0,0,0,0,0]
[null,"WMS450 HT /Dročni brezžični mikrofon z diversity sprejemnikom, UHF področje, vgrajenim v rack.","kom",1,null,0,0,0,0,0]
[null,"WMS 450 naglavni brezžičnim mikrofon , UHF, diversity sprejemnik, vgrajen v rack naprave.","kom",1,null,0,0,0,0,0]
[null,"SNN 2000/N - močnostni ojačevalnik 2x600W/4 Ohm, ločena master regulatorja, LED-VU, profes.","kom",2,null,0,0,0,0,0]
[null,"SPU1200/K  Mrežna napajalna /distribucijska enota 230V 50Hz, z enoto za mehki zagon","kom",1,null,0,0,0,0,0]
[null,"24HE/19\"  vgradno ohišje  , komplet ožičeno, s kolesi","kom",1,null,0,0,0,0,0]
[]
[2,"Zvočni viri  telovadnice:"]
[null,"Zvočna kombinacija 450W/8 Ohm,50Hz-20kHz, Spl 124 dB, zaščita proti preobremenitvi , zaščitna jeklena mreža, črne barve,ali ekvavilentno tip  BG-SW15","kom",4,null,0,{"$f":"+E133*MM","v":0},{"$f":"+G133*D133","v":0},{"$f":"+E133-G133","v":0},{"$f":"+I133*D133","v":0}]
[null,"Konzola za montažo zvočnikov na  stropno konstrukcijo z možnostjo obračanja zvočnikov, namenska izdelava.","kom",4,null,0,{"$f":"+E134*MM","v":0},{"$f":"+G134*D134","v":0},{"$f":"+E134-G134","v":0},{"$f":"+I134*D134","v":0}]
[null,"Mikrofoni in stojala:",null,null,null,0]
[null,"MSŽ-4   mikrofonsko stojalo-žirafa ","kom",1,null,0,{"$f":"+E136*MM","v":0},{"$f":"+G136*D136","v":0},{"$f":"+E136-G136","v":0},{"$f":"+I136*D136","v":0}]
[null,"PG-48 - dinamični mikrofon s stikalom, namiznim stojalom in 10m kabla s konektorjem.","kom",1,null,0,{"$f":"+E137*MM","v":0},{"$f":"+G137*D137","v":0},{"$f":"+E137-G137","v":0},{"$f":"+I137*D137","v":0}]
[null,null,null,null,null,0]
[null,"Zagon opreme",null,null,null,0]
[3,"Priklop opreme ozvočenja na izvedeno instalacijo in montirane zvočne vire in razdelilne omarice, zagon in nastavitve opreme, drobni instalacijski material, konektiranje kablov, označevanje,dokumentacija, poučitev uporabnika za uporabo opreme.","kpl",1,null,0,{"$f":"+E140*MM","v":0},{"$f":"+G140*D140","v":0},{"$f":"+E140-G140","v":0},{"$f":"+I140*D140","v":0}]
[null,"Razdelilna -priključna omarica PO-1; PO-2",null,null,null,0]
[4,"Zidna priključna omarica 4 -delna (cca 30x40 cm) Gewiss ali slič. z montiranimi 3 x šuko vtičnicami, 4x XLR vtičnicami,oznaka  PO-1.","kos",1,null,0,{"$f":"+E142*MM","v":0},{"$f":"+G142*D142","v":0},{"$f":"+E142-G142","v":0},{"$f":"+I142*D142","v":0}]
[5,"Zidna priključna omarica 4 -delna (cca 30x40 cm) Gewiss ali slič. z montiranimi 3 x šuko vtičnicami, avt. varovalko 25A/C,vgrajenimi 8 kos vrstnimi sponkami 4 mm2, oznaka  PO-2.","kos",1,null,0,{"$f":"+E143*MM","v":0},{"$f":"+G143*D143","v":0},{"$f":"+E143-G143","v":0},{"$f":"+I143*D143","v":0}]
[6,"Šibkotočni konektorji :",null,null,null,0]
[7,"Neutrik profes. konektor NL2FC","kos",16,null,0,{"$f":"+E145*MM","v":0},{"$f":"+G145*D145","v":0},{"$f":"+E145-G145","v":0},{"$f":"+I145*D145","v":0}]
[8,"Povezovalni kabli, doze",null,null,null,0]
[9,"Multicore MIC kabel 8-parični   ","m",40,null,0,{"$f":"+E147*MM","v":0},{"$f":"+G147*D147","v":0},{"$f":"+E147-G147","v":0},{"$f":"+I147*D147","v":0}]
[10,"Kabel   2x 4mm2 (FG180M16) ","m",360,null,0,{"$f":"+E148*MM","v":0},{"$f":"+G148*D148","v":0},{"$f":"+E148-G148","v":0},{"$f":"+I148*D148","v":0}]
[11,"Dostava, drobni montažni in instalacijski material, ","kpl",1,null,0,{"$f":"+E149*MM","v":0},{"$f":"+G149*D149","v":0},{"$f":"+E149-G149","v":0},{"$f":"+I149*D149","v":0}]
[]
["12","Obračun po količinah, ki izhajajo iz potrjenega gradbenega dnevnika in ob upoštevanju kalkulativnih osnov","kpl",1,{"$f":"SUM(F124:F149)*0.05","v":0},{"$f":"D151*E151","v":0},{"$f":"+E151*MM","v":0},{"$f":"+G151*D151","v":0},{"$f":"+E151-G151","v":0},{"$f":"+I151*D151","v":0}]
[]
[null,"SKUPAJ B ozvočenje telovadnice",null,null,null,{"$f":"SUM(F124:F152)","v":0},null,{"$f":"SUM(H124:H152)","v":0},null,{"$f":"SUM(J124:J152)","v":0}]
[]
["3/2.1.2","VSE SKUPAJ OZVOČENJE A+B ",null,null,null,{"$f":"F153+F120","v":0},null,{"$f":"H153+H120","v":0},null,{"$f":"J153+J120","v":0}]
[]
["3/2.1.3","ELEKTRIČNE URE"]
[]
[1,"HMPE700 programator zvonenja  in matična ura ","kos",1,null,{"$f":"E159*D159","v":0},{"$f":"+E159*MM","v":0},{"$f":"+G159*D159","v":0},{"$f":"+E159-G159","v":0},{"$f":"+I159*D159","v":0}]
[]
[{"$f":"A159+1","v":2},"Sprejemnik točnega časa DCF sprejemnikom točnega časa","kos",1,null,{"$f":"E161*D161","v":0},{"$f":"+E161*MM","v":0},{"$f":"+G161*D161","v":0},{"$f":"+E161-G161","v":0},{"$f":"+I161*D161","v":0}]
[]
[3,"Ura sekundna 24V - enostranska 300mm kot tip: 2ME-31 (Iskra Mehanizmi) ali enakovredno","kos",30,null,{"$f":"E163*D163","v":0},{"$f":"+E163*MM","v":0},{"$f":"+G163*D163","v":0},{"$f":"+E163-G163","v":0},{"$f":"+I163*D163","v":0}]
[]
[4,"Ura sekundna 24V - dvostranska 300mm kot tip: 2ME-31 (Iskra Mehanizmi) ali enakovredno","kos",6,null,0,{"$f":"+E165*MM","v":0},{"$f":"+G165*D165","v":0},{"$f":"+E165-G165","v":0},{"$f":"+I165*D165","v":0}]
[]
[5,"Instalacijske plastična negorljiva cev za vgradnjo v predelno steno-fi 23mm z vsem pripadajočim priborom ","m",1140,null,0,{"$f":"+E167*MM","v":0},{"$f":"+G167*D167","v":0},{"$f":"+E167-G167","v":0},{"$f":"+I167*D167","v":0}]
[]
[6,"Kabel LiHCH 2x 1,5 mm2 na kabelskih policah in v cevi","m",980,null,0,{"$f":"+E169*MM","v":0},{"$f":"+G169*D169","v":0},{"$f":"+E169-G169","v":0},{"$f":"+I169*D169","v":0}]
[]
[7,"Kabel N2XH-J 3x1,5 mm2 na kabelskih policah in v cevi","m",870,null,{"$f":"E171*D171","v":0},{"$f":"+E171*MM","v":0},{"$f":"+G171*D171","v":0},{"$f":"+E171-G171","v":0},{"$f":"+I171*D171","v":0}]
[]
[8,"Montaža naprav, nastavitev parametrov, testiranje, spuščanje v pogon, primopredaja in poučitev pristojnega osebja o delovanju sistema ","kpl","1",null,{"$f":"D173*E173","v":0},{"$f":"+E173*MM","v":0},{"$f":"+G173*D173","v":0},{"$f":"+E173-G173","v":0},{"$f":"+I173*D173","v":0}]
[]
["9","Obračun po količinah, ki izhajajo iz potrjenega gradbenega dnevnika in ob upoštevanju kalkulativnih osnov","kpl",1,{"$f":"SUM(F159:F173)*0.05","v":0},{"$f":"D175*E175","v":0},{"$f":"+E175*MM","v":0},{"$f":"+G175*D175","v":0},{"$f":"+E175-G175","v":0},{"$f":"+I175*D175","v":0}]
[]
[null,"SKUPAJ ELEKTRIČNE URE",null,null,null,{"$f":"SUM(F159:F176)","v":0},null,{"$f":"SUM(H159:H176)","v":0},null,{"$f":"SUM(J159:J176)","v":0}]
[]
[]
[null,"SKUPAJ SIGNALNO KOMUNIKACIJSKE INŠTALACIJE",null,null,null,{"$f":"+F177+F155+F76","v":0},null,{"$f":"+H177+H155+H76","v":0},null,{"$f":"+J177+J155+J76","v":0}]

{"sheet":"AB-B.TEHNIČNO VARNOSTNI SISTEMI","index":60,"n_rows":257,"n_cols":10,"rows_kept":257,"cut":false,"hidden":false,"merged":[]}
["__"]
["2/2.2","Objekt A in B,   TEHNIČNO VARNOSTNI SISTEMI"]
[]
["ZAP. ŠT.","OPIS","     ME","KOLIČUNA","CENA/ENOTO","SKUPAJ","POPUST","POPUST SKUPAJ","CENA/ENOTO S POPUSTOM","SKUPAJ S POPUSTOM"]
[]
["3/2.2","TEHNIČNO VARNOSTNI SISTEMI"]
[null,"SPLOŠNI OPIS"]
[null,"Vsa oprema in vgrajeni materiali morajo imeti ustrezne ateste oziroma\ndovoljenja za uporabo na področju Republike Slovenije in morajo\nustrezati veljavnim tehničnim predpisom in standardom."]
[null,"Vsa dela morajo biti izvedena kvalitetno in z opremo ter materiali\nnavedenimi v popisu."]
[]
[]
[]
["3/2.2.1","SISTEM AOiJP"]
[]
["1","Adresna centralna naprava SINTESO FC2040, za 4x FDnet adresne zanke, max.504 adresnih elementov. Možnost povezave centralne naprave v mrežo central FCnet. Spomin za 1000 dogodkov. Ethernet priključek RJ45. Možnost oddaljenega dostopa in upravljanja sistema preko Ethernet mreže. Možna integracija na varnostne nadzorne sisteme preko BACnet protokola. \nV kompletu z upravljalno prikazovalno enoto (grafični LCD prikazovalnik z 8 vrsticami), napajalnikom 24V/150W in konfortnem ohišjem za AKU max.2x27Ah.","kos",1,null,{"$f":"SUM(D15*E15)","v":0},{"$f":"+E15*MM","v":0},{"$f":"+G15*D15","v":0},{"$f":"+E15-G15","v":0},{"$f":"+I15*D15","v":0}]
[]
["2","AKU baterija 12 V, 17 Ah, VDS ","kos",2,null,{"$f":"SUM(D17*E17)","v":0},{"$f":"+E17*MM","v":0},{"$f":"+G17*D17","v":0},{"$f":"+E17-G17","v":0},{"$f":"+I17*D17","v":0}]
[]
["3","Mrežna kartica SAFEDLINK za povezavo centralnih naprav FC20 v mrežo Fcnet; razdalja med dvema centralami je max.1000m","kos",1,null,{"$f":"SUM(D19*E19)","v":0},{"$f":"+E19*MM","v":0},{"$f":"+G19*D19","v":0},{"$f":"+E19-G19","v":0},{"$f":"+I19*D19","v":0}]
[]
["4","Področni terminal za nadzor in pregled nad posameznimi področji sistema javljanja požara. Z možnostjo potrditve in reseta dogodkov. Povezava v adresno zanko FDnet. V kompletu z upravljalno prikazovalno enoto (LCD prikazovalnik s 6 vrsticami). ","kos",1,null,{"$f":"SUM(D21*E21)","v":0},{"$f":"+E21*MM","v":0},{"$f":"+G21*D21","v":0},{"$f":"+E21-G21","v":0},{"$f":"+I21*D21","v":0}]
[]
["5","Komunikator  za potrebe prenosa požarnega alarma na pokicno gasilsko enoto  oz. na varnostno službo (kot npr. VNC Aktiva varovanje d.d. (IP PRENOS preko interneta))","kos",1,null,{"$f":"SUM(D23*E23)","v":0},{"$f":"+E23*MM","v":0},{"$f":"+G23*D23","v":0},{"$f":"+E23-G23","v":0},{"$f":"+I23*D23","v":0}]
[]
["6","Optični javljalnik dima z vgrajeno ASA tehnologijo in vgrajenim izolatorjem zanke; serija S-Line\nPodnožje javljalnikov za adresibilne javljalnike\nDodatno podnožje za javljalnike\nOznačevalna ploščica za zapisne lističe","kos",78,null,{"$f":"SUM(D25*E25)","v":0},{"$f":"+E25*MM","v":0},{"$f":"+G25*D25","v":0},{"$f":"+E25-G25","v":0},{"$f":"+I25*D25","v":0}]
[]
["7","Ohišje vzorčne komore za Sinteso, Cerberus Pro javljalnike, primerna za hitrost zraka od 1m/s do 20m/s\nVzorčevalna cev  - 60 cm\nKombinirani, nevronski javljalnik z vgrajeno ASA tehnologijo\nPodnožje javljalnikov za adresibilne javljalnike Sinteso\nOznačevalna ploščica za zapisne lističe","kos",6,null,{"$f":"SUM(D27*E27)","v":0},{"$f":"+E27*MM","v":0},{"$f":"+G27*D27","v":0},{"$f":"+E27-G27","v":0},{"$f":"+I27*D27","v":0}]
[]
["8","Temperaturni javljalnik z vgrajeno ASA tehnologijo in vgrajenim izolatorjem zanke; serija S-Line\nPodnožje javljalnikov za adresibilne javljalnike\nDodatno podnožje za javljalnike\nOznačevalna ploščica za zapisne lističe","kos",23,null,{"$f":"SUM(D29*E29)","v":0},{"$f":"+E29*MM","v":0},{"$f":"+G29*D29","v":0},{"$f":"+E29-G29","v":0},{"$f":"+I29*D29","v":0}]
[]
["9","Elektronika ročnega javljalnika Sinteso; direktni način proženja\nOhišje rdeče barve za ročni javljalnik; za FDME221\nOznaka elementa; ploščica rdeča z belim napisom 40x18","kos",22,null,{"$f":"SUM(D31*E31)","v":0},{"$f":"+E31*MM","v":0},{"$f":"+G31*D31","v":0},{"$f":"+E31-G31","v":0},{"$f":"+I31*D31","v":0}]
[]
[10,"Označevanje ročnih javljalnikov po SIST 1013 velikosti 125x125mm","kos",22,null,{"$f":"SUM(D33*E33)","v":0},{"$f":"+E33*MM","v":0},{"$f":"+G33*D33","v":0},{"$f":"+E33-G33","v":0},{"$f":"+I33*D33","v":0}]
[]
[11,"Adresna alarmna sirena rdeče barve z belo bliskavico, 99dB\nPodnožje za adresibilne sirene\nOznačevalna ploščica za zapisne lističe","kos",36,null,{"$f":"SUM(D35*E35)","v":0},{"$f":"+E35*MM","v":0},{"$f":"+G35*D35","v":0},{"$f":"+E35-G35","v":0},{"$f":"+I35*D35","v":0}]
[]
[12,"Označevanje požarnih siren po SIST 1013 velikosti 125x125mm","kos",36,null,{"$f":"SUM(D37*E37)","v":0},{"$f":"+E37*MM","v":0},{"$f":"+G37*D37","v":0},{"$f":"+E37-G37","v":0},{"$f":"+I37*D37","v":0}]
[]
[13,"Enokanalni Izhodni modul (1 izhod) z vgrajenim izolatorjem zanke v ohišju\nOhišje za modul, IP 65 ","kos",16,null,{"$f":"SUM(D39*E39)","v":0},{"$f":"+E39*MM","v":0},{"$f":"+G39*D39","v":0},{"$f":"+E39-G39","v":0},{"$f":"+I39*D39","v":0}]
[]
[14,"Štirikanalni vhodni/izhodni modul (4x izhod /4x vhodi) z vgrajenim izolatorjem zanke; relejski izhodi 4 A\nOhišje za modul, IP 65 ","kos",8,null,{"$f":"SUM(D41*E41)","v":0},{"$f":"+E41*MM","v":0},{"$f":"+G41*D41","v":0},{"$f":"+E41-G41","v":0},{"$f":"+I41*D41","v":0}]
[]
[15,"METAN detektor z relejskim vmesnikom (3 izhodi), povezava na adresni vmesnik sistema javljanja požara","kos",4,null,0,{"$f":"+E43*MM","v":0},{"$f":"+G43*D43","v":0},{"$f":"+E43-G43","v":0},{"$f":"+I43*D43","v":0}]
[]
[16,"Opozorilni tablo, enostranski, z audio signalizacijo (85db) z napisom ˝POZOR PLIN zapusti prostor˝","kos",1,null,0,{"$f":"+E45*MM","v":0},{"$f":"+G45*D45","v":0},{"$f":"+E45-G45","v":0},{"$f":"+I45*D45","v":0}]
[]
[17,"Napajalnik 24V/155W (5A + 0,5A) v kompletu s konektorji, v kovinskem ohišju in z AKU baterijami 2x17Ah;","kos",1,null,0,{"$f":"+E47*MM","v":0},{"$f":"+G47*D47","v":0},{"$f":"+E47-G47","v":0},{"$f":"+I47*D47","v":0}]
[]
[18,"AKU baterija 12 V, 17 Ah, VDS ","kos",2,null,0,{"$f":"+E49*MM","v":0},{"$f":"+G49*D49","v":0},{"$f":"+E49-G49","v":0},{"$f":"+I49*D49","v":0}]
[]
[19,"Dobava in montaža kabla v IST ceveh, komplet (kabli morajo ustrezati razredu B2ca s1d1a1)"]
[null,"JB-H(St)H 1x2x0,8 mm2","m",1450,null,{"$f":"E52*D52","v":0},{"$f":"+E52*MM","v":0},{"$f":"+G52*D52","v":0},{"$f":"+E52-G52","v":0},{"$f":"+I52*D52","v":0}]
[null,"JB-H(St)H 2x2x0,8 mm2","m",350,null,{"$f":"E53*D53","v":0},{"$f":"+E53*MM","v":0},{"$f":"+G53*D53","v":0},{"$f":"+E53-G53","v":0},{"$f":"+I53*D53","v":0}]
[null,"NHXMH 3x1,5mm2","m",550,null,{"$f":"E54*D54","v":0},{"$f":"+E54*MM","v":0},{"$f":"+G54*D54","v":0},{"$f":"+E54-G54","v":0},{"$f":"+I54*D54","v":0}]
[]
[20,"Dobava in montaža instalacijske cevi, komplet s spojnim in pritrdilnim materialom"]
[null,"I.C. 13,5mm","m",980,null,{"$f":"E57*D57","v":0},{"$f":"+E57*MM","v":0},{"$f":"+G57*D57","v":0},{"$f":"+E57-G57","v":0},{"$f":"+I57*D57","v":0}]
[]
["21","Integracija centralne naprave za javljanje požara na osnovno nadzorno\npostajo:\n- Izdelava ekranskih prikazov, prilagajanje in vnašanje ustreznih\n   tlorisnih podlog (digitalizirane načrte v obliki dwg datotek priskrbi\n   naročnik)\n- Vnašanje (animacija) javljalnih točk in umestitev v ustrezno logično\n   strukturo sistema,\n- Verifikacija in validacija sistema na  CNS-u","kpl",1,null,{"$f":"SUM(D59*E59)","v":0},{"$f":"+E59*MM","v":0},{"$f":"+G59*D59","v":0},{"$f":"+E59-G59","v":0},{"$f":"+I59*D59","v":0}]
[]
[22,"Pregled sistema javljanja požara s strani pooblaščene institucije in izdaja potrdila - do 150 elementov","kpl",1,null,{"$f":"SUM(D61*E61)","v":0},{"$f":"+E61*MM","v":0},{"$f":"+G61*D61","v":0},{"$f":"+E61-G61","v":0},{"$f":"+I61*D61","v":0}]
[]
[23,"Montaža sistema na položeno in preizkušeno instalacijo ","kpl",1,null,{"$f":"SUM(D63*E63)","v":0},{"$f":"+E63*MM","v":0},{"$f":"+G63*D63","v":0},{"$f":"+E63-G63","v":0},{"$f":"+I63*D63","v":0}]
[]
[24,"Programiranje in zagon sistema, pregled s strani pristojne institucije, sodelovanje serviserja oziroma vzdrževalca pri pregledu sistema, izdaja zapisnika in pridobitev ustreznega potrdila o brezhibnem delovanju sistema, predaja navodil za uporabo in vzdrževanje sistema, primopredaja in šolanje operaterjev","kpl",1,null,{"$f":"SUM(D65*E65)","v":0},{"$f":"+E65*MM","v":0},{"$f":"+G65*D65","v":0},{"$f":"+E65-G65","v":0},{"$f":"+I65*D65","v":0}]
[]
["25","Obračun po količinah, ki izhajajo iz potrjenega gradbenega dnevnika in ob upoštevanju kalkulativnih osnov","kpl",1,{"$f":"SUM(F15:F65)*0.05","v":0},{"$f":"SUM(D67*E67)","v":0},{"$f":"+E67*MM","v":0},{"$f":"+G67*D67","v":0},{"$f":"+E67-G67","v":0},{"$f":"+I67*D67","v":0}]
[]
[{"$f":"A13","v":"3/2.2.1"},{"$f":"B13","v":"SISTEM AOiJP"},null,null,null,{"$f":"SUM(F14:F67)","v":0},null,{"$f":"SUM(H14:H67)","v":0},null,{"$f":"SUM(J14:J67)","v":0}]
[]
["3/2.1.2","SISTEM PROTIVLOMNEGA VAROVANJA"]
[]
[1,"Intrunet SPC5330 Grade 3 centralna naprava za protivlomno varovanje, 8 področji, razširljiva do 128 področji; 1x zanka oz. 2x linija na X-Bus vodilu dolžine max. 12.400m (razdalja med X-Bus elementi do 400m), omogoča formiranje 16 particij, možnost priklopa do 16 tipkovnic, 32 čitalcev kartic (16 vrat), spomin za 10.000 alarmnih dogodkov in 10.000 dogodkov kontrole pristopa, 256 uporabniških kod, integriran WEB server za ethernet IP povezavo; kpl. z napajalnikom in kovinskim ohišjem za Aku 12V/17Ah s tamper zaščito; varnostni razred po EN50131-1: GRADE 3","kpl",1,null,{"$f":"+E73*D73","v":0},{"$f":"+E73*MM","v":0},{"$f":"+G73*D73","v":0},{"$f":"+E73-G73","v":0},{"$f":"+I73*D73","v":0}]
[]
[2,"3G/GSM komunikator za povezavo na dežurni varnostni center, podpira vse splošne protokole ter EDP in FlexC","kpl",1,null,0,{"$f":"+E75*MM","v":0},{"$f":"+G75*D75","v":0},{"$f":"+E75-G75","v":0},{"$f":"+I75*D75","v":0}]
[]
[3,"SPCK620.100 SiPlus LCD večparticijska tipkovnica z večjim grafičnim prikazovalnikom 128x64 točk, s funkcijskimi tipkami in z LED indikacijskimi lučkami","kpl",5,null,0,{"$f":"+E77*MM","v":0},{"$f":"+G77*D77","v":0},{"$f":"+E77-G77","v":0},{"$f":"+I77*D77","v":0}]
[]
[4,"Adresibilni dodatni napajalnik 12V/2,6A v ohišju s tamper zaščito, integriran razširitveni modul za dodatnih 8 področji in 2 relejskima izhodoma; prostor za AKU baterije 12V/17Ah; varnostni razred po EN50131-1: GRADE 3","kpl",3,null,0,{"$f":"+E79*MM","v":0},{"$f":"+G79*D79","v":0},{"$f":"+E79-G79","v":0},{"$f":"+I79*D79","v":0}]
[]
[5,"PDM-IXA12T  MAGIC ANTIMASK kombinirani PIR/MW (infrardeči + mikrovalovni) detektor gibanja, ART antimasking sistem za zanesljivo protisabotažno zaščito, polje pokritja 12 m, vgrajena patentirana zrcalna leča za zanesljivejšo detekcijo in imunost na zunanje vplive, frekvenca mikrovalovnega zaznavanja je 10.525 GHz, medsebojno povezujoča multikriterijska analiza signala Machtec omogoča izredno zanesljivo delovanja, brez mrtvih con pod senzorjem, majhna poraba energije 6.3 mA, Eol koncept in enostavna montaža, v skladu s standardi EN50131-2-4 varnostni razred GRADE 3\n","kpl",30,null,0,{"$f":"+E81*MM","v":0},{"$f":"+G81*D81","v":0},{"$f":"+E81-G81","v":0},{"$f":"+I81*D81","v":0}]
[6,"Univerzalna montažna konzola za stensko ali stropno montiranje. Primerna za PDM-I12, PDM-I12T, PDM-I18 and PDM-I18T. V nosilcu so tudi vodniki za kable. \nDimenzija (Š x V x G):47 x 53 x 44\n ","kpl",30,null,0,{"$f":"+E82*MM","v":0},{"$f":"+G82*D82","v":0},{"$f":"+E82-G82","v":0},{"$f":"+I82*D82","v":0}]
[]
[7,"Alarmna hupa zunanja komplet z napajalnikom","kpl",2,null,{"$f":"+E84*D84","v":0},{"$f":"+E84*MM","v":0},{"$f":"+G84*D84","v":0},{"$f":"+E84-G84","v":0},{"$f":"+I84*D84","v":0}]
[]
[8,"Instalacijski kabli:"]
[null,"UTP 4x2x23AWG, kat.6, LSHF (siv)","m",50,null,0,{"$f":"+E87*MM","v":0},{"$f":"+G87*D87","v":0},{"$f":"+E87-G87","v":0},{"$f":"+I87*D87","v":0}]
[null,"Protivlomni kabel 2x0,5+4x0,22","m",780,null,0,{"$f":"+E88*MM","v":0},{"$f":"+G88*D88","v":0},{"$f":"+E88-G88","v":0},{"$f":"+I88*D88","v":0}]
[null,"NHXMH 3x1,5mm2","m",150,null,0,{"$f":"+E89*MM","v":0},{"$f":"+G89*D89","v":0},{"$f":"+E89-G89","v":0},{"$f":"+I89*D89","v":0}]
[]
[9,"Instalacijska plastična cev, položena nadometno, komplet z razvodnimi\ndozami, pritrdilnim materialom"]
[null,"PN 16","m",200,null,0,{"$f":"+E92*MM","v":0},{"$f":"+G92*D92","v":0},{"$f":"+E92-G92","v":0},{"$f":"+I92*D92","v":0}]
[null,"PN 23","m",100,null,0,{"$f":"+E93*MM","v":0},{"$f":"+G93*D93","v":0},{"$f":"+E93-G93","v":0},{"$f":"+I93*D93","v":0}]
[]
[10,"Instalacijska plastična gibljiva, rebrasta cev položena n teh stropu delno podometno, komplet z razvodnimi dozami in pritrdilnim materialom"]
[null,"RBC 16","m",200,null,0,{"$f":"+E96*MM","v":0},{"$f":"+G96*D96","v":0},{"$f":"+E96-G96","v":0},{"$f":"+I96*D96","v":0}]
[null,"RBC 23","m",100,null,0,{"$f":"+E97*MM","v":0},{"$f":"+G97*D97","v":0},{"$f":"+E97-G97","v":0},{"$f":"+I97*D97","v":0}]
[]
[11,"Programiranje celotnega sistema ","kpl",1,null,{"$f":"+E99*D99","v":0},{"$f":"+E99*MM","v":0},{"$f":"+G99*D99","v":0},{"$f":"+E99-G99","v":0},{"$f":"+I99*D99","v":0}]
[]
[12,"Montaža sistema na položeno in preizkušeno instalacijo ","kpl",1,null,{"$f":"+E101*D101","v":0},{"$f":"+E101*MM","v":0},{"$f":"+G101*D101","v":0},{"$f":"+E101-G101","v":0},{"$f":"+I101*D101","v":0}]
[]
[13,"Izdelava PID v treh analognih izvodih in enkrat v elektonski obliki","kpl",1,null,{"$f":"SUM(D103*E103)","v":0},{"$f":"+E103*MM","v":0},{"$f":"+G103*D103","v":0},{"$f":"+E103-G103","v":0},{"$f":"+I103*D103","v":0}]
[]
["14","Obračun po količinah, ki izhajajo iz potrjenega gradbenega dnevnika in ob upoštevanju kalkulativnih osnov","kpl",1,{"$f":"SUM(F73:F103)*0.05","v":0},{"$f":"SUM(D105*E105)","v":0},{"$f":"+E105*MM","v":0},{"$f":"+G105*D105","v":0},{"$f":"+E105-G105","v":0},{"$f":"+I105*D105","v":0}]
[]
["3/2.2.2","SISTEM PROTIVLOMNEGA VAROVANJA",null,null,null,{"$f":"SUM(F73:F106)","v":0},null,{"$f":"SUM(H73:H106)","v":0},null,{"$f":"SUM(J73:J106)","v":0}]
[]
["3/2.2.3","SISTEM VIDEO NADZORA"]
[]
[1,"Kompaktna zunanja, 5MP kamera AXIS P1447-LEločljivost, dan / noč, fiksna krogla, ki zagotavlja Forensic WDR in Lightfinder za zahtevne svetlobne pogoje. IR-korigirana varikokalna 2,8-8,5 mm F1,2 P-iris leča z daljinskim 3-kratnim optičnim zoomom in fokusom. Več, posamično nastavljivih tokov H.264 in Motion JPEG; največ 5MP pri 25/30 fps v formatu 16: 9. Axis Zipstream tehnologija za zmanjšane pasovne širine in potrebe po shranjevanju. Zaznavanje gibanja videoposnetka, aktivni alarmni poseg, odkrivanje sunkov in hodnik. Vhod za mikrofon / linijo, vhodni / izhod za upravljanje alarma / dogodkov in režo za pomnilniško kartico za dodatno lokalno shranjevanje video posnetkov. OptimizedIR, energijsko učinkovita IR LED tehnologija, ki pokriva 30 metrov (98 čevljev). Vgrajen nosilec za enostavno pritrditev na steno in strop.\nNEMA 4X, IP66 / 67 in IK10 so ocenjeni za delovanje pri -40 ° C do + 60 ° C (-40 ° F do 140 ° F).\nPoganja IEEE 802.3af tip 1 srednji razred (PoE).","kpl",12,null,{"$f":"SUM(D111*E111)","v":0},{"$f":"+E111*MM","v":0},{"$f":"+G111*D111","v":0},{"$f":"+E111-G111","v":0},{"$f":"+I111*D111","v":0}]
[]
[2,"Dnevno / nočno kamera AXIS M3106-LVE MK II, kompaktna mini kupola v vandal-odporni zasnovi z ravno površino, ki je na voljo na prostem. Vgrajena IR osvetlitev in fiksna leča. Več, posamično nastavljivih streamov H.264, H.265 in Motion JPEG; max 4 MP ločljivost pri 30 fps pri WDR. Axisova tehnologija Zipstream za zmanjšane pasovne širine in potrebe po shranjevanju. Reža za pomnilniško kartico za dodatno lokalno shranjevanje video posnetkov. Zaznavanje gibanja videoposnetka in alarm za aktivno poseganje.","kpl",10,null,{"$f":"SUM(D113*E113)","v":0},{"$f":"+E113*MM","v":0},{"$f":"+G113*D113","v":0},{"$f":"+E113-G113","v":0},{"$f":"+I113*D113","v":0}]
[]
[3,"Video strežnik za do 30 IP kamer\n- rack 19\" 1U\n- procesor Intel Xeon E-2136 3.30GHz 12MB 6C/12T\n- ram 16GB ECC DDR4-2666\n- ssd 240GB 25/S600\n- MS Windows Pro 10\n- možno vgraditi do 2x HDD","kos",1,null,{"$f":"SUM(D115*E115)","v":0},{"$f":"+E115*MM","v":0},{"$f":"+G115*D115","v":0},{"$f":"+E115-G115","v":0},{"$f":"+I115*D115","v":0}]
[]
[4,"Trdi disk 6TB; 5.9/256M/S600","kos",2,null,{"$f":"SUM(D117*E117)","v":0},{"$f":"+E117*MM","v":0},{"$f":"+G117*D117","v":0},{"$f":"+E117-G117","v":0},{"$f":"+I117*D117","v":0}]
[]
[5,"Programska oprema Mirasys Base - licenca za 1x kamera  M-LIC-9-1-BASE","kos",20,null,{"$f":"SUM(D119*E119)","v":0},{"$f":"+E119*MM","v":0},{"$f":"+G119*D119","v":0},{"$f":"+E119-G119","v":0},{"$f":"+I119*D119","v":0}]
[]
[6,"Pregledovalna postaja do 30 kamer\n- AiO, Gen4 IPS LED FHD\n- monitor 23,8\", 1920 x 1080\n- procesor Intel Core i5-10400T (6C / 12T, 2.0 / 3.6GHz, 12MB)\n- ram 8GB DDR4 3200MHz SO-DIMM, 1 socket free, 64GB max\n- ssd 256GB M.2 2280 PCIe NVMe Opal SSD\n- ethernet Gigabit Ethernet 1x RJ45\n- MS Windows Pro 10\n- možno priključiti 1x dodatni monitor\n- tipkovnica in miška","kos",1,null,{"$f":"SUM(D121*E121)","v":0},{"$f":"+E121*MM","v":0},{"$f":"+G121*D121","v":0},{"$f":"+E121-G121","v":0},{"$f":"+I121*D121","v":0}]
[]
[7,"24-Portno Managed 802.3at PoE+ Gigabit Ethernet Mrežno stikalo + 4-Port Shared SFP (220W)","kpl",2,null,{"$f":"SUM(D123*E123)","v":0},{"$f":"+E123*MM","v":0},{"$f":"+G123*D123","v":0},{"$f":"+E123-G123","v":0},{"$f":"+I123*D123","v":0}]
[]
[8,"Instalacijski kabli:"]
[null,"UTP 4x2x23AWG, kat.6, LSHF (siv)","m",980,null,{"$f":"+E126*D126","v":0},{"$f":"+E126*MM","v":0},{"$f":"+G126*D126","v":0},{"$f":"+E126-G126","v":0},{"$f":"+I126*D126","v":0}]
[null,"NHXMH 3x1,5mm2","m",20,null,{"$f":"+E127*D127","v":0},{"$f":"+E127*MM","v":0},{"$f":"+G127*D127","v":0},{"$f":"+E127-G127","v":0},{"$f":"+I127*D127","v":0}]
[]
[9,"Instalacijska plastična cev, položena nadometno, komplet z razvodnimi\ndozami, pritrdilnim materialom"]
[null,"PN 16","m",500,null,{"$f":"+E130*D130","v":0},{"$f":"+E130*MM","v":0},{"$f":"+G130*D130","v":0},{"$f":"+E130-G130","v":0},{"$f":"+I130*D130","v":0}]
[null,"PN 23","m",50,null,{"$f":"+E131*D131","v":0},{"$f":"+E131*MM","v":0},{"$f":"+G131*D131","v":0},{"$f":"+E131-G131","v":0},{"$f":"+I131*D131","v":0}]
[]
[10,"19\" COM omara 9 HE, VxŠxG=600x600x600 mm, vrata, stena, stranica, 2 x polica, 1x izvlečna polica, kolesa, 1 x hladilnik(1HU), termostat, 2 x razdelilniik 9 vtičnic )","kos",2,null,{"$f":"+E133*D133","v":0},{"$f":"+E133*MM","v":0},{"$f":"+G133*D133","v":0},{"$f":"+E133-G133","v":0},{"$f":"+I133*D133","v":0}]
[]
[11,"UPS sistem Line Interactive, 2200VA/1540W, avtonomija 9 min (75% obremenitev)\nvhod: 160-294 Vac, 50 ali 60 Hz samonastavljiv\nizhod: 230Vac, pravilni sinus, 50 ali 60 Hz (+/-0,5%),\nbaterija: VRLA AGM vzdrževanja proste, čas polnjen\nUSB in RS232 port, Aros Watch&Save 3000 software\nzaščita proti kratkemu stiku, preobremenjenosti in zaš\nzaščita telefonske linije z vhodom in izhodom RJ45","kos",1,null,{"$f":"+E135*D135","v":0},{"$f":"+E135*MM","v":0},{"$f":"+G135*D135","v":0},{"$f":"+E135-G135","v":0},{"$f":"+I135*D135","v":0}]
[]
[12," UPS, 800VA (480W), mini ohišje, avtonomija 5 min, USB, auto restart (npr. Riello iDialog IDG 800)","kos",1,null,{"$f":"+E137*D137","v":0},{"$f":"+E137*MM","v":0},{"$f":"+G137*D137","v":0},{"$f":"+E137-G137","v":0},{"$f":"+I137*D137","v":0}]
[]
[13,"Instalacijska plastična gibljiva, rebrasta cev položena n teh stropu delno podometno, komplet z razvodnimi dozami in pritrdilnim materialom"]
[null,"RBC 16","m",380,null,{"$f":"+E140*D140","v":0},{"$f":"+E140*MM","v":0},{"$f":"+G140*D140","v":0},{"$f":"+E140-G140","v":0},{"$f":"+I140*D140","v":0}]
[null,"RBC 23","m",50,null,{"$f":"+E141*D141","v":0},{"$f":"+E141*MM","v":0},{"$f":"+G141*D141","v":0},{"$f":"+E141-G141","v":0},{"$f":"+I141*D141","v":0}]
[]
[14,"Montaža sistema na položeno in preizkušeno instalacijo, parametriranje, nastavitve, primopredaja in šolanje uporabnika","kpl",1,null,{"$f":"SUM(D143*E143)","v":0},{"$f":"+E143*MM","v":0},{"$f":"+G143*D143","v":0},{"$f":"+E143-G143","v":0},{"$f":"+I143*D143","v":0}]
[]
[15,"Izdelava PID v treh analognih izvodih in enkrat v elektonski obliki","kpl",1,null,{"$f":"SUM(D145*E145)","v":0},{"$f":"+E145*MM","v":0},{"$f":"+G145*D145","v":0},{"$f":"+E145-G145","v":0},{"$f":"+I145*D145","v":0}]
[]
["16","Obračun po količinah, ki izhajajo iz potrjenega gradbenega dnevnika in ob upoštevanju kalkulativnih osnov","kpl",1,{"$f":"SUM(F111:F145)*0.05","v":0},{"$f":"SUM(D147*E147)","v":0},{"$f":"+E147*MM","v":0},{"$f":"+G147*D147","v":0},{"$f":"+E147-G147","v":0},{"$f":"+I147*D147","v":0}]
[]
["3/2.2.3","SISTEM VIDEO NADZORA",null,null,null,{"$f":"SUM(F110:F148)","v":0},null,{"$f":"SUM(H110:H148)","v":0},null,{"$f":"SUM(J110:J148)","v":0}]
[]
["3/2.2.4","SISTEM KONTROLE PRISTOPA"]
[]
["1.","MODUL VRATNEGA ČITALNIKA  Tehnični podatki, zahteve ; Vhodna napetost   12-15VDC Napajanje  37mA@12VDC (0,44 Watt); Zaščita vhodnega toka; Zaščita pred obratno polarnostjo, prenapetostjo in prekomernim tokom;  Napajanje releja      dodatnih - 0,4W na vsak uporabljeni rele; Medpolnilniški prenosi  100.000; Tehnologija RFID iClasss(R)/ISO 14443B; MIFARE Classic(R)/MIFARE(R);DESFire(R)EV;HID PROX/EM410x; Delovna temperatura -25° do +60°C Dovoljena vlaga 0 do 95% relativne vlažnosti, brez kondenzacije (pri +40°C);  Okoljska ocena IP20; Certifikat CE(EU); Kot npr. AssaAbloy  Tip EAC-DP5","kpl",4,null,{"$f":"+E153*D153","v":0},{"$f":"+E153*MM","v":0},{"$f":"+G153*D153","v":0},{"$f":"+E153-G153","v":0},{"$f":"+I153*D153","v":0}]
[]
["2.","STENSKI ČITALEC Tipični domet branja iCLASS/iCLASS Seos; Območje delovne napetosti 5-12V;  Okoljski ocena    Notranje/Zunanje IP55; IP65 če nameščen z opcijskim tesnilom;  Temperatura delovanja - 35 do  +65 ° C;  Vlažnost 5 do 95% RH, brez kondenzacij; Frekvenca oddajanja   13,56 MHz; Združljivost kartic 13,56MHz   ASSA ABLOY poverilnice (RDK-8KC & RDK-8KT)     Secure Identity Object (SIO) na iCLASS Seos    iCLASS SE/SR, MIFARE DESFire EV in MIFARE Classic (On by Default) ; Komunikacija    Wiegand; Povezava s ploščo   Pigtail; Upravljanje čitalnika   Incedo programska oprema za upravljanje; Certifikati     CE(EU); Cryto Processor strojna oprema EAL5+; Kot npr. AssaAbloy Tip   RDR-SPS / RDR-SPB","kpl",8,null,{"$f":"+E155*D155","v":0},{"$f":"+E155*MM","v":0},{"$f":"+G155*D155","v":0},{"$f":"+E155-G155","v":0},{"$f":"+I155*D155","v":0}]
[]
["3.","Napajalna enota model 1003                                                                  Nazivna moč 30 W\nMaks. neprekinjen tok 24… 28 VDC\nIzhodna napetost 24 VDC SELV\nIzhodni tok 1,25 A\nVhodna delovna napetost 100/240 VDC                                                   Tip PS 1003","kpl",5,null,{"$f":"+E157*D157","v":0},{"$f":"+E157*MM","v":0},{"$f":"+G157*D157","v":0},{"$f":"+E157-G157","v":0},{"$f":"+I157*D157","v":0}]
[]
["4.","Tipka , vklj. okvir in  stikalo kot npr. Jung 533 U ","kpl",8,null,{"$f":"+E159*D159","v":0},{"$f":"+E159*MM","v":0},{"$f":"+G159*D159","v":0},{"$f":"+E159-G159","v":0},{"$f":"+I159*D159","v":0}]
[]
["5.","Modul krmilnika\nOpis izdelka  Krmilnik skupin v plastičnem ohišju\nVpis  Lite – Administracija na lokaciji\nCloud – Administracija na daljavo\nPlus – Administracija na lokaciji\nVmesnik  Lite – integrirana aplikacija\nCloud – spletni naslov\nPlus – namenski vmesnik na lokaciji\nVhodna napetost  12-15V DC\nNapajanje  140 mA @12VDC (1.7Watt)\nPoverilnice  Lite – 1.000\nCloud – 1.000\nPlus – 125.000\nMedpomnilniški prenosi\nRTC 1 x 3 V, CR2032 litijeva celična baterija. 2 leti delovanja, 5 let življenjske dobe\nKot npr. Assa Abloy Incedo sprejemnik Cluster controler   EAC-CP5  \n","kpl",5,null,{"$f":"+E161*D161","v":0},{"$f":"+E161*MM","v":0},{"$f":"+G161*D161","v":0},{"$f":"+E161-G161","v":0},{"$f":"+I161*D161","v":0}]
[]
["6.","BREZŽIČNI USMERJEVALNIK; Varnost in emisije CE, ETL, FCC, IC, C-Tick \nFCC 47CFR 15. del,  podrazdelka B in C; IC RSS-210; EN ETSI 301 489-17 v2.1.1; EN ETSI 300 328 v1.7.1; EN 60950-1 ed.2 2007; UL 294-2010; C22.2  Radijski standard  IEEE 802.15.4 (2.4 GHz) - 16 kanalov (11-26; Notranja antena  2 navzkrižno polarizirana dipola; Zunanja antena En priključek za zunanjo anteno SMA z obratno polarnostjo. Tip (dipol) in nima večjega antenskega dobitka kot 3,9 dBi;  Enkripcija (radijske komunikacije);  Domet brezžičnega delovanja Tipičen domet 15-25 m, odvisno od okolja stavbe; Status LED (rdeča, zelena, oranžna); Občutljivost sprejemnika IEEE 802.15.4 (2.4 GHz) - 16 kanalov (11-26); AES 128 bitov; Tipičen domet 15-25 m, odvisno od okolja stavbe; Kot npr. ASSA ABLOYAperio HUB  EAC-CP5","kpl","15",null,{"$f":"+E163*D163","v":0},{"$f":"+E163*MM","v":0},{"$f":"+G163*D163","v":0},{"$f":"+E163-G163","v":0},{"$f":"+I163*D163","v":0}]
[]
["7.","Wireless kljuka; Preverjanje pristnost: En nivo avtentikacije (samo KARTICA)\nOdobritve CE, EN1906: 26-B010B; Baterija  1x litijeva baterija CR123A; Življenjska doba baterije  30 odpiranj dnevno v času 50 mesecev ; Radijski standard IEEE 802.15.4 (2.4 GHz)\nEnkripcija (radijska komunikacija) AES 128 bitov; Razdalja med RFID bralnikom in središčem  Tipični domet 25 m, odvisno od tipa središča in okolja stavbe; Tehnologije RFID (glede na tip čitalnika) High Frequency Multiclass: iCLASS®/ISO 14443B; iCLASS® Seos; MIFARE Classic®; MIFARE® Plus; MIFARE® DESFire® EV1; Kot npr. Assa Abloy APERIO H100 EURO","kpl","89",null,{"$f":"+E165*D165","v":0},{"$f":"+E165*MM","v":0},{"$f":"+G165*D165","v":0},{"$f":"+E165-G165","v":0},{"$f":"+I165*D165","v":0}]
[]
["8.","DIGITALNI CILINDRI; Tehnični podatki; Zunanji gumb 36 x 45 mm; Notranji gumb 36 x 29 mm    Napajanje baterija 1 x 3 V, CR2 litij; Radio vmesnik IEEE 802.15.4 , brezžični prehod 90 40; Okoljski pogoji / življenjska doba; Vrsta zaščite zunaj: IP56  Temperatura -25 do + 70 ° C; Vlažnost od 0 do 95% relativne vlažnosti, nekondenziranje ; Življenjska doba baterije pri  20 ° C približno 50.000 ciklov Življenjska doba baterije pri -20 ° C približno 40.000 ciklov; Tip 1437 »antipanic;  Standardna ali povečana zaščita pred vrtanjem  Identifikacijske tehnologije (RFID);  MIFARE   LEGIC; Nosilna frekvenca 13,56 MHz; Potrdila VdS zaščitena različica:   razred BZ + Protipožarna zaščita EN 1634-2: 95 min 4 vrata ; EN 15684 razred 6  Razvrstitev 1 6 B 4 A F 3 2  Euro profilni valj v skladu z DIN 18252 / EN 1303 Demontaža obstoječega cilindra in montažo novega.  ","kpl","19",null,{"$f":"+E167*D167","v":0},{"$f":"+E167*MM","v":0},{"$f":"+G167*D167","v":0},{"$f":"+E167-G167","v":0},{"$f":"+I167*D167","v":0}]
[]
["9.","Montaža kljuk","kpl","89",null,{"$f":"+E169*D169","v":0},{"$f":"+E169*MM","v":0},{"$f":"+G169*D169","v":0},{"$f":"+E169-G169","v":0},{"$f":"+I169*D169","v":0}]
[]
["10.","Programiranje in montaža sistema na položeno in preizkušeno instalacijo ","kp","1",null,{"$f":"+E171*D171","v":0},{"$f":"+E171*MM","v":0},{"$f":"+G171*D171","v":0},{"$f":"+E171-G171","v":0},{"$f":"+I171*D171","v":0}]
[]
["11.","Uporabniška kartica/ obesek MIFARE 1K","kpl","100",null,{"$f":"+E173*D173","v":0},{"$f":"+E173*MM","v":0},{"$f":"+G173*D173","v":0},{"$f":"+E173-G173","v":0},{"$f":"+I173*D173","v":0}]
[]
["12","Obračun po količinah, ki izhajajo iz potrjenega gradbenega dnevnika in ob upoštevanju kalkulativnih osnov","kpl",1,{"$f":"SUM(F153:F173)*0.05","v":0},{"$f":"+E175*D175","v":0},{"$f":"+E175*MM","v":0},{"$f":"+G175*D175","v":0},{"$f":"+E175-G175","v":0},{"$f":"+I175*D175","v":0}]
[]
["3/2.2.4","SISTEM KONTROLE PRISTOPA",null,null,null,{"$f":"SUM(F153:F176)","v":0},null,{"$f":"SUM(H153:H176)","v":0},null,{"$f":"SUM(J153:J176)","v":0}]
[]
["3/2.2.5","SISTEM VIDEO DOMOFONOV"]
[]
[1,"AKUVOX  AKV-R20B SIP domofon s petimi (5) tipkami in čitalnikom kartic\n1. Material ohišja: aluminijeva zlitina\n2. Kamera: 2 milijona slikovnih pik, 110 ° (H) / 58 ° (V)\n3. RF čitalnik kartic 13,56 MHz in 125KHz\n4. Gumb: 5 klicnih tipk z imensko tablico\n5. Izhodni rele: 2 izhodna releja za odpiranje vrat\n6. Vodoodporna in proti prahu: IP65\n7. Namestitev: nadometna montaža\n8. PoE (IEEE802.3af, Power-over-Ethernet)\n9. Dvosmerna zvočna komunikacija prek IP omrežij z Echo Cancel                                              \n10. V skladu s standardom SIP za enostavno integracijo v vsako SIP PBX","kpl",4,null,{"$f":"+E181*D181","v":0},{"$f":"+E181*MM","v":0},{"$f":"+G181*D181","v":0},{"$f":"+E181-G181","v":0},{"$f":"+I181*D181","v":0}]
[]
[2,"Podometna doza za domofon R20B  AKV-R20K-BOX ","kpl",4,null,{"$f":"+E183*D183","v":0},{"$f":"+E183*MM","v":0},{"$f":"+G183*D183","v":0},{"$f":"+E183-G183","v":0},{"$f":"+I183*D183","v":0}]
[]
[3,"AKUVOX AKV-C315W Notranja enota SIP (različica Android)\n1. 7-palčni kapacitivni zaslon na dotik z načinom varčevanja z energijo \n2. Sprejem slike HD iz zunanje enote  \n3. Dvosmerna komunikacija na osnovi protokola SIP v2.0 \n4. PoE ali zunanji vir\n5. Podpira ameriško ali evropsko električno namestitev na stensko omarico\n6. Bluetooth in brezžična funkcija","kpl",6,null,{"$f":"+E185*D185","v":0},{"$f":"+E185*MM","v":0},{"$f":"+G185*D185","v":0},{"$f":"+E185-G185","v":0},{"$f":"+I185*D185","v":0}]
[]
[4,"IP oprema, ki se vgradi v KOM. VOZLIŠČE","kpl",1,null,{"$f":"+E187*D187","v":0},{"$f":"+E187*MM","v":0},{"$f":"+G187*D187","v":0},{"$f":"+E187-G187","v":0},{"$f":"+I187*D187","v":0}]
[null,"24-Portno Managed 802.3at PoE+ Gigabit Ethernet Mrežno stikalo + 4-Port Shared SFP (220W)","kos",1,null,null,{"$f":"+E188*MM","v":0},{"$f":"+G188*D188","v":0},{"$f":"+E188-G188","v":0},{"$f":"+I188*D188","v":0}]
[null,"24 portni patch panel CAT.6 UTP ","kos",1,null,null,{"$f":"+E189*MM","v":0},{"$f":"+G189*D189","v":0},{"$f":"+E189-G189","v":0},{"$f":"+I189*D189","v":0}]
[null,"Horizontali urejevalnik kablov","kos",1,null,null,{"$f":"+E190*MM","v":0},{"$f":"+G190*D190","v":0},{"$f":"+E190-G190","v":0},{"$f":"+I190*D190","v":0}]
[]
[5,"Instalacijski kabli:"]
[null,"UTP 4x2x23AWG, kat.6, LSHF (siv)","m",500,null,{"$f":"+E193*D193","v":0},{"$f":"+E193*MM","v":0},{"$f":"+G193*D193","v":0},{"$f":"+E193-G193","v":0},{"$f":"+I193*D193","v":0}]
[null,"NHXMH 3x1,5mm2","m",20,null,{"$f":"+E194*D194","v":0},{"$f":"+E194*MM","v":0},{"$f":"+G194*D194","v":0},{"$f":"+E194-G194","v":0},{"$f":"+I194*D194","v":0}]
[]
[6,"Instalacijska plastična cev, položena nadometno, komplet z razvodnimi\ndozami, pritrdilnim materialom"]
[null,"PN 16","m",200,null,{"$f":"+E197*D197","v":0},{"$f":"+E197*MM","v":0},{"$f":"+G197*D197","v":0},{"$f":"+E197-G197","v":0},{"$f":"+I197*D197","v":0}]
[null,"PN 23","m",50,null,0,{"$f":"+E198*MM","v":0},{"$f":"+G198*D198","v":0},{"$f":"+E198-G198","v":0},{"$f":"+I198*D198","v":0}]
[]
[7,"Instalacijska plastična gibljiva, rebrasta cev položena n teh stropu delno podometno, komplet z razvodnimi dozami in pritrdilnim materialom"]
[null,"RBC 16","m",100,null,0,{"$f":"+E201*MM","v":0},{"$f":"+G201*D201","v":0},{"$f":"+E201-G201","v":0},{"$f":"+I201*D201","v":0}]
[null,"RBC 23","m",50,null,0,{"$f":"+E202*MM","v":0},{"$f":"+G202*D202","v":0},{"$f":"+E202-G202","v":0},{"$f":"+I202*D202","v":0}]
[]
[8,"Montaža sistema na položeno in preizkušeno instalacijo, parametriranje, nastavitve, primopredaja in šolanje uporabnika","kpl",1,null,{"$f":"+E204*D204","v":0},{"$f":"+E204*MM","v":0},{"$f":"+G204*D204","v":0},{"$f":"+E204-G204","v":0},{"$f":"+I204*D204","v":0}]
[]
["9","Obračun po količinah, ki izhajajo iz potrjenega gradbenega dnevnika in ob upoštevanju kalkulativnih osnov","kpl",1,{"$f":"SUM(F181:F204)*0.05","v":0},{"$f":"+E206*D206","v":0},{"$f":"+E206*MM","v":0},{"$f":"+G206*D206","v":0},{"$f":"+E206-G206","v":0},{"$f":"+I206*D206","v":0}]
[]
["3/2.2.5","SISTEM VIDEO DOMOFONOV",null,null,null,{"$f":"SUM(F181:F207)","v":0},null,{"$f":"SUM(H181:H207)","v":0},null,{"$f":"SUM(J181:J207)","v":0}]
[]
[]
["3/2.2.6","NARAVNI ODVOD DIMA IN TOPLOTE TER NARAVNA VENTILACIJA"]
[]
[1,"Krmilna centrala za sistem ODT, izhodna moč 48A\nKonfiguracija:\n2x PS24A\n1x PM\n1x CM\n3x DM\n2x ACCU 12V/24Ah\nDimenzje omare 600 x 600 x 250 Š x V x G [mm]","kos",3,null,{"$f":"+E213*D213","v":0},{"$f":"+E213*MM","v":0},{"$f":"+G213*D213","v":0},{"$f":"+E213-G213","v":0},{"$f":"+I213*D213","v":0}]
[]
[2,"Tipka FT 4, 24 V DC, VdS approved, oranžna","kos",8,null,{"$f":"+E215*D215","v":0},{"$f":"+E215*MM","v":0},{"$f":"+G215*D215","v":0},{"$f":"+E215-G215","v":0},{"$f":"+I215*D215","v":0}]
[]
[3,"Tipka za prezračevanje LTA-24-AZ\nFunkcije tipk: Odpiranje – Stop – Zapiranje\nLED indikacija\n(vgradnja standardno elektro dozo  Ø 60 mm) .","kos",4,null,{"$f":"D217*E217","v":0},{"$f":"+E217*MM","v":0},{"$f":"+G217*D217","v":0},{"$f":"+E217-G217","v":0},{"$f":"+I217*D217","v":0}]
[]
[4,"Ohišje za nadometno montažo - enojno","kos",4,null,{"$f":"+E219*D219","v":0},{"$f":"+E219*MM","v":0},{"$f":"+G219*D219","v":0},{"$f":"+E219-G219","v":0},{"$f":"+I219*D219","v":0}]
[]
[5,"Modul za priključitev senzorja dežje in vetra","kos",1,null,{"$f":"+E221*D221","v":0},{"$f":"+E221*MM","v":0},{"$f":"+G221*D221","v":0},{"$f":"+E221-G221","v":0},{"$f":"+I221*D221","v":0}]
[]
[6,"Senzor za dež in veter, GEZE GC 401 RS+402 WVS (deluje v kpl z WM module)","kos",1,null,{"$f":"+E223*D223","v":0},{"$f":"+E223*MM","v":0},{"$f":"+G223*D223","v":0},{"$f":"+E223-G223","v":0},{"$f":"+I223*D223","v":0}]
[]
[6,"Instalacijska plastična gibljiva, rebrasta cev položena n teh stropu delno podometno, komplet z razvodnimi dozami in pritrdilnim materialom"]
[null,"RBC 16","m",450,null,{"$f":"+E226*D226","v":0},{"$f":"+E226*MM","v":0},{"$f":"+G226*D226","v":0},{"$f":"+E226-G226","v":0},{"$f":"+I226*D226","v":0}]
[null,"RBC 23","m",170,null,{"$f":"+E227*D227","v":0},{"$f":"+E227*MM","v":0},{"$f":"+G227*D227","v":0},{"$f":"+E227-G227","v":0},{"$f":"+I227*D227","v":0}]
[]
[7,"Instalacijski kabli:"]
[null,"U/FTP 4x2x23AWG, kat.6, LSHF (siv)","m",300,null,{"$f":"+E230*D230","v":0},{"$f":"+E230*MM","v":0},{"$f":"+G230*D230","v":0},{"$f":"+E230-G230","v":0},{"$f":"+I230*D230","v":0}]
[null,"NHXMH 3x1,5mm2","m",30,null,{"$f":"+E231*D231","v":0},{"$f":"+E231*MM","v":0},{"$f":"+G231*D231","v":0},{"$f":"+E231-G231","v":0},{"$f":"+I231*D231","v":0}]
[null,"Kabel NHXH FE180/E30 2x1.5 mm2, ognjeodporen, vključno s certificiranim montažnim in spojnim priborom, s polaganjem","m",250,null,{"$f":"+E232*D232","v":0},{"$f":"+E232*MM","v":0},{"$f":"+G232*D232","v":0},{"$f":"+E232-G232","v":0},{"$f":"+I232*D232","v":0}]
[null,"Kabel NHXH E30 3x6 mm2, ognjeodporen, s polaganjem","m",360,null,{"$f":"E233*D233","v":0},{"$f":"+E233*MM","v":0},{"$f":"+G233*D233","v":0},{"$f":"+E233-G233","v":0},{"$f":"+I233*D233","v":0}]
[null,"Kabel NHXH E30 3x10 mm2, ognjeodporen, s polaganjem","m",420,null,{"$f":"E234*D234","v":0},{"$f":"+E234*MM","v":0},{"$f":"+G234*D234","v":0},{"$f":"+E234-G234","v":0},{"$f":"+I234*D234","v":0}]
[]
[8,"Montaža sistema na položeno in preizkušeno instalacijo, parametriranje, nastavitve, primopredaja in šolanje uporabnika","kpl",1,null,{"$f":"+E236*D236","v":0},{"$f":"+E236*MM","v":0},{"$f":"+G236*D236","v":0},{"$f":"+E236-G236","v":0},{"$f":"+I236*D236","v":0}]
[]
["9","Obračun po količinah, ki izhajajo iz potrjenega gradbenega dnevnika in ob upoštevanju kalkulativnih osnov","kpl",1,{"$f":"SUM(F213:F236)*0.05","v":0},{"$f":"+E238*D238","v":0},{"$f":"+E238*MM","v":0},{"$f":"+G238*D238","v":0},{"$f":"+E238-G238","v":0},{"$f":"+I238*D238","v":0}]
[]
["3/2.2.6","NARAVNI ODVOD DIMA IN TOPLOTE TER NARAVNA VENTILACIJA",null,null,null,{"$f":"SUM(F213:F239)","v":0},null,{"$f":"SUM(H213:H239)","v":0},null,{"$f":"SUM(J213:J239)","v":0}]
[]
[]
[null,"REKAPITULACIJA"]
[]
[{"$f":"A69","v":"3/2.2.1"},{"$f":"B69","v":"SISTEM AOiJP"},null,{"$f":"$F$69","v":0},{"$f":"$H$69","v":0},{"$f":"$J$69","v":0}]
[]
[{"$f":"A107","v":"3/2.2.2"},{"$f":"B107","v":"SISTEM PROTIVLOMNEGA VAROVANJA"},null,{"$f":"$F$107","v":0},{"$f":"$H$107","v":0},{"$f":"$J$107","v":0}]
[]
[{"$f":"A149","v":"3/2.2.3"},{"$f":"B149","v":"SISTEM VIDEO NADZORA"},null,{"$f":"$F$149","v":0},{"$f":"$H$149","v":0},{"$f":"$J$149","v":0}]
[]
[{"$f":"A151","v":"3/2.2.4"},{"$f":"B151","v":"SISTEM KONTROLE PRISTOPA"},null,{"$f":"$F$177","v":0},{"$f":"$H$177","v":0},{"$f":"$J$177","v":0}]
[]
[{"$f":"A208","v":"3/2.2.5"},{"$f":"B208","v":"SISTEM VIDEO DOMOFONOV"},null,{"$f":"$F$208","v":0},{"$f":"$H$208","v":0},{"$f":"$J$208","v":0}]
[]
["3/2.2.6","NARAVNI ODVOD DIMA IN TOPLOTE TER NARAVNA VENTILACIJA",null,{"$f":"$F$240","v":0},{"$f":"$H$240","v":0},{"$f":"$J$240","v":0}]
[]
[null,"SKUPAJ",null,{"$f":"SUM(D245:D255)","v":0},{"$f":"SUM(E245:E255)","v":0},{"$f":"SUM(F245:F255)","v":0}]

{"sheet":"AB-C.MULTIMEDIJSKA OPREMA","index":61,"n_rows":96,"n_cols":10,"rows_kept":96,"cut":false,"hidden":false,"merged":[]}
["__"]
["2/2.3","Objekt A in B,   MULTIMEDIJSKA IN AKTIVNA OPREMA"]
[]
["ZAP. ŠT.","OPIS","     ME","KOLIČUNA","CENA/ENOTO","SKUPAJ","POPUST","POPUST SKUPAJ","CENA/ENOTO S POPUSTOM","SKUPAJ S POPUSTOM"]
[]
["3/2.3","MULTIMEDIJSKA IN AKTIVNA OPREMA"]
[null,"(za vse pozicije velja dobava in montaža; razen če ni navedeno drugače)"]
["1","Priprava popisa obstoječega stanja omrežne in AV opreme. Izdelava seznama uporabne opreme po prenovi. Načrtovanje potrebne omrežne opreme za potrebe zavoda. Načrtovanje potrebne AV opreme za potrebe zavoda. Priprava tehničnih normativov za AV opremo za razpis. Potrjevanje opreme pred nabavo in vgradnjo. ","kos",1,null,{"$f":"E8*D8","v":0},{"$f":"+E8*MM","v":0},{"$f":"+G8*D8","v":0},{"$f":"+E8-G8","v":0},{"$f":"+I8*D8","v":0}]
["2","Priklop in konfiguracija omrežne opreme.","kos",1,null,{"$f":"E9*D9","v":0},{"$f":"+E9*MM","v":0},{"$f":"+G9*D9","v":0},{"$f":"+E9-G9","v":0},{"$f":"+I9*D9","v":0}]
["3","Demontaža aktivne opreme in hramba v času obnove","kos",1,null,{"$f":"E10*D10","v":0},{"$f":"+E10*MM","v":0},{"$f":"+G10*D10","v":0},{"$f":"+E10-G10","v":0},{"$f":"+I10*D10","v":0}]
["4","Koordinacija izvajalcev za omrežje. Koordinacija izvajalcev za AV opremo. Sestanki, po potrebi, s šolo in izvajalci.","kos",1,null,{"$f":"E11*D11","v":0},{"$f":"+E11*MM","v":0},{"$f":"+G11*D11","v":0},{"$f":"+E11-G11","v":0},{"$f":"+I11*D11","v":0}]
[]
["5","VR komplet"]
[null,"ClassVR Premium Set of 8 s podaljšano garancijo na 3 leta  (CVR264-CRS-8)","kos",4,null,{"$f":"D14*E14","v":0},{"$f":"+E14*MM","v":0},{"$f":"+G14*D14","v":0},{"$f":"+E14-G14","v":0},{"$f":"+I14*D14","v":0}]
[]
["6","VR portal"]
[null,"Class VR 3 Year Recurring Portal Subscription","kos",1,null,{"$f":"+E17*D17","v":0},{"$f":"+E17*MM","v":0},{"$f":"+G17*D17","v":0},{"$f":"+E17-G17","v":0},{"$f":"+I17*D17","v":0}]
[]
["7","Interaktivni zaslon","kos",2,null,{"$f":"+E19*D19","v":0},{"$f":"+E19*MM","v":0},{"$f":"+G19*D19","v":0},{"$f":"+E19-G19","v":0},{"$f":"+I19*D19","v":0}]
[null,"SMART Board ® MX255"]
[]
["8","Interaktivni zaslon","kos",3,null,{"$f":"+E22*D22","v":0},{"$f":"+E22*MM","v":0},{"$f":"+G22*D22","v":0},{"$f":"+E22-G22","v":0},{"$f":"+I22*D22","v":0}]
[null,"SMART Board ® MX265"]
[]
["9","Interaktivni zaslon","kos",30,null,{"$f":"+E25*D25","v":0},{"$f":"+E25*MM","v":0},{"$f":"+G25*D25","v":0},{"$f":"+E25-G25","v":0},{"$f":"+I25*D25","v":0}]
[null,"SMART Board ® MX275"]
[]
["10","Interaktivni zaslon","kos",3,null,{"$f":"+E28*D28","v":0},{"$f":"+E28*MM","v":0},{"$f":"+G28*D28","v":0},{"$f":"+E28-G28","v":0},{"$f":"+I28*D28","v":0}]
[null,"SMART Board ® MX286"]
[]
["11"," Višinsko nastavljiv stenski nosilec z VESA nosilcem","kos",{"$f":"D19+D22+D25+D28","v":38},null,{"$f":"+E31*D31","v":0},{"$f":"+E31*MM","v":0},{"$f":"+G31*D31","v":0},{"$f":"+E31-G31","v":0},{"$f":"+I31*D31","v":0}]
[null,"BalanceBox® 400-70 višinsko nastavljiv stenski nosilec z VESA nosilcem"]
[]
["12","Mobilno stojalo ","kos",5,null,{"$f":"+E34*D34","v":0},{"$f":"+E34*MM","v":0},{"$f":"+G34*D34","v":0},{"$f":"+E34-G34","v":0},{"$f":"+I34*D34","v":0}]
[null,"Mobilno stojalo Mix za BalanceBox®400 črno "]
[]
["13","Predstavitveni zaslon z ustrezno programsko opremo","kos",6,null,{"$f":"+E37*D37","v":0},{"$f":"+E37*MM","v":0},{"$f":"+G37*D37","v":0},{"$f":"+E37-G37","v":0},{"$f":"+I37*D37","v":0}]
[null,"InSign - 65\" veliki 4K profesionalni zaslon za oglaševanje s sistemom Android, CMS nadgradnjo in doživljensko licenco za Cloud CMS sistem"]
[]
["14","Mobilna verzija interaktivnih tal","kos",3,null,{"$f":"+E40*D40","v":0},{"$f":"+E40*MM","v":0},{"$f":"+G40*D40","v":0},{"$f":"+E40-G40","v":0},{"$f":"+I40*D40","v":0}]
[null,"ActiveFloor Mobile Max"]
[]
["15","ActiveFloor programska oprema","kos",3,null,{"$f":"+E43*D43","v":0},{"$f":"+E43*MM","v":0},{"$f":"+G43*D43","v":0},{"$f":"+E43-G43","v":0},{"$f":"+I43*D43","v":0}]
[null,"Licenca za 3 leta"]
[]
["16","Interaktivna mizica ","kos",3,null,{"$f":"+E46*D46","v":0},{"$f":"+E46*MM","v":0},{"$f":"+G46*D46","v":0},{"$f":"+E46-G46","v":0},{"$f":"+I46*D46","v":0}]
[null,"Manico Fun Table 32\""]
[]
["17","Projektor laser","kos",1,null,{"$f":"+E49*D49","v":0},{"$f":"+E49*MM","v":0},{"$f":"+G49*D49","v":0},{"$f":"+E49-G49","v":0},{"$f":"+I49*D49","v":0}]
[null,"Optoma ZH403 White z ustreznim stropnim nosilcem in podaljšano garancijo na 3 leta"]
[]
["18","Projekcijsko platno","kos",1,null,{"$f":"+E52*D52","v":0},{"$f":"+E52*MM","v":0},{"$f":"+G52*D52","v":0},{"$f":"+E52-G52","v":0},{"$f":"+I52*D52","v":0}]
[null,"Adeo Professional 300 Motorized 293 x 183 VisionWhite PRONPROFESSION z daljincem"]
[]
["19","Dokumentna kamera","kos",2,null,{"$f":"+E55*D55","v":0},{"$f":"+E55*MM","v":0},{"$f":"+G55*D55","v":0},{"$f":"+E55-G55","v":0},{"$f":"+I55*D55","v":0}]
[null,"SMART dokumentna kamera 650"]
[]
["20","Komplet za oddaljen / kombiniran pouk","kos",37,null,{"$f":"+E58*D58","v":0},{"$f":"+E58*MM","v":0},{"$f":"+G58*D58","v":0},{"$f":"+E58-G58","v":0},{"$f":"+I58*D58","v":0}]
[null,"Kamera kot na primer Aver CAM340+ In tipkovnica Logitech K400 Plus Brezžična Touch Unifying, SLO, črna "]
[]
["21","Namestitev aktivnih tal in interaktivne mizice","kos",{"$f":"D40+D46","v":6},null,{"$f":"+E61*D61","v":0},{"$f":"+E61*MM","v":0},{"$f":"+G61*D61","v":0},{"$f":"+E61-G61","v":0},{"$f":"+I61*D61","v":0}]
[]
["22","Namestitev zaslona","kos",{"$f":"D19+D22+D25+D28+D37+D34","v":49},null,{"$f":"+E63*D63","v":0},{"$f":"+E63*MM","v":0},{"$f":"+G63*D63","v":0},{"$f":"+E63-G63","v":0},{"$f":"+I63*D63","v":0}]
[]
["23","Namestitev višinsko nastavljivega stenskega nosilca","kos",{"$f":"D31","v":38},null,{"$f":"+E65*D65","v":0},{"$f":"+E65*MM","v":0},{"$f":"+G65*D65","v":0},{"$f":"+E65-G65","v":0},{"$f":"+I65*D65","v":0}]
[]
["24","Namestitev in kalibracija projektorja in platna","kos",2,null,{"$f":"+E67*D67","v":0},{"$f":"+E67*MM","v":0},{"$f":"+G67*D67","v":0},{"$f":"+E67-G67","v":0},{"$f":"+I67*D67","v":0}]
[]
["25","Drobni montažni material","kos",{"$f":"D63+D65+D67+D71+D75+D77+23","v":162},null,{"$f":"+E69*D69","v":0},{"$f":"+E69*MM","v":0},{"$f":"+G69*D69","v":0},{"$f":"+E69-G69","v":0},{"$f":"+I69*D69","v":0}]
[]
["26","Fortinet FAP-221E-E - Dostopovna točka - osnovna (vsesmerna)","kos",36,null,{"$f":"+E71*D71","v":0},{"$f":"+E71*MM","v":0},{"$f":"+G71*D71","v":0},{"$f":"+E71-G71","v":0},{"$f":"+I71*D71","v":0}]
[]
["27","Fortinet FAP-221E-E - Dostopovna točka - osnovna (vsesmerna); demontaža in ponovna montaža","kos",21,null,{"$f":"+E73*D73","v":0},{"$f":"+E73*MM","v":0},{"$f":"+G73*D73","v":0},{"$f":"+E73-G73","v":0},{"$f":"+I73*D73","v":0}]
[]
["28","Juniper EX2300-24P - 24-port 10/100/1000BASE-T PoE+, 4 x 1/10GbE SFP/SFP+ ","kos",5,null,{"$f":"+E75*D75","v":0},{"$f":"+E75*MM","v":0},{"$f":"+G75*D75","v":0},{"$f":"+E75-G75","v":0},{"$f":"+I75*D75","v":0}]
[]
["29","Juniper EX2300-48T - 48-port 10/100/1000BASE-T, 4 x 1/10GbE SFP/SFP+ ","kos",9,null,{"$f":"+E77*D77","v":0},{"$f":"+E77*MM","v":0},{"$f":"+G77*D77","v":0},{"$f":"+E77-G77","v":0},{"$f":"+I77*D77","v":0}]
[]
["30","ETU-Link ESP3192-3LCD10/ES31X-3LCD10 - Vtični modul SFP+, 10GBase-LR, domet najmanj 10km (enorodno)","kos",30,null,{"$f":"+E79*D79","v":0},{"$f":"+E79*MM","v":0},{"$f":"+G79*D79","v":0},{"$f":"+E79-G79","v":0},{"$f":"+I79*D79","v":0}]
[]
["31","XENOPT SFP+ BIDI Tx:1270nm,Rx:1330nm 10G 20km CISCO COMPATIBLE","kos",1,null,{"$f":"+E81*D81","v":0},{"$f":"+E81*MM","v":0},{"$f":"+G81*D81","v":0},{"$f":"+E81-G81","v":0},{"$f":"+I81*D81","v":0}]
[]
["32","XENOPT SFP+ BIDI Tx:1270nm,Rx:1330nm 10G 20km JUNIPER COMPATIBLE","kos",1,null,{"$f":"+E83*D83","v":0},{"$f":"+E83*MM","v":0},{"$f":"+G83*D83","v":0},{"$f":"+E83-G83","v":0},{"$f":"+I83*D83","v":0}]
[]
["33","Prestavitev IR optika priključka","kos",1,null,{"$f":"+E85*D85","v":0},{"$f":"+E85*MM","v":0},{"$f":"+G85*D85","v":0},{"$f":"+E85-G85","v":0},{"$f":"+I85*D85","v":0}]
[]
["34","Priklop Multimedije prek UTP kabla","kos",{"$f":"D19+D22+D25+D28-D34+D37+D49","v":40},null,{"$f":"+D87*E87","v":0},{"$f":"+E87*MM","v":0},{"$f":"+G87*D87","v":0},{"$f":"+E87-G87","v":0},{"$f":"+I87*D87","v":0}]
[null,"DigitaLinx HDMI USB-C | DL-1H1AUC-WPKT-W"]
[]
["35","Priključni kabel U/FTP kat.6A (minimalni razred odziva na ogenj: B2ca s1d1a1), z AMP konektorji RJ45/RJ45, 2m R&M ali enako.","kos",180,null,{"$f":"+D90*E90","v":0},{"$f":"+E90*MM","v":0},{"$f":"+G90*D90","v":0},{"$f":"+E90-G90","v":0},{"$f":"+I90*D90","v":0}]
[]
["36","Priključni kabel U/FTP kat.6A (minimalni razred odziva na ogenj: B2ca s1d1a1), z AMP konektorji RJ45/RJ45, 3m R&M ali enako.","kos",90,null,{"$f":"+D92*E92","v":0},{"$f":"+E92*MM","v":0},{"$f":"+G92*D92","v":0},{"$f":"+E92-G92","v":0},{"$f":"+I92*D92","v":0}]
[]
["37","Obračun po količinah, ki izhajajo iz potrjenega gradbenega dnevnika in ob upoštevanju kalkulativnih osnov","kpl",1,{"$f":"SUM(F8:F92)*0.05","v":0},{"$f":"+D94*E94","v":0},{"$f":"+E94*MM","v":0},{"$f":"+G94*D94","v":0},{"$f":"+E94-G94","v":0},{"$f":"+I94*D94","v":0}]
[]
["3/2.3","MULTIMEDIJSKA IN AKTIVNA OPREMA",null,null,null,{"$f":"SUM(F8:F95)","v":0},null,{"$f":"SUM(H8:H95)","v":0},null,{"$f":"SUM(J8:J95)","v":0}]

{"sheet":"AB-REKAPIT. NOTRANJA OPREMA","index":62,"n_rows":21,"n_cols":5,"rows_kept":21,"cut":false,"hidden":false,"merged":[]}
["Investitor:   ","Mestna občina Ljubljana"]
[null,"Konzorcij družb Petrol d. d. in Resalta d. o. o. "]
["Objekt:      ","OŠ Savsko naselje, Matjaževa ulica 4, Ljubljana"]
[null," - Celovita prenova objekta s statično, požarno in energetsko sanacijo."]
["Štev. proj.:     "]
["Datum:      ","April 2022"]
[]
[]
[]
[]
[]
[]
[null,"REKAPITULACIJA"]
[null,"NOTRANJA OPREMA Objekt A in B,  "]
[]
[]
[null,"Ponudbena vrednost - skupna rekapitulacija","Vrednost  brez popusta","Popust","Vrednost s popustom"]
[null,"NOTRANJA OPREMA",{"$f":"'AB-NOTRANJA OPREMA'!$H$1894","v":0},{"$f":"'AB-NOTRANJA OPREMA'!$J$1894","v":0},{"$f":"'AB-NOTRANJA OPREMA'!$L$1894","v":0}]
[null,"SKUPAJ",{"$f":"SUM(C18:C18)","v":0},{"$f":"SUM(D18:D18)","v":0},{"$f":"SUM(E18:E18)","v":0}]
[null,"22% DDV",null,null,{"$f":"+E19*0.22","v":0}]
[null,"Objekt A in B   NOTRANJA OPREMA SKUPAJ Z DDV",null,null,{"$f":"+E19+E20","v":0}]

{"sheet":"AB-L.NAVODILA","index":63,"n_rows":41,"n_cols":2,"rows_kept":41,"cut":false,"hidden":false,"merged":[[12,1,12,8],[1,1,1,8],[2,1,2,8],[3,1,3,8],[4,1,4,8],[5,1,5,8],[6,1,6,8],[7,1,7,8],[8,1,8,8],[9,1,9,8],[10,1,10,8],[11,1,11,8],[24,1,24,8],[13,1,13,8],[14,1,14,8],[15,1,15,8],[16,1,16,8],[17,1,17,8],[18,1,18,8],[19,1,19,8],[20,1,20,8],[21,1,21,8],[22,1,22,8],[23,1,23,8],[25,1,25,8],[26,1,26,8],[27,1,27,8],[28,1,28,8],[29,1,29,8],[37,1,37,8],[40,1,40,8],[30,1,30,8],[31,1,31,8],[32,1,32,8],[33,1,33,8],[34,1,34,8],[35,1,35,8],[36,1,36,8]]}
["1.5.0","Objekt A in B,   POPIS splošno navodilo "]
[null,"Splošno navodilo."]
["1.","Načrti so sestavni del popisa. Morebitna neskladja oziroma odstopanja od načrta mora izvajalec uskladiti s projektantom. Mere kontrolirati na mestu!"]
["2.","V ceno posameznega artikla je vključena izdelava artikla po načrtu, vključno z vsemi dodatki (razvidnimi iz načrta ali popisa), dobava in montaža na objekt."]
["3.","Vsi elementi opreme morajo biti izvedeni tako, da je dosežena maksimalna trdnost konstrukcije  in maksimalna površinska odpornost obdelave. Vsi večji kosi pohištva morajo biti fiksirani v steno ali tla."]
["4.","Vsi izdelani in dobavljeni elementi opreme morajo biti primerni za šole (netoksični, nevpojni, ne smejo vsebovati FORMALALDEHIDOV ali TEŽKIH KOVIN, primerni morajo biti za mokro čiščenje in razkuževanje), biti morajo skladni s standardom SIS EN 1176-1 in EN71.  "]
[null,"Ponudnik mora ponudbi predložiti izjavo, da so ponujeni izdelki skladni z navedenimi standardi."]
["5.","Vsa športna oprema mora imeti dokazila o skladnosti s slovenskimi standardi, tj. S SISIT EN 1176, SIST EN 12197 IN SIST EN 12346 in mora biti vgrajena tako kot standardi predpisujejo. "]
[null,"Ponudnik mora ponudbi predložiti izjavo, da so ponujeni izdelki skladni z navedenimi standardi."]
["6.","Vsi elementi notranje opreme morajo biti skladni z zahtevami Zelenega javnega naročanja: (1) vsebnost lesa mora biti več kot 70%, (2) les mora izvirati iz zakonitih virov; (3) plastični deli s težo 50g ali več ne smejo vsebovati dodatkov materialov, ki ovirajo recikliranje, (4) premazi lesa ali plasticni ali kovinski deli ne smejo vsebovati škodljivih snovi iz uredbe ES 1272/2008; (5) izhajanje formaldehida iz lesenih tvoriv ne sme bitivišja od 8mg/100g suhe snovi, (6) lepila ne smejo vsebovati več kot 10% mase hlapnih organskih spojin, (7) embalaža se mora reciklirati, (8) blago iz bombaža ne sme vsebovati pesticidov, (9) barvila tekstila ne smejo biti alergenogena, kancerogena, mutagena ali strupena, ne smejo vsebovati akrilaminov; zaviralcev gorenja PBB, PemntaBDE in oktaBDE. "]
[null,"Ponudnik mora ponudbi predlođiti izjavo, da so ponujeni izdelki skladni z zahtevami Zelenega naročanja."]
["7.","Vsi elementi zunanje opreme, ki so izdelani iz lesa morajo biti (1) uvrščeni v 1 ali 2. razred odpornosti, skladno s standardom SIST EN 350-2 in ne smejo biti obdelani z zaščitnimi sredstvi oz. biocidnimi pripravki, (2) nenosilni elementi ne smejo biti obdelani s škodljivimi snovmi po uredbi ES 1272/2008, (3) zaščitna sredstva ne smejo temeljiti na spojinah arzena, kroma in orgnskega kositra, (4) les mora izvirati iz trajnostno pridelanih virov, (5) potisni plin v pršilih za PU peno ne sme biti CFC, HCFC ali metilen klorid, (6) delež ekološko pridelanega bombaža skladno z direktivo ES 834/2007 ES;  (7) embalažamora biti iz  iz recikliranega materiala. "]
[null,"Ponudnik mora ponudbi predložiti izjavo, da so ponujeni izdelki skladni z zahtevami Zelenega naročanja."]
["8.","TIPSKI ELEMENTI "]
[null,"Vse dobavljene stole potrdi naročnik  - predstavnik šole. Pred naročilom mora ponudnik dostaviti naročniku izbrane vzorce stolov v preizkus in potrditev. "]
["9.","NETIPSKI ELEMENTI"]
["10.","Vsa oprema, ki se dela po načrtih, se izvaja v dogovoru z arhitektom. Vsa odstopanja od načrta potrdi arhitekt. "]
["11.","Oprema v prostorih za učence mora biti izvedena tako, da je podkonstrukcija učencem nedostopna. Vsi vijaki ali drug pritrdilni material morajo biti utopljeni ali zaščiteni."]
["12.","Vsi elementi opreme morajo biti izvedeni tako, da so primerni za učence (gladke površine, zaobljeni vogali, soft robovi (radij min 3mm) ali zaokroženi robovi (radij 10mm)."]
["13.","DEBELINE MATERIALOV - Debeline lesenih plošč, kovinske konstrukcije, inox elementov ipd. so praviloma razvidne iz načrta.  Končne dimenzije določi izvajalec glede na zahtevano trdnost izdelka."]
["14.","Okvirne debeline lesenih plošč so:  korpus, police, stenske obloge  20mm, vrata - odvisno od velikosti 11-22mm, hrbet omar 11mm,  stranice predalov  11mm, delovne plošče miz  28mm."]
["15.","Okvirna debelina kovinske konstrukcije:  varjeno kovinsko ogrodje 40/40mm (zaobljeni robovi, vari brušeni). Obdelava: laki, primerni za učence (ne sme se luščiti!). Stik s tlemi (PVC)."]
["16.","OPLEMENITENJE MATERIALOV:"]
[null,"Vse lesene plošče so oplemenitene  folijami po izboru ali ultrapasom ali barvane s PU laki (60%sijaj). Dekor po izboru naročnika, potrdi arhitekt - določa se za vsak elemet posebej!"]
[null,"Vzorce iverala je potrebno priložiti v potrditev (format A4)."]
[null,"Mediapan plošče so barvane po načrtu. Barve so razvidne iz načrta."]
["17","IZVEDBA ROBOV:"]
[null,"Vsi vidni robovi lesenih plošč so zaščiteni z ABS nalimki min 2mm (robovi posneti), v enakem dekorju kot folije/ultrapas; robovi plošč iz mediapana so zaobljeni. "]
["18","STIK S TLEMI"]
[null,"Vse stične ploskve elementov opreme s tlemi morajo biti izvedene tako, da ob morebitnem premikanju opreme ne poškodujejo obstoječe talne obloge. Izvedbo potrdi projektant."]
[null,"Vsi leseni deli morajo biti dvignjeni od tal min 5mm - zaradi mokrega čiščenja."]
[null,"Vsa kolesa stolov ali opreme morajo biti izbrana glede na talno oblogo. "]
[null,"Kolesa stolov in predalnikov so 360 stopinjska, kolesa stopničk ob previjalni mizi in pladnja za kahle pa niso zasučna."]
["19","POHIŠTVENO OKOVJE, ročaji, obešalne kljuke, ključavnice idr. kovinska ali PVC oprema"]
[null,"Vsi montažni, pritrdilni in dodatni elementi, ki se vgrajujejo v pohištvo  morajo biti srednjega cenovnega razreda. Ponudnik jih mora upoštevati pri izdelavi ponudbe, tudi če niso posebej navedeni. Izvajalec jih vgrajuje po svoji presoji, da doseže zahtevano kvaliteto izdelka. Vse elemente, ki so vidni ali dostopni učencem potrdi arhitekt."]
[null,"Vodila predalov morajo biti kovinska, omogočati morajo polni izvlek."]
[null,"Panti omar morajo omogočati 180 stopinjsko odpiranje."]
[]
[20,"Vso izvedob in materjale portrdi  Projektant"]
[]
["21","V ceni opreme morajo biti zajeti izdelava, nabava, dobava,in vsi sestavni elementi, ves pritrdilni material,  "]

{"sheet":"AB-NOTRANJA OPREMA","index":64,"n_rows":1894,"n_cols":12,"rows_kept":1894,"cut":false,"hidden":false,"merged":[]}
[null,null,null,"Objekt A in B,  TEHNOLOŠKA OPREMA"]
[]
[null,null,null,"OMARE/STOLI MIZE /OBLOGE"]
[]
[null,null,null,"Opis omar - glej splošno navodilo "]
[null,null,null,"Splošno navodilo za elemente opreme:"]
[null,null,null,"Vse omare so postavljene na regulacijskih nogicah. Cokel omare se izvede v dogovoru z arhitektom, . Vzorec cokla mora izvajalec predložiti arhitektu v potrditev."]
[null,null,null,"Vse omare so izdelane iz iverice, oplemenitene s CPL laminatom (obojestransko), laminat po izboru naročnika, potrdi arhitekt; upoštevati dekor les in večbarven, GA struktura; kot npr. MaxFunder ali enakovredno. Tip laminata se določi ob izvedbi, za vsak element posebej."]
[null,null,null,"Izjema so omare, ki dopolnjujejo obstoječo opremo. Izvedejo se v istem materialu kot obstoječa oprema. Izvajalec mora dostaviti vzorec lamionata v formatu A4 - zaradi primerjave z obstoječim laminatom. Vzorec laminata potrdi arhitekt!"]
[null,null,null,"Vse omare (razen v strojnem delu tehnike) morajo imeti prezračevalne fuge."]
[null,null,null,"Vse omare morajo imeti pante za širokokotno odpiranje. Tip panta se potrdi ob izvedbi vzorčnega elementa."]
[null,null,null,"Sistem zaklepanja omare v celoti ali posameznih delov posebej se potrdi ob izvedbi. Znotraj učilnice se morajo vse omare odpirati z istim ključem. Za vse omare mora obstajati tudi generalni ključ."]
[null,null,null,"Vse omare in predali imajo podolgovate vtopne kovinske ročaje, mat crom; , kot npr. Lampič 209908, art ali enakovredno. Tip ročaja mora dostaviti izvajalec arhitektu v potrditev."]
[]
[null,null,null,"Vse omare imajo premične police, max razmik med policami 34cm. Pritrditev s kovinskim moznikom s trnom proti prevrnitvi. "]
[null,null,null,"Vsi predali morajo imeti polni izvlek in se morajo mehko zapirati. "]
[null,null,null,"Izvajalec mora izdelati vzorčni primer omare, vzorec potrdita naročnik in arhitekt."]
[null,null,null,"Posebnosti: "]
[null,null,null,"Vsa vgrajena oprema in garderobne omarev  evakuacijski poti iz teh prostorov mora biti izvedena ognjevarno - B-s1.d0."]
[null,null,null,"Vsa vgrajena oprema in stenske obloge v prostorih šole (učilnice, kabineti) mopra biti izvedena ognjevarno - C-s1.d0: lesena obloga brez zračnega sloja je lahko D-s2,d0."]
[null,null,null,"Izvajalec mora dostaviti potrdilo/pisno izjavo, da je vgrajena oprema skladna z zahtevami."]
[]
["ZAP. ŠT.","NADSTROPJE",null,"OPIS","     ME","KOLIČUNA","CENA/ENOTO","SKUPAJ","POPUST","POPUST SKUPAJ","CENA/ENOTO S POPUSTOM","SKUPAJ S POPUSTOM"]
[]
[]
[]
[null,"PRITLIČJE"]
[]
[null,null,null,"UČILNICA 4A"]
["1",null,"OMVS","OMARA  STEKLENA VISOKA ","kom",2,null,{"$f":"G30*F30","v":0},{"$f":"+G30*MM","v":0},{"$f":"+I30*F30","v":0},{"$f":"+G30-I30","v":0},{"$f":"+K30*F30","v":0}]
[null,null,null,"dim  90x55x200 cm",null,null,null,{"$f":"G31*F31","v":0}]
[null,null,null,"Sestav:",null,null,null,0]
[null,null,null,"Omara  dvodelan izdelana iz iverala ABS 2mm, zgoraj steklena  vrata v lesenem okvirju, spodaj polna vrata",null,null,null,0]
[null,null,null,"Opis",null,null,null,0]
[null,null,null,"Omara je izdelana iz iverala; odmične sponei, ključavnica; premične police na kovinskih nosilcih; 10 cm, regulirne nogice, cokel ALU    ",null,null,null,0]
[null,null,null,null,null,null,null,0]
["2",null,"OMV","OMARA   VISOKA ","kom",4,null,0,{"$f":"+G37*MM","v":0},{"$f":"+I37*F37","v":0},{"$f":"+G37-I37","v":0},{"$f":"+K37*F37","v":0}]
[null,null,null,"dim  90x55x200 cm",null,null,null,0]
[null,null,null,"Sestav:",null,null,null,0]
[null,null,null,"Omara  dvodelan deljena vrata izdelana iz iverala ABS 2mm ",null,null,null,0]
[null,null,null,"Opis",null,null,null,0]
[null,null,null,"Omara je izdelana iz iverala; odmične sponei, ključavnica; premične police na kovinskih nosilcih; 10 cm, regulirne nogice, cokel ALU    ",null,null,null,0]
[null,null,null,null,null,null,null,0]
["3",null,"OMN","OMARA NIZKA",null,null,null,0]
[null,null,null,"dim 90X55X76 cm",null,null,null,0]
[null,null,null,"Sestav:",null,null,null,0]
[null,null,null,"Omara nizka polna vrata",null,null,null,0]
[null,null,null,"Opis:",null,null,null,0]
[null,null,null,"Omara  nizka izdelana iz iverala ABS 2mm ",null,null,null,0]
[null,null,null,"Opis",null,null,null,0]
[null,null,null,"Omara je izdelana iz iverala; odmične sponei, ključavnica; premične police na kovinskih nosilcih; 10 cm, regulirne nogice, cokel ALU    ","kom",4,null,0,{"$f":"+G51*MM","v":0},{"$f":"+I51*F51","v":0},{"$f":"+G51-I51","v":0},{"$f":"+K51*F51","v":0}]
[null,null,null,null,null,null,null,0]
["4",null,"OB","OBLOGE NAD OMARICAMI",null,null,null,0]
[null,null,"*","dim 400X125 cm  ","tm",4,null,0,{"$f":"+G54*MM","v":0},{"$f":"+I54*F54","v":0},{"$f":"+G54-I54","v":0},{"$f":"+K54*F54","v":0}]
[null,null,"*","dim450x125 cm","tm",4.5,null,0,{"$f":"+G55*MM","v":0},{"$f":"+I55*F55","v":0},{"$f":"+G55-I55","v":0},{"$f":"+K55*F55","v":0}]
[null,null,"*","dim 290x125 cm","tm",2.9,null,0,{"$f":"+G56*MM","v":0},{"$f":"+I56*F56","v":0},{"$f":"+G56-I56","v":0},{"$f":"+K56*F56","v":0}]
[null,null,null,"*Točne dimenzije se določijo ob izvedbi.",null,null,null,0]
[null,null,null,"Sestav:",null,null,null,0]
[null,null,null,"Opis:",null,null,null,0]
[null,null,null,"Zahtevana požarna odpornost oblog:",null,null,null,0]
[null,null,null,null,null,null,null,0]
["5",null,"MK","MIZA-KATEDER UČITELJA",null,null,null,0]
[null,null,null,"dim 190+190x60x75 cm",null,null,null,0]
[null,null,null,"Opis:",null,null,null,0]
[null,null,null,"Kovinska ovalna cev prašno barvana  z ustreznimi drsniki",null,null,null,0]
[null,null,null,"mizna plošča Iveral beš 24 mm obrobljena masivnm bukvim nalimkom","kom",1,null,0,{"$f":"+G66*MM","v":0},{"$f":"+I66*F66","v":0},{"$f":"+G66-I66","v":0},{"$f":"+K66*F66","v":0}]
[null,null,null,null,null,null,null,0]
["6",null,"M1","MIZA ZA UČENCA",null,null,null,0]
[null,null,null,"Mize za učence - ENOJNA klasična",null,null,null,0]
[null,null,null,"dim 65x50X72  ",null,null,null,0]
[null,null,null,"Kovinska ovalna cev prašno barvana  z ustreznimi drsniki",null,null,null,0]
[null,null,null,"mizna plošča Iveral beš 24 mm obrobljena masivnm bukvim nalimkom ( kljukica za obešanje torbice )","kom",12,null,0,{"$f":"+G72*MM","v":0},{"$f":"+I72*F72","v":0},{"$f":"+G72-I72","v":0},{"$f":"+K72*F72","v":0}]
[null,null,null,null,null,null,null,0]
[null,null,"M2","MIZA ZA UČENCA",null,null,null,0]
["7",null,null,"Mize za učence - DVOJNA klasična",null,null,null,0]
[null,null,null,"dim 130x50X72  ",null,null,null,0]
[null,null,null,"Kovinska ovalna cev prašno barvana  z ustreznimi drsniki",null,null,null,0]
[null,null,null,"mizna plošča Iveral beš 24 mm obrobljena masivnm bukvim nalimkom ( kljukica za obešanje torbice )","kom",8,null,0,{"$f":"+G78*MM","v":0},{"$f":"+I78*F78","v":0},{"$f":"+G78-I78","v":0},{"$f":"+K78*F78","v":0}]
[null,null,null,null,null,null,null,0]
["8",null,"SU","STOL ZA UČITELJA",null,null,null,0]
[null,null,null,"v. 45 cm",null,null,null,0]
[null,null,null,"Opis",null,null,null,0]
[null,null,null,"Stol za učitejla  kovinska ovalan cev prašno barana z ustrezni drsniki sedež in naslon oblazinjen ","kom",1,null,0,{"$f":"+G83*MM","v":0},{"$f":"+I83*F83","v":0},{"$f":"+G83-I83","v":0},{"$f":"+K83*F83","v":0}]
[null,null,null,null,null,null,null,0]
["9",null,"S1","STOL ZA UČENCA",null,null,null,0]
[null,null,null,"v.42 cm",null,null,null,0]
[null,null,null,"Opis",null,null,null,0]
[null,null,null,"Kovinska ovalna cev prašno barvana, z ustreznimi drsniki sedež in naslon bukova vezana plošča","kom",28,null,0,{"$f":"+G88*MM","v":0},{"$f":"+I88*F88","v":0},{"$f":"+G88-I88","v":0},{"$f":"+K88*F88","v":0}]
[null,null,null,null,null,null,null,0]
["10",null,"PM","POLKROŽNA MIZA fi 130",null,null,null,0]
[null,null,null,"višina 42 cm",null,null,null,0]
[null,null,null,"Opis:",null,null,null,0]
[null,null,null,"Kovinska ovalna cev prašno barvana  z ustreznimi drsniki",null,null,null,0]
[null,null,null,"mizna plošča Iveral beš 24 mm obrobljena masivnm bukvim nalimkom ","kom",2,null,0,{"$f":"+G94*MM","v":0},{"$f":"+I94*F94","v":0},{"$f":"+G94-I94","v":0},{"$f":"+K94*F94","v":0}]
[null,null,null,null,null,null,null,{"$f":"G95*F95","v":0}]
[null,null,null,"UČILNICA 4B RAZRED"]
[null,null,null,null,null,null,null,0]
["11",null,"OMVS","OMARA  STEKLENA VISOKA ","kom",2,null,0,{"$f":"+G98*MM","v":0},{"$f":"+I98*F98","v":0},{"$f":"+G98-I98","v":0},{"$f":"+K98*F98","v":0}]
[null,null,null,"dim  90x55x200 cm",null,null,null,0]
[null,null,null,"Sestav:",null,null,null,0]
[null,null,null,"Omara  dvodelan izdelana iz iverala ABS 2mm, zgoraj steklena  vrata v lesenem okvirju, spodaj polna vrata",null,null,null,0]
[null,null,null,"Opis",null,null,null,0]
[null,null,null,"Omara je izdelana iz iverala; odmične sponei, ključavnica; premične police na kovinskih nosilcih; 10 cm, regulirne nogice, cokel ALU    ",null,null,null,0]
[null,null,null,null,null,null,null,0]
["12",null,"OMV","OMARA   VISOKA ","kom",4,null,0,{"$f":"+G105*MM","v":0},{"$f":"+I105*F105","v":0},{"$f":"+G105-I105","v":0},{"$f":"+K105*F105","v":0}]
[null,null,null,"dim  90x55x200 cm"]
[null,null,null,"Sestav:",null,null,null,0]
[null,null,null,"Omara  dvodelan deljena vrata izdelana iz iverala ABS 2mm ",null,null,null,0]
[null,null,null,"Opis",null,null,null,0]
[null,null,null,"Omara je izdelana iz iverala; odmične sponei, ključavnica; premične police na kovinskih nosilcih; 10 cm, regulirne nogice, cokel ALU    ",null,null,null,0]
[null,null,null,null,null,null,null,0]
["13",null,"OMN","OMARA NIZKA",null,null,null,0]
[null,null,null,"dim 90X55X76 cm",null,null,null,0]
[null,null,null,"Sestav:",null,null,null,0]
[null,null,null,"Omara nizka polna vrata",null,null,null,0]
[null,null,null,"Opis:",null,null,null,0]
[null,null,null,"Omara  nizka izdelana iz iverala ABS 2mm ",null,null,null,0]
[null,null,null,"Opis",null,null,null,0]
[null,null,null,"Omara je izdelana iz iverala; odmične sponei, ključavnica; premične police na kovinskih nosilcih; 10 cm, regulirne nogice, cokel ALU    ","kom",4,null,0,{"$f":"+G119*MM","v":0},{"$f":"+I119*F119","v":0},{"$f":"+G119-I119","v":0},{"$f":"+K119*F119","v":0}]
[null,null,null,null,null,null,null,0]
["14",null,"OB","OBLOGE NAD OMARICAMI",null,null,null,0]
[null,null,"*","dim 400X125 cm  ","tm",4,null,0,{"$f":"+G122*MM","v":0},{"$f":"+I122*F122","v":0},{"$f":"+G122-I122","v":0},{"$f":"+K122*F122","v":0}]
[null,null,"*","dim450x125 cm","tm",4.5,null,0,{"$f":"+G123*MM","v":0},{"$f":"+I123*F123","v":0},{"$f":"+G123-I123","v":0},{"$f":"+K123*F123","v":0}]
[null,null,"*","dim 290x125 cm","tm",2.9,null,0,{"$f":"+G124*MM","v":0},{"$f":"+I124*F124","v":0},{"$f":"+G124-I124","v":0},{"$f":"+K124*F124","v":0}]
[null,null,null,"*Točne dimenzije se določijo ob izvedbi.",null,null,null,0]
[null,null,null,"Sestav:",null,null,null,0]
[null,null,null,"Opis:",null,null,null,0]
[null,null,null,"Zahtevana požarna odpornost oblog:",null,null,null,0]
[null,null,null,null,null,null,null,0]
["15",null,"MK","MIZA-KATEDER UČITELJA",null,null,null,0]
[null,null,null,"dim 190+190x60x75 cm",null,null,null,0]
[null,null,null,"Opis:",null,null,null,0]
[null,null,null,"Kovinska ovalna cev prašno barvana  z ustreznimi drsniki",null,null,null,0]
[null,null,null,"mizna plošča Iveral beš 24 mm obrobljena masivnm bukvim nalimkom","kom",1,null,0,{"$f":"+G134*MM","v":0},{"$f":"+I134*F134","v":0},{"$f":"+G134-I134","v":0},{"$f":"+K134*F134","v":0}]
[null,null,null,null,null,null,null,0]
["16",null,"M1","MIZA ZA UČENCA",null,null,null,0]
[null,null,null,"Mize za učence - ENOJNA klasična",null,null,null,0]
[null,null,null,"dim 65x50X72  ",null,null,null,0]
[null,null,null,"Kovinska ovalna cev prašno barvana  z ustreznimi drsniki",null,null,null,0]
[null,null,null,"mizna plošča Iveral beš 24 mm obrobljena masivnm bukvim nalimkom ( kljukica za obešanje torbice )","kom",12,null,0,{"$f":"+G140*MM","v":0},{"$f":"+I140*F140","v":0},{"$f":"+G140-I140","v":0},{"$f":"+K140*F140","v":0}]
[null,null,null,null,null,null,null,0]
["17",null,"M2","MIZA ZA UČENCA",null,null,null,0]
[null,null,null,"Mize za učence - DVOJNA klasična",null,null,null,0]
[null,null,null,"dim 130x50X72  ",null,null,null,0]
[null,null,null,"Kovinska ovalna cev prašno barvana  z ustreznimi drsniki",null,null,null,0]
[null,null,null,"mizna plošča Iveral beš 24 mm obrobljena masivnm bukvim nalimkom ( kljukica za obešanje torbice )","kom",8,null,0,{"$f":"+G146*MM","v":0},{"$f":"+I146*F146","v":0},{"$f":"+G146-I146","v":0},{"$f":"+K146*F146","v":0}]
[null,null,null,null,null,null,null,0]
["18",null,"SU","STOL ZA UČITELJA",null,null,null,0]
[null,null,null,"v. 45 cm",null,null,null,0]
[null,null,null,"Opis",null,null,null,0]
[null,null,null,"Stol za učitelja  kovinska ovalan cev prašno barana z ustrezni drsniki sedež in naslon oblazinjen ","kom",1,null,0,{"$f":"+G151*MM","v":0},{"$f":"+I151*F151","v":0},{"$f":"+G151-I151","v":0},{"$f":"+K151*F151","v":0}]
[null,null,null,null,null,null,null,0]
["19",null,"S1","STOL ZA UČENCA",null,null,null,0]
[null,null,null,"v.42 cm",null,null,null,0]
[null,null,null,"Opis",null,null,null,0]
[null,null,null,"Kovinska ovalna cev prašno barvana, z ustreznimi drsniki sedež in naslon bukova vezana plošča","kom",28,null,0,{"$f":"+G156*MM","v":0},{"$f":"+I156*F156","v":0},{"$f":"+G156-I156","v":0},{"$f":"+K156*F156","v":0}]
[null,null,null,null,null,null,null,0]
["20",null,"PM","POLKROŽNA MIZA fi 130",null,null,null,0]
[null,null,null,"višina 42 cm",null,null,null,{"$f":"G159*F159","v":0}]
[null,null,null,"Opis:",null,null,null,0]
[null,null,null,"Kovinska ovalna cev prašno barvana  z ustreznimi drsniki",null,null,null,0]
[null,null,null,"mizna plošča Iveral beš 24 mm obrobljena masivnm bukvim nalimkom ","kom",2,null,0,{"$f":"+G162*MM","v":0},{"$f":"+I162*F162","v":0},{"$f":"+G162-I162","v":0},{"$f":"+K162*F162","v":0}]
[null,null,null,null,null,null,null,0]
[null,null,null,"UČILNICA 5A RAZRED"]
[null,null,null,null,null,null,null,0]
["21",null,"OMVS","OMARA  STEKLENA VISOKA ","kom",2,null,0,{"$f":"+G166*MM","v":0},{"$f":"+I166*F166","v":0},{"$f":"+G166-I166","v":0},{"$f":"+K166*F166","v":0}]
[null,null,null,"dim  90x55x200 cm",null,null,null,0]
[null,null,null,"Sestav:",null,null,null,0]
[null,null,null,"Omara  dvodelan izdelana iz iverala ABS 2mm, zgoraj steklena  vrata v lesenem okvirju, spodaj polna vrata",null,null,null,0]
[null,null,null,"Opis",null,null,null,0]
[null,null,null,"Omara je izdelana iz iverala; odmične sponei, ključavnica; premične police na kovinskih nosilcih; 10 cm, regulirne nogice, cokel ALU    ",null,null,null,0]
[null,null,null,null,null,null,null,0]
["22",null,"OMV","OMARA   VISOKA ","kom",4,null,0,{"$f":"+G173*MM","v":0},{"$f":"+I173*F173","v":0},{"$f":"+G173-I173","v":0},{"$f":"+K173*F173","v":0}]
[null,null,null,"dim  90x55x200 cm",null,null,null,0]
[null,null,null,"Sestav:",null,null,null,0]
[null,null,null,"Omara  dvodelan deljena vrata izdelana iz iverala ABS 2mm ",null,null,null,0]
[null,null,null,"Opis",null,null,null,0]
[null,null,null,"Omara je izdelana iz iverala; odmične sponei, ključavnica; premične police na kovinskih nosilcih; 10 cm, regulirne nogice, cokel ALU    ",null,null,null,0]
[null,null,null,null,null,null,null,0]
["23",null,"OMN","OMARA NIZKA",null,null,null,0]
[null,null,null,"dim 90X55X76 cm",null,null,null,0]
[null,null,null,"Sestav:",null,null,null,0]
[null,null,null,"Omara nizka polna vrata",null,null,null,0]
[null,null,null,"Opis:",null,null,null,0]
[null,null,null,"Omara  nizka izdelana iz iverala ABS 2mm ",null,null,null,0]
[null,null,null,"Opis",null,null,null,0]
[null,null,null,"Omara je izdelana iz iverala; odmične sponei, ključavnica; premične police na kovinskih nosilcih; 10 cm, regulirne nogice, cokel ALU    ","kom",4,null,0,{"$f":"+G187*MM","v":0},{"$f":"+I187*F187","v":0},{"$f":"+G187-I187","v":0},{"$f":"+K187*F187","v":0}]
[null,null,null,null,null,null,null,0]
["24",null,"OB","OBLOGE NAD OMARICAMI",null,null,null,0]
[null,null,"*","dim 400X125 cm  ","tm",4,null,0,{"$f":"+G190*MM","v":0},{"$f":"+I190*F190","v":0},{"$f":"+G190-I190","v":0},{"$f":"+K190*F190","v":0}]
[null,null,"*","dim450x125 cm","tm",4.5,null,0,{"$f":"+G191*MM","v":0},{"$f":"+I191*F191","v":0},{"$f":"+G191-I191","v":0},{"$f":"+K191*F191","v":0}]
[null,null,"*","dim 290x125 cm","tm",2.9,null,0,{"$f":"+G192*MM","v":0},{"$f":"+I192*F192","v":0},{"$f":"+G192-I192","v":0},{"$f":"+K192*F192","v":0}]
[null,null,null,"*Točne dimenzije se določijo ob izvedbi.",null,null,null,0]
[null,null,null,"Sestav:",null,null,null,0]
[null,null,null,"Opis:",null,null,null,0]
[null,null,null,"Zahtevana požarna odpornost oblog:",null,null,null,0]
[null,null,null,null,null,null,null,0]
["25",null,"MK","MIZA-KATEDER UČITELJA",null,null,null,0]
[null,null,null,"dim 190+190x60x75 cm",null,null,null,0]
[null,null,null,"Opis:",null,null,null,0]
[null,null,null,"Kovinska ovalna cev prašno barvana  z ustreznimi drsniki",null,null,null,0]
[null,null,null,"mizna plošča Iveral beš 24 mm obrobljena masivnm bukvim nalimkom","kom",1,null,0,{"$f":"+G202*MM","v":0},{"$f":"+I202*F202","v":0},{"$f":"+G202-I202","v":0},{"$f":"+K202*F202","v":0}]
[null,null,null,null,null,null,null,0]
["26",null,"M1","MIZA ZA UČENCA",null,null,null,0]
[null,null,null,"Mize za učence - ENOJNA klasična",null,null,null,0]
[null,null,null,"dim 65x50X75 ",null,null,null,0]
[null,null,null,"Kovinska ovalna cev prašno barvana  z ustreznimi drsniki",null,null,null,0]
[null,null,null,"mizna plošča Iveral beš 24 mm obrobljena masivnm bukvim nalimkom ( kljukica za obešanje torbice )","kom",12,null,0,{"$f":"+G208*MM","v":0},{"$f":"+I208*F208","v":0},{"$f":"+G208-I208","v":0},{"$f":"+K208*F208","v":0}]
[null,null,null,null,null,null,null,0]
["27",null,"M2","MIZA ZA UČENCA",null,null,null,0]
[null,null,null,"Mize za učence - DVOJNA klasična",null,null,null,0]
[null,null,null,"dim 130x50X75",null,null,null,0]
[null,null,null,"Kovinska ovalna cev prašno barvana  z ustreznimi drsniki",null,null,null,0]
[null,null,null,"mizna plošča Iveral beš 24 mm obrobljena masivnm bukvim nalimkom ( kljukica za obešanje torbice )","kom",8,null,0,{"$f":"+G214*MM","v":0},{"$f":"+I214*F214","v":0},{"$f":"+G214-I214","v":0},{"$f":"+K214*F214","v":0}]
[null,null,null,null,null,null,null,0]
["28",null,"SU","STOL ZA UČITELJA",null,null,null,0]
[null,null,null,"v. 45 cm",null,null,null,0]
[null,null,null,"Opis",null,null,null,0]
[null,null,null,"Stol za učitelja  kovinska ovalan cev prašno barana z ustrezni drsniki sedež in naslon oblazinjen ","kom",1,null,0,{"$f":"+G219*MM","v":0},{"$f":"+I219*F219","v":0},{"$f":"+G219-I219","v":0},{"$f":"+K219*F219","v":0}]
[null,null,null,null,null,null,null,0]
["29",null,"S1","STOL ZA UČENCA",null,null,null,0]
[null,null,null,"v.45 cm",null,null,null,0]
[null,null,null,"Opis",null,null,null,{"$f":"G223*F223","v":0}]
[null,null,null,"Kovinska ovalna cev prašno barvana, z ustreznimi drsniki sedež in naslon bukova vezana plošča","kom",28,null,0,{"$f":"+G224*MM","v":0},{"$f":"+I224*F224","v":0},{"$f":"+G224-I224","v":0},{"$f":"+K224*F224","v":0}]
[null,null,null,null,null,null,null,0]
["30",null,"PM","POLKROŽNA MIZA fi 130",null,null,null,0]
[null,null,null,"višina 75 cm",null,null,null,0]
[null,null,null,"Opis:",null,null,null,0]
[null,null,null,"Kovinska ovalna cev prašno barvana  z ustreznimi drsniki",null,null,null,0]
[null,null,null,"mizna plošča Iveral beš 24 mm obrobljena masivnm bukvim nalimkom ","kom",2,null,0,{"$f":"+G230*MM","v":0},{"$f":"+I230*F230","v":0},{"$f":"+G230-I230","v":0},{"$f":"+K230*F230","v":0}]
[null,null,null,null,null,null,null,0]
[null,null,null,"UČILNICA 5B"]
[null,null,null,null,null,null,null,0]
[null,null,null,null,null,null,null,0]
["31",null,"OMVS","OMARA  STEKLENA VISOKA ","kom",2,null,0,{"$f":"+G235*MM","v":0},{"$f":"+I235*F235","v":0},{"$f":"+G235-I235","v":0},{"$f":"+K235*F235","v":0}]
[null,null,null,"dim  90x55x200 cm",null,null,null,0]
[null,null,null,"Sestav:",null,null,null,0]
[null,null,null,"Omara  dvodelan izdelana iz iverala ABS 2mm, zgoraj steklena  vrata v lesenem okvirju, spodaj polna vrata",null,null,null,0]
[null,null,null,"Opis",null,null,null,0]
[null,null,null,"Omara je izdelana iz iverala; odmične sponei, ključavnica; premične police na kovinskih nosilcih; 10 cm, regulirne nogice, cokel ALU    ",null,null,null,0]
[null,null,null,null,null,null,null,0]
["32",null,"OMV","OMARA   VISOKA ","kom",4,null,0,{"$f":"+G242*MM","v":0},{"$f":"+I242*F242","v":0},{"$f":"+G242-I242","v":0},{"$f":"+K242*F242","v":0}]
[null,null,null,"dim  90x55x200 cm",null,null,null,0]
[null,null,null,"Sestav:",null,null,null,0]
[null,null,null,"Omara  dvodelan deljena vrata izdelana iz iverala ABS 2mm ",null,null,null,0]
[null,null,null,"Opis",null,null,null,0]
[null,null,null,"Omara je izdelana iz iverala; odmične sponei, ključavnica; premične police na kovinskih nosilcih; 10 cm, regulirne nogice, cokel ALU    ",null,null,null,0]
[null,null,null,null,null,null,null,0]
["33",null,"OMN","OMARA NIZKA",null,null,null,0]
[null,null,null,"dim90 X55X76 cm",null,null,null,0]
[null,null,null,"Sestav:",null,null,null,0]
[null,null,null,"Omara nizka polna vrata",null,null,null,0]
[null,null,null,"Opis:",null,null,null,0]
[null,null,null,"Omara  nizka izdelana iz iverala ABS 2mm ",null,null,null,0]
[null,null,null,"Opis",null,null,null,0]
[null,null,null,"Omara je izdelana iz iverala; odmične sponei, ključavnica; premične police na kovinskih nosilcih; 10 cm, regulirne nogice, cokel ALU    ","kom",4,null,0,{"$f":"+G256*MM","v":0},{"$f":"+I256*F256","v":0},{"$f":"+G256-I256","v":0},{"$f":"+K256*F256","v":0}]
[null,null,null,null,null,null,null,0]
["34",null,"OB","OBLOGE NAD OMARICAMI",null,null,null,0]
[null,null,"*","dim 400X125 cm  ","tm",4,null,0,{"$f":"+G259*MM","v":0},{"$f":"+I259*F259","v":0},{"$f":"+G259-I259","v":0},{"$f":"+K259*F259","v":0}]
[null,null,"*","dim450x125 cm","tm",4.5,null,0,{"$f":"+G260*MM","v":0},{"$f":"+I260*F260","v":0},{"$f":"+G260-I260","v":0},{"$f":"+K260*F260","v":0}]
[null,null,"*","dim 290x125 cm","tm",2.9,null,0,{"$f":"+G261*MM","v":0},{"$f":"+I261*F261","v":0},{"$f":"+G261-I261","v":0},{"$f":"+K261*F261","v":0}]
[null,null,null,"*Točne dimenzije se določijo ob izvedbi.",null,null,null,0]
[null,null,null,"Sestav:",null,null,null,0]
[null,null,null,"Opis:",null,null,null,0]
[null,null,null,"Zahtevana požarna odpornost oblog:",null,null,null,0]
[null,null,null,null,null,null,null,0]
["35",null,"MK","MIZA-KATEDER UČITELJA",null,null,null,0]
[null,null,null,"dim 190+190x60x75 cm",null,null,null,0]
[null,null,null,"Opis:",null,null,null,0]
[null,null,null,"Kovinska ovalna cev prašno barvana  z ustreznimi drsniki",null,null,null,0]
[null,null,null,"mizna plošča Iveral beš 24 mm obrobljena masivnm bukvim nalimkom","kom",1,null,0,{"$f":"+G271*MM","v":0},{"$f":"+I271*F271","v":0},{"$f":"+G271-I271","v":0},{"$f":"+K271*F271","v":0}]
[null,null,null,null,null,null,null,0]
["36",null,"M1","MIZA ZA UČENCA",null,null,null,0]
[null,null,null,"Mize za učence - ENOJNA klasična",null,null,null,0]
[null,null,null,"dim 65x50X75 ",null,null,null,0]
[null,null,null,"Kovinska ovalna cev prašno barvana  z ustreznimi drsniki",null,null,null,0]
[null,null,null,"mizna plošča Iveral beš 24 mm obrobljena masivnm bukvim nalimkom ( kljukica za obešanje torbice )","kom",12,null,0,{"$f":"+G277*MM","v":0},{"$f":"+I277*F277","v":0},{"$f":"+G277-I277","v":0},{"$f":"+K277*F277","v":0}]
[null,null,null,null,null,null,null,0]
["37",null,"M2","MIZA ZA UČENCA",null,null,null,0]
[null,null,null,"Mize za učence - DVOJNA klasična",null,null,null,0]
[null,null,null,"dim 130x50X75",null,null,null,0]
[null,null,null,"Kovinska ovalna cev prašno barvana  z ustreznimi drsniki",null,null,null,0]
[null,null,null,"mizna plošča Iveral beš 24 mm obrobljena masivnm bukvim nalimkom ( kljukica za obešanje torbice )","kom",8,null,0,{"$f":"+G283*MM","v":0},{"$f":"+I283*F283","v":0},{"$f":"+G283-I283","v":0},{"$f":"+K283*F283","v":0}]
[null,null,null,null,null,null,null,0]
["38",null,"SU","STOL ZA UČITELJA",null,null,null,0]
[null,null,null,"v. 45 cm",null,null,null,0]
[null,null,null,"Opis",null,null,null,{"$f":"G287*F287","v":0}]
[null,null,null,"Stol za učitelja  kovinska ovalan cev prašno barana z ustrezni drsniki sedež in naslon oblazinjen ","kom",1,null,0,{"$f":"+G288*MM","v":0},{"$f":"+I288*F288","v":0},{"$f":"+G288-I288","v":0},{"$f":"+K288*F288","v":0}]
[null,null,null,null,null,null,null,0]
["39",null,"S1","STOL ZA UČENCA",null,null,null,0]
[null,null,null,"v.45 cm",null,null,null,0]
[null,null,null,"Opis",null,null,null,0]
[null,null,null,"Kovinska ovalna cev prašno barvana, z ustreznimi drsniki sedež in naslon bukova vezana plošča","kom",28,null,0,{"$f":"+G293*MM","v":0},{"$f":"+I293*F293","v":0},{"$f":"+G293-I293","v":0},{"$f":"+K293*F293","v":0}]
[null,null,null,null,null,null,null,0]
["40",null,"PM","POLKROŽNA MIZA fi 130",null,null,null,0]
[null,null,null,"višina 75 cm",null,null,null,0]
[null,null,null,"Opis:",null,null,null,0]
[null,null,null,"Kovinska ovalna cev prašno barvana  z ustreznimi drsniki",null,null,null,0]
[null,null,null,"mizna plošča Iveral beš 24 mm obrobljena masivnm bukvim nalimkom ","kom",2,null,0,{"$f":"+G299*MM","v":0},{"$f":"+I299*F299","v":0},{"$f":"+G299-I299","v":0},{"$f":"+K299*F299","v":0}]
[null,null,null,null,null,null,null,0]
[null,null,null,"UČILNICA TUJI JEZIK"]
[null,null,null,null,null,null,null,0]
["41",null,"OMVS","OMARA  STEKLENA VISOKA ","kom",2,null,0,{"$f":"+G303*MM","v":0},{"$f":"+I303*F303","v":0},{"$f":"+G303-I303","v":0},{"$f":"+K303*F303","v":0}]
[null,null,null,"dim  90x55x200 cm",null,null,null,0]
[null,null,null,"Sestav:",null,null,null,0]
[null,null,null,"Omara  dvodelan izdelana iz iverala ABS 2mm, zgoraj steklena  vrata v lesenem okvirju, spodaj polna vrata",null,null,null,0]
[null,null,null,"Opis",null,null,null,0]
[null,null,null,"Omara je izdelana iz iverala; odmične sponei, ključavnica; premične police na kovinskih nosilcih; 10 cm, regulirne nogice, cokel ALU    ",null,null,null,0]
[null,null,null,null,null,null,null,0]
["42",null,"OMV","OMARA   VISOKA ","kom",4,null,0,{"$f":"+G310*MM","v":0},{"$f":"+I310*F310","v":0},{"$f":"+G310-I310","v":0},{"$f":"+K310*F310","v":0}]
[null,null,null,"dim  90x55x200 cm",null,null,null,0]
[null,null,null,"Sestav:",null,null,null,0]
[null,null,null,"Omara  dvodelan deljena vrata izdelana iz iverala ABS 2mm ",null,null,null,0]
[null,null,null,"Opis",null,null,null,0]
[null,null,null,"Omara je izdelana iz iverala; odmične sponei, ključavnica; premične police na kovinskih nosilcih; 10 cm, regulirne nogice, cokel ALU    ",null,null,null,0]
[null,null,null,null,null,null,null,0]
["43",null,"OMN","OMARA NIZKA",null,null,null,0]
[null,null,null,"dim 90X55X76 cm",null,null,null,0]
[null,null,null,"Sestav:",null,null,null,0]
[null,null,null,"Omara nizka polna vrata",null,null,null,0]
[null,null,null,"Opis:",null,null,null,0]
[null,null,null,"Omara  nizka izdelana iz iverala ABS 2mm ",null,null,null,0]
[null,null,null,"Opis",null,null,null,0]
[null,null,null,"Omara je izdelana iz iverala; odmične sponei, ključavnica; premične police na kovinskih nosilcih; 10 cm, regulirne nogice, cokel ALU    ","kom",4,null,0,{"$f":"+G324*MM","v":0},{"$f":"+I324*F324","v":0},{"$f":"+G324-I324","v":0},{"$f":"+K324*F324","v":0}]
[null,null,null,null,null,null,null,0]
["44",null,"OB","OBLOGE NAD OMARICAMI",null,null,null,0]
[null,null,"*","dim 400X125 cm  ","tm",4,null,0,{"$f":"+G327*MM","v":0},{"$f":"+I327*F327","v":0},{"$f":"+G327-I327","v":0},{"$f":"+K327*F327","v":0}]
[null,null,"*","dim450x125 cm","tm",4.5,null,0,{"$f":"+G328*MM","v":0},{"$f":"+I328*F328","v":0},{"$f":"+G328-I328","v":0},{"$f":"+K328*F328","v":0}]
[null,null,"*","dim 290x125 cm","tm",2.9,null,0,{"$f":"+G329*MM","v":0},{"$f":"+I329*F329","v":0},{"$f":"+G329-I329","v":0},{"$f":"+K329*F329","v":0}]
[null,null,null,"*Točne dimenzije se določijo ob izvedbi.",null,null,null,0]
[null,null,null,"Sestav:",null,null,null,0]
[null,null,null,"Opis:",null,null,null,0]
[null,null,null,"Zahtevana požarna odpornost oblog:",null,null,null,0]
[null,null,null,null,null,null,null,0]
["45",null,"MK","MIZA-KATEDER UČITELJA",null,null,null,0]
[null,null,null,"dim 190+190x60x75 cm",null,null,null,0]
[null,null,null,"Opis:",null,null,null,0]
[null,null,null,"Kovinska ovalna cev prašno barvana  z ustreznimi drsniki",null,null,null,0]
[null,null,null,"mizna plošča Iveral beš 24 mm obrobljena masivnm bukvim nalimkom","kom",1,null,0,{"$f":"+G339*MM","v":0},{"$f":"+I339*F339","v":0},{"$f":"+G339-I339","v":0},{"$f":"+K339*F339","v":0}]
[null,null,null,null,null,null,null,0]
["46",null,"M1","MIZA ZA UČENCA",null,null,null,0]
[null,null,null,"Mize za učence - ENOJNA klasična",null,null,null,0]
[null,null,null,"dim 65x50X75 ",null,null,null,0]
[null,null,null,"Kovinska ovalna cev prašno barvana  z ustreznimi drsniki",null,null,null,0]
[null,null,null,"mizna plošča Iveral beš 24 mm obrobljena masivnm bukvim nalimkom ( kljukica za obešanje torbice )","kom",12,null,0,{"$f":"+G345*MM","v":0},{"$f":"+I345*F345","v":0},{"$f":"+G345-I345","v":0},{"$f":"+K345*F345","v":0}]
[null,null,null,null,null,null,null,0]
["47",null,"M2","MIZA ZA UČENCA",null,null,null,0]
[null,null,null,"Mize za učence - DVOJNA klasična",null,null,null,0]
[null,null,null,"dim 130x50X75",null,null,null,0]
[null,null,null,"Kovinska ovalna cev prašno barvana  z ustreznimi drsniki",null,null,null,0]
[null,null,null,"mizna plošča Iveral beš 24 mm obrobljena masivnm bukvim nalimkom ( kljukica za obešanje torbice )","kom",8,null,{"$f":"G351*F351","v":0},{"$f":"+G351*MM","v":0},{"$f":"+I351*F351","v":0},{"$f":"+G351-I351","v":0},{"$f":"+K351*F351","v":0}]
[null,null,null,null,null,null,null,0]
["48",null,"SU","STOL ZA UČITELJA",null,null,null,0]
[null,null,null,"v. 45 cm",null,null,null,0]
[null,null,null,"Opis",null,null,null,0]
[null,null,null,"Stol za učitelja  kovinska ovalan cev prašno barana z ustrezni drsniki sedež in naslon oblazinjen ","kom",1,null,0,{"$f":"+G356*MM","v":0},{"$f":"+I356*F356","v":0},{"$f":"+G356-I356","v":0},{"$f":"+K356*F356","v":0}]
[null,null,null,null,null,null,null,0]
["49",null,"S1","STOL ZA UČENCA",null,null,null,0]
[null,null,null,"v.45 cm",null,null,null,0]
[null,null,null,"Opis",null,null,null,0]
[null,null,null,"Kovinska ovalna cev prašno barvana, z ustreznimi drsniki sedež in naslon bukova vezana plošča","kom",28,null,0,{"$f":"+G361*MM","v":0},{"$f":"+I361*F361","v":0},{"$f":"+G361-I361","v":0},{"$f":"+K361*F361","v":0}]
[null,null,null,null,null,null,null,0]
["50",null,"PM","POLKROŽNA MIZA fi 130",null,null,null,0]
[null,null,null,"višina 75 cm",null,null,null,0]
[null,null,null,"Opis:",null,null,null,0]
[null,null,null,"Kovinska ovalna cev prašno barvana  z ustreznimi drsniki",null,null,null,0]
[null,null,null,"mizna plošča Iveral beš 24 mm obrobljena masivnm bukvim nalimkom ","kom",2,null,0,{"$f":"+G367*MM","v":0},{"$f":"+I367*F367","v":0},{"$f":"+G367-I367","v":0},{"$f":"+K367*F367","v":0}]
[null,null,null,null,null,null,null,0]
[null,null,null,"SKLADIŠČE ČISTILA"]
[null,null,null,null,null,null,null,0]
["51",null,"OČ","VISOKE OMARE",null,null,null,0]
[null,null,null,"dim 90x50x200 cm",null,null,null,0]
[null,null,null,"Sestav:",null,null,null,0]
[null,null,null,"Omara  dvodelan  vrata izdelana iz iverala ABS 2mm ",null,null,null,0]
[null,null,null,"Opis",null,null,null,0]
[null,null,null,"Omara je izdelana iz iverala; odmične sponei,  premične police na kovinskih nosilcih; 10 cm, regulirne nogice, cokel ALU    ","kom",5,null,0,{"$f":"+G376*MM","v":0},{"$f":"+I376*F376","v":0},{"$f":"+G376-I376","v":0},{"$f":"+K376*F376","v":0}]
["51A",null,"PM","PISALNA MIZA ",null,null,null,0]
[null,null,null,"dim 160x80x75 cm","kom",1,null,0,{"$f":"+G378*MM","v":0},{"$f":"+I378*F378","v":0},{"$f":"+G378-I378","v":0},{"$f":"+K378*F378","v":0}]
[null,null,null,"Opis",null,null,null,0]
[null,null,null,"Kovino podnožje mizna plošč aIveral + ABS",null,null,null,0]
[null,null,"PRED","Mobilni predalnik - ključ","kom",1,null,0,{"$f":"+G381*MM","v":0},{"$f":"+I381*F381","v":0},{"$f":"+G381-I381","v":0},{"$f":"+K381*F381","v":0}]
[null,null,null,"dim 45x60x60 cm","kom",1,null,0,{"$f":"+G382*MM","v":0},{"$f":"+I382*F382","v":0},{"$f":"+G382-I382","v":0},{"$f":"+K382*F382","v":0}]
[null,null,"DS","Stol  vrtljiv Ergomatic tapeciran  umetno usnje","kom",1,null,0,{"$f":"+G383*MM","v":0},{"$f":"+I383*F383","v":0},{"$f":"+G383-I383","v":0},{"$f":"+K383*F383","v":0}]
[null,null,null,null,null,null,null,0]
["52",null,null,"GARDEROBE V  AVLI"]
[null,null,null,null,null,null,null,0]
[null,null,"GO","dim 90x50x200 cm",null,null,null,0]
[null,null,null,"Opis:",null,null,null,0]
[null,null,null,"Omara iz ognjevarnega panela ali brezove plošča ; vrata oplemenitena s CPL obojestransko (vzorec po izboru naročnika, potrdi arhitekt). okovje v dogovor z arhitektom; 110 stopinjsko odpiranje, ključavnica na številke in sistemski ključ (kot npr.Metalobox, RJ Code ali enakovredno); tip ključavnice potrdi naročnik in arhitekt; številčna oznaka omarice v dogovoru z naročnikom, potrdi arhitekt; perforacija vrat po načrtu;  na stiku s tlemi kompakt;",null,null,null,0]
[null,null,null,"Stropna plošča ognjevarni panel ali vezana plošča - breza z ognjevarnim premazom, ",null,null,null,0]
[null,null,null,"Dodatek 1:  PVC stranske kljikice po izboru naročnika. PVC pladenj","kom",94,null,0,{"$f":"+G391*MM","v":0},{"$f":"+I391*F391","v":0},{"$f":"+G391-I391","v":0},{"$f":"+K391*F391","v":0}]
[null,null,null,null,null,null,null,0]
["53",null,null,"KOTIČEK ZA OTROKE"]
[null,null,null,null,null,null,null,0]
[null,null,null,"Miza:\nkot VS (glej sliko)","kom",4,null,0,{"$f":"+G395*MM","v":0},{"$f":"+I395*F395","v":0},{"$f":"+G395-I395","v":0},{"$f":"+K395*F395","v":0}]
[null,null,null,null,null,null,null,0]
[null,null,null,null,null,null,null,0]
[null,null,null,"Stol:\nkot VS hokki ","kom",16,null,0,{"$f":"+G398*MM","v":0},{"$f":"+I398*F398","v":0},{"$f":"+G398-I398","v":0},{"$f":"+K398*F398","v":0}]
[null,null,null,null,null,null,null,0]
[null,null,null,"Sestavljivi penasti elemeti kot VS ","kom",3,null,0,{"$f":"+G400*MM","v":0},{"$f":"+I400*F400","v":0},{"$f":"+G400-I400","v":0},{"$f":"+K400*F400","v":0}]
[null,null,null,null,null,null,null,0]
["54",null,null,"TEHNIČNA UČILNICA IN KABINET"]
[null,null,null,null,null,null,null,0]
[null,null,"MP","Zamenjava miznih plošč ",null,null,null,0]
[null,null,null,"dim 150x75x4 cm",null,null,null,0]
[null,null,null,"Opis:",null,null,null,0]
[null,null,null,"Lakirana vezana plošča ","kom",12,null,0,{"$f":"+G407*MM","v":0},{"$f":"+I407*F407","v":0},{"$f":"+G407-I407","v":0},{"$f":"+K407*F407","v":0}]
[null,null,null,null,null,null,null,0]
["55",null,"OR","Sistem odsesevanja",null,null,null,0]
[null,null,null,"ODSESEVALNI  SET",null,null,null,0]
[null,null,null,"stenski z zapornimi šobami fi 2x60, 1x80, 2x100 in 140 mm odprtino za priklop na sesalec. Dolžina seta 3m.",null,null,null,0]
[null,null,null,"CEV fi 60 mm",null,null,null,0]
[null,null,null,"CEV fi 100 mm",null,null,null,0]
[null,null,null,"CEV fi 140 mm",null,null,null,0]
[null,null,null,"MON REDUCIRKE sesalnega seta",null,null,null,{"$f":"G415*F415","v":0}]
[null,null,null,"SESALEC VELIKE MOČI PS 1500, podtlak 2200 Pa, prostornina vreče; 250 l, moč 1100 W, 3 fazni motor, pretok zraka; 1500m3/h, teža; 55 kg","kpl",1,null,0,{"$f":"+G416*MM","v":0},{"$f":"+I416*F416","v":0},{"$f":"+G416-I416","v":0},{"$f":"+K416*F416","v":0}]
[null,null,null,null,null,null,null,0]
["56",null,"S3","DELAVNIŠKI STOL",null,null,null,0]
[null,null,null,"Opis",null,null,null,0]
[null,null,null,"Kovinsko podnoje prašno barvano dvižno  sedež okrogla vezana plošča - lakirana brez koles in naslona","kom",24,null,0,{"$f":"+G420*MM","v":0},{"$f":"+I420*F420","v":0},{"$f":"+G420-I420","v":0},{"$f":"+K420*F420","v":0}]
[null,null,null,null,null,null,null,0]
["57",null,"ORE","ODPRTI REGALI",null,null,null,0]
[null,null,null,"Opis",null,null,null,0]
[null,null,null,"Kovinski odprti regal ",null,null,null,0]
[null,null,null,"dim 80x40x200 cm z policami iz vezane plošče","kom",5,null,0,{"$f":"+G425*MM","v":0},{"$f":"+I425*F425","v":0},{"$f":"+G425-I425","v":0},{"$f":"+K425*F425","v":0}]
[null,null,null,null,null,null,null,0]
[null,null,null,"LIKOVNA UČINICA"]
[null,null,null,null,null,null,null,0]
["58",null,"DVM","Miza  enojna dim ",null,null,null,0]
[null,null,null,"dim 65x50x75 cm ( OBSTOJEČE )",null,null,null,0]
[null,null,"STO","Stol nakladalni lesen - okroglo sedalo ","kom",28,null,0,{"$f":"+G431*MM","v":0},{"$f":"+I431*F431","v":0},{"$f":"+G431-I431","v":0},{"$f":"+K431*F431","v":0}]
[null,null,null,null,null,null,null,0]
["59",null,"KAT","Delovna miza za učitelja",null,null,null,0]
[null,null,null,"dim 240x80x85 cm",null,null,null,0]
[null,null,null,"Opis:",null,null,null,0]
[null,null,null,"Pod mizno je omarica z predali ",null,null,null,0]
[null,null,null,"dim 80x80x80 cm",null,null,null,0]
[null,null,null,"Miza za računalnik",null,null,null,0]
[null,null,null,"dim 100x80x80 cm",null,null,null,0]
[null,null,null,"pod mizo  zaprta omarica",null,null,null,0]
[null,null,null,"dim 60x80x80 cm","kpl",1,null,0,{"$f":"+G441*MM","v":0},{"$f":"+I441*F441","v":0},{"$f":"+G441-I441","v":0},{"$f":"+K441*F441","v":0}]
[null,null,null,null,null,null,null,0]
["60",null,"OMA","OMARE DELNO ODPRTE DELNO ZAPRTE",null,null,null,0]
[null,null,null,"Opis ",null,null,null,0]
[null,null,null,"Omare izdelane iz Iverala barva po izboru",null,null,null,0]
[null,null,null,"Nizka omara z prekati in zabojčki ",null,null,null,0]
[null,null,null,"dim  90x60x76 cm","kom",2,null,0,{"$f":"+G447*MM","v":0},{"$f":"+I447*F447","v":0},{"$f":"+G447-I447","v":0},{"$f":"+K447*F447","v":0}]
[null,null,"*","viseče omarice odptre ",null,null,null,0]
[null,null,null,"dim 90x60x124 cm","kom",2,null,0,{"$f":"+G449*MM","v":0},{"$f":"+I449*F449","v":0},{"$f":"+G449-I449","v":0},{"$f":"+K449*F449","v":0}]
[null,null,"*","visoka omara zaprta",null,null,null,0]
[null,null,null,"dim 90x60x200 cm","kom",2,null,0,{"$f":"+G451*MM","v":0},{"$f":"+I451*F451","v":0},{"$f":"+G451-I451","v":0},{"$f":"+K451*F451","v":0}]
[null,null,"*","omarica z vgrajenim dvodelnim poglobljenim RF koritom",null,null,null,0]
[null,null,null,"dim 90x60x76 cm","kom",2,null,0,{"$f":"+G453*MM","v":0},{"$f":"+I453*F453","v":0},{"$f":"+G453-I453","v":0},{"$f":"+K453*F453","v":0}]
[null,null,"*","viseče omarice   steklena vrata",null,null,null,0]
[null,null,null,"dim 90x40x60 cm","kom",2,null,0,{"$f":"+G455*MM","v":0},{"$f":"+I455*F455","v":0},{"$f":"+G455-I455","v":0},{"$f":"+K455*F455","v":0}]
[null,null,"*","odprte omare ojačane police  ",null,null,null,0]
[null,null,null,"dim 90x40x200 cm","kom",2,null,0,{"$f":"+G457*MM","v":0},{"$f":"+I457*F457","v":0},{"$f":"+G457-I457","v":0},{"$f":"+K457*F457","v":0}]
[null,null,"*","zaprta omara ",null,null,null,0]
[null,null,null,"dim 90x40x200 cm","kom",2,null,0,{"$f":"+G459*MM","v":0},{"$f":"+I459*F459","v":0},{"$f":"+G459-I459","v":0},{"$f":"+K459*F459","v":0}]
[null,null,"KAB","KABINET",null,null,null,0]
[null,null,null,"odprte omare ojačane police   dim  90x40x200 cm","kom",4,null,0,{"$f":"+G461*MM","v":0},{"$f":"+I461*F461","v":0},{"$f":"+G461-I461","v":0},{"$f":"+K461*F461","v":0}]
[null,null,null,null,null,null,null,0]
[null,null,null,"ČISTILKE"]
[null,null,null,null,null,null,null,0]
["61",null,"OČ","VISOKE OMARE",null,null,null,0]
[null,null,null,"dim 90x50x200 cm",null,null,null,0]
[null,null,null,"Sestav:",null,null,null,0]
[null,null,null,"Omara  dvodelan  vrata izdelana iz iverala ABS 2mm ",null,null,null,0]
[null,null,null,"Opis",null,null,null,0]
[null,null,null,"Omara je izdelana iz iverala; odmične sponei,  premične police na kovinskih nosilcih; 10 cm, regulirne nogice, cokel ALU    ","kom",2,null,0,{"$f":"+G470*MM","v":0},{"$f":"+I470*F470","v":0},{"$f":"+G470-I470","v":0},{"$f":"+K470*F470","v":0}]
[null,null,null,null,null,null,null,0]
["62",null,"GOČ","GARDEROBNA OMARA ČISTILKA",null,null,null,0]
[null,null,null,"dim 90x50x200 cm","kom",2,null,0,{"$f":"+G473*MM","v":0},{"$f":"+I473*F473","v":0},{"$f":"+G473-I473","v":0},{"$f":"+K473*F473","v":0}]
[null,null,null,null,null,null,null,0]
[null,null,null,"  KNJIŽNICA"]
[null,null,null,null,null,null,null,0]
["63",null,"KPR","knjižni regali izvedba ",null,null,null,0]
[null,null,null,"Police in stranice  Iveral 2 cm na kovinskih regulirnih nogicah barva po izboru projektanta",null,null,null,0]
[null,null,null,"Opis dim",null,null,null,{"$f":"G479*F479","v":0}]
["64",null,"UDK1","Knjižne police  po popisu",null,null,null,0]
[null,null,null,"dim 80x30x200 cm","kom",6,null,0,{"$f":"+G481*MM","v":0},{"$f":"+I481*F481","v":0},{"$f":"+G481-I481","v":0},{"$f":"+K481*F481","v":0}]
["65",null,"UDK2","Knjižne police  po popisu",null,null,null,0]
[null,null,null,"dim 80x30x200 cm","kom",2,null,0,{"$f":"+G483*MM","v":0},{"$f":"+I483*F483","v":0},{"$f":"+G483-I483","v":0},{"$f":"+K483*F483","v":0}]
["66",null,"UDK3","Knjižne police  po popisu",null,null,null,0]
[null,null,null,"dim 80x30x200 cm","kom",4,null,0,{"$f":"+G485*MM","v":0},{"$f":"+I485*F485","v":0},{"$f":"+G485-I485","v":0},{"$f":"+K485*F485","v":0}]
["67",null,"C1","Knjižne police  po popisu",null,null,null,0]
[null,null,null,"dim 80x30x136 cm","kom",5,null,0,{"$f":"+G487*MM","v":0},{"$f":"+I487*F487","v":0},{"$f":"+G487-I487","v":0},{"$f":"+K487*F487","v":0}]
["68",null,"C2","Knjižne police  po popisu",null,null,null,0]
[null,null,null,"dim 80x30x136 cm","kom",5,null,0,{"$f":"+G489*MM","v":0},{"$f":"+I489*F489","v":0},{"$f":"+G489-I489","v":0},{"$f":"+K489*F489","v":0}]
["69",null,"82-1","Knjižne police  po popisu",null,null,null,0]
[null,null,null,"dim 80x30x182 cm","kom",5,null,0,{"$f":"+G491*MM","v":0},{"$f":"+I491*F491","v":0},{"$f":"+G491-I491","v":0},{"$f":"+K491*F491","v":0}]
["70",null,"P1","Knjižne police  po popisu",null,null,null,0]
[null,null,null,"dim 80x30x182 cm","kom",5,null,0,{"$f":"+G493*MM","v":0},{"$f":"+I493*F493","v":0},{"$f":"+G493-I493","v":0},{"$f":"+K493*F493","v":0}]
["71",null,"P2","Knjižne police  po popisu",null,null,null,0]
[null,null,null,"dim 80x30x182 cm","kom",5,null,0,{"$f":"+G495*MM","v":0},{"$f":"+I495*F495","v":0},{"$f":"+G495-I495","v":0},{"$f":"+K495*F495","v":0}]
["72",null,"M1","Knjižne police  po popisu",null,null,null,0]
[null,null,null,"dim 80x30x182 cm","kom",5,null,0,{"$f":"+G497*MM","v":0},{"$f":"+I497*F497","v":0},{"$f":"+G497-I497","v":0},{"$f":"+K497*F497","v":0}]
["73",null,"M2","Knjižne police  po popisu",null,null,null,0]
[null,null,null,"dim 80x30x182 cm","kom",5,null,0,{"$f":"+G499*MM","v":0},{"$f":"+I499*F499","v":0},{"$f":"+G499-I499","v":0},{"$f":"+K499*F499","v":0}]
["74",null,"M3","Knjižne police  po popisu",null,null,null,0]
[null,null,null,"dim 80x30x182 cm","kom",5,null,0,{"$f":"+G501*MM","v":0},{"$f":"+I501*F501","v":0},{"$f":"+G501-I501","v":0},{"$f":"+K501*F501","v":0}]
["75",null,"OD P","Odlagalne police ",null,null,null,0]
[null,null,null,"dim 80x30x114 cm","kom",7,null,0,{"$f":"+G503*MM","v":0},{"$f":"+I503*F503","v":0},{"$f":"+G503-I503","v":0},{"$f":"+K503*F503","v":0}]
[null,null,null,null,null,null,null,0]
["76",null,"PULT","PULT ZA IZPOSOJO ",null,null,null,0]
[null,null,null,"Opis ",null,null,null,0]
[null,null,null,"pult izdeln iz kovino podnožje prašno barvano ",null,null,null,0]
[null,null,null,"delovna plošča ultrapas z masivni nalimkom",null,null,null,0]
[null,null,null,"dim pulta v L izvedbi 300x200x80/115 cm","kpl",1,null,0,{"$f":"+G509*MM","v":0},{"$f":"+I509*F509","v":0},{"$f":"+G509-I509","v":0},{"$f":"+K509*F509","v":0}]
["77",null,"PRED","Mobilni predalnik - ključ",null,null,null,0]
[null,null,null,"dim 45x60x60 cm","kom",1,null,0,{"$f":"+G511*MM","v":0},{"$f":"+I511*F511","v":0},{"$f":"+G511-I511","v":0},{"$f":"+K511*F511","v":0}]
["78",null,"DS","Stol  vrtljiv Ergomatic tapeciran  umetno usnje","kom",1,null,0,{"$f":"+G512*MM","v":0},{"$f":"+I512*F512","v":0},{"$f":"+G512-I512","v":0},{"$f":"+K512*F512","v":0}]
[null,null,null,null,null,null,null,0]
["79",null,"om","Okrogla miza ",null,null,null,0]
[null,null,null,"dim fi 120/75",null,null,null,0]
[null,null,null,"Opis",null,null,null,0]
[null,null,null,"podnožje  prašno barvano",null,null,null,0]
[null,null,null,"mizna plošča ultrapas ABS zaključki","kom",1,null,0,{"$f":"+G518*MM","v":0},{"$f":"+I518*F518","v":0},{"$f":"+G518-I518","v":0},{"$f":"+K518*F518","v":0}]
[null,null,null,null,null,null,null,0]
["80",null,"ČS","ČITALNIŠKI STOL",null,null,null,0]
[null,null,null,"dim v.45 cm",null,null,null,0]
[null,null,null,"Opis ",null,null,null,0]
[null,null,null,"Oblazinjeno sedalo in naslon krom podnožje","kom",11,null,0,{"$f":"+G523*MM","v":0},{"$f":"+I523*F523","v":0},{"$f":"+G523-I523","v":0},{"$f":"+K523*F523","v":0}]
[null,null,null,null,null,null,null,0]
["81",null,"RP","RAČUNALNIŠKI PULT",null,null,null,0]
[null,null,null,"dim 300x70x75 cm",null,null,null,0]
[null,null,null,"Opis",null,null,null,0]
[null,null,null,"Kovinsko podnožje mizna ploša ultrapas ABS zaključek","kom",1,null,0,{"$f":"+G528*MM","v":0},{"$f":"+I528*F528","v":0},{"$f":"+G528-I528","v":0},{"$f":"+K528*F528","v":0}]
[null,null,null,null,null,null,null,0]
[null,null,null,"ČITALNICA"]
[null,null,null,"knjižni regali izvedba ",null,null,null,0]
[null,null,null,"Police in stranice  Iveral 2 cm na kovinskih regulirnih nogicah",null,null,null,0]
["82",null,"S1","UČITELJEVA ZBIRKA",null,null,null,0]
[null,null,null,"Knjižni regal ",null,null,null,0]
[null,null,null,"dim 80x30x290 cm","kom",8,null,0,{"$f":"+G535*MM","v":0},{"$f":"+I535*F535","v":0},{"$f":"+G535-I535","v":0},{"$f":"+K535*F535","v":0}]
["83",null,"S2","UČITELJEVA ZBIRKA",null,null,null,0]
[null,null,null,"Knjižni regal ",null,null,null,0]
[null,null,null,"dim 90x30x290 cm","kom",4,null,0,{"$f":"+G538*MM","v":0},{"$f":"+I538*F538","v":0},{"$f":"+G538-I538","v":0},{"$f":"+K538*F538","v":0}]
["84",null,"S3","UČITELJEVA ZBIRKA",null,null,null,0]
[null,null,null,"Knjižni regal z vmesnim prostorom",null,null,null,0]
[null,null,null,"dim  80x30x290 cm","kom",6,null,0,{"$f":"+G541*MM","v":0},{"$f":"+I541*F541","v":0},{"$f":"+G541-I541","v":0},{"$f":"+K541*F541","v":0}]
["85",null,"KLOP","lesena oblazinjena klop ",null,null,null,0]
[null,null,null,"dim 160x45x85 cm","kom",2,null,{"$f":"G543*F543","v":0},{"$f":"+G543*MM","v":0},{"$f":"+I543*F543","v":0},{"$f":"+G543-I543","v":0},{"$f":"+K543*F543","v":0}]
["86",null,"TAB","Tabure ",null,null,null,0]
[null,null,null,"dim 40x40x42 cm","kom",8,null,0,{"$f":"+G545*MM","v":0},{"$f":"+I545*F545","v":0},{"$f":"+G545-I545","v":0},{"$f":"+K545*F545","v":0}]
[null,null,null,null,null,null,null,0]
["87",null,null,"GARDEROBE ZA UČENCE"]
[null,null,"GU","garderobe za učence ",null,null,null,0]
[null,null,null,null,null,null,null,0]
[null,null,null,null,"kom",67,null,0,{"$f":"+G550*MM","v":0},{"$f":"+I550*F550","v":0},{"$f":"+G550-I550","v":0},{"$f":"+K550*F550","v":0}]
[null,null,null,"MALA TELOVADNICA"]
[null,null,null,null,null,null,null,0]
["88",null,"BD","BALETNI DROG",null,null,null,0]
[null,null,null,"dim 600cm",null,null,null,0]
[null,null,null,"Opis",null,null,null,0]
[null,null,null,"Drog izdelan iz bukovega lesa lakiran pritrjne na kovinkske nosilce",null,null,null,0]
[null,null,null,"varnostno ogledalo ",null,null,null,0]
[null,null,null,"dim 650x200 cm","kpl",1,null,0,{"$f":"+G558*MM","v":0},{"$f":"+I558*F558","v":0},{"$f":"+G558-I558","v":0},{"$f":"+K558*F558","v":0}]
[null,null,null,null,null,null,null,0]
[null,null,null," / ARHIV"]
[null,null,null,null,null,null,null,0]
["89",null,"OMV","OMARA   VISOKA ",null,null,null,0]
[null,null,null,"dim  90x55x200 cm",null,null,null,0]
[null,null,null,"Sestav:",null,null,null,0]
[null,null,null,"Omara  dvodelan deljena vrata izdelana iz iverala ABS 2mm ",null,null,null,0]
[null,null,null,"Opis",null,null,null,0]
[null,null,null,"Omara je izdelana iz iverala; odmične sponei, ključavnica; premične police na kovinskih nosilcih; 10 cm, regulirne nogice, cokel ALU    ","kom",8,null,0,{"$f":"+G567*MM","v":0},{"$f":"+I567*F567","v":0},{"$f":"+G567-I567","v":0},{"$f":"+K567*F567","v":0}]
[null,null,null,null,null,null,null,0]
[null,null,null,"PISARNA / "]
[null,null,null,null,null,null,null,0]
["90",null,"OMV","OMARA   VISOKA ",null,null,null,0]
[null,null,null,"dim  90x55x200 cm",null,null,null,0]
[null,null,null,"Sestav:",null,null,null,0]
[null,null,null,"Omara  dvodelan deljena vrata izdelana iz iverala ABS 2mm ",null,null,null,0]
[null,null,null,"Opis",null,null,null,0]
[null,null,null,"Omara je izdelana iz iverala; odmične sponei, ključavnica; premične police na kovinskih nosilcih; 10 cm, regulirne nogice, cokel ALU    ","kom",3,null,0,{"$f":"+G576*MM","v":0},{"$f":"+I576*F576","v":0},{"$f":"+G576-I576","v":0},{"$f":"+K576*F576","v":0}]
["91",null,"DS","Stol  vrtljiv Ergomatic tapeciran  umetno usnje","kom",1,null,0,{"$f":"+G577*MM","v":0},{"$f":"+I577*F577","v":0},{"$f":"+G577-I577","v":0},{"$f":"+K577*F577","v":0}]
["92",null,"PM","MIZA PISALNA",null,null,null,0]
[null,null,null,"dim 120x75x75 cm",null,null,null,0]
[null,null,null,"Opis",null,null,null,0]
[null,null,null,"Miza kovinsko podnožje mizna plošča Iveral ABS ","kom",1,null,0,{"$f":"+G581*MM","v":0},{"$f":"+I581*F581","v":0},{"$f":"+G581-I581","v":0},{"$f":"+K581*F581","v":0}]
["93",null,"PRED","Mobilni predalnik - ključ",null,null,null,0]
[null,null,null,"dim 45x60x60 cm","kom",1,null,0,{"$f":"+G583*MM","v":0},{"$f":"+I583*F583","v":0},{"$f":"+G583-I583","v":0},{"$f":"+K583*F583","v":0}]
[null,null,null,null,null,null,null,0]
[null,null,null,"VEČNAMENSKI PROSTOR"]
[null,null,"TAB","TABURE različne oblike po načrtu"]
[null,null,null,"Opis:"]
[null,null,null,"lesena podkonstrukcija, vezana plošča deb 35mm; PU trda pena, PU mehka pena; prevleka iz umetnega usnja,  odpornost na obrabo min 50.000; samougasljivost M1; barve različne, kot Koronček (pohištvo KLUN); "]
[null,null,null,"Tabure dim 65X65x40cm","kom",14,null,0,{"$f":"+G589*MM","v":0},{"$f":"+I589*F589","v":0},{"$f":"+G589-I589","v":0},{"$f":"+K589*F589","v":0}]
[null,null,null,null,null,null,null,0]
[null,null,null,"UČILNICA TUJI JEZIK/ANGL"]
[null,null,null,null,null,null,null,0]
["94",null,"OMVS","OMARA  STEKLENA VISOKA ","kom",2,null,0,{"$f":"+G593*MM","v":0},{"$f":"+I593*F593","v":0},{"$f":"+G593-I593","v":0},{"$f":"+K593*F593","v":0}]
[null,null,null,"dim  90x55x200 cm",null,null,null,0]
[null,null,null,"Sestav:",null,null,null,0]
[null,null,null,"Omara  dvodelan izdelana iz iverala ABS 2mm, zgoraj steklena  vrata v lesenem okvirju, spodaj polna vrata",null,null,null,0]
[null,null,null,"Opis",null,null,null,0]
[null,null,null,"Omara je izdelana iz iverala; odmične sponei, ključavnica; premične police na kovinskih nosilcih; 10 cm, regulirne nogice, cokel ALU    ",null,null,null,0]
[null,null,null,null,null,null,null,0]
["95",null,"OMV","OMARA   VISOKA ","kom",4,null,0,{"$f":"+G600*MM","v":0},{"$f":"+I600*F600","v":0},{"$f":"+G600-I600","v":0},{"$f":"+K600*F600","v":0}]
[null,null,null,"dim  90x55x200 cm",null,null,null,0]
[null,null,null,"Sestav:",null,null,null,0]
[null,null,null,"Omara  dvodelan deljena vrata izdelana iz iverala ABS 2mm ",null,null,null,0]
[null,null,null,"Opis",null,null,null,0]
[null,null,null,"Omara je izdelana iz iverala; odmične sponei, ključavnica; premične police na kovinskih nosilcih; 10 cm, regulirne nogice, cokel ALU    ",null,null,null,0]
[null,null,null,null,null,null,null,0]
["96",null,"OMN","OMARA NIZKA",null,null,null,{"$f":"G607*F607","v":0}]
[null,null,null,"dim 90X55X76 cm",null,null,null,0]
[null,null,null,"Sestav:",null,null,null,0]
[null,null,null,"Omara nizka polna vrata",null,null,null,0]
[null,null,null,"Opis:",null,null,null,0]
[null,null,null,"Omara  nizka izdelana iz iverala ABS 2mm ",null,null,null,0]
[null,null,null,"Opis",null,null,null,0]
[null,null,null,"Omara je izdelana iz iverala; odmične sponei, ključavnica; premične police na kovinskih nosilcih; 10 cm, regulirne nogice, cokel ALU    ","kom",4,null,0,{"$f":"+G614*MM","v":0},{"$f":"+I614*F614","v":0},{"$f":"+G614-I614","v":0},{"$f":"+K614*F614","v":0}]
[null,null,null,null,null,null,null,0]
["97",null,"OB","OBLOGE NAD OMARICAMI",null,null,null,0]
[null,null,"*","dim 400X125 cm  ","tm",4,null,0,{"$f":"+G617*MM","v":0},{"$f":"+I617*F617","v":0},{"$f":"+G617-I617","v":0},{"$f":"+K617*F617","v":0}]
[null,null,"*","dim450x125 cm","tm",4.5,null,0,{"$f":"+G618*MM","v":0},{"$f":"+I618*F618","v":0},{"$f":"+G618-I618","v":0},{"$f":"+K618*F618","v":0}]
[null,null,"*","dim 290x125 cm","tm",2.9,null,0,{"$f":"+G619*MM","v":0},{"$f":"+I619*F619","v":0},{"$f":"+G619-I619","v":0},{"$f":"+K619*F619","v":0}]
[null,null,null,"*Točne dimenzije se določijo ob izvedbi.",null,null,null,0]
[null,null,null,"Sestav:",null,null,null,0]
[null,null,null,"Opis:",null,null,null,0]
[null,null,null,"Zahtevana požarna odpornost oblog:",null,null,null,0]
[null,null,null,null,null,null,null,0]
["98",null,"MK","MIZA-KATEDER UČITELJA",null,null,null,0]
[null,null,null,"dim 190+190x60x75 cm",null,null,null,0]
[null,null,null,"Opis:",null,null,null,0]
[null,null,null,"Kovinska ovalna cev prašno barvana  z ustreznimi drsniki",null,null,null,0]
[null,null,null,"mizna plošča Iveral beš 24 mm obrobljena masivnm bukvim nalimkom","kom",1,null,0,{"$f":"+G629*MM","v":0},{"$f":"+I629*F629","v":0},{"$f":"+G629-I629","v":0},{"$f":"+K629*F629","v":0}]
[null,null,null,null,null,null,null,0]
["99",null,"M1","MIZA ZA UČENCA",null,null,null,0]
[null,null,null,"Mize za učence - ENOJNA klasična",null,null,null,0]
[null,null,null,"dim 65x50X75 ",null,null,null,0]
[null,null,null,"Kovinska ovalna cev prašno barvana  z ustreznimi drsniki",null,null,null,0]
[null,null,null,"mizna plošča Iveral beš 24 mm obrobljena masivnm bukvim nalimkom ( kljukica za obešanje torbice )","kom",12,null,0,{"$f":"+G635*MM","v":0},{"$f":"+I635*F635","v":0},{"$f":"+G635-I635","v":0},{"$f":"+K635*F635","v":0}]
[null,null,null,null,null,null,null,0]
["100",null,"M2","MIZA ZA UČENCA",null,null,null,0]
[null,null,null,"Mize za učence - DVOJNA klasična",null,null,null,0]
[null,null,null,"dim 130x50X75",null,null,null,0]
[null,null,null,"Kovinska ovalna cev prašno barvana  z ustreznimi drsniki",null,null,null,0]
[null,null,null,"mizna plošča Iveral beš 24 mm obrobljena masivnm bukvim nalimkom ( kljukica za obešanje torbice )","kom",8,null,0,{"$f":"+G641*MM","v":0},{"$f":"+I641*F641","v":0},{"$f":"+G641-I641","v":0},{"$f":"+K641*F641","v":0}]
[null,null,null,null,null,null,null,0]
["101",null,"SU","STOL ZA UČITELJA",null,null,null,0]
[null,null,null,"v. 45 cm",null,null,null,0]
[null,null,null,"Opis",null,null,null,0]
[null,null,null,"Stol za učitelja  kovinska ovalan cev prašno barana z ustrezni drsniki sedež in naslon oblazinjen ","kom",1,null,0,{"$f":"+G646*MM","v":0},{"$f":"+I646*F646","v":0},{"$f":"+G646-I646","v":0},{"$f":"+K646*F646","v":0}]
[null,null,null,null,null,null,null,0]
["102",null,"S1","STOL ZA UČENCA",null,null,null,0]
[null,null,null,"v.45 cm",null,null,null,0]
[null,null,null,"Opis",null,null,null,0]
[null,null,null,"Kovinska ovalna cev prašno barvana, z ustreznimi drsniki sedež in naslon bukova vezana plošča","kom",28,null,0,{"$f":"+G651*MM","v":0},{"$f":"+I651*F651","v":0},{"$f":"+G651-I651","v":0},{"$f":"+K651*F651","v":0}]
[null,null,null,null,null,null,null,0]
["103",null,"PM","POLKROŽNA MIZA fi 130",null,null,null,0]
[null,null,null,"višina 75 cm",null,null,null,0]
[null,null,null,"Opis:",null,null,null,0]
[null,null,null,"Kovinska ovalna cev prašno barvana  z ustreznimi drsniki",null,null,null,0]
[null,null,null,"mizna plošča Iveral beš 24 mm obrobljena masivnm bukvim nalimkom ","kom",2,null,0,{"$f":"+G657*MM","v":0},{"$f":"+I657*F657","v":0},{"$f":"+G657-I657","v":0},{"$f":"+K657*F657","v":0}]
[]
[null,null,null,"KABINET",null,null,null,0]
["103A",null,"PM","Pisalna miza dim 120x80x75 cm","kom",1,null,0,{"$f":"+G660*MM","v":0},{"$f":"+I660*F660","v":0},{"$f":"+G660-I660","v":0},{"$f":"+K660*F660","v":0}]
[null,null,null,"Mobilni predalnik - ključ","kom",1,null,0,{"$f":"+G661*MM","v":0},{"$f":"+I661*F661","v":0},{"$f":"+G661-I661","v":0},{"$f":"+K661*F661","v":0}]
[null,null,null,"dim 45x60x60 cm",null,null,null,0]
[null,null,"DS","Stol  vrtljiv Ergomatic tapeciran  umetno usnje","kom",1,null,0,{"$f":"+G663*MM","v":0},{"$f":"+I663*F663","v":0},{"$f":"+G663-I663","v":0},{"$f":"+K663*F663","v":0}]
[null,null,"OMVS","OMARA  STEKLENA VRATA VISOKA  ","kom",1,null,0,{"$f":"+G664*MM","v":0},{"$f":"+I664*F664","v":0},{"$f":"+G664-I664","v":0},{"$f":"+K664*F664","v":0}]
[null,null,null,"dim 100x60x200 cm",null,null,null,0]
[null,null,null,"Sestav:",null,null,null,0]
[null,null,null,"Omara  dvodelan izdelana iz iverala ABS 2mm, zgoraj steklena  vrata v lesenem okvirju, spodaj polna vrata",null,null,null,0]
[null,null,null,"Opis",null,null,null,0]
[null,null,null,"Omara je izdelana iz iverala; odmične sponei, ključavnica; premične police na kovinskih nosilcih; 10 cm, regulirne nogice, cokel ALU    ",null,null,null,0]
[null,null,null,"ČISTILA"]
[null,null,"OČ","VISOKE OMARE",null,null,null,0]
[null,null,null,"dim 90x50x200 cm",null,null,null,{"$f":"G672*F672","v":0}]
[null,null,null,"Sestav:",null,null,null,0]
[null,null,null,"Omara  dvodelan  vrata izdelana iz iverala ABS 2mm ","kom",2,null,0,{"$f":"+G674*MM","v":0},{"$f":"+I674*F674","v":0},{"$f":"+G674-I674","v":0},{"$f":"+K674*F674","v":0}]
[null,null,null,"UČILNICA SLO/1"]
[null,null,null,null,null,null,null,0]
["104",null,"OMVS","OMARA  STEKLENA VISOK","kom",2,null,0,{"$f":"+G677*MM","v":0},{"$f":"+I677*F677","v":0},{"$f":"+G677-I677","v":0},{"$f":"+K677*F677","v":0}]
[null,null,null,"dim  90x55x200 cm",null,null,null,0]
[null,null,null,"Sestav:",null,null,null,0]
[null,null,null,"Omara  dvodelan izdelana iz iverala ABS 2mm, zgoraj steklena  vrata v lesenem okvirju, spodaj polna vrata",null,null,null,0]
[null,null,null,"Opis",null,null,null,0]
[null,null,null,"Omara je izdelana iz iverala; odmične sponei, ključavnica; premične police na kovinskih nosilcih; 10 cm, regulirne nogice, cokel ALU    ",null,null,null,0]
[null,null,null,null,null,null,null,0]
["105",null,"OMV","OMARA   VISOKA ","kom",4,null,0,{"$f":"+G684*MM","v":0},{"$f":"+I684*F684","v":0},{"$f":"+G684-I684","v":0},{"$f":"+K684*F684","v":0}]
[null,null,null,"dim  90x55x200 cm",null,null,null,0]
[null,null,null,"Sestav:",null,null,null,0]
[null,null,null,"Omara  dvodelan deljena vrata izdelana iz iverala ABS 2mm ",null,null,null,0]
[null,null,null,"Opis",null,null,null,0]
[null,null,null,"Omara je izdelana iz iverala; odmične sponei, ključavnica; premične police na kovinskih nosilcih; 10 cm, regulirne nogice, cokel ALU    ",null,null,null,0]
[null,null,null,null,null,null,null,0]
["106",null,"OMN","OMARA NIZKA",null,null,null,0]
[null,null,null,"dim 90X55X76 cm",null,null,null,0]
[null,null,null,"Sestav:",null,null,null,0]
[null,null,null,"Omara nizka polna vrata",null,null,null,0]
[null,null,null,"Opis:",null,null,null,0]
[null,null,null,"Omara  nizka izdelana iz iverala ABS 2mm ",null,null,null,0]
[null,null,null,"Opis",null,null,null,0]
[null,null,null,"Omara je izdelana iz iverala; odmične sponei, ključavnica; premične police na kovinskih nosilcih; 10 cm, regulirne nogice, cokel ALU    ","kom",4,null,0,{"$f":"+G698*MM","v":0},{"$f":"+I698*F698","v":0},{"$f":"+G698-I698","v":0},{"$f":"+K698*F698","v":0}]
[null,null,null,null,null,null,null,0]
["107",null,"OB","OBLOGE NAD OMARICAMI",null,null,null,0]
[null,null,"*","dim 400X125 cm  ","tm",4,null,0,{"$f":"+G701*MM","v":0},{"$f":"+I701*F701","v":0},{"$f":"+G701-I701","v":0},{"$f":"+K701*F701","v":0}]
[null,null,"*","dim450x125 cm","tm",4.5,null,0,{"$f":"+G702*MM","v":0},{"$f":"+I702*F702","v":0},{"$f":"+G702-I702","v":0},{"$f":"+K702*F702","v":0}]
[null,null,"*","dim 290x125 cm","tm",2.9,null,0,{"$f":"+G703*MM","v":0},{"$f":"+I703*F703","v":0},{"$f":"+G703-I703","v":0},{"$f":"+K703*F703","v":0}]
[null,null,null,"*Točne dimenzije se določijo ob izvedbi.",null,null,null,0]
[null,null,null,"Sestav:",null,null,null,0]
[null,null,null,"Opis:",null,null,null,0]
[null,null,null,"Zahtevana požarna odpornost oblog:",null,null,null,0]
[null,null,null,null,null,null,null,0]
["108",null,"MK","MIZA-KATEDER UČITELJA",null,null,null,0]
[null,null,null,"dim 190+190x60x75 cm",null,null,null,0]
[null,null,null,"Opis:",null,null,null,0]
[null,null,null,"Kovinska ovalna cev prašno barvana  z ustreznimi drsniki",null,null,null,0]
[null,null,null,"mizna plošča Iveral beš 24 mm obrobljena masivnm bukvim nalimkom","kom",1,null,0,{"$f":"+G713*MM","v":0},{"$f":"+I713*F713","v":0},{"$f":"+G713-I713","v":0},{"$f":"+K713*F713","v":0}]
[null,null,null,null,null,null,null,0]
["109",null,"M1","MIZA ZA UČENCA",null,null,null,0]
[null,null,null,"Mize za učence - ENOJNA klasična",null,null,null,0]
[null,null,null,"dim 65x50X75 ",null,null,null,0]
[null,null,null,"Kovinska ovalna cev prašno barvana  z ustreznimi drsniki",null,null,null,0]
[null,null,null,"mizna plošča Iveral beš 24 mm obrobljena masivnm bukvim nalimkom ( kljukica za obešanje torbice )","kom",12,null,0,{"$f":"+G719*MM","v":0},{"$f":"+I719*F719","v":0},{"$f":"+G719-I719","v":0},{"$f":"+K719*F719","v":0}]
[null,null,null,null,null,null,null,0]
["110",null,"M2","MIZA ZA UČENCA",null,null,null,0]
[null,null,null,"Mize za učence - DVOJNA klasična",null,null,null,0]
[null,null,null,"dim 130x50X75",null,null,null,0]
[null,null,null,"Kovinska ovalna cev prašno barvana  z ustreznimi drsniki",null,null,null,0]
[null,null,null,"mizna plošča Iveral beš 24 mm obrobljena masivnm bukvim nalimkom ( kljukica za obešanje torbice )","kom",8,null,0,{"$f":"+G725*MM","v":0},{"$f":"+I725*F725","v":0},{"$f":"+G725-I725","v":0},{"$f":"+K725*F725","v":0}]
[null,null,null,null,null,null,null,0]
["111",null,"SU","STOL ZA UČITELJA",null,null,null,0]
[null,null,null,"v. 45 cm",null,null,null,0]
[null,null,null,"Opis",null,null,null,0]
[null,null,null,"Stol za učitelja  kovinska ovalan cev prašno barana z ustrezni drsniki sedež in naslon oblazinjen ","kom",1,null,0,{"$f":"+G730*MM","v":0},{"$f":"+I730*F730","v":0},{"$f":"+G730-I730","v":0},{"$f":"+K730*F730","v":0}]
[null,null,null,null,null,null,null,0]
["112",null,"S1","STOL ZA UČENCA",null,null,null,0]
[null,null,null,"v.45 cm",null,null,null,0]
[null,null,null,"Opis",null,null,null,0]
[null,null,null,"Kovinska ovalna cev prašno barvana, z ustreznimi drsniki sedež in naslon bukova vezana plošča","kom",28,null,0,{"$f":"+G735*MM","v":0},{"$f":"+I735*F735","v":0},{"$f":"+G735-I735","v":0},{"$f":"+K735*F735","v":0}]
[null,null,null,null,null,null,null,{"$f":"G736*F736","v":0}]
["113",null,"PM","POLKROŽNA MIZA fi 130",null,null,null,0]
[null,null,null,"višina 75 cm",null,null,null,0]
[null,null,null,"Opis:",null,null,null,0]
[null,null,null,"Kovinska ovalna cev prašno barvana  z ustreznimi drsniki",null,null,null,0]
[null,null,null,"mizna plošča Iveral beš 24 mm obrobljena masivnm bukvim nalimkom ","kom",2,null,0,{"$f":"+G741*MM","v":0},{"$f":"+I741*F741","v":0},{"$f":"+G741-I741","v":0},{"$f":"+K741*F741","v":0}]
[null,null,null,null,null,null,null,0]
[null,null,null,"UČILNICA SLO/2"]
[null,null,null,null,null,null,null,0]
["114",null,"OMVS","OMARA  STEKLENA VISOKA ","kom",2,null,0,{"$f":"+G745*MM","v":0},{"$f":"+I745*F745","v":0},{"$f":"+G745-I745","v":0},{"$f":"+K745*F745","v":0}]
[null,null,null,"dim  90x55x200 cm",null,null,null,0]
[null,null,null,"Sestav:",null,null,null,0]
[null,null,null,"Omara  dvodelan izdelana iz iverala ABS 2mm, zgoraj steklena  vrata v lesenem okvirju, spodaj polna vrata",null,null,null,0]
[null,null,null,"Opis",null,null,null,0]
[null,null,null,"Omara je izdelana iz iverala; odmične sponei, ključavnica; premične police na kovinskih nosilcih; 10 cm, regulirne nogice, cokel ALU    ",null,null,null,0]
[null,null,null,null,null,null,null,0]
["115",null,"OMV","OMARA   VISOKA ","kom",4,null,0,{"$f":"+G752*MM","v":0},{"$f":"+I752*F752","v":0},{"$f":"+G752-I752","v":0},{"$f":"+K752*F752","v":0}]
[null,null,null,"dim  90x55x200 cm",null,null,null,0]
[null,null,null,"Sestav:",null,null,null,0]
[null,null,null,"Omara  dvodelan deljena vrata izdelana iz iverala ABS 2mm ",null,null,null,0]
[null,null,null,"Opis",null,null,null,0]
[null,null,null,"Omara je izdelana iz iverala; odmične sponei, ključavnica; premične police na kovinskih nosilcih; 10 cm, regulirne nogice, cokel ALU    ",null,null,null,0]
[null,null,null,null,null,null,null,0]
["116",null,"OMN","OMARA NIZKA",null,null,null,0]
[null,null,null,"dim 90X55X76 cm",null,null,null,0]
[null,null,null,"Sestav:",null,null,null,0]
[null,null,null,"Omara nizka polna vrata",null,null,null,0]
[null,null,null,"Opis:",null,null,null,0]
[null,null,null,"Omara  nizka izdelana iz iverala ABS 2mm ",null,null,null,0]
[null,null,null,"odmične sponei, ključavnica; premične police na kovinskih nosilcih; 10 cm, regulirne nogice, cokel ALU    ","kom",4,null,0,{"$f":"+G765*MM","v":0},{"$f":"+I765*F765","v":0},{"$f":"+G765-I765","v":0},{"$f":"+K765*F765","v":0}]
[null,null,null,null,null,null,null,0]
["117",null,"OB","OBLOGE NAD OMARICAMI",null,null,null,0]
[null,null,"*","dim 400X125 cm  ","tm",4,null,0,{"$f":"+G768*MM","v":0},{"$f":"+I768*F768","v":0},{"$f":"+G768-I768","v":0},{"$f":"+K768*F768","v":0}]
[null,null,"*","dim450x125 cm","tm",4.5,null,0,{"$f":"+G769*MM","v":0},{"$f":"+I769*F769","v":0},{"$f":"+G769-I769","v":0},{"$f":"+K769*F769","v":0}]
[null,null,"*","dim 290x125 cm","tm",2.9,null,0,{"$f":"+G770*MM","v":0},{"$f":"+I770*F770","v":0},{"$f":"+G770-I770","v":0},{"$f":"+K770*F770","v":0}]
[null,null,null,"*Točne dimenzije se določijo ob izvedbi.",null,null,null,0]
[null,null,null,"Sestav:",null,null,null,0]
[null,null,null,"Opis:",null,null,null,0]
[null,null,null,"Zahtevana požarna odpornost oblog:",null,null,null,0]
[null,null,null,null,null,null,null,0]
["118",null,"MK","MIZA-KATEDER UČITELJA",null,null,null,0]
[null,null,null,"dim 190+190x60x75 cm",null,null,null,0]
[null,null,null,"Opis:",null,null,null,0]
[null,null,null,"Kovinska ovalna cev prašno barvana  z ustreznimi drsniki",null,null,null,0]
[null,null,null,"mizna plošča Iveral beš 24 mm obrobljena masivnm bukvim nalimkom","kom",1,null,0,{"$f":"+G780*MM","v":0},{"$f":"+I780*F780","v":0},{"$f":"+G780-I780","v":0},{"$f":"+K780*F780","v":0}]
[null,null,null,null,null,null,null,0]
["119",null,"M1","MIZA ZA UČENCA",null,null,null,0]
[null,null,null,"Mize za učence - ENOJNA klasična",null,null,null,0]
[null,null,null,"dim 65x50X75 ",null,null,null,0]
[null,null,null,"Kovinska ovalna cev prašno barvana  z ustreznimi drsniki",null,null,null,0]
[null,null,null,"mizna plošča Iveral beš 24 mm obrobljena masivnm bukvim nalimkom ( kljukica za obešanje torbice )","kom",12,null,0,{"$f":"+G786*MM","v":0},{"$f":"+I786*F786","v":0},{"$f":"+G786-I786","v":0},{"$f":"+K786*F786","v":0}]
[null,null,null,null,null,null,null,0]
["120",null,"M2","MIZA ZA UČENCA",null,null,null,0]
[null,null,null,"Mize za učence - DVOJNA klasična",null,null,null,0]
[null,null,null,"dim 130x50X75",null,null,null,0]
[null,null,null,"Kovinska ovalna cev prašno barvana  z ustreznimi drsniki",null,null,null,0]
[null,null,null,"mizna plošča Iveral beš 24 mm obrobljena masivnm bukvim nalimkom ( kljukica za obešanje torbice )","kom",8,null,0,{"$f":"+G792*MM","v":0},{"$f":"+I792*F792","v":0},{"$f":"+G792-I792","v":0},{"$f":"+K792*F792","v":0}]
[null,null,null,null,null,null,null,0]
["121",null,"SU","STOL ZA UČITELJA",null,null,null,0]
[null,null,null,"v. 45 cm",null,null,null,0]
[null,null,null,"Opis",null,null,null,0]
[null,null,null,"Stol za učitelja  kovinska ovalan cev prašno barana z ustrezni drsniki sedež in naslon oblazinjen ","kom",1,null,0,{"$f":"+G797*MM","v":0},{"$f":"+I797*F797","v":0},{"$f":"+G797-I797","v":0},{"$f":"+K797*F797","v":0}]
[null,null,null,null,null,null,null,0]
["122",null,"S1","STOL ZA UČENCA",null,null,null,0]
[null,null,null,"v.45 cm",null,null,null,{"$f":"G800*F800","v":0}]
[null,null,null,"Opis",null,null,null,0]
[null,null,null,"Kovinska ovalna cev prašno barvana, z ustreznimi drsniki sedež in naslon bukova vezana plošča","kom",28,null,0,{"$f":"+G802*MM","v":0},{"$f":"+I802*F802","v":0},{"$f":"+G802-I802","v":0},{"$f":"+K802*F802","v":0}]
[null,null,null,null,null,null,null,0]
["123",null,"PM","POLKROŽNA MIZA fi 130",null,null,null,0]
[null,null,null,"višina 75 cm",null,null,null,0]
[null,null,null,"Opis:",null,null,null,0]
[null,null,null,"Kovinska ovalna cev prašno barvana  z ustreznimi drsniki",null,null,null,0]
[null,null,null,"mizna plošča Iveral beš 24 mm obrobljena masivnm bukvim nalimkom ","kom",2,null,0,{"$f":"+G808*MM","v":0},{"$f":"+I808*F808","v":0},{"$f":"+G808-I808","v":0},{"$f":"+K808*F808","v":0}]
[null,null,null,null,null,null,null,0]
[null,null,null,"RAČUNALNIŠKA UČILNICA"]
[null,null,null,null,null,null,null,0]
[null,null,null,"Po  načrtu",null,null,null,0]
["124",null,null,"Miza računalniška / z nosilcem za računalnik+ parapetni kanal",null,null,null,0]
[null,null,null,"Opis ",null,null,null,0]
[null,null,null,"Kovinsko podnožje mizna plošča Ultrapas ABS",null,null,null,0]
[null,null,null,"dim 160x80 x75 cm","kom",14,null,0,{"$f":"+G816*MM","v":0},{"$f":"+I816*F816","v":0},{"$f":"+G816-I816","v":0},{"$f":"+K816*F816","v":0}]
["125",null,"S1","Stol ",null,null,null,0]
[null,null,null,"Opis ",null,null,null,0]
[null,null,null,"Stol koviskao vrtljivo podnožje na vijak / sedež in naslon vezana plošča","kom",28,null,0,{"$f":"+G819*MM","v":0},{"$f":"+I819*F819","v":0},{"$f":"+G819-I819","v":0},{"$f":"+K819*F819","v":0}]
[null,null,"URM","Učiteljeva miza ( kot računalniška miza )","kom",1,null,0,{"$f":"+G820*MM","v":0},{"$f":"+I820*F820","v":0},{"$f":"+G820-I820","v":0},{"$f":"+K820*F820","v":0}]
[null,null,null,"Stol  vrtljiv Ergomatic tapeciran  umetno usnje","kom",1,null,0,{"$f":"+G821*MM","v":0},{"$f":"+I821*F821","v":0},{"$f":"+G821-I821","v":0},{"$f":"+K821*F821","v":0}]
[null,null,"MR2","Miza računalniška / z nosilcem za računalnik+ parapetni kanal",null,null,null,0]
[null,null,null,"Opis ",null,null,null,0]
[null,null,null,"Kovinsko podnožje mizna plošča Ultrapas ABS",null,null,null,0]
[null,null,null,"dim 80x80 x75 cm","kom",4,null,0,{"$f":"+G825*MM","v":0},{"$f":"+I825*F825","v":0},{"$f":"+G825-I825","v":0},{"$f":"+K825*F825","v":0}]
[null,null,null,null,null,null,null,0]
[null,null,null,"KABINET RAČUNALNICA"]
[null,null,"OMV","OMARA   VISOKA ",null,null,null,0]
[null,null,null,"dim  90x55x200 cm",null,null,null,0]
[null,null,null,"Sestav:",null,null,null,0]
[null,null,null,"Omara  dvodelan deljena vrata izdelana iz iverala ABS 2mm ",null,null,null,0]
[null,null,null,"Opis",null,null,null,0]
[null,null,null,"Omara je izdelana iz iverala; odmične sponei, ključavnica; premične police na kovinskih nosilcih; 10 cm, regulirne nogice, cokel ALU    ","kom",1,null,0,{"$f":"+G833*MM","v":0},{"$f":"+I833*F833","v":0},{"$f":"+G833-I833","v":0},{"$f":"+K833*F833","v":0}]
[null,null,null,null,null,null,null,0]
[null,null,"PM","MIZA PISALNA",null,null,null,0]
[null,null,null,"dim 120x75x75 cm",null,null,null,0]
[null,null,null,"Opis",null,null,null,0]
[null,null,null,"Miza kovinsko podnožje mizna plošča Iveral ABS ","kom",1,null,0,{"$f":"+G838*MM","v":0},{"$f":"+I838*F838","v":0},{"$f":"+G838-I838","v":0},{"$f":"+K838*F838","v":0}]
[null,null,"PRED","Mobilni predalnik - ključ",null,null,null,0]
[null,null,null,"dim 45x60x60 cm","kom",1,null,0,{"$f":"+G840*MM","v":0},{"$f":"+I840*F840","v":0},{"$f":"+G840-I840","v":0},{"$f":"+K840*F840","v":0}]
[null,null,"DS","Stol  vrtljiv Ergomatic tapeciran  umetno usnje","kom",1,null,0,{"$f":"+G841*MM","v":0},{"$f":"+I841*F841","v":0},{"$f":"+G841-I841","v":0},{"$f":"+K841*F841","v":0}]
[null,null,null,null,null,null,null,0]
[null,null,null,"JEZIKOVNI KABINET"]
[null,null,null,null,null,null,null,0]
["126",null,"OMV","OMARA   VISOKA ",null,null,null,0]
[null,null,null,"dim  90x55x200 cm",null,null,null,0]
[null,null,null,"Sestav:",null,null,null,0]
[null,null,null,"Omara  dvodelan deljena vrata izdelana iz iverala ABS 2mm ",null,null,null,0]
[null,null,null,"Opis",null,null,null,0]
[null,null,null,"Omara je izdelana iz iverala; odmične sponei, ključavnica; premične police na kovinskih nosilcih; 10 cm, regulirne nogice, cokel ALU    ","kom",2,null,0,{"$f":"+G850*MM","v":0},{"$f":"+I850*F850","v":0},{"$f":"+G850-I850","v":0},{"$f":"+K850*F850","v":0}]
[null,null,null,null,null,null,null,0]
["127",null,"PM","MIZA PISALNA",null,null,null,0]
[null,null,null,"dim 120x75x75 cm",null,null,null,0]
[null,null,null,"Opis",null,null,null,0]
[null,null,null,"Miza kovinsko podnožje mizna plošča Iveral ABS ","kom",1,null,0,{"$f":"+G855*MM","v":0},{"$f":"+I855*F855","v":0},{"$f":"+G855-I855","v":0},{"$f":"+K855*F855","v":0}]
[null,null,"PRED","Mobilni predalnik - ključ",null,null,null,0]
[null,null,null,"dim 45x60x60 cm","kom",1,null,0,{"$f":"+G857*MM","v":0},{"$f":"+I857*F857","v":0},{"$f":"+G857-I857","v":0},{"$f":"+K857*F857","v":0}]
[null,null,"DS","Stol  vrtljiv Ergomatic tapeciran  umetno usnje","kom",1,null,0,{"$f":"+G858*MM","v":0},{"$f":"+I858*F858","v":0},{"$f":"+G858-I858","v":0},{"$f":"+K858*F858","v":0}]
[null,null,null,null,null,null,null,0]
[null,"PRVO NADSTROPJE"]
[null,null,null,null,null,null,null,0]
[null,null,null,"UČILNICA TUJI JEZIK/ANGL"]
[null,null,null,null,null,null,null,0]
["128",null,"OMVS","OMARA  STEKLENA VISOKA ","kom",2,null,{"$f":"G864*F864","v":0},{"$f":"+G864*MM","v":0},{"$f":"+I864*F864","v":0},{"$f":"+G864-I864","v":0},{"$f":"+K864*F864","v":0}]
[null,null,null,"dim 90x55x200 cm",null,null,null,0]
[null,null,null,"Sestav:",null,null,null,0]
[null,null,null,"Omara  dvodelan izdelana iz iverala ABS 2mm, zgoraj steklena  vrata v lesenem okvirju, spodaj polna vrata",null,null,null,0]
[null,null,null,"Opis",null,null,null,0]
[null,null,null,"Omara je izdelana iz iverala; odmične sponei, ključavnica; premične police na kovinskih nosilcih; 10 cm, regulirne nogice, cokel ALU    ",null,null,null,0]
[null,null,null,null,null,null,null,0]
["129",null,"OMV","OMARA   VISOKA ","kom",4,null,0,{"$f":"+G871*MM","v":0},{"$f":"+I871*F871","v":0},{"$f":"+G871-I871","v":0},{"$f":"+K871*F871","v":0}]
[null,null,null,"dim  90x55x200 cm",null,null,null,0]
[null,null,null,"Sestav:",null,null,null,0]
[null,null,null,"Omara  dvodelan deljena vrata izdelana iz iverala ABS 2mm ",null,null,null,0]
[null,null,null,"Opis",null,null,null,0]
[null,null,null,"Omara je izdelana iz iverala; odmične sponei, ključavnica; premične police na kovinskih nosilcih; 10 cm, regulirne nogice, cokel ALU    ",null,null,null,0]
[null,null,null,null,null,null,null,0]
["130",null,"OMN","OMARA NIZKA",null,null,null,0]
[null,null,null,"dim 90X55X76 cm",null,null,null,0]
[null,null,null,"Sestav:",null,null,null,0]
[null,null,null,"Omara nizka polna vrata",null,null,null,0]
[null,null,null,"Opis:",null,null,null,0]
[null,null,null,"Omara  nizka izdelana iz iverala ABS 2mm ",null,null,null,0]
[null,null,null,"Opis",null,null,null,0]
[null,null,null,"Omara je izdelana iz iverala; odmične sponei, ključavnica; premične police na kovinskih nosilcih; 10 cm, regulirne nogice, cokel ALU    ","kom",4,null,0,{"$f":"+G885*MM","v":0},{"$f":"+I885*F885","v":0},{"$f":"+G885-I885","v":0},{"$f":"+K885*F885","v":0}]
[null,null,null,null,null,null,null,0]
[null,null,null,null,null,null,null,0]
["131",null,"OB","OBLOGE NAD OMARICAMI",null,null,null,0]
[null,null,"*","dim 400X125 cm  ","tm",4,null,0,{"$f":"+G889*MM","v":0},{"$f":"+I889*F889","v":0},{"$f":"+G889-I889","v":0},{"$f":"+K889*F889","v":0}]
[null,null,"*","dim450x125 cm","tm",4.5,null,0,{"$f":"+G890*MM","v":0},{"$f":"+I890*F890","v":0},{"$f":"+G890-I890","v":0},{"$f":"+K890*F890","v":0}]
[null,null,"*","dim 290x125 cm","tm",2.9,null,0,{"$f":"+G891*MM","v":0},{"$f":"+I891*F891","v":0},{"$f":"+G891-I891","v":0},{"$f":"+K891*F891","v":0}]
[null,null,null,"*Točne dimenzije se določijo ob izvedbi.",null,null,null,0]
[null,null,null,"Sestav:",null,null,null,0]
[null,null,null,"Opis:",null,null,null,0]
[null,null,null,"Zahtevana požarna odpornost oblog:",null,null,null,0]
[null,null,null,null,null,null,null,0]
["132",null,"MK","MIZA-KATEDER UČITELJA",null,null,null,0]
[null,null,null,"dim 190+190x60x75 cm",null,null,null,0]
[null,null,null,"Opis:",null,null,null,0]
[null,null,null,"Kovinska ovalna cev prašno barvana  z ustreznimi drsniki",null,null,null,0]
[null,null,null,"mizna plošča Iveral beš 24 mm obrobljena masivnm bukvim nalimkom","kom",1,null,0,{"$f":"+G901*MM","v":0},{"$f":"+I901*F901","v":0},{"$f":"+G901-I901","v":0},{"$f":"+K901*F901","v":0}]
[null,null,null,null,null,null,null,0]
["133",null,"M1","MIZA ZA UČENCA",null,null,null,0]
[null,null,null,"Mize za učence - ENOJNA klasična",null,null,null,0]
[null,null,null,"dim 65x50X75 ",null,null,null,0]
[null,null,null,"Kovinska ovalna cev prašno barvana  z ustreznimi drsniki",null,null,null,0]
[null,null,null,"mizna plošča Iveral beš 24 mm obrobljena masivnm bukvim nalimkom ( kljukica za obešanje torbice )","kom",12,null,0,{"$f":"+G907*MM","v":0},{"$f":"+I907*F907","v":0},{"$f":"+G907-I907","v":0},{"$f":"+K907*F907","v":0}]
[null,null,null,null,null,null,null,0]
["134",null,"M2","MIZA ZA UČENCA",null,null,null,0]
[null,null,null,"Mize za učence - DVOJNA klasična",null,null,null,0]
[null,null,null,"dim 130x50X75",null,null,null,0]
[null,null,null,"Kovinska ovalna cev prašno barvana  z ustreznimi drsniki",null,null,null,0]
[null,null,null,"mizna plošča Iveral beš 24 mm obrobljena masivnm bukvim nalimkom ( kljukica za obešanje torbice )","kom",8,null,0,{"$f":"+G913*MM","v":0},{"$f":"+I913*F913","v":0},{"$f":"+G913-I913","v":0},{"$f":"+K913*F913","v":0}]
[null,null,null,null,null,null,null,0]
["135",null,"SU","STOL ZA UČITELJA",null,null,null,0]
[null,null,null,"v. 45 cm",null,null,null,0]
[null,null,null,"Opis",null,null,null,0]
[null,null,null,"Stol za učitelja  kovinska ovalan cev prašno barana z ustrezni drsniki sedež in naslon oblazinjen ","kom",1,null,0,{"$f":"+G918*MM","v":0},{"$f":"+I918*F918","v":0},{"$f":"+G918-I918","v":0},{"$f":"+K918*F918","v":0}]
[null,null,null,null,null,null,null,0]
["136",null,"S1","STOL ZA UČENCA",null,null,null,0]
[null,null,null,"v.45 cm",null,null,null,0]
[null,null,null,"Opis",null,null,null,0]
[null,null,null,"Kovinska ovalna cev prašno barvana, z ustreznimi drsniki sedež in naslon bukova vezana plošča","kom",28,null,0,{"$f":"+G923*MM","v":0},{"$f":"+I923*F923","v":0},{"$f":"+G923-I923","v":0},{"$f":"+K923*F923","v":0}]
[null,null,null,null,null,null,null,0]
["137",null,"PM","POLKROŽNA MIZA fi 130",null,null,null,0]
[null,null,null,"višina 75 cm",null,null,null,0]
[null,null,null,"Opis:",null,null,null,0]
[null,null,null,"Kovinska ovalna cev prašno barvana  z ustreznimi drsniki",null,null,null,{"$f":"G928*F928","v":0}]
[null,null,null,"mizna plošča Iveral beš 24 mm obrobljena masivnm bukvim nalimkom ","kom",2,null,0,{"$f":"+G929*MM","v":0},{"$f":"+I929*F929","v":0},{"$f":"+G929-I929","v":0},{"$f":"+K929*F929","v":0}]
[null,null,null,null,null,null,null,0]
[null,null,null,"JEZIKOVNI KABINET"]
[null,null,null,null,null,null,null,0]
["138",null,"OMV","OMARA   VISOKA ",null,null,null,0]
[null,null,null,"dim  90x55x200 cm",null,null,null,0]
[null,null,null,"Sestav:",null,null,null,0]
[null,null,null,"Omara  dvodelan deljena vrata izdelana iz iverala ABS 2mm ",null,null,null,0]
[null,null,null,"Opis",null,null,null,0]
[null,null,null,"Omara je izdelana iz iverala; odmične sponei, ključavnica; premične police na kovinskih nosilcih; 10 cm, regulirne nogice, cokel ALU    ","kom",2,null,0,{"$f":"+G938*MM","v":0},{"$f":"+I938*F938","v":0},{"$f":"+G938-I938","v":0},{"$f":"+K938*F938","v":0}]
[null,null,null,null,null,null,null,0]
["139",null,"PM","MIZA PISALNA",null,null,null,0]
[null,null,null,"dim 120x75x75 cm",null,null,null,0]
[null,null,null,"Opis",null,null,null,0]
["140",null,null,"Miza kovinsko podnožje mizna plošča Iveral ABS ","kom",1,null,0,{"$f":"+G943*MM","v":0},{"$f":"+I943*F943","v":0},{"$f":"+G943-I943","v":0},{"$f":"+K943*F943","v":0}]
[null,null,"PRED","Mobilni predalnik - ključ",null,null,null,0]
[null,null,null,"dim 45x60x60 cm","kom",1,null,0,{"$f":"+G945*MM","v":0},{"$f":"+I945*F945","v":0},{"$f":"+G945-I945","v":0},{"$f":"+K945*F945","v":0}]
["141",null,"DS","Stol  vrtljiv Ergomatic tapeciran  umetno usnje","kom",1,null,0,{"$f":"+G946*MM","v":0},{"$f":"+I946*F946","v":0},{"$f":"+G946-I946","v":0},{"$f":"+K946*F946","v":0}]
[null,null,null,null,null,null,null,0]
[null,null,null,"SKLADIŠČE ČISTILA"]
[null,null,null,null,null,null,null,0]
["142",null,"OČ","VISOKE OMARE",null,null,null,0]
[null,null,null,"dim 90x50x200 cm",null,null,null,0]
[null,null,null,"Sestav:",null,null,null,0]
[null,null,null,"Omara  dvodelan  vrata izdelana iz iverala ABS 2mm ",null,null,null,0]
[null,null,null,"Opis",null,null,null,0]
[null,null,null,"Omara je izdelana iz iverala; odmične sponei,  premične police na kovinskih nosilcih; 10 cm, regulirne nogice, cokel ALU    ","kom",2,null,0,{"$f":"+G955*MM","v":0},{"$f":"+I955*F955","v":0},{"$f":"+G955-I955","v":0},{"$f":"+K955*F955","v":0}]
[null,null,null,null,null,null,null,0]
[null,null,null,"ZBORNICA"]
[null,null,null,null,null,null,null,0]
["143",null,"MIZ","MIZA ZBORNICA",null,null,null,0]
[null,null,null,"dim : 180x90x75 cm",null,null,null,0]
[null,null,null,"Opis:",null,null,null,0]
[null,null,null,"Kovinsko mizno podnožje mizna plošča 28mm Iveral + ABS","kom",12,null,0,{"$f":"+G962*MM","v":0},{"$f":"+I962*F962","v":0},{"$f":"+G962-I962","v":0},{"$f":"+K962*F962","v":0}]
[null,null,"STOL","Stol za zbornico ","kom",60,null,0,{"$f":"+G963*MM","v":0},{"$f":"+I963*F963","v":0},{"$f":"+G963-I963","v":0},{"$f":"+K963*F963","v":0}]
[null,null,null,"Opis",null,null,null,0]
[null,null,null,"Krom podnožje  tapeciran ( v negorljivem blagu po izboru)",null,null,null,0]
[null,null,null,null,null,null,null,0]
["144",null,"OMZB","OMARA Z 6 PREKATI",null,null,null,0]
[null,null,null,"dim 90x40x200",null,null,null,0]
[null,null,null,"Opis:",null,null,null,0]
[null,null,null,"izdelana Iveral +ABS ključavnica cokej PVC regulirne nogice Alu maska","kom",8,null,0,{"$f":"+G970*MM","v":0},{"$f":"+I970*F970","v":0},{"$f":"+G970-I970","v":0},{"$f":"+K970*F970","v":0}]
[null,null,null,"MINI KUHINJ AZBORNICA"]
[null,null,"ČK1","ČAJNA KUHINJA / ZAPRTA",null,null,null,0]
[null,null,null,"dim 220x60x200 cm",null,null,null,0]
[null,null,null,"Opis",null,null,null,0]
[null,null,null,"Omara je izdelana iz iverala; odmične sponei, ključavnica; premične police na kovinskih nosilcih; 10 cm, regulirne nogice, cokel ALU    ( na vrtaih pvc koš )",null,null,null,0]
[null,null,"*","RF vsadno korito. Mešalna baterija indukcjska plošča 2x",null,null,null,0]
[null,null,null,"bojler.sifon  vgradni hladilnik","kpl",1,null,0,{"$f":"+G977*MM","v":0},{"$f":"+I977*F977","v":0},{"$f":"+G977-I977","v":0},{"$f":"+K977*F977","v":0}]
[null,null,null,"SEJNA SOBA"]
[null,null,null,null,null,null,null,0]
["145",null,"OM","OMARA ZA REGISTRATORJE",null,null,null,0]
[null,null,null,"dim 80x40x200cm",null,null,null,0]
[null,null,null,"Opis",null,null,null,0]
[null,null,null,"Omara z vrati izdelana Iveral +ABS ključavnica cokej PVC regulirne nogice Alu maska","kom",4,null,0,{"$f":"+G983*MM","v":0},{"$f":"+I983*F983","v":0},{"$f":"+G983-I983","v":0},{"$f":"+K983*F983","v":0}]
[null,null,null,null,null,null,null,0]
["146",null,"OMVS","OMARA  STEKLENA VISOKA ",null,null,null,0]
[null,null,null,"dim  80x40x200 cm",null,null,null,0]
[null,null,null,"Sestav:",null,null,null,0]
[null,null,null,"Omara  dvodelan izdelana iz iverala ABS 2mm, zgoraj steklena  vrata v lesenem okvirju, spodaj polna vrata",null,null,null,0]
[null,null,null,"Opis",null,null,null,0]
[null,null,null,"Omara je izdelana iz iverala; odmične sponei, ključavnica; premične police na kovinskih nosilcih; 10 cm, regulirne nogice, cokel ALU    ","kom",2,null,0,{"$f":"+G990*MM","v":0},{"$f":"+I990*F990","v":0},{"$f":"+G990-I990","v":0},{"$f":"+K990*F990","v":0}]
[null,null,null,null,null,null,null,0]
["147",null,"MIZ","MIZA  KONFERENČNA",null,null,null,{"$f":"G992*F992","v":0}]
[null,null,null,"dim : 100X80X75 cm",null,null,null,0]
[null,null,null,"Opis:",null,null,null,0]
[null,null,null,"Kovinsk enoge mizna plšča Iveral + ABS","kom",4,null,0,{"$f":"+G995*MM","v":0},{"$f":"+I995*F995","v":0},{"$f":"+G995-I995","v":0},{"$f":"+K995*F995","v":0}]
[null,null,null,"Miza  KONFERENČNA/POLKROŽNA",null,null,null,0]
[null,null,null,"dim 160x80x75 cm",null,null,null,0]
[null,null,null,"Opis:",null,null,null,0]
[null,null,null,"Kovinske noge mizna plšča Iveral + ABS","kom",2,null,0,{"$f":"+G999*MM","v":0},{"$f":"+I999*F999","v":0},{"$f":"+G999-I999","v":0},{"$f":"+K999*F999","v":0}]
[null,null,null,null,null,null,null,0]
["148",null,"KS","KONFERENČNI STOL",null,null,null,0]
[null,null,null,"Opis",null,null,null,0]
[null,null,null,"Krom podnožje  tapeciran ( v negorljivem blagu )","kom",12,null,0,{"$f":"+G1003*MM","v":0},{"$f":"+I1003*F1003","v":0},{"$f":"+G1003-I1003","v":0},{"$f":"+K1003*F1003","v":0}]
[null,null,null,null,null,null,null,0]
["149",null,"OMN","OMARA NIZKA",null,null,null,0]
[null,null,null,"dim80x40x90 cm",null,null,null,0]
[null,null,null,"Sestav:",null,null,null,0]
[null,null,null,"Omara nizka polna vrata",null,null,null,0]
[null,null,null,"Opis:",null,null,null,0]
[null,null,null,"Omara  nizka izdelana iz iverala ABS 2mm ",null,null,null,0]
[null,null,null,"Opis",null,null,null,0]
[null,null,null,"Omara je izdelana iz iverala; odmične sponei, ključavnica; premične police na kovinskih nosilcih; 10 cm, regulirne nogice, cokel ALU    ","kom",5,null,0,{"$f":"+G1012*MM","v":0},{"$f":"+I1012*F1012","v":0},{"$f":"+G1012-I1012","v":0},{"$f":"+K1012*F1012","v":0}]
[null,null,null,null,null,null,null,0]
[null,null,null,"POMOČNIK RAVNATELJA"]
[]
["150",null,"OM","OMARA ZA REGISTRATORJE",null,null,null,0]
[null,null,null,"dim 80x40x200cm",null,null,null,0]
[null,null,null,"Opis",null,null,null,0]
[null,null,null,"Omara z vrati izdelana Iveral +ABS ključavnica cokej PVC regulirne nogice Alu maska","kom",5,null,0,{"$f":"+G1019*MM","v":0},{"$f":"+I1019*F1019","v":0},{"$f":"+G1019-I1019","v":0},{"$f":"+K1019*F1019","v":0}]
[null,null,null,null,null,null,null,0]
["151",null,"OMN","OMARA NIZKA",null,null,null,0]
[null,null,null,"dim80x40x76 cm",null,null,null,0]
[null,null,null,"Sestav:",null,null,null,0]
[null,null,null,"Omara nizka polna vrata pokrivna plošča z rešetko nad radijatorjem dim 4,30x50x4 cm",null,null,null,0]
[null,null,null,"Opis:",null,null,null,0]
[null,null,null,"Omara  nizka izdelana iz iverala ABS 2mm ",null,null,null,0]
[null,null,null,"Opis",null,null,null,0]
[null,null,null,"Omara je izdelana iz iverala; odmične sponei, ključavnica; premične police na kovinskih nosilcih; 10 cm, regulirne nogice, cokel ALU    ","kom",7,null,0,{"$f":"+G1028*MM","v":0},{"$f":"+I1028*F1028","v":0},{"$f":"+G1028-I1028","v":0},{"$f":"+K1028*F1028","v":0}]
[null,null,null,null,null,null,null,0]
["152",null,"KM","KOTNA MIZA",null,null,null,0]
[null,null,null,"dim 250/180x80x75 cm",null,null,null,0]
[null,null,null,"Opis:",null,null,null,0]
[null,null,null,"Kovinske noge mizna plšča Iveral + ABS","kom",1,null,0,{"$f":"+G1033*MM","v":0},{"$f":"+I1033*F1033","v":0},{"$f":"+G1033-I1033","v":0},{"$f":"+K1033*F1033","v":0}]
[null,null,null,null,null,null,null,0]
["153",null,"KS","KONFERENČNI STOL",null,null,null,0]
[null,null,null,"Opis",null,null,null,0]
[null,null,null,"Krom podnožje  tapeciran ( v negorljivem blagu )","kom",2,null,0,{"$f":"+G1037*MM","v":0},{"$f":"+I1037*F1037","v":0},{"$f":"+G1037-I1037","v":0},{"$f":"+K1037*F1037","v":0}]
[null,null,null,null,null,null,null,0]
["154",null,"ST","STOL",null,null,null,0]
[null,null,null,"Stol  vrtljiv Ergomatic tapeciran  umetno usnje/boljši","kom",1,null,0,{"$f":"+G1040*MM","v":0},{"$f":"+I1040*F1040","v":0},{"$f":"+G1040-I1040","v":0},{"$f":"+K1040*F1040","v":0}]
[null,null,null,null,null,null,null,0]
["155",null,"OM","OVALNA KLUBSKA MIZICA ",null,null,null,0]
[null,null,null,"dim 80x60x54 cm",null,null,null,0]
[null,null,null,"Opis",null,null,null,0]
[null,null,null,"Kovinske noge mizna plšča Iveral + ABS","kom",1,null,0,{"$f":"+G1045*MM","v":0},{"$f":"+I1045*F1045","v":0},{"$f":"+G1045-I1045","v":0},{"$f":"+K1045*F1045","v":0}]
[null,null,null,null,null,null,null,0]
["156",null,"DS","DVOSED TAPECIRAN",null,null,null,0]
[null,null,null,"dim 150x80x85 cm",null,null,null,0]
[null,null,null,"Opis",null,null,null,0]
[null,null,null,"Dvosed tapeciran v negorljivem blagu ","kom",2,null,0,{"$f":"+G1050*MM","v":0},{"$f":"+I1050*F1050","v":0},{"$f":"+G1050-I1050","v":0},{"$f":"+K1050*F1050","v":0}]
[null,null,null,null,null,null,null,0]
["157",null,"ES","ENOSED TAPECIRAN",null,null,null,0]
[null,null,null,"dim 60x80x85 cm",null,null,null,0]
[null,null,null,"Enosed tapeciran v negorljivem blagu ","kom",1,null,0,{"$f":"+G1054*MM","v":0},{"$f":"+I1054*F1054","v":0},{"$f":"+G1054-I1054","v":0},{"$f":"+K1054*F1054","v":0}]
[null,null,null,null,null,null,null,0]
["158",null," OM GA","GARDEROBNA OMARA ",null,null,null,{"$f":"G1056*F1056","v":0}]
[null,null,null,"dim 80x40x200cm",null,null,null,0]
[null,null,null,"Opis",null,null,null,0]
[null,null,null,"Omara je izdelana iz iverala; odmične sponei, ključavnica; premične police na kovinskih nosilcih; 10 cm, regulirne nogice, cokel ALU    ","kom",1,null,0,{"$f":"+G1059*MM","v":0},{"$f":"+I1059*F1059","v":0},{"$f":"+G1059-I1059","v":0},{"$f":"+K1059*F1059","v":0}]
[null,null,null,null,null,null,null,0]
[null,null,null,"TAJNIŠTVO"]
[null,null,null,null,null,null,null,0]
["159",null,"OMV","OMARA   VISOKA ",null,null,null,0]
[null,null,null,"dim  80x40x200 +120 CM",null,null,null,0]
[null,null,null,"Sestav:",null,null,null,0]
[null,null,null,"Omara  dvodelan deljena vrata izdelana iz iverala ABS 2mm ",null,null,null,0]
[null,null,null,"Opis",null,null,null,0]
[null,null,null,"Omara je izdelana iz iverala; odmične sponei, ključavnica; premične police na kovinskih nosilcih; 10 cm, regulirne nogice, cokel ALU    ","kom",3,null,0,{"$f":"+G1068*MM","v":0},{"$f":"+I1068*F1068","v":0},{"$f":"+G1068-I1068","v":0},{"$f":"+K1068*F1068","v":0}]
[null,null,null,null,null,null,null,0]
["160",null,"PM","MIZA PISALNA KOTNA",null,null,null,0]
[null,null,null,"dim250/180X80X75 CM",null,null,null,0]
[null,null,null,"Opis",null,null,null,0]
[null,null,null,"Miza kovinsko podnožje mizna plošča Iveral ABS ","kom",1,null,0,{"$f":"+G1073*MM","v":0},{"$f":"+I1073*F1073","v":0},{"$f":"+G1073-I1073","v":0},{"$f":"+K1073*F1073","v":0}]
["161",null,"PRED","Mobilni predalnik - ključ",null,null,null,0]
["162",null,null,"dim 45x60x60 cm","kom",1,null,0,{"$f":"+G1075*MM","v":0},{"$f":"+I1075*F1075","v":0},{"$f":"+G1075-I1075","v":0},{"$f":"+K1075*F1075","v":0}]
["163",null,"DS","Stol  vrtljiv Ergomatic tapeciran  umetno usnje","kom",1,null,0,{"$f":"+G1076*MM","v":0},{"$f":"+I1076*F1076","v":0},{"$f":"+G1076-I1076","v":0},{"$f":"+K1076*F1076","v":0}]
[null,null,null,null,null,null,null,0]
["164",null,"OMN","OMARA NIZKA",null,null,null,0]
[null,null,null,"dim 80x40X76 cm",null,null,null,0]
[null,null,null,"Sestav:",null,null,null,0]
[null,null,null,"Omara nizka polna vrata pokrivna plošča z rešetko nad radijatorjem dim 4,30x50x4 cm",null,null,null,0]
[null,null,null,"Opis:",null,null,null,0]
[null,null,null,"Omara  nizka izdelana iz iverala ABS 2mm ",null,null,null,0]
[null,null,null,"Opis",null,null,null,0]
[null,null,null,"Omara je izdelana iz iverala; odmične sponei, ključavnica; premične police na kovinskih nosilcih; 10 cm, regulirne nogice, cokel ALU    ","kom",5,null,0,{"$f":"+G1085*MM","v":0},{"$f":"+I1085*F1085","v":0},{"$f":"+G1085-I1085","v":0},{"$f":"+K1085*F1085","v":0}]
[null,null,null,null,null,null,null,0]
[null,null,null,"ČAJNA KUHINJA"]
[null,null,null,"dim 180x60x200 cm",null,null,null,0]
[null,null,null,"Opis",null,null,null,0]
[null,null,null,"Omara je izdelana iz iverala; odmične sponei, ključavnica; premične police na kovinskih nosilcih; 10 cm, regulirne nogice, cokel ALU    ( na vrtaih pvc koš )",null,null,null,0]
[null,null,"*","RF vsadno korito. Mešalna baterija indukcjska plošča 2x",null,null,null,0]
[null,null,null,"bojler.sifon  vgradni hladilnik","kpl",1,null,0,{"$f":"+G1092*MM","v":0},{"$f":"+I1092*F1092","v":0},{"$f":"+G1092-I1092","v":0},{"$f":"+K1092*F1092","v":0}]
[null,null,null,null,null,null,null,0]
["166",null,"OM OG","OGNJEVARNA OMARA UGRAJENA V LESENO OMARO",null,null,null,0]
[null,null,null,"dim 95x60x200 cm","kom",1,null,0,{"$f":"+G1095*MM","v":0},{"$f":"+I1095*F1095","v":0},{"$f":"+G1095-I1095","v":0},{"$f":"+K1095*F1095","v":0}]
[null,null,null,null,null,null,null,0]
[null,null,null,"RAVNATELJ"]
[null,null,null,null,null,null,null,0]
["167",null,"PM","MIZA PISALNA KOTNA",null,null,null,0]
[null,null,null,"dim250/240X80X75 CM",null,null,null,0]
[null,null,null,"Opis",null,null,null,0]
[null,null,null,"Miza kovinsko podnožje Mizna podnožja Quatro. mizna plošča Iveral ABS ","kom",1,null,0,{"$f":"+G1102*MM","v":0},{"$f":"+I1102*F1102","v":0},{"$f":"+G1102-I1102","v":0},{"$f":"+K1102*F1102","v":0}]
["168",null,"PRED","Mobilni predalnik - ključ",null,null,null,0]
[null,null,null,"dim 45x60x60 cm","kom",1,null,0,{"$f":"+G1104*MM","v":0},{"$f":"+I1104*F1104","v":0},{"$f":"+G1104-I1104","v":0},{"$f":"+K1104*F1104","v":0}]
["169",null,"DS","Stol  vrtljiv Ergomatic tapeciran  negorlivo blago","kom",1,null,0,{"$f":"+G1105*MM","v":0},{"$f":"+I1105*F1105","v":0},{"$f":"+G1105-I1105","v":0},{"$f":"+K1105*F1105","v":0}]
[null,null,null,null,null,null,null,0]
["170",null,"POL","ODPRTE POLICE NAD MIZO",null,null,null,0]
[null,null,null,"dim 250x40x40 cm","kom",1,null,0,{"$f":"+G1108*MM","v":0},{"$f":"+I1108*F1108","v":0},{"$f":"+G1108-I1108","v":0},{"$f":"+K1108*F1108","v":0}]
[null,null,null,null,null,null,null,0]
["171",null,"OBL","OBLOGA",null,null,null,0]
[null,null,null,"dim 250x85 cm","kom",1,null,0,{"$f":"+G1111*MM","v":0},{"$f":"+I1111*F1111","v":0},{"$f":"+G1111-I1111","v":0},{"$f":"+K1111*F1111","v":0}]
[null,null,null,null,null,null,null,0]
["172",null,"OMN","OMARA NIZKA",null,null,null,0]
[null,null,null,"dim 80x40X90 cm",null,null,null,0]
[null,null,null,"Sestav:",null,null,null,0]
[null,null,null,"Omara nizka polna vrata",null,null,null,0]
[null,null,null,"Opis:",null,null,null,0]
[null,null,null,"Omara  nizka izdelana iz iverala ABS 2mm ",null,null,null,0]
[null,null,null,"Opis",null,null,null,0]
[null,null,null,"Omara je izdelana iz iverala; odmične sponei, ključavnica; premične police na kovinskih nosilcih; 10 cm, regulirne nogice, cokel ALU    ","kom",5,null,{"$f":"G1120*F1120","v":0},{"$f":"+G1120*MM","v":0},{"$f":"+I1120*F1120","v":0},{"$f":"+G1120-I1120","v":0},{"$f":"+K1120*F1120","v":0}]
[null,null,null,null,null,null,null,0]
["173",null,"OMV","OMARA   VISOKA ",null,null,null,0]
[null,null,null,"dim  80x40x200 cm",null,null,null,0]
[null,null,null,"Sestav:",null,null,null,0]
[null,null,null,"Omara  dvodelan deljena vrata izdelana iz iverala ABS 2mm ",null,null,null,0]
[null,null,null,"Opis",null,null,null,0]
[null,null,null,"Omara je izdelana iz iverala; odmične sponei, ključavnica; premične police na kovinskih nosilcih; 10 cm, regulirne nogice, cokel ALU    ","kom",2,null,0,{"$f":"+G1127*MM","v":0},{"$f":"+I1127*F1127","v":0},{"$f":"+G1127-I1127","v":0},{"$f":"+K1127*F1127","v":0}]
[null,null,null,null,null,null,null,0]
["174",null,"OMVS","OMARA  STEKLENA VISOKA ",null,null,null,0]
[null,null,null,"dim 80x40X200 cm",null,null,null,0]
[null,null,null,"Sestav:",null,null,null,0]
[null,null,null,"Sestav:",null,null,null,0]
[null,null,null,"Omara dvodelna izdelana iz iverala Abs 2mm. Zgoraj steklena vrata v lesen okvirju spodaj polna vrata",null,null,null,0]
[null,null,null,"Opis",null,null,null,0]
[null,null,null,"Omara je izdelana iz iverala; odmične sponei, ključavnica; premične police na kovinskih nosilcih; 10 cm, regulirne nogice, cokel ALU    ",null,2,null,0,{"$f":"+G1135*MM","v":0},{"$f":"+I1135*F1135","v":0},{"$f":"+G1135-I1135","v":0},{"$f":"+K1135*F1135","v":0}]
[null,null,null,null,null,null,null,0]
[null,null,null,"GARDEROBNA OMARA ",null,null,null,0]
[null,null,null,"dim 80x40X200 cm",null,null,null,0]
[null,null,null,"Opis",null,null,null,0]
[null,null,null,"Omara je izdelana iz iverala; odmične sponei, ključavnica; premične police na kovinskih nosilcih; 10 cm, regulirne nogice, cokel ALU    ","kom",1,null,0,{"$f":"+G1140*MM","v":0},{"$f":"+I1140*F1140","v":0},{"$f":"+G1140-I1140","v":0},{"$f":"+K1140*F1140","v":0}]
["176",null,"MIZ","MIZA  KONFERENČNA",null,null,null,0]
[null,null,null,"dim : 100X80X75 cm",null,null,null,0]
[null,null,null,"Opis:",null,null,null,0]
[null,null,null,"Kovinsk enoge mizna plšča Iveral + ABS","kom",2,null,0,{"$f":"+G1144*MM","v":0},{"$f":"+I1144*F1144","v":0},{"$f":"+G1144-I1144","v":0},{"$f":"+K1144*F1144","v":0}]
[null,null,null,null,null,null,null,0]
["177",null,null,"Miza  KONFERENČNA/POLKROŽNA",null,null,null,0]
[null,null,null,null,null,null,null,0]
[null,null,null,null,null,null,null,0]
[null,null,null,"Kovinske noge mizna plšča Iveral + ABS","kom",2,null,0,{"$f":"+G1149*MM","v":0},{"$f":"+I1149*F1149","v":0},{"$f":"+G1149-I1149","v":0},{"$f":"+K1149*F1149","v":0}]
[null,null,null,null,null,null,null,0]
["178",null,"KS","KONFERENČNI STOL",null,null,null,0]
[null,null,null,"Opis",null,null,null,0]
[null,null,null,"Krom podnožje  tapeciran ( v negorljivem blagu )","kom",6,null,0,{"$f":"+G1153*MM","v":0},{"$f":"+I1153*F1153","v":0},{"$f":"+G1153-I1153","v":0},{"$f":"+K1153*F1153","v":0}]
[null,null,null,"ŠPORTNI KABINET"]
[null,null,"PM","Miza dim 160x80x75 cm kovinske noge ","kom",3,null,0,{"$f":"+G1155*MM","v":0},{"$f":"+I1155*F1155","v":0},{"$f":"+G1155-I1155","v":0},{"$f":"+K1155*F1155","v":0}]
[null,null,"PRED","Mobilni predalnik 45x60x60cm","kom",3,null,0,{"$f":"+G1156*MM","v":0},{"$f":"+I1156*F1156","v":0},{"$f":"+G1156-I1156","v":0},{"$f":"+K1156*F1156","v":0}]
[null,null,"OMV","Omara ",null,null,null,0]
[null,null,null,"dim  80x40x200 cm",null,null,null,0]
[null,null,null,"Sestav:",null,null,null,0]
[null,null,null,"Omara  dvodelan deljena vrata izdelana iz iverala ABS 2mm ",null,null,null,0]
[null,null,null,"Opis",null,null,null,0]
[null,null,null,"Omara je izdelana iz iverala; odmične sponei, ključavnica; premične police na kovinskih nosilcih; 10 cm, regulirne nogice, cokel ALU    ","kom",3,null,0,{"$f":"+G1162*MM","v":0},{"$f":"+I1162*F1162","v":0},{"$f":"+G1162-I1162","v":0},{"$f":"+K1162*F1162","v":0}]
[null,null,null,"Bela magnetna tabla 120x120 cm","kom",1,null,0,{"$f":"+G1163*MM","v":0},{"$f":"+I1163*F1163","v":0},{"$f":"+G1163-I1163","v":0},{"$f":"+K1163*F1163","v":0}]
[null,null,null,"Kovček z čistili ","kom",1,null,0,{"$f":"+G1164*MM","v":0},{"$f":"+I1164*F1164","v":0},{"$f":"+G1164-I1164","v":0},{"$f":"+K1164*F1164","v":0}]
[null,null,"DS","STOL",null,null,null,0]
[null,null,null,"Stol  vrtljiv Ergomatic tapeciran  umetno usnje/boljši","kom",3,null,0,{"$f":"+G1166*MM","v":0},{"$f":"+I1166*F1166","v":0},{"$f":"+G1166-I1166","v":0},{"$f":"+K1166*F1166","v":0}]
[null,null,null,"ČISTILKE"]
[null,null,"OČ","VISOKE OMARE",null,null,null,0]
[null,null,null,"dim 90x50x200 cm",null,null,null,0]
[null,null,null,"Sestav:",null,null,null,0]
[null,null,null,"Omara  dvodelan  vrata izdelana iz iverala ABS 2mm ",null,null,null,0]
[null,null,null,"Opis",null,null,null,0]
[null,null,null,"Omara je izdelana iz iverala; odmične sponei,  premične police na kovinskih nosilcih; 10 cm, regulirne nogice, cokel ALU    ","kom",2,null,0,{"$f":"+G1173*MM","v":0},{"$f":"+I1173*F1173","v":0},{"$f":"+G1173-I1173","v":0},{"$f":"+K1173*F1173","v":0}]
[null,null,null,null,null,null,null,0]
[null,null,null,null,null,null,null,0]
[null,null,null,"SVETOVALNA SLUŽBA"]
[null,null,null,null,null,null,null,0]
["179",null,"PM","MIZA PISALNA KOTNA",null,null,null,0]
[null,null,null,"dim180/160X80X75 CM",null,null,null,0]
[null,null,null,"Opis",null,null,null,0]
[null,null,null,"Miza kovinsko podnožje mizna plošča Iveral ABS ","kom",1,null,0,{"$f":"+G1181*MM","v":0},{"$f":"+I1181*F1181","v":0},{"$f":"+G1181-I1181","v":0},{"$f":"+K1181*F1181","v":0}]
["180",null,"PRED","Mobilni predalnik - ključ","kom",1,null,0,{"$f":"+G1182*MM","v":0},{"$f":"+I1182*F1182","v":0},{"$f":"+G1182-I1182","v":0},{"$f":"+K1182*F1182","v":0}]
[null,null,null,"dim 45x60x60 cm",null,null,null,0]
["181",null,"DS","Stol  vrtljiv Ergomatic tapeciran  negorlivo blago","km",1,null,{"$f":"G1184*F1184","v":0},{"$f":"+G1184*MM","v":0},{"$f":"+I1184*F1184","v":0},{"$f":"+G1184-I1184","v":0},{"$f":"+K1184*F1184","v":0}]
[null,null,null,null,null,null,null,0]
["182",null,"KM","MIZA  KONFERENČNA",null,null,null,0]
[null,null,null,"dim : 80x80x75 cm",null,null,null,0]
[null,null,null,"Opis:",null,null,null,0]
[null,null,null,"Kovinsk enoge mizna plšča Iveral + ABS","kom",1,null,0,{"$f":"+G1189*MM","v":0},{"$f":"+I1189*F1189","v":0},{"$f":"+G1189-I1189","v":0},{"$f":"+K1189*F1189","v":0}]
[null,null,null,null,null,null,null,0]
["183",null,"KS","KONFERENČNI STOL",null,null,null,0]
[null,null,null,"Opis",null,null,null,0]
[null,null,null,"Krom podnožje  tapeciran ( v negorljivem blagu )","kom",2,null,0,{"$f":"+G1193*MM","v":0},{"$f":"+I1193*F1193","v":0},{"$f":"+G1193-I1193","v":0},{"$f":"+K1193*F1193","v":0}]
[null,null,null,null,null,null,null,0]
["184",null,"OMV","OMARA   VISOKA ",null,null,null,0]
[null,null,null,"dim  80x40x200 cm",null,null,null,0]
[null,null,null,"Sestav:",null,null,null,0]
[null,null,null,"Omara  dvodelan deljena vrata izdelana iz iverala ABS 2mm ",null,null,null,0]
[null,null,null,"Opis",null,null,null,0]
[null,null,null,"Omara je izdelana iz iverala; odmične sponei, ključavnica; premične police na kovinskih nosilcih; 10 cm, regulirne nogice, cokel ALU    ","kom",2,null,0,{"$f":"+G1200*MM","v":0},{"$f":"+I1200*F1200","v":0},{"$f":"+G1200-I1200","v":0},{"$f":"+K1200*F1200","v":0}]
[null,null,null,null,null,null,null,0]
["185",null,"OMN","OMARA NIZKA",null,null,null,0]
[null,null,null,"dim 80x40X90 cm",null,null,null,0]
[null,null,null,"Sestav:",null,null,null,0]
[null,null,null,"Omara nizka polna vrata",null,null,null,0]
[null,null,null,"Opis:",null,null,null,0]
[null,null,null,"Omara  nizka izdelana iz iverala ABS 2mm ",null,null,null,0]
[null,null,null,"Opis",null,null,null,0]
[null,null,null,"Omara je izdelana iz iverala; odmične sponei, ključavnica; premične police na kovinskih nosilcih; 10 cm, regulirne nogice, cokel ALU    ","kom",2,null,0,{"$f":"+G1209*MM","v":0},{"$f":"+I1209*F1209","v":0},{"$f":"+G1209-I1209","v":0},{"$f":"+K1209*F1209","v":0}]
[null,null,null,"ŠPORTNI KABINET",null,null,null,0]
[null,null,null,null,null,null,null,0]
[null,null,null,null,null,null,null,0]
[null,"DRUGO NADSTROPJE"]
[null,null,null,null,null,null,null,0]
[null,null,null,"UČILNICA KEMIJA /KABINET"]
[null,null,null,null,null,null,null,0]
["187",null,"OMVS","OMARA  STEKLENA VISOKA ","kom",2,null,0,{"$f":"+G1217*MM","v":0},{"$f":"+I1217*F1217","v":0},{"$f":"+G1217-I1217","v":0},{"$f":"+K1217*F1217","v":0}]
[null,null,null,"dim  90x55x200 cm",null,null,null,0]
[null,null,null,"Sestav:",null,null,null,0]
[null,null,null,"Omara  dvodelan izdelana iz iverala ABS 2mm, zgoraj steklena  vrata v lesenem okvirju, spodaj polna vrata",null,null,null,0]
[null,null,null,"Opis",null,null,null,0]
[null,null,null,"Omara je izdelana iz iverala; odmične sponei, ključavnica; premične police na kovinskih nosilcih; 10 cm, regulirne nogice, cokel ALU    ",null,null,null,0]
[null,null,null,null,null,null,null,0]
["188",null,"OMV","OMARA   VISOKA ","kom",4,null,0,{"$f":"+G1224*MM","v":0},{"$f":"+I1224*F1224","v":0},{"$f":"+G1224-I1224","v":0},{"$f":"+K1224*F1224","v":0}]
[null,null,null,"dim  90x55x200 cm",null,null,null,0]
[null,null,null,"Sestav:",null,null,null,0]
[null,null,null,"Omara  dvodelan deljena vrata izdelana iz iverala ABS 2mm ",null,null,null,0]
[null,null,null,"Opis",null,null,null,0]
[null,null,null,"Omara je izdelana iz iverala; odmične sponei, ključavnica; premične police na kovinskih nosilcih; 10 cm, regulirne nogice, cokel ALU    ",null,null,null,0]
[null,null,null,null,null,null,null,0]
["189",null,"OMN","OMARA NIZKA",null,null,null,0]
[null,null,null,"dim 90X55X76 cm",null,null,null,0]
[null,null,null,"Sestav:",null,null,null,0]
[null,null,null,"Omara nizka polna vrata",null,null,null,0]
[null,null,null,"Opis:",null,null,null,0]
[null,null,null,"Omara  nizka izdelana iz iverala ABS 2mm ",null,null,null,0]
[null,null,null,"Opis",null,null,null,0]
[null,null,null,"Omara je izdelana iz iverala; odmične sponei, ključavnica; premične police na kovinskih nosilcih; 10 cm, regulirne nogice, cokel ALU    ","kom",4,null,0,{"$f":"+G1238*MM","v":0},{"$f":"+I1238*F1238","v":0},{"$f":"+G1238-I1238","v":0},{"$f":"+K1238*F1238","v":0}]
[null,null,null,null,null,null,null,0]
["190",null,"OB","OBLOGE NAD OMARICAMI",null,null,null,0]
[null,null,"*","dim 400X125 cm  ","tm",4,null,0,{"$f":"+G1241*MM","v":0},{"$f":"+I1241*F1241","v":0},{"$f":"+G1241-I1241","v":0},{"$f":"+K1241*F1241","v":0}]
[null,null,"*","dim450x125 cm","tm",4.5,null,0,{"$f":"+G1242*MM","v":0},{"$f":"+I1242*F1242","v":0},{"$f":"+G1242-I1242","v":0},{"$f":"+K1242*F1242","v":0}]
[null,null,"*","dim 290x125 cm","tm",2.9,null,0,{"$f":"+G1243*MM","v":0},{"$f":"+I1243*F1243","v":0},{"$f":"+G1243-I1243","v":0},{"$f":"+K1243*F1243","v":0}]
[null,null,null,"*Točne dimenzije se določijo ob izvedbi.",null,null,null,0]
[null,null,null,"Sestav:",null,null,null,0]
[null,null,null,"Opis:",null,null,null,0]
[null,null,null,"Zahtevana požarna odpornost oblog:",null,null,null,0]
[null,null,null,null,null,null,null,{"$f":"G1248*F1248","v":0}]
["191",null,"MK","MIZA-KATEDER UČITELJA",null,null,null,0]
[null,null,null,"dim 190+190x60x75 cm",null,null,null,0]
[null,null,null,"Opis:",null,null,null,0]
[null,null,null,"Kovinska ovalna cev prašno barvana  z ustreznimi drsniki",null,null,null,0]
[null,null,null,"mizna plošča Iveral beš 24 mm obrobljena masivnm bukvim nalimkom","kom",1,null,0,{"$f":"+G1253*MM","v":0},{"$f":"+I1253*F1253","v":0},{"$f":"+G1253-I1253","v":0},{"$f":"+K1253*F1253","v":0}]
[null,null,null,null,null,null,null,0]
["192",null,"M1","MIZA ZA UČENCA",null,null,null,0]
[null,null,null,"Mize za učence - ENOJNA klasična",null,null,null,0]
[null,null,null,"dim 65x60X75 ",null,null,null,0]
[null,null,null,"Kovinska ovalna cev prašno barvana  z ustreznimi drsniki",null,null,null,0]
[null,null,null,"mizna plošča Iveral beš 24 mm obrobljena masivnm bukvim nalimkom ( kljukica za obešanje torbice )","kom",14,null,0,{"$f":"+G1259*MM","v":0},{"$f":"+I1259*F1259","v":0},{"$f":"+G1259-I1259","v":0},{"$f":"+K1259*F1259","v":0}]
[null,null,null,null,null,null,null,0]
["193",null,"M2","MIZA ZA UČENCA",null,null,null,0]
[null,null,null,"Mize za učence - DVOJNA klasična",null,null,null,0]
[null,null,null,"dim 130x60X75",null,null,null,0]
[null,null,null,"Kovinska ovalna cev prašno barvana  z ustreznimi drsniki",null,null,null,0]
[null,null,null,"mizna plošča Iveral beš 24 mm obrobljena masivnm bukvim nalimkom ( kljukica za obešanje torbice )","kom",8,null,0,{"$f":"+G1265*MM","v":0},{"$f":"+I1265*F1265","v":0},{"$f":"+G1265-I1265","v":0},{"$f":"+K1265*F1265","v":0}]
[null,null,null,null,null,null,null,0]
["194",null,"SU","STOL ZA UČITELJA",null,null,null,0]
[null,null,null,"v. 45 cm",null,null,null,0]
[null,null,null,"Opis",null,null,null,0]
[null,null,null,"Stol za učitelja  kovinska ovalan cev prašno barana z ustrezni drsniki sedež in naslon oblazinjen ","kom",1,null,0,{"$f":"+G1270*MM","v":0},{"$f":"+I1270*F1270","v":0},{"$f":"+G1270-I1270","v":0},{"$f":"+K1270*F1270","v":0}]
[null,null,null,null,null,null,null,0]
["195",null,"S1","STOL ZA UČENCA",null,null,null,0]
[null,null,null,"v.45 cm",null,null,null,0]
[null,null,null,"Opis",null,null,null,0]
[null,null,null,"Kovinska ovalna cev prašno barvana, z ustreznimi drsniki sedež in naslon bukova vezana plošča","kom",30,null,0,{"$f":"+G1275*MM","v":0},{"$f":"+I1275*F1275","v":0},{"$f":"+G1275-I1275","v":0},{"$f":"+K1275*F1275","v":0}]
[null,null,null,null,null,null,null,0]
["196",null,"PM","POLKROŽNA MIZA fi 130",null,null,null,0]
[null,null,null,"višina 75 cm",null,null,null,0]
[null,null,null,"Opis:",null,null,null,0]
[null,null,null,"Kovinska ovalna cev prašno barvana  z ustreznimi drsniki",null,null,null,0]
[null,null,null,"mizna plošča Iveral beš 24 mm obrobljena masivnm bukvim nalimkom ","kom",2,null,0,{"$f":"+G1281*MM","v":0},{"$f":"+I1281*F1281","v":0},{"$f":"+G1281-I1281","v":0},{"$f":"+K1281*F1281","v":0}]
[null,null,"PMK","EXPERIMENTALNA MIZA",null,null,null,0]
[null,null,null,"240X70X90 CM",null,null,null,0]
[null,null,"1.","Eksperimentalna miza učitelja, dim.240x70 x v.90 mm, s priključki za elektriko, toplo in hladno vodo ter gorilni plin s podpultnimi omaricami na polnem podnožju;\n\n- delovne plošča monolitna keramika, deb. 28 mm s protirazlivnim robom in koritom, dim. 380 x 380 x 250 iz keramike; \n- podpultni instalacijski omarici z masko za korito in omarica z ličnico za elektro in plinske priključke (3x vtičnica 230V, kontrolna lučka, stikalo za izklop v sili);","kom",1,null,0,{"$f":"+G1284*MM","v":0},{"$f":"+I1284*F1284","v":0},{"$f":"+G1284-I1284","v":0},{"$f":"+K1284*F1284","v":0}]
[null,null,"ORO","ODSESEVALNA ROKA ALSIDENT",null,null,null,0]
[null,null,null,"z ventilatorjem in odvodom  +kabinetom","kpl",1,null,0,{"$f":"+G1286*MM","v":0},{"$f":"+I1286*F1286","v":0},{"$f":"+G1286-I1286","v":0},{"$f":"+K1286*F1286","v":0}]
[null,null,null,null,null,null,null,0]
[null,null,null,"UČILNICA BIOLOGIJA"]
[null,null,null,null,null,null,null,0]
["197",null,"OMVS","OMARA  STEKLENA VISOKA ","kom",2,null,0,{"$f":"+G1290*MM","v":0},{"$f":"+I1290*F1290","v":0},{"$f":"+G1290-I1290","v":0},{"$f":"+K1290*F1290","v":0}]
[null,null,null,"dim  90x55x200 cm",null,null,null,0]
[null,null,null,"Sestav:",null,null,null,0]
[null,null,null,"Omara  dvodelan izdelana iz iverala ABS 2mm, zgoraj steklena  vrata v lesenem okvirju, spodaj polna vrata",null,null,null,0]
[null,null,null,"Opis",null,null,null,0]
[null,null,null,"Omara je izdelana iz iverala; odmične sponei, ključavnica; premične police na kovinskih nosilcih; 10 cm, regulirne nogice, cokel ALU    ",null,null,null,0]
[null,null,null,null,null,null,null,0]
["198",null,"OMV","OMARA   VISOKA ","kom",4,null,0,{"$f":"+G1297*MM","v":0},{"$f":"+I1297*F1297","v":0},{"$f":"+G1297-I1297","v":0},{"$f":"+K1297*F1297","v":0}]
[null,null,null,"dim  90x55x200 cm",null,null,null,0]
[null,null,null,"Sestav:",null,null,null,0]
[null,null,null,"Omara  dvodelan deljena vrata izdelana iz iverala ABS 2mm ",null,null,null,0]
[null,null,null,"Opis",null,null,null,0]
[null,null,null,"Omara je izdelana iz iverala; odmične sponei, ključavnica; premične police na kovinskih nosilcih; 10 cm, regulirne nogice, cokel ALU    ",null,null,null,0]
[null,null,null,null,null,null,null,0]
["199",null,"OMN","OMARA NIZKA",null,null,null,0]
[null,null,null,"dim 90X55X76 cm",null,null,null,0]
[null,null,null,"Sestav:",null,null,null,0]
[null,null,null,"Omara nizka polna vrata",null,null,null,0]
[null,null,null,"Opis:",null,null,null,0]
[null,null,null,"Omara  nizka izdelana iz iverala ABS 2mm ",null,null,null,0]
[null,null,null,"Opis",null,null,null,0]
[null,null,null,"Omara je izdelana iz iverala; odmične sponei, ključavnica; premične police na kovinskih nosilcih; 10 cm, regulirne nogice, cokel ALU    ","kom",4,null,0,{"$f":"+G1311*MM","v":0},{"$f":"+I1311*F1311","v":0},{"$f":"+G1311-I1311","v":0},{"$f":"+K1311*F1311","v":0}]
[null,null,null,null,null,null,null,{"$f":"G1312*F1312","v":0}]
["200",null,"OB","OBLOGE NAD OMARICAMI",null,null,null,0]
[null,null,"*","dim 400X125 cm  ","tm",4,null,0,{"$f":"+G1314*MM","v":0},{"$f":"+I1314*F1314","v":0},{"$f":"+G1314-I1314","v":0},{"$f":"+K1314*F1314","v":0}]
[null,null,"*","dim450x125 cm","tm",4.5,null,0,{"$f":"+G1315*MM","v":0},{"$f":"+I1315*F1315","v":0},{"$f":"+G1315-I1315","v":0},{"$f":"+K1315*F1315","v":0}]
[null,null,"*","dim 290x125 cm","tm",2.9,null,0,{"$f":"+G1316*MM","v":0},{"$f":"+I1316*F1316","v":0},{"$f":"+G1316-I1316","v":0},{"$f":"+K1316*F1316","v":0}]
[null,null,null,"*Točne dimenzije se določijo ob izvedbi.",null,null,null,0]
[null,null,null,"Sestav:",null,null,null,0]
[null,null,null,"Opis:",null,null,null,0]
[null,null,null,"Zahtevana požarna odpornost oblog:",null,null,null,0]
[null,null,null,null,null,null,null,0]
["201",null,"MK","MIZA-KATEDER UČITELJA",null,null,null,0]
[null,null,null,"dim 190+190x60x75 cm",null,null,null,0]
[null,null,null,"Opis:",null,null,null,0]
[null,null,null,"Kovinska ovalna cev prašno barvana  z ustreznimi drsniki",null,null,null,0]
[null,null,null,"mizna plošča Iveral beš 24 mm obrobljena masivnm bukvim nalimkom","kom",1,null,0,{"$f":"+G1326*MM","v":0},{"$f":"+I1326*F1326","v":0},{"$f":"+G1326-I1326","v":0},{"$f":"+K1326*F1326","v":0}]
[null,null,null,null,null,null,null,0]
["202",null,"SU","STOL ZA UČITELJA",null,null,null,0]
[null,null,null,"v. 45 cm",null,null,null,0]
[null,null,null,"Opis",null,null,null,0]
[null,null,null,"Stol za učitelja  kovinska ovalan cev prašno barana z ustrezni drsniki sedež in naslon oblazinjen ","kom",1,null,0,{"$f":"+G1331*MM","v":0},{"$f":"+I1331*F1331","v":0},{"$f":"+G1331-I1331","v":0},{"$f":"+K1331*F1331","v":0}]
[null,null,null,null,null,null,null,0]
["203",null,"S1","STOL ZA UČENCA",null,null,null,0]
[null,null,null,"v.45 cm",null,null,null,0]
[null,null,null,"Opis",null,null,null,0]
[null,null,null,"Kovinska ovalna cev prašno barvana, z ustreznimi drsniki sedež in naslon bukova vezana plošča","kom",30,null,0,{"$f":"+G1336*MM","v":0},{"$f":"+I1336*F1336","v":0},{"$f":"+G1336-I1336","v":0},{"$f":"+K1336*F1336","v":0}]
[null,null,null,null,null,null,null,0]
[null,null,null,"EXPERIMENTALNA MIZA",null,null,null,0]
[null,null,"1.","Eksperimentalna miza učitelja, dim. 1900 x 700 x v.900 mm, s priključki za elektriko,  podpultnimi omaricami na polnem podnožju;\n\n- delovne ploščaUT, deb. 28 mm s protirazlivnim robom in koritom, dim. 380 x 380 x 250 iz keramike; \n- podpultni instalacijski omarici z masko omarica z ličnico za elektro in plinske priključke (3x vtičnica 230V, kontrolna lučka, stikalo za izklop v sili);","kom",1,null,0,{"$f":"+G1339*MM","v":0},{"$f":"+I1339*F1339","v":0},{"$f":"+G1339-I1339","v":0},{"$f":"+K1339*F1339","v":0}]
[null,null,"2.","Miza dvosed dim 130x60x75 cm ",null,null,null,0]
[null,null,null,"Kovinska ovalna cev prašno barvana, z ustreznimi drsniki sedež in naslon bukova vezana plošča","kom",15,null,0,{"$f":"+G1341*MM","v":0},{"$f":"+I1341*F1341","v":0},{"$f":"+G1341-I1341","v":0},{"$f":"+K1341*F1341","v":0}]
[null,null,"PMK","PULT",null,null,null,0]
[null,null,null," Ivetar + UT dim 100x60x75 cm","tm",10,null,0,{"$f":"+G1343*MM","v":0},{"$f":"+I1343*F1343","v":0},{"$f":"+G1343-I1343","v":0},{"$f":"+K1343*F1343","v":0}]
[null,null,null,null,null,null,null,0]
[null,null,null,"UČILNICA FIZIKE "]
[null,null,null,null,null,null,null,0]
["206",null,"OMVS","OMARA  STEKLENA VISOKA ","kom",2,null,0,{"$f":"+G1347*MM","v":0},{"$f":"+I1347*F1347","v":0},{"$f":"+G1347-I1347","v":0},{"$f":"+K1347*F1347","v":0}]
[null,null,null,"dim  90x55x200 cm",null,null,null,0]
[null,null,null,"Sestav:",null,null,null,0]
[null,null,null,"Omara  dvodelan izdelana iz iverala ABS 2mm, zgoraj steklena  vrata v lesenem okvirju, spodaj polna vrata",null,null,null,0]
[null,null,null,"Opis",null,null,null,0]
[null,null,null,"Omara je izdelana iz iverala; odmične sponei, ključavnica; premične police na kovinskih nosilcih; 10 cm, regulirne nogice, cokel ALU    ",null,null,null,0]
[null,null,null,null,null,null,null,0]
["207",null,"OMV","OMARA   VISOKA ","kom",4,null,0,{"$f":"+G1354*MM","v":0},{"$f":"+I1354*F1354","v":0},{"$f":"+G1354-I1354","v":0},{"$f":"+K1354*F1354","v":0}]
[null,null,null,"dim 90x55x200 cm",null,null,null,0]
[null,null,null,"Sestav:",null,null,null,0]
[null,null,null,"Omara  dvodelan deljena vrata izdelana iz iverala ABS 2mm ",null,null,null,0]
[null,null,null,"Opis",null,null,null,0]
[null,null,null,"Omara je izdelana iz iverala; odmične sponei, ključavnica; premične police na kovinskih nosilcih; 10 cm, regulirne nogice, cokel ALU    ",null,null,null,0]
[null,null,null,null,null,null,null,0]
["208",null,"OMN","OMARA NIZKA",null,null,null,0]
[null,null,null,"dim 90X55X76 cm",null,null,null,0]
[null,null,null,"Sestav:",null,null,null,0]
[null,null,null,"Omara nizka polna vrata",null,null,null,0]
[null,null,null,"Opis:",null,null,null,0]
[null,null,null,"Omara  nizka izdelana iz iverala ABS 2mm ",null,null,null,0]
[null,null,null,"Opis",null,null,null,0]
[null,null,null,"Omara je izdelana iz iverala; odmične sponei, ključavnica; premične police na kovinskih nosilcih; 10 cm, regulirne nogice, cokel ALU    ","kom",4,null,0,{"$f":"+G1368*MM","v":0},{"$f":"+I1368*F1368","v":0},{"$f":"+G1368-I1368","v":0},{"$f":"+K1368*F1368","v":0}]
[null,null,null,null,null,null,null,0]
["209",null,"OB","OBLOGE NAD OMARICAMI",null,null,null,0]
[null,null,"*","dim 400X125 cm  ","tm",4,null,0,{"$f":"+G1371*MM","v":0},{"$f":"+I1371*F1371","v":0},{"$f":"+G1371-I1371","v":0},{"$f":"+K1371*F1371","v":0}]
[null,null,"*","dim450x125 cm","tm",4.5,null,0,{"$f":"+G1372*MM","v":0},{"$f":"+I1372*F1372","v":0},{"$f":"+G1372-I1372","v":0},{"$f":"+K1372*F1372","v":0}]
[null,null,"*","dim 290x125 cm","tm",2.9,null,0,{"$f":"+G1373*MM","v":0},{"$f":"+I1373*F1373","v":0},{"$f":"+G1373-I1373","v":0},{"$f":"+K1373*F1373","v":0}]
[null,null,null,"*Točne dimenzije se določijo ob izvedbi.",null,null,null,0]
[null,null,null,"Sestav:",null,null,null,0]
[null,null,null,"Opis:",null,null,null,{"$f":"G1376*F1376","v":0}]
[null,null,null,"Zahtevana požarna odpornost oblog:",null,null,null,0]
[null,null,null,null,null,null,null,0]
["210",null,"MK","MIZA-KATEDER UČITELJA",null,null,null,0]
[null,null,null,"dim 190+190x60x75 cm",null,null,null,0]
[null,null,null,"Opis:",null,null,null,0]
[null,null,null,"Kovinska ovalna cev prašno barvana  z ustreznimi drsniki",null,null,null,0]
[null,null,null,"mizna plošča Iveral beš 24 mm obrobljena masivnm bukvim nalimkom","kom",1,null,0,{"$f":"+G1383*MM","v":0},{"$f":"+I1383*F1383","v":0},{"$f":"+G1383-I1383","v":0},{"$f":"+K1383*F1383","v":0}]
[null,null,null,null,null,null,null,0]
["211",null,"M1","MIZA ZA UČENCA",null,null,null,0]
[null,null,null,"Mize za učence - ENOJNA klasična",null,null,null,0]
[null,null,null,"dim 65X60X72  ",null,null,null,0]
[null,null,null,"Kovinska ovalna cev prašno barvana  z ustreznimi drsniki",null,null,null,0]
[null,null,null,"mizna plošča Iveral beš 24 mm obrobljena masivnm bukvim nalimkom ( kljukica za obešanje torbice )","kom",12,null,0,{"$f":"+G1389*MM","v":0},{"$f":"+I1389*F1389","v":0},{"$f":"+G1389-I1389","v":0},{"$f":"+K1389*F1389","v":0}]
[null,null,"PP","parapet pri vsakem delovnem mestu ( strojne instalacije )  miza fiksirana v tla",null,null,null,0]
["212",null,"M2","MIZA ZA UČENCA",null,null,null,0]
[null,null,null,"Mize za učence - DVOJNA klasična",null,null,null,0]
[null,null,null,"dim 130x60X72  ",null,null,null,0]
[null,null,null,"Kovinska ovalna cev prašno barvana  z ustreznimi drsniki",null,null,null,0]
[null,null,null,"mizna plošča Iveral beš 24 mm obrobljena masivnm bukvim nalimkom ( kljukica za obešanje torbice )","kom",8,null,0,{"$f":"+G1395*MM","v":0},{"$f":"+I1395*F1395","v":0},{"$f":"+G1395-I1395","v":0},{"$f":"+K1395*F1395","v":0}]
[null,null,"PP","parapet pri vsakem delovnem mestu ( strojne instalacije ) miza fiksirana v tlaj",null,null,null,{"$f":"G1396*F1396","v":0}]
["213",null,"SU","STOL ZA UČITELJA",null,null,null,0]
[null,null,null,"v. 45 cm",null,null,null,0]
[null,null,null,"Opis",null,null,null,0]
[null,null,null,"Stol za učitelja  kovinska ovalan cev prašno barana z ustrezni drsniki sedež in naslon oblazinjen ","kom",1,null,0,{"$f":"+G1400*MM","v":0},{"$f":"+I1400*F1400","v":0},{"$f":"+G1400-I1400","v":0},{"$f":"+K1400*F1400","v":0}]
[null,null,null,null,null,null,null,0]
["214",null,"S1","STOL ZA UČENCA",null,null,null,0]
[null,null,null,"v.42 cm",null,null,null,0]
[null,null,null,"Opis",null,null,null,0]
[null,null,null,"Kovinska ovalna cev prašno barvana, z ustreznimi drsniki sedež in naslon bukova vezana plošča","kom",28,null,0,{"$f":"+G1405*MM","v":0},{"$f":"+I1405*F1405","v":0},{"$f":"+G1405-I1405","v":0},{"$f":"+K1405*F1405","v":0}]
[null,null,null,null,null,null,null,0]
["215",null,"PM","POLKROŽNA MIZA fi 130",null,null,null,0]
[null,null,null,"višina 42 cm",null,null,null,0]
[null,null,null,"Opis:",null,null,null,0]
[null,null,null,"Kovinska ovalna cev prašno barvana  z ustreznimi drsniki",null,null,null,0]
[null,null,null,"mizna plošča Iveral beš 24 mm obrobljena masivnm bukvim nalimkom ","kom",2,null,0,{"$f":"+G1411*MM","v":0},{"$f":"+I1411*F1411","v":0},{"$f":"+G1411-I1411","v":0},{"$f":"+K1411*F1411","v":0}]
[null,null,null,"EXPERIMENTALNA MIZA",null,null,null,0]
[null,null,"1.","Eksperimentalna miza učitelja, dim. 1900 x 700 x v.900 mm, s priključki za elektriko,  podpultnimi omaricami na polnem podnožju;\n\n- delovne ploščaUT, deb. 28 mm s protirazlivnim robom in koritom, dim. 380 x 380 x 250 iz keramike; \n- podpultni instalacijski omarici z masko omarica z ličnico za elektro in plinske priključke (3x vtičnica 230V, kontrolna lučka, stikalo za izklop v sili);","kom",1,null,0,{"$f":"+G1413*MM","v":0},{"$f":"+I1413*F1413","v":0},{"$f":"+G1413-I1413","v":0},{"$f":"+K1413*F1413","v":0}]
[null,null,null,"UČILNICA ZGODOVINA"]
[null,null,null,null,null,null,null,0]
["216",null,"OMVS","OMARA  STEKLENA VISOKA ","kom",2,null,0,{"$f":"+G1416*MM","v":0},{"$f":"+I1416*F1416","v":0},{"$f":"+G1416-I1416","v":0},{"$f":"+K1416*F1416","v":0}]
[null,null,null,"dim  90x55x200 cm",null,null,null,0]
[null,null,null,"Sestav:",null,null,null,0]
[null,null,null,"Omara  dvodelan izdelana iz iverala ABS 2mm, zgoraj steklena  vrata v lesenem okvirju, spodaj polna vrata",null,null,null,0]
[null,null,null,"Opis",null,null,null,0]
[null,null,null,"Omara je izdelana iz iverala; odmične sponei, ključavnica; premične police na kovinskih nosilcih; 10 cm, regulirne nogice, cokel ALU    ",null,null,null,0]
[null,null,null,null,null,null,null,0]
["217",null,"OMV","OMARA   VISOKA ","kom",4,null,0,{"$f":"+G1423*MM","v":0},{"$f":"+I1423*F1423","v":0},{"$f":"+G1423-I1423","v":0},{"$f":"+K1423*F1423","v":0}]
[null,null,null,"dim  90x55x200 cm",null,null,null,0]
[null,null,null,"Sestav:",null,null,null,0]
[null,null,null,"Omara  dvodelan deljena vrata izdelana iz iverala ABS 2mm ",null,null,null,0]
[null,null,null,"Opis",null,null,null,0]
[null,null,null,"Omara je izdelana iz iverala; odmične sponei, ključavnica; premične police na kovinskih nosilcih; 10 cm, regulirne nogice, cokel ALU    ",null,null,null,0]
[null,null,null,null,null,null,null,0]
["218",null,"OMN","OMARA NIZKA",null,null,null,0]
[null,null,null,"dim 90X55X76 cm",null,null,null,0]
[null,null,null,"Sestav:",null,null,null,0]
[null,null,null,"Omara nizka polna vrata",null,null,null,0]
[null,null,null,"Opis:",null,null,null,0]
[null,null,null,"Omara  nizka izdelana iz iverala ABS 2mm ",null,null,null,0]
[null,null,null,"Opis",null,null,null,0]
[null,null,null,"Omara je izdelana iz iverala; odmične sponei, ključavnica; premične police na kovinskih nosilcih; 10 cm, regulirne nogice, cokel ALU    ","kom",4,null,0,{"$f":"+G1437*MM","v":0},{"$f":"+I1437*F1437","v":0},{"$f":"+G1437-I1437","v":0},{"$f":"+K1437*F1437","v":0}]
[null,null,null,null,null,null,null,0]
["219",null,"OB","OBLOGE NAD OMARICAMI",null,null,null,0]
[null,null,"*","dim 400X125 cm  ","tm",4,null,{"$f":"G1440*F1440","v":0},{"$f":"+G1440*MM","v":0},{"$f":"+I1440*F1440","v":0},{"$f":"+G1440-I1440","v":0},{"$f":"+K1440*F1440","v":0}]
[null,null,"*","dim450x125 cm","tm",4.5,null,0,{"$f":"+G1441*MM","v":0},{"$f":"+I1441*F1441","v":0},{"$f":"+G1441-I1441","v":0},{"$f":"+K1441*F1441","v":0}]
[null,null,"*","dim 290x125 cm","tm",2.9,null,0,{"$f":"+G1442*MM","v":0},{"$f":"+I1442*F1442","v":0},{"$f":"+G1442-I1442","v":0},{"$f":"+K1442*F1442","v":0}]
[null,null,null,"*Točne dimenzije se določijo ob izvedbi.",null,null,null,0]
[null,null,null,"Sestav:",null,null,null,0]
[null,null,null,"Opis:",null,null,null,0]
[null,null,null,"Zahtevana požarna odpornost oblog:",null,null,null,0]
[null,null,null,null,null,null,null,0]
["220",null,"MK","MIZA-KATEDER UČITELJA",null,null,null,0]
[null,null,null,"dim 190+190x60x75 cm",null,null,null,0]
[null,null,null,"Opis:",null,null,null,0]
[null,null,null,"Kovinska ovalna cev prašno barvana  z ustreznimi drsniki",null,null,null,0]
[null,null,null,"mizna plošča Iveral beš 24 mm obrobljena masivnm bukvim nalimkom","kom",1,null,0,{"$f":"+G1452*MM","v":0},{"$f":"+I1452*F1452","v":0},{"$f":"+G1452-I1452","v":0},{"$f":"+K1452*F1452","v":0}]
[null,null,null,null,null,null,null,0]
["221",null,"M1","MIZA ZA UČENCA",null,null,null,0]
[null,null,null,"Mize za učence - ENOJNA klasična",null,null,null,0]
[null,null,null,"dim 65x50X72  ",null,null,null,0]
[null,null,null,"Kovinska ovalna cev prašno barvana  z ustreznimi drsniki",null,null,null,0]
[null,null,null,"mizna plošča Iveral beš 24 mm obrobljena masivnm bukvim nalimkom ( kljukica za obešanje torbice )","kom",12,null,0,{"$f":"+G1458*MM","v":0},{"$f":"+I1458*F1458","v":0},{"$f":"+G1458-I1458","v":0},{"$f":"+K1458*F1458","v":0}]
[null,null,null,null,null,null,null,0]
["222",null,"M2","MIZA ZA UČENCA",null,null,null,0]
[null,null,null,"Mize za učence - DVOJNA klasična",null,null,null,0]
[null,null,null,"dim 130x50X72  ",null,null,null,0]
[null,null,null,"Kovinska ovalna cev prašno barvana  z ustreznimi drsniki",null,null,null,0]
[null,null,null,"mizna plošča Iveral beš 24 mm obrobljena masivnm bukvim nalimkom ( kljukica za obešanje torbice )","kom",8,null,0,{"$f":"+G1464*MM","v":0},{"$f":"+I1464*F1464","v":0},{"$f":"+G1464-I1464","v":0},{"$f":"+K1464*F1464","v":0}]
[null,null,null,null,null,null,null,0]
["223",null,"SU","STOL ZA UČITELJA",null,null,null,0]
[null,null,null,"v. 45 cm",null,null,null,0]
[null,null,null,"Opis",null,null,null,0]
[null,null,null,"Stol za učitelja  kovinska ovalan cev prašno barana z ustrezni drsniki sedež in naslon oblazinjen ","kom",1,null,0,{"$f":"+G1469*MM","v":0},{"$f":"+I1469*F1469","v":0},{"$f":"+G1469-I1469","v":0},{"$f":"+K1469*F1469","v":0}]
[null,null,null,null,null,null,null,0]
["224",null,"S1","STOL ZA UČENCA",null,null,null,0]
[null,null,null,"v.42 cm",null,null,null,0]
[null,null,null,"Opis",null,null,null,0]
[null,null,null,"Kovinska ovalna cev prašno barvana, z ustreznimi drsniki sedež in naslon bukova vezana plošča","kom",28,null,0,{"$f":"+G1474*MM","v":0},{"$f":"+I1474*F1474","v":0},{"$f":"+G1474-I1474","v":0},{"$f":"+K1474*F1474","v":0}]
[null,null,null,null,null,null,null,0]
["225",null,"PM","POLKROŽNA MIZA fi 130",null,null,null,0]
[null,null,null,"višina 42 cm",null,null,null,0]
[null,null,null,"Opis:",null,null,null,0]
[null,null,null,"Kovinska ovalna cev prašno barvana  z ustreznimi drsniki",null,null,null,0]
[null,null,null,"mizna plošča Iveral beš 24 mm obrobljena masivnm bukvim nalimkom ","kom",2,null,0,{"$f":"+G1480*MM","v":0},{"$f":"+I1480*F1480","v":0},{"$f":"+G1480-I1480","v":0},{"$f":"+K1480*F1480","v":0}]
[null,null,null,null,null,null,null,0]
[null,null,null,"UČILNICA GEOGRAFIJE"]
[null,null,null,null,null,null,null,0]
["226",null,"OMVS","OMARA  STEKLENA VISOKA ","kom",2,null,0,{"$f":"+G1484*MM","v":0},{"$f":"+I1484*F1484","v":0},{"$f":"+G1484-I1484","v":0},{"$f":"+K1484*F1484","v":0}]
[null,null,null,"dim 90x55x200 cm",null,null,null,0]
[null,null,null,"Sestav:",null,null,null,0]
[null,null,null,"Omara  dvodelan izdelana iz iverala ABS 2mm, zgoraj steklena  vrata v lesenem okvirju, spodaj polna vrata",null,null,null,0]
[null,null,null,"Opis",null,null,null,0]
[null,null,null,"Omara je izdelana iz iverala; odmične sponei, ključavnica; premične police na kovinskih nosilcih; 10 cm, regulirne nogice, cokel ALU    ",null,null,null,0]
[null,null,null,null,null,null,null,0]
["227",null,"OMV","OMARA   VISOKA ","kom",4,null,0,{"$f":"+G1491*MM","v":0},{"$f":"+I1491*F1491","v":0},{"$f":"+G1491-I1491","v":0},{"$f":"+K1491*F1491","v":0}]
[null,null,null,"dim  90x55x200 cm",null,null,null,0]
[null,null,null,"Sestav:",null,null,null,0]
[null,null,null,"Omara  dvodelan deljena vrata izdelana iz iverala ABS 2mm ",null,null,null,0]
[null,null,null,"Opis",null,null,null,0]
[null,null,null,"Omara je izdelana iz iverala; odmične sponei, ključavnica; premične police na kovinskih nosilcih; 10 cm, regulirne nogice, cokel ALU    ",null,null,null,0]
[null,null,null,null,null,null,null,0]
["228",null,"OMN","OMARA NIZKA",null,null,null,0]
[null,null,null,"dim 90X55X76 cm",null,null,null,0]
[null,null,null,"Sestav:",null,null,null,0]
[null,null,null,"Omara nizka polna vrata",null,null,null,0]
[null,null,null,"Opis:",null,null,null,0]
[null,null,null,"Omara  nizka izdelana iz iverala ABS 2mm ",null,null,null,0]
[null,null,null,"Opis",null,null,null,{"$f":"G1504*F1504","v":0}]
[null,null,null,"Omara je izdelana iz iverala; odmične sponei, ključavnica; premične police na kovinskih nosilcih; 10 cm, regulirne nogice, cokel ALU    ","kom",4,null,0,{"$f":"+G1505*MM","v":0},{"$f":"+I1505*F1505","v":0},{"$f":"+G1505-I1505","v":0},{"$f":"+K1505*F1505","v":0}]
[null,null,null,null,null,null,null,0]
["229",null,"OB","OBLOGE NAD OMARICAMI",null,null,null,0]
[null,null,"*","dim 400X125 cm  ","tm",4,null,0,{"$f":"+G1508*MM","v":0},{"$f":"+I1508*F1508","v":0},{"$f":"+G1508-I1508","v":0},{"$f":"+K1508*F1508","v":0}]
[null,null,"*","dim450x125 cm","tm",4.5,null,0,{"$f":"+G1509*MM","v":0},{"$f":"+I1509*F1509","v":0},{"$f":"+G1509-I1509","v":0},{"$f":"+K1509*F1509","v":0}]
[null,null,"*","dim 290x125 cm","tm",2.9,null,0,{"$f":"+G1510*MM","v":0},{"$f":"+I1510*F1510","v":0},{"$f":"+G1510-I1510","v":0},{"$f":"+K1510*F1510","v":0}]
[null,null,null,"*Točne dimenzije se določijo ob izvedbi.",null,null,null,0]
[null,null,null,"Sestav:",null,null,null,0]
[null,null,null,"Opis:",null,null,null,0]
[null,null,null,"Zahtevana požarna odpornost oblog:",null,null,null,0]
[null,null,null,null,null,null,null,0]
["230",null,"MK","MIZA-KATEDER UČITELJA",null,null,null,0]
[null,null,null,"dim 190+190x60x75 cm",null,null,null,0]
[null,null,null,"Opis:",null,null,null,0]
[null,null,null,"Kovinska ovalna cev prašno barvana  z ustreznimi drsniki",null,null,null,0]
[null,null,null,"mizna plošča Iveral beš 24 mm obrobljena masivnm bukvim nalimkom","kom",1,null,0,{"$f":"+G1520*MM","v":0},{"$f":"+I1520*F1520","v":0},{"$f":"+G1520-I1520","v":0},{"$f":"+K1520*F1520","v":0}]
[null,null,null,null,null,null,null,0]
["231",null,"M1","MIZA ZA UČENCA",null,null,null,0]
[null,null,null,"Mize za učence - ENOJNA klasična",null,null,null,0]
[null,null,null,"dim 65x50X72  ",null,null,null,0]
[null,null,null,"Kovinska ovalna cev prašno barvana  z ustreznimi drsniki",null,null,null,0]
[null,null,null,"mizna plošča Iveral beš 24 mm obrobljena masivnm bukvim nalimkom ( kljukica za obešanje torbice )","kom",12,null,0,{"$f":"+G1526*MM","v":0},{"$f":"+I1526*F1526","v":0},{"$f":"+G1526-I1526","v":0},{"$f":"+K1526*F1526","v":0}]
[null,null,null,null,null,null,null,0]
["232",null,"M2","MIZA ZA UČENCA",null,null,null,0]
[null,null,null,"Mize za učence - DVOJNA klasična",null,null,null,0]
[null,null,null,"dim 130x50X72  ",null,null,null,0]
[null,null,null,"Kovinska ovalna cev prašno barvana  z ustreznimi drsniki",null,null,null,0]
[null,null,null,"mizna plošča Iveral beš 24 mm obrobljena masivnm bukvim nalimkom ( kljukica za obešanje torbice )","kom",8,null,0,{"$f":"+G1532*MM","v":0},{"$f":"+I1532*F1532","v":0},{"$f":"+G1532-I1532","v":0},{"$f":"+K1532*F1532","v":0}]
[null,null,null,null,null,null,null,0]
["233",null,"SU","STOL ZA UČITELJA",null,null,null,0]
[null,null,null,"v. 45 cm",null,null,null,0]
[null,null,null,"Opis",null,null,null,0]
[null,null,null,"Stol za učitelja  kovinska ovalan cev prašno barana z ustrezni drsniki sedež in naslon oblazinjen ","kom",1,null,0,{"$f":"+G1537*MM","v":0},{"$f":"+I1537*F1537","v":0},{"$f":"+G1537-I1537","v":0},{"$f":"+K1537*F1537","v":0}]
[null,null,null,null,null,null,null,0]
["234",null,"S1","STOL ZA UČENCA",null,null,null,0]
[null,null,null,"v.42 cm",null,null,null,0]
[null,null,null,"Opis",null,null,null,0]
[null,null,null,"Kovinska ovalna cev prašno barvana, z ustreznimi drsniki sedež in naslon bukova vezana plošča","kom",28,null,0,{"$f":"+G1542*MM","v":0},{"$f":"+I1542*F1542","v":0},{"$f":"+G1542-I1542","v":0},{"$f":"+K1542*F1542","v":0}]
[null,null,null,null,null,null,null,0]
["235",null,"PM","POLKROŽNA MIZA fi 130",null,null,null,0]
[null,null,null,"višina 42 cm",null,null,null,0]
[null,null,null,"Opis:",null,null,null,0]
[null,null,null,"Kovinska ovalna cev prašno barvana  z ustreznimi drsniki",null,null,null,0]
[null,null,null,"mizna plošča Iveral beš 24 mm obrobljena masivnm bukvim nalimkom ","kom",2,null,0,{"$f":"+G1548*MM","v":0},{"$f":"+I1548*F1548","v":0},{"$f":"+G1548-I1548","v":0},{"$f":"+K1548*F1548","v":0}]
[null,null,null,null,null,null,null,0]
[null,null,null,"KABINET DRUŽBOSLOVJE"]
[null,null,null,null,null,null,null,0]
["236",null,"OMV","OMARA   VISOKA ",null,null,null,0]
[null,null,null,"dim  90x55x200 cm",null,null,null,0]
[null,null,null,"Sestav:",null,null,null,0]
[null,null,null,"Omara  dvodelan deljena vrata izdelana iz iverala ABS 2mm ",null,null,null,0]
[null,null,null,"Opis",null,null,null,0]
[null,null,null,"Omara je izdelana iz iverala; odmične sponei, ključavnica; premične police na kovinskih nosilcih; 10 cm, regulirne nogice, cokel ALU    ","kom",2,null,0,{"$f":"+G1557*MM","v":0},{"$f":"+I1557*F1557","v":0},{"$f":"+G1557-I1557","v":0},{"$f":"+K1557*F1557","v":0}]
[null,null,null,null,null,null,null,0]
["237",null,"PM","MIZA PISALNA",null,null,null,0]
[null,null,null,"dim 120x75x75 cm",null,null,null,0]
[null,null,null,"Opis",null,null,null,0]
[null,null,null,"Miza kovinsko podnožje mizna plošča Iveral ABS ","kom",1,null,0,{"$f":"+G1562*MM","v":0},{"$f":"+I1562*F1562","v":0},{"$f":"+G1562-I1562","v":0},{"$f":"+K1562*F1562","v":0}]
["238",null,"PRED","Mobilni predalnik - ključ",null,null,null,0]
[null,null,null,"dim 45x60x60 cm","kom",1,null,0,{"$f":"+G1564*MM","v":0},{"$f":"+I1564*F1564","v":0},{"$f":"+G1564-I1564","v":0},{"$f":"+K1564*F1564","v":0}]
["239",null,"DS","Stol  vrtljiv Ergomatic tapeciran  umetno usnje","kom",1,null,0,{"$f":"+G1565*MM","v":0},{"$f":"+I1565*F1565","v":0},{"$f":"+G1565-I1565","v":0},{"$f":"+K1565*F1565","v":0}]
[null,null,null,null,null,null,null,0]
[null,null,null,"UČILNICA MATEMATIKE"]
[null,null,null,null,null,null,null,{"$f":"G1568*F1568","v":0}]
["240",null,"OMVS","OMARA  STEKLENA VISOKA ","kom",2,null,0,{"$f":"+G1569*MM","v":0},{"$f":"+I1569*F1569","v":0},{"$f":"+G1569-I1569","v":0},{"$f":"+K1569*F1569","v":0}]
[null,null,null,"dim 90x55x200 cm",null,null,null,0]
[null,null,null,"Sestav:",null,null,null,0]
[null,null,null,"Omara  dvodelan izdelana iz iverala ABS 2mm, zgoraj steklena  vrata v lesenem okvirju, spodaj polna vrata",null,null,null,0]
[null,null,null,"Opis",null,null,null,0]
[null,null,null,"Omara je izdelana iz iverala; odmične sponei, ključavnica; premične police na kovinskih nosilcih; 10 cm, regulirne nogice, cokel ALU    ",null,null,null,0]
[null,null,null,null,null,null,null,0]
["241",null,"OMV","OMARA   VISOKA ","kom",4,null,0,{"$f":"+G1576*MM","v":0},{"$f":"+I1576*F1576","v":0},{"$f":"+G1576-I1576","v":0},{"$f":"+K1576*F1576","v":0}]
[null,null,null,"dim 90x55x200 cm",null,null,null,0]
[null,null,null,"Sestav:",null,null,null,0]
[null,null,null,"Omara  dvodelan deljena vrata izdelana iz iverala ABS 2mm ",null,null,null,0]
[null,null,null,"Opis",null,null,null,0]
[null,null,null,"Omara je izdelana iz iverala; odmične sponei, ključavnica; premične police na kovinskih nosilcih; 10 cm, regulirne nogice, cokel ALU    ",null,null,null,0]
[null,null,null,null,null,null,null,0]
["242",null,"OMN","OMARA NIZKA",null,null,null,0]
[null,null,null,"dim 90X55X76 cm",null,null,null,0]
[null,null,null,"Sestav:",null,null,null,0]
[null,null,null,"Omara nizka polna vrata",null,null,null,0]
[null,null,null,"Opis:",null,null,null,0]
[null,null,null,"Omara  nizka izdelana iz iverala ABS 2mm ",null,null,null,0]
[null,null,null,"Opis",null,null,null,0]
[null,null,null,"Omara je izdelana iz iverala; odmične sponei, ključavnica; premične police na kovinskih nosilcih; 10 cm, regulirne nogice, cokel ALU    ","kom",4,null,0,{"$f":"+G1590*MM","v":0},{"$f":"+I1590*F1590","v":0},{"$f":"+G1590-I1590","v":0},{"$f":"+K1590*F1590","v":0}]
[null,null,null,null,null,null,null,0]
["243",null,"OB","OBLOGE NAD OMARICAMI",null,null,null,0]
[null,null,"*","dim 400X125 cm  ","tm",4,null,0,{"$f":"+G1593*MM","v":0},{"$f":"+I1593*F1593","v":0},{"$f":"+G1593-I1593","v":0},{"$f":"+K1593*F1593","v":0}]
[null,null,"*","dim450x125 cm","tm",4.5,null,0,{"$f":"+G1594*MM","v":0},{"$f":"+I1594*F1594","v":0},{"$f":"+G1594-I1594","v":0},{"$f":"+K1594*F1594","v":0}]
[null,null,"*","dim 290x125 cm","tm",2.9,null,0,{"$f":"+G1595*MM","v":0},{"$f":"+I1595*F1595","v":0},{"$f":"+G1595-I1595","v":0},{"$f":"+K1595*F1595","v":0}]
[null,null,null,"*Točne dimenzije se določijo ob izvedbi.",null,null,null,0]
[null,null,null,"Sestav:",null,null,null,0]
[null,null,null,"Opis:",null,null,null,0]
[null,null,null,"Zahtevana požarna odpornost oblog:",null,null,null,0]
[null,null,null,null,null,null,null,0]
["244",null,"MK","MIZA-KATEDER UČITELJA",null,null,null,0]
[null,null,null,"dim 190+190x60x75 cm",null,null,null,0]
[null,null,null,"Opis:",null,null,null,0]
[null,null,null,"Kovinska ovalna cev prašno barvana  z ustreznimi drsniki",null,null,null,0]
[null,null,null,"mizna plošča Iveral beš 24 mm obrobljena masivnm bukvim nalimkom","kom",1,null,0,{"$f":"+G1605*MM","v":0},{"$f":"+I1605*F1605","v":0},{"$f":"+G1605-I1605","v":0},{"$f":"+K1605*F1605","v":0}]
[null,null,null,null,null,null,null,0]
["245",null,"M1","MIZA ZA UČENCA",null,null,null,0]
[null,null,null,"Mize za učence - ENOJNA klasična",null,null,null,0]
[null,null,null,"dim 65x50X72  ",null,null,null,0]
[null,null,null,"Kovinska ovalna cev prašno barvana  z ustreznimi drsniki",null,null,null,0]
[null,null,null,"mizna plošča Iveral beš 24 mm obrobljena masivnm bukvim nalimkom ( kljukica za obešanje torbice )","kom",12,null,0,{"$f":"+G1611*MM","v":0},{"$f":"+I1611*F1611","v":0},{"$f":"+G1611-I1611","v":0},{"$f":"+K1611*F1611","v":0}]
[null,null,null,null,null,null,null,0]
["246",null,"M2","MIZA ZA UČENCA",null,null,null,0]
[null,null,null,"Mize za učence - DVOJNA klasična",null,null,null,0]
[null,null,null,"dim 130x50X72  ",null,null,null,0]
[null,null,null,"Kovinska ovalna cev prašno barvana  z ustreznimi drsniki",null,null,null,0]
[null,null,null,"mizna plošča Iveral beš 24 mm obrobljena masivnm bukvim nalimkom ( kljukica za obešanje torbice )","kom",8,null,0,{"$f":"+G1617*MM","v":0},{"$f":"+I1617*F1617","v":0},{"$f":"+G1617-I1617","v":0},{"$f":"+K1617*F1617","v":0}]
[null,null,null,null,null,null,null,0]
["247",null,"SU","STOL ZA UČITELJA",null,null,null,0]
[null,null,null,"v. 45 cm",null,null,null,0]
[null,null,null,"Opis",null,null,null,0]
[null,null,null,"Stol za učitelja  kovinska ovalan cev prašno barana z ustrezni drsniki sedež in naslon oblazinjen ","kom",1,null,0,{"$f":"+G1622*MM","v":0},{"$f":"+I1622*F1622","v":0},{"$f":"+G1622-I1622","v":0},{"$f":"+K1622*F1622","v":0}]
[null,null,null,null,null,null,null,0]
["248",null,"S1","STOL ZA UČENCA",null,null,null,0]
[null,null,null,"v.42 cm",null,null,null,0]
[null,null,null,"Opis",null,null,null,0]
[null,null,null,"Kovinska ovalna cev prašno barvana, z ustreznimi drsniki sedež in naslon bukova vezana plošča","kom",28,null,0,{"$f":"+G1627*MM","v":0},{"$f":"+I1627*F1627","v":0},{"$f":"+G1627-I1627","v":0},{"$f":"+K1627*F1627","v":0}]
[null,null,null,null,null,null,null,0]
["249",null,"PM","POLKROŽNA MIZA fi 130",null,null,null,0]
[null,null,null,"višina 42 cm",null,null,null,0]
[null,null,null,"Opis:",null,null,null,0]
[null,null,null,"Kovinska ovalna cev prašno barvana  z ustreznimi drsniki",null,null,null,{"$f":"G1632*F1632","v":0}]
[null,null,null,"mizna plošča Iveral beš 24 mm obrobljena masivnm bukvim nalimkom ","kom",2,null,0,{"$f":"+G1633*MM","v":0},{"$f":"+I1633*F1633","v":0},{"$f":"+G1633-I1633","v":0},{"$f":"+K1633*F1633","v":0}]
[null,null,null,"KABINET MATEMATIKA"]
[null,null,"OMV","OMARA   VISOKA ",null,null,null,0]
[null,null,null,"dim 100x55x200 cm",null,null,null,0]
[null,null,null,"Sestav:",null,null,null,0]
[null,null,null,"Omara  dvodelan deljena vrata izdelana iz iverala ABS 2mm ",null,null,null,0]
[null,null,null,"Opis",null,null,null,0]
[null,null,null,"Omara je izdelana iz iverala; odmične sponei, ključavnica; premične police na kovinskih nosilcih; 10 cm, regulirne nogice, cokel ALU    ","kom",1,null,0,{"$f":"+G1640*MM","v":0},{"$f":"+I1640*F1640","v":0},{"$f":"+G1640-I1640","v":0},{"$f":"+K1640*F1640","v":0}]
[null,null,null,null,null,null,null,0]
[null,null,"PM","MIZA PISALNA",null,null,null,0]
[null,null,null,"dim 120x75x75 cm",null,null,null,0]
[null,null,null,"Opis",null,null,null,0]
[null,null,null,"Miza kovinsko podnožje mizna plošča Iveral ABS ","kom",1,null,0,{"$f":"+G1645*MM","v":0},{"$f":"+I1645*F1645","v":0},{"$f":"+G1645-I1645","v":0},{"$f":"+K1645*F1645","v":0}]
[null,null,"PRED","Mobilni predalnik - ključ",null,null,null,0]
[null,null,null,"dim 45x60x60 cm","kom",1,null,0,{"$f":"+G1647*MM","v":0},{"$f":"+I1647*F1647","v":0},{"$f":"+G1647-I1647","v":0},{"$f":"+K1647*F1647","v":0}]
[null,null,"DS","Stol  vrtljiv Ergomatic tapeciran  umetno usnje","kom",1,null,0,{"$f":"+G1648*MM","v":0},{"$f":"+I1648*F1648","v":0},{"$f":"+G1648-I1648","v":0},{"$f":"+K1648*F1648","v":0}]
[null,null,null,null,null,null,null,0]
[null,null,null,"UČILNICA MATEMATIKE"]
[null,null,null,null,null,null,null,0]
["250",null,"OMVS","OMARA  STEKLENA VISOKA ","kom",2,null,0,{"$f":"+G1652*MM","v":0},{"$f":"+I1652*F1652","v":0},{"$f":"+G1652-I1652","v":0},{"$f":"+K1652*F1652","v":0}]
[null,null,null,"dim  90x55x200 cm",null,null,null,0]
[null,null,null,"Sestav:",null,null,null,0]
[null,null,null,"Omara  dvodelan izdelana iz iverala ABS 2mm, zgoraj steklena  vrata v lesenem okvirju, spodaj polna vrata",null,null,null,0]
[null,null,null,"Opis",null,null,null,0]
[null,null,null,"Omara je izdelana iz iverala; odmične sponei, ključavnica; premične police na kovinskih nosilcih; 10 cm, regulirne nogice, cokel ALU    ",null,null,null,0]
[null,null,null,null,null,null,null,0]
["251",null,"OMV","OMARA   VISOKA ","kom",4,null,0,{"$f":"+G1659*MM","v":0},{"$f":"+I1659*F1659","v":0},{"$f":"+G1659-I1659","v":0},{"$f":"+K1659*F1659","v":0}]
[null,null,null,"dim 90x55x200 cm",null,null,null,0]
[null,null,null,"Sestav:",null,null,null,0]
[null,null,null,"Omara  dvodelan deljena vrata izdelana iz iverala ABS 2mm ",null,null,null,0]
[null,null,null,"Opis",null,null,null,0]
[null,null,null,"Omara je izdelana iz iverala; odmične sponei, ključavnica; premične police na kovinskih nosilcih; 10 cm, regulirne nogice, cokel ALU    ",null,null,null,0]
[null,null,null,null,null,null,null,0]
["252",null,"OMN","OMARA NIZKA",null,null,null,0]
[null,null,null,"dim 90X55X76 cm",null,null,null,0]
[null,null,null,"Sestav:",null,null,null,0]
[null,null,null,"Omara nizka polna vrata",null,null,null,0]
[null,null,null,"Opis:",null,null,null,0]
[null,null,null,"Omara  nizka izdelana iz iverala ABS 2mm ",null,null,null,0]
[null,null,null,"Opis",null,null,null,0]
[null,null,null,"Omara je izdelana iz iverala; odmične sponei, ključavnica; premične police na kovinskih nosilcih; 10 cm, regulirne nogice, cokel ALU    ","kom",4,null,0,{"$f":"+G1673*MM","v":0},{"$f":"+I1673*F1673","v":0},{"$f":"+G1673-I1673","v":0},{"$f":"+K1673*F1673","v":0}]
[null,null,null,null,null,null,null,0]
["253",null,"OB","OBLOGE NAD OMARICAMI",null,null,null,0]
[null,null,"*","dim 400X125 cm  ","tm",4,null,0,{"$f":"+G1676*MM","v":0},{"$f":"+I1676*F1676","v":0},{"$f":"+G1676-I1676","v":0},{"$f":"+K1676*F1676","v":0}]
[null,null,"*","dim450x125 cm","tm",4.5,null,0,{"$f":"+G1677*MM","v":0},{"$f":"+I1677*F1677","v":0},{"$f":"+G1677-I1677","v":0},{"$f":"+K1677*F1677","v":0}]
[null,null,"*","dim 290x125 cm","tm",2.9,null,0,{"$f":"+G1678*MM","v":0},{"$f":"+I1678*F1678","v":0},{"$f":"+G1678-I1678","v":0},{"$f":"+K1678*F1678","v":0}]
[null,null,null,"*Točne dimenzije se določijo ob izvedbi.",null,null,null,0]
[null,null,null,"Sestav:",null,null,null,0]
[null,null,null,"Opis:",null,null,null,0]
[null,null,null,"Zahtevana požarna odpornost oblog:",null,null,null,0]
[null,null,null,null,null,null,null,0]
["254",null,"MK","MIZA-KATEDRE UČITELJA",null,null,null,0]
[null,null,null,"dim 190+190x60x75 cm",null,null,null,0]
[null,null,null,"Opis:",null,null,null,0]
[null,null,null,"Kovinska ovalna cev prašno barvana  z ustreznimi drsniki",null,null,null,0]
[null,null,null,"mizna plošča Iveral beš 24 mm obrobljena masivnm bukvim nalimkom","kom",1,null,0,{"$f":"+G1688*MM","v":0},{"$f":"+I1688*F1688","v":0},{"$f":"+G1688-I1688","v":0},{"$f":"+K1688*F1688","v":0}]
[null,null,null,null,null,null,null,0]
["255",null,"M1","MIZA ZA UČENCA",null,null,null,0]
[null,null,null,"Mize za učence - ENOJNA klasična",null,null,null,0]
[null,null,null,"dim 65x50X72  ",null,null,null,0]
[null,null,null,"Kovinska ovalna cev prašno barvana  z ustreznimi drsniki",null,null,null,0]
[null,null,null,"mizna plošča Iveral beš 24 mm obrobljena masivnm bukvim nalimkom ( kljukica za obešanje torbice )","kom",12,null,0,{"$f":"+G1694*MM","v":0},{"$f":"+I1694*F1694","v":0},{"$f":"+G1694-I1694","v":0},{"$f":"+K1694*F1694","v":0}]
[null,null,null,null,null,null,null,0]
["256",null,"M2","MIZA ZA UČENCA",null,null,null,{"$f":"G1696*F1696","v":0}]
[null,null,null,"Mize za učence - DVOJNA klasična",null,null,null,0]
[null,null,null,"dim 130x50X72  ",null,null,null,0]
[null,null,null,"Kovinska ovalna cev prašno barvana  z ustreznimi drsniki",null,null,null,0]
[null,null,null,"mizna plošča Iveral beš 24 mm obrobljena masivnm bukvim nalimkom ( kljukica za obešanje torbice )","kom",8,null,0,{"$f":"+G1700*MM","v":0},{"$f":"+I1700*F1700","v":0},{"$f":"+G1700-I1700","v":0},{"$f":"+K1700*F1700","v":0}]
[null,null,null,null,null,null,null,0]
["257",null,"SU","STOL ZA UČITELJA",null,null,null,0]
[null,null,null,"v. 45 cm",null,null,null,0]
[null,null,null,"Opis",null,null,null,0]
[null,null,null,"Stol za učitelja  kovinska ovalan cev prašno barana z ustrezni drsniki sedež in naslon oblazinjen ","kom",1,null,0,{"$f":"+G1705*MM","v":0},{"$f":"+I1705*F1705","v":0},{"$f":"+G1705-I1705","v":0},{"$f":"+K1705*F1705","v":0}]
[null,null,null,null,null,null,null,0]
["258",null,"S1","STOL ZA UČENCA",null,null,null,0]
[null,null,null,"v.42 cm",null,null,null,0]
[null,null,null,"Opis",null,null,null,0]
[null,null,null,"Kovinska ovalna cev prašno barvana, z ustreznimi drsniki sedež in naslon bukova vezana plošča","kom",28,null,0,{"$f":"+G1710*MM","v":0},{"$f":"+I1710*F1710","v":0},{"$f":"+G1710-I1710","v":0},{"$f":"+K1710*F1710","v":0}]
[null,null,null,null,null,null,null,0]
["259",null,"PM","POLKROŽNA MIZA fi 130",null,null,null,0]
[null,null,null,"višina 42 cm",null,null,null,0]
[null,null,null,"Opis:",null,null,null,0]
[null,null,null,"Kovinska ovalna cev prašno barvana  z ustreznimi drsniki",null,null,null,0]
[null,null,null,"mizna plošča Iveral beš 24 mm obrobljena masivnm bukvim nalimkom ","kom",2,null,0,{"$f":"+G1716*MM","v":0},{"$f":"+I1716*F1716","v":0},{"$f":"+G1716-I1716","v":0},{"$f":"+K1716*F1716","v":0}]
[null,null,null,null,null,null,null,0]
[null,null,null,"KABINET MATEMATIKA"]
[null,null,null,null,null,null,null,0]
["260",null,"OMV","OMARA   VISOKA ",null,null,null,0]
[null,null,null,"dim 100x55x200 cm",null,null,null,0]
[null,null,null,"Sestav:",null,null,null,0]
[null,null,null,"Omara  dvodelan deljena vrata izdelana iz iverala ABS 2mm ",null,null,null,0]
[null,null,null,"Opis",null,null,null,0]
[null,null,null,"Omara je izdelana iz iverala; odmične sponei, ključavnica; premične police na kovinskih nosilcih; 10 cm, regulirne nogice, cokel ALU    ","kom",2,null,0,{"$f":"+G1725*MM","v":0},{"$f":"+I1725*F1725","v":0},{"$f":"+G1725-I1725","v":0},{"$f":"+K1725*F1725","v":0}]
[null,null,null,null,null,null,null,0]
["261",null,"PM","MIZA PISALNA",null,null,null,0]
[null,null,null,"dim 120x75x75 cm",null,null,null,0]
[null,null,null,"Opis",null,null,null,0]
[null,null,null,"Miza kovinsko podnožje mizna plošča Iveral ABS ","kom",1,null,0,{"$f":"+G1730*MM","v":0},{"$f":"+I1730*F1730","v":0},{"$f":"+G1730-I1730","v":0},{"$f":"+K1730*F1730","v":0}]
["262",null,"PRED","Mobilni predalnik - ključ",null,null,null,0]
[null,null,null,"dim 45x60x60 cm","kom",1,null,0,{"$f":"+G1732*MM","v":0},{"$f":"+I1732*F1732","v":0},{"$f":"+G1732-I1732","v":0},{"$f":"+K1732*F1732","v":0}]
["263",null,"DS","Stol  vrtljiv Ergomatic tapeciran  umetno usnje","kom",1,null,0,{"$f":"+G1733*MM","v":0},{"$f":"+I1733*F1733","v":0},{"$f":"+G1733-I1733","v":0},{"$f":"+K1733*F1733","v":0}]
[null,null,null,null,null,null,null,0]
[null,null,null,"ČISTILKE"]
[null,null,null,null,null,null,null,0]
["264",null,"OČ","VISOKE OMARE",null,null,null,0]
[null,null,null,"dim 90x50x200 cm",null,null,null,0]
[null,null,null,"Sestav:",null,null,null,0]
[null,null,null,"Omara  dvodelan  vrata izdelana iz iverala ABS 2mm ",null,null,null,0]
[null,null,null,"Opis",null,null,null,0]
[null,null,null,"Omara je izdelana iz iverala; odmične sponei,  premične police na kovinskih nosilcih; 10 cm, regulirne nogice, cokel ALU    ","kom",2,null,0,{"$f":"+G1742*MM","v":0},{"$f":"+I1742*F1742","v":0},{"$f":"+G1742-I1742","v":0},{"$f":"+K1742*F1742","v":0}]
["265",null,"PM","PISALNA MIZA ",null,null,null,0]
[null,null,null,"dim 160x80x75 cm","kom",2,null,0,{"$f":"+G1744*MM","v":0},{"$f":"+I1744*F1744","v":0},{"$f":"+G1744-I1744","v":0},{"$f":"+K1744*F1744","v":0}]
[null,null,null,"Opis",null,null,null,0]
[null,null,null,"Kovino podnožje mizna plošč aIveral + ABS","kom",2,null,0,{"$f":"+G1746*MM","v":0},{"$f":"+I1746*F1746","v":0},{"$f":"+G1746-I1746","v":0},{"$f":"+K1746*F1746","v":0}]
["266",null,"PRED","Mobilni predalnik - ključ",null,null,null,0]
[null,null,null,"dim 45x60x60 cm","kom",1,null,0,{"$f":"+G1748*MM","v":0},{"$f":"+I1748*F1748","v":0},{"$f":"+G1748-I1748","v":0},{"$f":"+K1748*F1748","v":0}]
["267",null,"DS","Stol  vrtljiv Ergomatic tapeciran  umetno usnje","kom",1,null,0,{"$f":"+G1749*MM","v":0},{"$f":"+I1749*F1749","v":0},{"$f":"+G1749-I1749","v":0},{"$f":"+K1749*F1749","v":0}]
[null,null,null,null,null,null,null,0]
[null,null,null,"GLASBEANA UČILNICA"]
[null,null,null,null,null,null,null,0]
["268",null,"OMVS","OMARA  STEKLENA VISOKA  ","kom",2,null,0,{"$f":"+G1753*MM","v":0},{"$f":"+I1753*F1753","v":0},{"$f":"+G1753-I1753","v":0},{"$f":"+K1753*F1753","v":0}]
[null,null,null,"dim 100x60x200 cm",null,null,null,0]
[null,null,null,"Sestav:",null,null,null,0]
[null,null,null,"Omara  dvodelan izdelana iz iverala ABS 2mm, zgoraj steklena  vrata v lesenem okvirju, spodaj polna vrata",null,null,null,0]
[null,null,null,"Opis",null,null,null,0]
[null,null,null,"Omara je izdelana iz iverala; odmične sponei, ključavnica; premične police na kovinskih nosilcih; 10 cm, regulirne nogice, cokel ALU    ",null,null,null,0]
[null,null,null,null,null,null,null,0]
["269",null,"OMV","OMARA   VISOKA  ZA KUSTUME Z LETVIJO","kom",4,null,{"$f":"G1760*F1760","v":0},{"$f":"+G1760*MM","v":0},{"$f":"+I1760*F1760","v":0},{"$f":"+G1760-I1760","v":0},{"$f":"+K1760*F1760","v":0}]
[null,null,null,"dim 90x60x200 cm",null,null,null,0]
[null,null,null,"Sestav:",null,null,null,0]
[null,null,null,"Omara  dvodelan deljena vrata izdelana iz iverala ABS 2mm ",null,null,null,0]
[null,null,null,"Opis",null,null,null,0]
[null,null,null,"Omara je izdelana iz iverala; odmične sponei, ključavnica; premične police na kovinskih nosilcih; 10 cm, regulirne nogice, cokel ALU    ",null,null,null,0]
[null,null,null,null,null,null,null,0]
["270",null,"OM","OMARA   VISOKA  ","kom",4,null,0,{"$f":"+G1767*MM","v":0},{"$f":"+I1767*F1767","v":0},{"$f":"+G1767-I1767","v":0},{"$f":"+K1767*F1767","v":0}]
[null,null,null,"dim  90x60x200 cm",null,null,null,0]
[null,null,null,"Sestav:",null,null,null,0]
[null,null,null,"Omara  dvodelan deljena vrata izdelana iz iverala ABS 2mm ",null,null,null,0]
[null,null,null,"Opis",null,null,null,0]
[null,null,null,"Omara je izdelana iz iverala; odmične sponei, ključavnica; premične police na kovinskih nosilcih; 10 cm, regulirne nogice, cokel ALU    ",null,null,null,0]
[null,null,null,"premakljive police",null,null,null,0]
[null,null,null,null,null,null,null,0]
["271",null,"OB","OBLOGE NAD OMARICAMI",null,null,null,0]
[null,null,"*","dim 400X125 cm  ","tm",4,null,0,{"$f":"+G1776*MM","v":0},{"$f":"+I1776*F1776","v":0},{"$f":"+G1776-I1776","v":0},{"$f":"+K1776*F1776","v":0}]
[null,null,"*","dim450x125 cm","tm",4.5,null,0,{"$f":"+G1777*MM","v":0},{"$f":"+I1777*F1777","v":0},{"$f":"+G1777-I1777","v":0},{"$f":"+K1777*F1777","v":0}]
[null,null,"*","dim 290x125 cm","tm",2.9,null,0,{"$f":"+G1778*MM","v":0},{"$f":"+I1778*F1778","v":0},{"$f":"+G1778-I1778","v":0},{"$f":"+K1778*F1778","v":0}]
[null,null,null,"*Točne dimenzije se določijo ob izvedbi.",null,null,null,0]
[null,null,null,"Sestav:",null,null,null,0]
[null,null,null,"Opis:",null,null,null,0]
[null,null,null,"Zahtevana požarna odpornost oblog:",null,null,null,0]
[null,null,null,null,null,null,null,0]
["272",null,"MK","MIZA-KATEDRR UČITELJA",null,null,null,0]
[null,null,null,"dim 190+190x60x75 cm",null,null,null,0]
[null,null,null,"Opis:",null,null,null,0]
[null,null,null,"Kovinska ovalna cev prašno barvana  z ustreznimi drsniki",null,null,null,0]
[null,null,null,"mizna plošča Iveral beš 24 mm obrobljena masivnm bukvim nalimkom","kom",1,null,0,{"$f":"+G1788*MM","v":0},{"$f":"+I1788*F1788","v":0},{"$f":"+G1788-I1788","v":0},{"$f":"+K1788*F1788","v":0}]
[null,null,null,null,null,null,null,0]
["273",null,"SU","STOL ZA UČITELJA",null,null,null,0]
[null,null,null,"v. 45 cm",null,null,null,0]
[null,null,null,"Opis",null,null,null,0]
[null,null,null,"Stol za učiteja  kovinska ovalan cev prašno barana z ustrezni drsniki sedež in naslon oblazinjen ","kom",1,null,0,{"$f":"+G1793*MM","v":0},{"$f":"+I1793*F1793","v":0},{"$f":"+G1793-I1793","v":0},{"$f":"+K1793*F1793","v":0}]
[null,null,null,null,null,null,null,0]
["274",null,"S1","STOL ZA UČENCA  Z  POLIČKO",null,null,null,0]
[null,null,null,"v.45 cm",null,null,null,0]
[null,null,null,"Opis",null,null,null,0]
[null,null,null,"krom podnožje lesena polička","kom",28,null,0,{"$f":"+G1798*MM","v":0},{"$f":"+I1798*F1798","v":0},{"$f":"+G1798-I1798","v":0},{"$f":"+K1798*F1798","v":0}]
[null,null,null,null,null,null,null,0]
["275",null,"OK","PRAKTI KABLI ZA 40 OTROK",null,null,null,0]
[null,null,null,"Opis",null,null,null,0]
[null,null,null,"Kovinsko podnožje - ravne stonice  v3 višinah","kpl",1,null,0,{"$f":"+G1802*MM","v":0},{"$f":"+I1802*F1802","v":0},{"$f":"+G1802-I1802","v":0},{"$f":"+K1802*F1802","v":0}]
[null,null,null,"Premični oder za pevski zbor, nosilna kovinska konstrukcija 40/40 mm v prašni barvi po izbiri",null,null,null,0]
[null,null,null,"PISARNA PSIHOLOG"]
[null,null,"celibri","MIZA PISALNA KOTNA",null,null,null,0]
[null,null,null,"dim180/160X80X75 CM",null,null,null,0]
[null,null,null,"Opis",null,null,null,0]
[null,null,null,"Miza kovinsko podnožje mizna plošča Iveral ABS ",null,1,null,0,{"$f":"+G1808*MM","v":0},{"$f":"+I1808*F1808","v":0},{"$f":"+G1808-I1808","v":0},{"$f":"+K1808*F1808","v":0}]
[null,null,"PRED","Mobilni predalnik - ključ","kom",1,null,0,{"$f":"+G1809*MM","v":0},{"$f":"+I1809*F1809","v":0},{"$f":"+G1809-I1809","v":0},{"$f":"+K1809*F1809","v":0}]
[null,null,"DS","Stol  vrtljiv Ergomatic tapeciran  umetno usnje","kom",1,null,0,{"$f":"+G1810*MM","v":0},{"$f":"+I1810*F1810","v":0},{"$f":"+G1810-I1810","v":0},{"$f":"+K1810*F1810","v":0}]
[null,null,null,null,null,null,null,0]
[null,null,"KM","MIZA  KONFERENČNA",null,null,null,0]
[null,null,null,"dim : 80x80x75 cm",null,null,null,0]
[null,null,null,"Opis:",null,null,null,0]
[null,null,null,"Kovinsk enoge mizna plšča Iveral + ABS","kom",1,null,0,{"$f":"+G1815*MM","v":0},{"$f":"+I1815*F1815","v":0},{"$f":"+G1815-I1815","v":0},{"$f":"+K1815*F1815","v":0}]
[null,null,null,null,null,null,null,0]
[null,null,"KS","KONFERENČNI STOL",null,null,null,0]
[null,null,null,"Opis",null,null,null,0]
[null,null,null,"Krom podnožje  tapeciran ( v negorljivem blagu )","kom",2,null,0,{"$f":"+G1819*MM","v":0},{"$f":"+I1819*F1819","v":0},{"$f":"+G1819-I1819","v":0},{"$f":"+K1819*F1819","v":0}]
[null,null,null,null,null,null,null,0]
[null,null,"OMV","OMARA   VISOKA ",null,null,null,0]
[null,null,null,"dim  80x40x200 cm",null,null,null,0]
[null,null,null,"Sestav:",null,null,null,0]
[null,null,null,"Omara  dvodelan deljena vrata izdelana iz iverala ABS 2mm ",null,null,null,{"$f":"G1824*F1824","v":0}]
[null,null,null,"Opis",null,null,null,0]
[null,null,null,"Omara je izdelana iz iverala; odmične sponei, ključavnica; premične police na kovinskih nosilcih; 10 cm, regulirne nogice, cokel ALU    ","kom",2,null,0,{"$f":"+G1826*MM","v":0},{"$f":"+I1826*F1826","v":0},{"$f":"+G1826-I1826","v":0},{"$f":"+K1826*F1826","v":0}]
["280",null,"OMN","OMARA NIZKA",null,null,null,0]
[null,null,null,"dim 80x40X90 cm",null,null,null,0]
[null,null,null,"Sestav:",null,null,null,0]
[null,null,null,"Omara nizka polna vrata",null,null,null,0]
[null,null,null,"Opis:",null,null,null,0]
[null,null,null,"Omara  nizka izdelana iz iverala ABS 2mm ",null,null,null,0]
[null,null,null,"Opis",null,null,null,0]
[null,null,null,"Omara je izdelana iz iverala; odmične sponei, ključavnica; premične police na kovinskih nosilcih; 10 cm, regulirne nogice, cokel ALU    ","kom",2,null,0,{"$f":"+G1834*MM","v":0},{"$f":"+I1834*F1834","v":0},{"$f":"+G1834-I1834","v":0},{"$f":"+K1834*F1834","v":0}]
[null,null,null,"PISARNA DSP"]
[null,null,null,null,null,null,null,0]
[null,null,"PM","MIZA PISALNA KOTNA",null,null,null,0]
[null,null,null,"dim180/160X80X75 CM",null,null,null,0]
[null,null,null,"Opis",null,null,null,0]
[null,null,null,"Miza kovinsko podnožje mizna plošča Iveral ABS ","kom",1,null,0,{"$f":"+G1840*MM","v":0},{"$f":"+I1840*F1840","v":0},{"$f":"+G1840-I1840","v":0},{"$f":"+K1840*F1840","v":0}]
[null,null,"PRED","Mobilni predalnik - ključ","kom",1,null,0,{"$f":"+G1841*MM","v":0},{"$f":"+I1841*F1841","v":0},{"$f":"+G1841-I1841","v":0},{"$f":"+K1841*F1841","v":0}]
[null,null,null,"dim 45x60x60 cm",null,null,null,0]
[null,null,"DS","Stol  vrtljiv Ergomatic tapeciran  negorlivo blago","km",1,null,0,{"$f":"+G1843*MM","v":0},{"$f":"+I1843*F1843","v":0},{"$f":"+G1843-I1843","v":0},{"$f":"+K1843*F1843","v":0}]
[null,null,null,null,null,null,null,0]
[null,null,"KM","MIZA  KONFERENČNA",null,null,null,0]
[null,null,null,"dim : 80x80x75 cm",null,null,null,0]
[null,null,null,"Opis:",null,null,null,0]
[null,null,null,"Kovinsk enoge mizna plšča Iveral + ABS","kom",1,null,0,{"$f":"+G1848*MM","v":0},{"$f":"+I1848*F1848","v":0},{"$f":"+G1848-I1848","v":0},{"$f":"+K1848*F1848","v":0}]
[null,null,null,null,null,null,null,0]
[null,null,"KS","KONFERENČNI STOL",null,null,null,0]
[null,null,null,"Opis",null,null,null,0]
[null,null,null,"Krom podnožje  tapeciran ( v negorljivem blagu )","kom",2,null,0,{"$f":"+G1852*MM","v":0},{"$f":"+I1852*F1852","v":0},{"$f":"+G1852-I1852","v":0},{"$f":"+K1852*F1852","v":0}]
[null,null,null,null,null,null,null,0]
[null,null,"OMV","OMARA   VISOKA ",null,null,null,0]
[null,null,null,"dim  80x40x200 cm",null,null,null,0]
[null,null,null,"Opis",null,null,null,0]
[null,null,null,"Omara je izdelana iz iverala; odmične sponei, ključavnica; premične police na kovinskih nosilcih; 10 cm, regulirne nogice, cokel ALU    ","kom",2,null,0,{"$f":"+G1857*MM","v":0},{"$f":"+I1857*F1857","v":0},{"$f":"+G1857-I1857","v":0},{"$f":"+K1857*F1857","v":0}]
[null,null,null,null,null,null,null,0]
[null,null,"OMN","OMARA NIZKA",null,null,null,0]
[null,null,null,"dim 80x40X90 cm",null,null,null,0]
[null,null,null,"Sestav:",null,null,null,0]
[null,null,null,"Omara nizka polna vrata",null,null,null,0]
[null,null,null,"Opis:",null,null,null,0]
[null,null,null,"Omara  nizka izdelana iz iverala ABS 2mm ",null,null,null,0]
[null,null,null,"Opis",null,null,null,0]
[null,null,null,"Omara je izdelana iz iverala; odmične sponei, ključavnica; premične police na kovinskih nosilcih; 10 cm, regulirne nogice, cokel ALU    ","kom",2,null,0,{"$f":"+G1866*MM","v":0},{"$f":"+I1866*F1866","v":0},{"$f":"+G1866-I1866","v":0},{"$f":"+K1866*F1866","v":0}]
[null,null,null,null,null,null,null,0]
[null,null,null,"RAZNO"]
[276,null,"KO","Koši za smeti v razredih z barvnim nihajnim pokrovom",null,null,null,0]
[null,null,null,"dim 40x30x60cm; 12 lit, kot npr. Makom ali enakovredno",null,null,null,0]
[null,null,null,"en koš za papir, en koš za mešane odpadke/razred","kom",29,null,0,{"$f":"+G1871*MM","v":0},{"$f":"+I1871*F1871","v":0},{"$f":"+G1871-I1871","v":0},{"$f":"+K1871*F1871","v":0}]
[277,null,"KO2","Koši za ločevanje odpadkov  v hodnikih - 4x60lit",null,null,null,0]
[null,null,null,"koš za smeti iz pločevine barvan (embalaža, papir, mešani odpadki, organski odpadki), barva po izboru naročnika, potrdi arhitekt; barvni pokrovi; vključno vrečke za smeti 30/koš; kot npr. Eko Marc ali enakovredno",null,null,null,0]
[null,null,null,null,"kom",8,null,0,{"$f":"+G1874*MM","v":0},{"$f":"+I1874*F1874","v":0},{"$f":"+G1874-I1874","v":0},{"$f":"+K1874*F1874","v":0}]
[278,null,null,"VOZIČEK ZA ČISTILA",null,null,null,0]
[null,null,"VO","skupaj s čistilnimi pripomočki",null,null,null,0]
[null,null,null,"tipski- po izboru uporabnika",null,null,null,0]
[null,null,null,null,"kom",2,null,0,{"$f":"+G1878*MM","v":0},{"$f":"+I1878*F1878","v":0},{"$f":"+G1878-I1878","v":0},{"$f":"+K1878*F1878","v":0}]
[279,null,"PK","Plošče za garderobne klopi",null,null,null,0]
[null,null,null,"Opis",null,null,null,0]
[null,null,null,"Iveral ABS ",null,null,null,0]
[null,null,null,"dim 160x40x22","kom",20,null,0,{"$f":"+G1882*MM","v":0},{"$f":"+I1882*F1882","v":0},{"$f":"+G1882-I1882","v":0},{"$f":"+K1882*F1882","v":0}]
[null,null,null,null,null,null,null,0]
[280,null,"OV","Oglasna vitrina po hodniih)",null,null,null,0]
[null,null,null,"Opis ",null,null,null,0]
[null,null,null,"Iveral -vrata steklo ( ključ )","kom",7,null,0,{"$f":"+G1886*MM","v":0},{"$f":"+I1886*F1886","v":0},{"$f":"+G1886-I1886","v":0},{"$f":"+K1886*F1886","v":0}]
[null,null,null,null,null,null,null,0]
[28,null,"PA","Panoji po hodnikih - lahki",null,null,null,{"$f":"G1888*F1888","v":0}]
[null,null,null,"Opis",null,null,null,0]
[null,null,null,"Stojke kovinke panoji vezana ploča","kom",10,null,0,{"$f":"+G1890*MM","v":0},{"$f":"+I1890*F1890","v":0},{"$f":"+G1890-I1890","v":0},{"$f":"+K1890*F1890","v":0}]
[]
[null,null,null,"DOSTAVE, RAZNOSI PO OBJEKTU, MONTAŽA  morajo biti upoštevani v  vsaki postavki popisa opreme!"]
[]
[null,null,null,"SKUPAJ NOTRANJA OPREMA",null,null,null,{"$f":"SUM(H30:H1893)","v":0},null,{"$f":"SUM(J30:J1893)","v":0},null,{"$f":"SUM(L30:L1893)","v":0}]

{"sheet":"CDE-L.NAVODILA","index":65,"n_rows":101,"n_cols":2,"rows_kept":101,"cut":false,"hidden":false,"merged":[[37,1,37,8],[40,1,40,8],[31,1,31,8],[32,1,32,8],[33,1,33,8],[34,1,34,8],[35,1,35,8],[36,1,36,8],[26,1,26,8],[27,1,27,8],[28,1,28,8],[29,1,29,8],[30,1,30,8],[21,1,21,8],[22,1,22,8],[23,1,23,8],[24,1,24,8],[25,1,25,8],[16,1,16,8],[17,1,17,8],[18,1,18,8],[19,1,19,8],[20,1,20,8],[11,1,11,8],[12,1,12,8],[13,1,13,8],[14,1,14,8],[15,1,15,8],[6,1,6,8],[7,1,7,8],[8,1,8,8],[9,1,9,8],[10,1,10,8],[1,1,1,8],[2,1,2,8],[3,1,3,8],[4,1,4,8],[5,1,5,8]]}
["1.5.0","Objekt C, D in E,  POPIS splošno navodilo "]
[null,"Splošno navodilo."]
["1.","Načrti so sestavni del popisa. Morebitna neskladja oziroma odstopanja od načrta mora izvajalec uskladiti s projektantom. Mere kontrolirati na mestu!"]
["2.","V ceno posameznega artikla je vključena izdelava artikla po načrtu, vključno z vsemi dodatki (razvidnimi iz načrta ali popisa), dobava in montaža na objekt."]
["3.","Vsi elementi opreme morajo biti izvedeni tako, da je dosežena maksimalna trdnost konstrukcije  in maksimalna površinska odpornost obdelave. Vsi večji kosi pohištva morajo biti fiksirani v steno ali tla."]
["4.","Vsi izdelani in dobavljeni elementi opreme morajo biti primerni za šole (netoksični, nevpojni, ne smejo vsebovati FORMALALDEHIDOV ali TEŽKIH KOVIN, primerni morajo biti za mokro čiščenje in razkuževanje), biti morajo skladni s standardom SIS EN 1176-1 in EN71.  "]
[null,"Ponudnik mora ponudbi predložiti izjavo, da so ponujeni izdelki skladni z navedenimi standardi."]
["5.","Vsa športna oprema mora imeti dokazila o skladnosti s slovenskimi standardi, tj. S SISIT EN 1176, SIST EN 12197 IN SIST EN 12346 in mora biti vgrajena tako kot standardi predpisujejo. "]
[null,"Ponudnik mora ponudbi predložiti izjavo, da so ponujeni izdelki skladni z navedenimi standardi."]
["6.","Vsi elementi notranje opreme morajo biti skladni z zahtevami Zelenega javnega naročanja: (1) vsebnost lesa mora biti več kot 70%, (2) les mora izvirati iz zakonitih virov; (3) plastični deli s težo 50g ali več ne smejo vsebovati dodatkov materialov, ki ovirajo recikliranje, (4) premazi lesa ali plasticni ali kovinski deli ne smejo vsebovati škodljivih snovi iz uredbe ES 1272/2008; (5) izhajanje formaldehida iz lesenih tvoriv ne sme bitivišja od 8mg/100g suhe snovi, (6) lepila ne smejo vsebovati več kot 10% mase hlapnih organskih spojin, (7) embalaža se mora reciklirati, (8) blago iz bombaža ne sme vsebovati pesticidov, (9) barvila tekstila ne smejo biti alergenogena, kancerogena, mutagena ali strupena, ne smejo vsebovati akrilaminov; zaviralcev gorenja PBB, PemntaBDE in oktaBDE. "]
[null,"Ponudnik mora ponudbi predlođiti izjavo, da so ponujeni izdelki skladni z zahtevami Zelenega naročanja."]
["7.","Vsi elementi zunanje opreme, ki so izdelani iz lesa morajo biti (1) uvrščeni v 1 ali 2. razred odpornosti, skladno s standardom SIST EN 350-2 in ne smejo biti obdelani z zaščitnimi sredstvi oz. biocidnimi pripravki, (2) nenosilni elementi ne smejo biti obdelani s škodljivimi snovmi po uredbi ES 1272/2008, (3) zaščitna sredstva ne smejo temeljiti na spojinah arzena, kroma in orgnskega kositra, (4) les mora izvirati iz trajnostno pridelanih virov, (5) potisni plin v pršilih za PU peno ne sme biti CFC, HCFC ali metilen klorid, (6) delež ekološko pridelanega bombaža skladno z direktivo ES 834/2007 ES;  (7) embalažamora biti iz  iz recikliranega materiala. "]
[null,"Ponudnik mora ponudbi predložiti izjavo, da so ponujeni izdelki skladni z zahtevami Zelenega naročanja."]
["8.","TIPSKI ELEMENTI "]
[null,"Vse dobavljene stole potrdi naročnik  - predstavnik šole. Pred naročilom mora ponudnik dostaviti naročniku izbrane vzorce stolov v preizkus in potrditev. "]
["9.","NETIPSKI ELEMENTI"]
["10.","Vsa oprema, ki se dela po načrtih, se izvaja v dogovoru z arhitektom. Vsa odstopanja od načrta potrdi arhitekt. "]
["11.","Oprema v prostorih za učence mora biti izvedena tako, da je podkonstrukcija učencem nedostopna. Vsi vijaki ali drug pritrdilni material morajo biti utopljeni ali zaščiteni."]
["12.","Vsi elementi opreme morajo biti izvedeni tako, da so primerni za učence (gladke površine, zaobljeni vogali, soft robovi (radij min 3mm) ali zaokroženi robovi (radij 10mm)."]
["13.","DEBELINE MATERIALOV - Debeline lesenih plošč, kovinske konstrukcije, inox elementov ipd. so praviloma razvidne iz načrta.  Končne dimenzije določi izvajalec glede na zahtevano trdnost izdelka."]
["14.","Okvirne debeline lesenih plošč so:  korpus, police, stenske obloge  20mm, vrata - odvisno od velikosti 11-22mm, hrbet omar 11mm,  stranice predalov  11mm, delovne plošče miz  28mm."]
["15.","Okvirna debelina kovinske konstrukcije:  varjeno kovinsko ogrodje 40/40mm (zaobljeni robovi, vari brušeni). Obdelava: laki, primerni za učence (ne sme se luščiti!). Stik s tlemi (PVC)."]
["16.","OPLEMENITENJE MATERIALOV:"]
[null,"Vse lesene plošče so oplemenitene  folijami po izboru ali ultrapasom ali barvane s PU laki (60%sijaj). Dekor po izboru naročnika, potrdi arhitekt - določa se za vsak elemet posebej!"]
[null,"Vzorce iverala je potrebno priložiti v potrditev (format A4)."]
[null,"Mediapan plošče so barvane po načrtu. Barve so razvidne iz načrta."]
["17","IZVEDBA ROBOV:"]
[null,"Vsi vidni robovi lesenih plošč so zaščiteni z ABS nalimki min 2mm (robovi posneti), v enakem dekorju kot folije/ultrapas; robovi plošč iz mediapana so zaobljeni. "]
["18","STIK S TLEMI"]
[null,"Vse stične ploskve elementov opreme s tlemi morajo biti izvedene tako, da ob morebitnem premikanju opreme ne poškodujejo obstoječe talne obloge. Izvedbo potrdi projektant."]
[null,"Vsi leseni deli morajo biti dvignjeni od tal min 5mm - zaradi mokrega čiščenja."]
[null,"Vsa kolesa stolov ali opreme morajo biti izbrana glede na talno oblogo. "]
[null,"Kolesa stolov in predalnikov so 360 stopinjska, kolesa stopničk ob previjalni mizi in pladnja za kahle pa niso zasučna."]
["19","POHIŠTVENO OKOVJE, ročaji, obešalne kljuke, ključavnice idr. kovinska ali PVC oprema"]
[null,"Vsi montažni, pritrdilni in dodatni elementi, ki se vgrajujejo v pohištvo  morajo biti srednjega cenovnega razreda. Ponudnik jih mora upoštevati pri izdelavi ponudbe, tudi če niso posebej navedeni. Izvajalec jih vgrajuje po svoji presoji, da doseže zahtevano kvaliteto izdelka. Vse elemente, ki so vidni ali dostopni učencem potrdi arhitekt."]
[null,"Vodila predalov morajo biti kovinska, omogočati morajo polni izvlek."]
[null,"Panti omar morajo omogočati 180 stopinjsko odpiranje."]
[]
[20,"Vso izvedob in materjale portrdi  Projektant"]
[]
["21","V ceni opreme morajo biti zajeti izdelava, nabava, dobava,in vsi sestavni elementi, ves pritrdilni material,  "]
[]
[null,"OBVEZNOSTI IZVAJALCA, KI MORAJO BITI ZAJETE V ENOTNIH CENAH"]
[]
[1,"• V cenah je potrebno zajeti tudi ves osnovni in pomožni material, vsa pomožna dela, transportne, manipulativne stroške, skratka vse za gotova izvedena dela po postavkah."]
[]
[2,"• Izvajalec del je pred oddajo ponudbe dolžan preveriti ustreznost samih popisov del in količin glede na vse načrte, projekta PZI, ki so del razpisne dokumentacije, oziroma so mu na vpogled pri investitorju. Prav tako je izvajalec dolžan prebrati vse tekstualne dele, kot so tehnična poročila k posameznim načrtom, analizo cen in ostalo ter pregledati vse detajle in sheme. V času izdelave ponudbe bo ponudniku omogočen temeljit pregled lokacije za izvedbo del. V primeru ugotovljenih neskladnosti je v času priprave ponudbe obvezan o tem obvestiti  projektanta in investitorja.  "]
[]
[3,"• V vsaki ceni/enoto in za komplet je zajeti vse sestavne dele za gotove montirane in finalno obdelane izdelke objekta v skladu s projektom, brez dodatnih del, z izdelavo vse montažno tehnične dokumentacije, detajlov izvedbe (delavniške dokumentacije), katerih potrditev je obvezna s strani odgovornih projektantov posameznih načrtov, strokovnega nadzora, naročnika in investitorja. V ceni vseh postavk je zajeti še vse ostalo iz razpisnih pogojev, kar s tem popisom ni zajeto."]
[]
[4,"• Vse izmere je potrebno preveriti po posameznih projektih oz. načrtih, v primeru nejasnosti je potrebno v času izdelave ponudbe podati vprašanja investitorju, naročniku in projektantu. "]
[]
[5,"• V popisu so navedena komercialna imena materialov, naprav in opreme zaradi določitve kvalitete. Ponujen material, barvna karta, naprave in oprema  mora biti enake ali boljše kvalitete kot je predpisana s projektom. \n"]
[]
[6,"• Izvajalec, ponudnik mora nuditi izvedbo del v skladu z izvedenim popisom in s strani projektantov predvidenimi materiali, ki so usklajeni s strokovnim nadzorom, naročnikom in investitorjem. Izvajalec lahko ponudi alternativni material oz. način storitve izvedbe del. V tem primeru mora material oz. storitev zagotavljati najmanj predpisan nivo z obstoječimi popisi del, pred karkšno koli zamenjavo pa je izvajalec dolžan pridobiti pisno potrditev s strani projektanta, strokovnega nazdora, naročnika in investitorja. Brez pisne potrditve udeležencev pri gradnji, vgradnja le teh ni možna!\n"]
[]
[7,"• Vsi elementi strojne in elektro opreme, prav tako pa tudi vsi ostali ponujeni elementi, oprema in inštalacije, morajo poleg funkcije in tehničnih karakteristik ustrezati tudi dimenzijsko projektiranim rešitvam. Oprema ne sme presegati projektiranih dimenzij."]
[]
[8,"• V ceni vsakih posameznih del je po potrebi zajeti zaščito obstoječih prostorov, vse potrebne delovne in pomožne odre kot tudi čiščenje vseh elementov po končanih delih."]
[]
[9,"• Ponudnik je odgovoren za računsko pravilnost oddane ponudbe."]
[]
[10,"• V ceni posameznih postavk je zajeti vse elemente, ki so navedeni v opisu postavke, ne glede na različnost zahtevanih gradbeno - obrtniških in instalacijskih del, razen v postavkah kjer je eksplicitno navedeno, da so določeni elementi zajeti v drugi postavki oz. pri drugih delih."]
[]
[11,"• Dela je treba izvajati po določilih veljavnih tehničnih predpisov in skladno z obveznimi standardi, veljavno zakonodajo in podzakonskimi akti ter predloženim projektom PZI."]
[]
[12,"• V cenah na enoto mora ponudnik zajeti vse pričakovane stroške:\n• stroške vseh pripravljalnih del,\n• stroške priprave, prijave gradbišča, odstranitev eventuelnih ovir in ureditev delovnega platoja, organizacije, označevanja, ureditve, zavarovanja in varovanja gradbišča s predpisano prometno signalizacijo (kot so letve, opozorilne vrvice, znaki, svetlobna telesa,...), izdelave obvestilne table, gradbiščne table, čišenju vozil pred vključevanjem v promet, vključno z odstranitvijo po končani izvedbi ter odstranitvijo vseh varoval in prometne signalizacije, ki je tekom izvedbe služila zavarovanju gradbišča; \n• stroške garancij, ki jih mora izvajalec predložiti naročniku;\n• stroške izdelave situacij \n• in vse ostale stroške, ki so za izvedbo in končno polno funkcioniranje prostorov v objektu nujno potrebni"]
[]
[13,"• meritve, teste, preizkuse, pripravljalna, zaključna dela, zavarovalne, transportne, manipulativne stroške je potrebno zajeti v posameznih postavkah in se jih ne obračunava ločeno;\n• izvajalec je dolžan vse spremembe dokumentirati, priskrbeti oz. predati projektantom vse podloge in podatke za izvedbo PID-ov;\n• izvajalec sam izdela montažne skice in detajle za izvedbo instalacij med prenovo prostorov, za kar ni ločene postavke v ponudbenem predračunu;\n• stroške nabave in vgradnje vsega materiala in opreme, predvidenega za vgradnjo in montažo;\n• stroške prevozov, raztovarjanja in skladiščenja na objektu ter notranjega transporta v objektu;\n• nadzor potreben za izdelavo Izkaza požarne varnosti;\n• stroške zaključnih del na objektu z odvozom odvečnega materiala in stroške vzpostavitve prvotnega stanja, kjer bo to potrebno;\n• stroške izdelave ali najema, koriščenja, montaže in demontaže vseh delovnih odrov, zaščitnih odrov in ograj, potrebnih za izvedbo gradbeno obrtniških in instalacijskih del v objektu, ki jih predvideva popis del; \n"]
[]
[14,"• zagotovitev primernega prostora (pisarna v obstoječih prostorih) za izvajanje rednih sestankov na objektu;                               \n• stroške zbiranja in predložitve investitorju vse ustrezne dokumente, izjave o skladnosti, ateste, meritve, poročila idr. tudi od vseh svojih podizvajalcev ter ostalih izvajalcev in dobaviteljev na projektu (tudi od dobavitelja tehnološke opreme); \n• stroški izvedbe poskusnega obratovanja s poudarkom na vseh inštalacijah, pri čemer je potrebno pri poskusnem obratovanju uporabiti tudi že vse kemikalije, pline idr., ki so v posameznih napravah, elementih, inštalacijah predvidene – vsi morebitni preizkusi s specialnimi plini in kemikalijami;"]
[]
[15,"• morebitne stroške povzročene na obstoječem objektu, ki bi nastali v zvezi z prenovo predmeta tega razpisa;"]
[]
[16,"• stroške zavarovanja objekta v času izvedbe del in delavcev ter materiala na gradbišču v času izvajanja del, od začetka del do dokončanja. Zavarovanje mora biti izvršeno pri pooblaščeni zavarovalni družbi najmanj v višini pogodbene vrednosti za ves čas trajanja izvedbe del do uspešne primopredaje prostorov, izvajalec mora kopijo police za vrednost predpisanih del dostaviti naročniku ob podpisu zapisnika o uvedbi v delo;\n• stroške vzdrževanja dostopnih poti na obstoječem objektu in stroške čiščenja javnih ter drugih poti in okolja izven gradbišča, ki jih bo onesnažil s svojimi vozili ali deli izvajalec ali njegov podizvajalec;\n• stroške čiščenja prostorov med izvajanjem del in končnega temeljitega zidarskega ter gospodinjskega čiščenja objekta, kar zadeva delo izvajalca in vseh podizvajalcev, med izvedbo del in pred primopredajo prostorov;\n• stroške električne energije, vode, TK priključkov in morebitne ostale stroške v času gradnje;\n• stroške predpisanih ukrepov varstva pri delu in varstva pred požarom, ki jih mora izvajalec obvezno upoštevati;\n• stroške za popravilo morebitnih škod, ki bi nastale na objektu kot celoti oz. delu objekta, dovoznih cestah, zunanjem okolju ter na sosednjih objektih po krivdi izvajalca kot posledica izvajanja del;\n"]
[]
[17,"• stroške vseh predpisanih kontrol na  zahtevo naročnika, investitorja oz. nadzora, materialov, atestov in garancij za materiale vgrajene v objekt oz. prostore, stroške nostrifikacije in meritev pooblaščenih institucij pri čemer morajo biti dokumenti obvezno prevedeni v slovenščino in nostrificirani od pooblaščene institucije v RS;\n• stroške izdelave elaborata zapore cest, postavitev morebitnih potrebnih cestnih zapor in prometne signalizacije;\n• stroške dobave posameznih elementov, začasnega deponiranja (npr. vodovodnih cevi ipd.) in zavarovanja deponiranega materiala z vsemi prevozi in prenosi na objektu, iz deponije do mesta vgradnje; \n"]
[]
[18,"• stroške pomožnih gradbenih del (od zarisovanja, vrtanja zidov, izvedba prebojev, beljenja zidov, vzpostavljanja prvotnega stanja idr.);\n• stroške pospravljanja, čiščenja delovišča po končani gradnji in vzpostavitev prostorov in okolice v prvotno stanje                                                                                                                                                                                                                                                                                                                                                         \n"]
[]
[19,"• stroške koordinacije, sodelovanja in usklajevanja z dobavitelji tehnološke in vse ostale pohištvene ter multimedijske opreme ter z vsemi ostalimi so oz. podizvajalci na objektu (ih);\n• stroške morebitnih prilagoditev mikrolokacij inštalacijskih priključkov oziroma strojnih in elektro inštalacij glede na izvedbene projekte pohištvene in tehnološke opreme;\nstroške prilagoditve projektov oz. preprojektiranja v primeru potrebe po le-tem zaradi ponujenih drugačnih, vendar kvalitetno in tehnično ustreznih, tipov opreme, ki jih morajo izvesti projektanti objekta, vključno s potrditvijo\n• čiščenje in vzpostavitev okolice v prvotno stanje tudi izven gradbišča oz.lastništva naročnika;\n• zajeta priprava vseh potrebnih seznamov povezanih z inštalacijamii;\n"]
[]
[20,"• v času gradnje mora ponudnik zagotoviti vse potrebne varnostne ukrepe in tako organizacijo na objektu, da bo preprečeno onesnaževanje voda, ki bi nastalo zaradi transporta, skladiščenja in uporabe tekočih goriv in drugih nevarnih snovi oziroma v primeru nezgod zagotoviti takojšnje ukrepanje za to usposobljenih delavcev. \n• Vsa začasna skladišča in pretakališča goriv, olj in maziv ter drugih nevarnih snovi morajo biti zaščitena pred možnostjo izliva v tla in vodotok. Po končani gradnji mora ponudnik odstraniti vse za potrebe gradnje postavljene provizorije in odstraniti vse ostanke začasnih deponij\n"]
[]
[21,"• Vzorci:\n• Izvajalec mora za vse proizvode, oziroma elemente za vgradnjo, ki so navedeni v projektu ali drugače zahtevani s strani projektanta in naročnika dostaviti ali izdelati vzorčne primere na objektu in sicer najmanj v treh enakovrednih vzorcih, kot pomoč projektantu in naročniku za dokončno opredelitev med različnimi proizvodi, kot pomoč projektantu in naročniku za dokončno opredelitev med različnimi površinskimi obdelavami, kot referenčni primerek in merilo za kakovost, vključno vizualni izgled, kot vzorec za preizkušanje, ki služi za dokazovanje skladnosti proizvodov, kadar je to preizkušanje nujno opraviti na objektu, oziroma kadar gre za utemeljen dvom v izpolnjevanje predpisanih zahtev glede že vgrajenega oziroma dobavljenega proizvoda.\n• Vrednost izdelave vzorcev mora biti vključena skupno v ponudbeno ceno. Ustreznost izdelave potrdi naročnik na predlog odgovornega projektanta. Pisna potrditev vzorcev mora biti vnesena v gradbeni dnevnik oz. izvedena s posebnim zapisnikom, s strani predstavnika naročnika in odgovornega projektanta predmetnega področja. Elemente brez potrditve vzorcev ni dovoljeno vgrajevati - izvajati pred potrditvijo vzorcev oziroma materialov.\n"]
[]
[22,"• Pomembne splošne opombe:\n• Popis je veljaven le v kombinaciji z vsemi grafičnimi prilogami, risbami, načrti, tehničnim poročilom, sestavami konstrukcij, shemami oken in vrat in ostalimi sestavinami PZI projekta. Natančnejši opisi, način in kvaliteta izdelave, barve, velikost elementov, načini pritrjevanja, načini stikovanja z ostalimi elementi objekta, morebitna požarna varnost elementov in podobno so razvidni iz prej naštetih sestavin PZI projekta. Ponudba mora vsebovati ves pritrdilni material, vgradnjo zaključnih profilov, pločevin in kotnikov, izdelavo vseh potrebnih podkonstrukcij, dodatnega izsekavanja AB in zidanih sten, ponovnega odpiranja montažnih sten in podobna dela potrebna za vgradnjo posameznega elementa objekta, izdelavo vseh drobnih gradbenih, obrtniških in instalacijskih del ter ostalega četudi to ni neposredno navedeno popisu GOI del, a je kljub temu razvidno iz grafičnih prilog in ostalih prej naštetih sestavnih delov PZI projekta. Nujna je tudi kombinacija popisa s požarnim elaboratom, ki opredeljuje požarno varnost posameznih konstrukcij in gradbenih elementov objekta. Obvezno je upoštevati vse zahteve iz študije požarne varnosti. Ponudba, ki se sklicuje zgolj na tekstualni del popisa ni veljavna oziroma je nepopolna in nepravilna. Z oddajo ponudbe vsak ponudnik izjavlja, da je skrbno preučil vse prej omenjene sestavne dele PZI projekta in da je v skupno vrednost vključil vsa dodatna, nepredvidena in presežna dela ter material, ki zagotavljajo popolno, zaključeno in celostno izvedbo prenove prostorov, ki jih obravnava projekt  kot tudi vsa dela, ki niso neposredno opisana ali našteta v tekstualnem delu popisa, a so kljub temu razvidna iz grafičnih prilog in ostalih prej naštetih sestavnih delov PZI projekta. Vsak ponudnik z oddajo ponudbe prav tako izjavlja, da je PZI dokumentacija popolna in da je sposoben v popolnosti kvalitetno izvesti predmetno prenovo prostorov. Za vse nejasnosti mora ponudnik v razpisnem roku, ki je namenjen postavljanju vprašanj, pisno kontaktirati investitorja. Kontaktiranje ali postavljanje vprašanj neposredno odgovornemu vodji projekta, projektantskim organizacijam, ki so sodelovale pri izdelavi projekta ali posameznim odgovornim projektantom NI DOVOLJENO, brez VEDNOSTI NAROČNIKA IN. INVESTITORJA."]
[]
[23,"• Vse vrednosti instalacijskih del v posamezni ponudbi (strojna in elektro dela) morajo, četudi ni to posebej označeno ali navedeno v popisu GOI del, upoštevati vsa dela namenjena prilagajanju trenutnemu stanju na objektu. V skupni vrednosti ponudbe mora biti vključeno tudi morebitno dodatno izsekavanje utorov in prebojev v zidane ali armirano-betonske stene, ponovno demontiranje in montiranje vseh vrst montažnih sten, vsa dodatna dela za zagotavljanje primernih križanj med posameznimi instalacijskimi vodi, izdelava vseh vrst ojačitev konstrukcij in podobna dela, ki zagotavljajo kakovostno vgradnjo vseh vrst instalacijskih vodov in niso posebej navedena v popisu GOI del. V ponudbi morajo biti upoštevana vsa drobna strojna in elektro instalacijska dela in transporti. Skupna ponudbena vrednost mora vključevati vse stroške morebitnega sušenja  estrihov."]
[]
[24,"• Posamezni ponudnik oz. izvajalec z oddajo ponudbe izjavlja, da bo predmetno gradnjo prostorov izvajal izključno skladno PZI projektno dokumentacijo. Vse morebitne spremembe in dopolnitve lahko izdelajo izključno projektanti tega projekta, pri čemer bo morala biti vsaka sprememba in dopolnitev pisno zavedena v gradbeni dnevnik, žigosana in podpisana s strani odgovornih projektantov in odgovornega nadzornika ter pooblaščenega predstavnika naročnika. Kot spremembe PZI projektne dokumentacije se bo štelo vsakršno spreminjanje sestav vertikalnih in horizontalnih obdelav, instalacijskih vodov in  elementov instalacij, oziroma strojne in elektro opreme, kot tudi spreminjanje gradbenih materialov, notranjih in zunanjih tlakov, materialov ograj, finalnih obdelav sten, in podobno."]
[]
[25,"• Odpadki:\n• Izvajalec je dolžan brezpogojno upoštevati vso veljavno zakonodajo. Izvajalec je dolžan v imenu (po pooblastilu) investitorja ravnati z odpadki v skladu z Uredbo o ravnanju z odpadki, ki nastanejo pri gradbenih delih (Ur.l.RS št. 34/08) \n• V ceni postavke je potrebno zajeti odvoz materiala na trajno deponijo, s plačilom vseh taks\n• Izvajalec je dolžan izdelati elaborat ravnanja z gradbenimi odpadki, voditi evidenco o vrstah in količinah gradbenih odpadkov ter predložiti vse evidenčne liste o odvozu odpadkov.\n"]
[]
[]
[]
[null,"Maribor, ______________"]
[]
[]
[]
[null,"Žig in podpis ponudnika"]

{"sheet":"CDE-F. REKAP. GRADBENA DELA","index":66,"n_rows":40,"n_cols":16,"rows_kept":40,"cut":false,"hidden":false,"merged":[]}
["Investitor:   ","Mestna občina Ljubljana"]
[null,"Konzorcij družb Petrol d. d. in Resalta d. o. o. "]
["Objekt:      ","OŠ Savsko naselje, Matjaževa ulica 4, Ljubljana"]
[null," - Celovita prenova objekta s statično, požarno in energetsko sanacijo."]
["Štev. proj.:     "]
["Datum:      ","April 2022"]
[]
[]
[null,"REKAPITULACIJA"]
[null,"GRADBENA DELA    objekta C, D in E"]
[]
[]
[null,"Ponudbena vrednost - skupna rekapitulacija","Vrednost  brez popusta","Popust","Vrednost s popustom"]
[null,{"$f":"'CDE-PRIPRA. IN ZAKLJUČNA DELA'!$B$1","v":"Objekt C, D in E,  PRIPRAVLJALNA IN ZAKLJUČNA DELA"},{"$f":"'CDE-PRIPRA. IN ZAKLJUČNA DELA'!$F$38","v":0},{"$f":"'CDE-PRIPRA. IN ZAKLJUČNA DELA'!$H$38","v":0},{"$f":"'CDE-PRIPRA. IN ZAKLJUČNA DELA'!$J$38","v":0}]
["AO","RUŠITVENA DELA",{"$f":"'CDE- AO.RUŠITVENA DELA'!$F$49","v":0},{"$f":"'CDE- AO.RUŠITVENA DELA'!$H$49","v":0},{"$f":"'CDE- AO.RUŠITVENA DELA'!$J$49","v":0}]
["A1","ZEMELJSKA DELA",{"$f":"'CDE- A1.ZEMELJSKA DELA'!$F$61","v":0},{"$f":"'CDE- A1.ZEMELJSKA DELA'!$H$61","v":0},{"$f":"'CDE- A1.ZEMELJSKA DELA'!$J$61","v":0}]
["A2"," TESARSKA DELA",{"$f":"'CDE- A2.TESARSKA DELA'!$F$102","v":0},{"$f":"'CDE- A2.TESARSKA DELA'!$H$102","v":0},{"$f":"'CDE- A2.TESARSKA DELA'!$J$102","v":0}]
["A3","BETONSKA DELA",{"$f":"'CDE- A3.BETONSKA DELA'!$F$91","v":0},{"$f":"'CDE- A3.BETONSKA DELA'!$H$91","v":0},{"$f":"'CDE- A3.BETONSKA DELA'!$J$91","v":0}]
["A4","ZIDARSKA DELA",{"$f":"'CDE- A4.ZIDARSKA DELA'!$F$106","v":0},{"$f":"'CDE- A4.ZIDARSKA DELA'!$H$106","v":0},{"$f":"'CDE- A4.ZIDARSKA DELA'!$J$106","v":0}]
["A5","GRADBENI ODER",{"$f":"'CDE-A5.GRADBENI ODER'!$F$38","v":0},{"$f":"'CDE-A5.GRADBENI ODER'!$H$38","v":0},{"$f":"'CDE-A5.GRADBENI ODER'!$J$38","v":0}]
["A6","KANALIZACIJA",{"$f":"'CDE- A6.KANALIZACIJA '!$F$19","v":0},{"$f":"'CDE- A6.KANALIZACIJA '!$H$19","v":0},{"$f":"'CDE- A6.KANALIZACIJA '!$J$19","v":0}]
[null,"SKUPAJ",{"$f":"SUM(C14:C21)","v":0},{"$f":"SUM(D14:D21)","v":0},{"$f":"SUM(E14:E21)","v":0}]
[null,"22% DDV",null,null,{"$f":"+E22*0.22","v":0}]
[null," C+D+E GRADBENA DELA  SKUPAJ Z DDV",null,null,{"$f":"+E22+E23","v":0}]
[]
[]
[]
[]
[]
[]
[]
[]
[]
[]
[]
[]
[]
[]
[]
[null,null,null,null,null,null,null,null,null,null,null,null,null,null,null,"¸¸"]

{"sheet":"CDE-PRIPRA. IN ZAKLJUČNA DELA","index":67,"n_rows":38,"n_cols":10,"rows_kept":38,"cut":false,"hidden":false,"merged":[]}
[null,"Objekt C, D in E,  PRIPRAVLJALNA IN ZAKLJUČNA DELA"]
[]
["ZAP. ŠT.","OPIS","     ME","KOLIČUNA","CENA/ENOTO","SKUPAJ","POPUST","POPUST SKUPAJ","CENA/ENOTO S POPUSTOM","SKUPAJ S POPUSTOM"]
[]
["1","Izdelava varnostnega elaborata gradbišča, ki ga izdela za to pooblaščena oseba."]
[null,null,1,"kpl",null,{"$f":"+E6*C6","v":0},{"$f":"+E6*MM","v":0},{"$f":"+G6*C6","v":0},{"$f":"+E6-G6","v":0},{"$f":"+I6*C6","v":0}]
[]
["2","Izdelava načrta organizacije gradbišča, v skladu s pogoji iz gradbenega dovoljenja in v skladu z varnostnim načrtom."]
[null,null,1,"kpl",null,{"$f":"+E9*C9","v":0},{"$f":"+E9*MM","v":0},{"$f":"+G9*C9","v":0},{"$f":"+E9-G9","v":0},{"$f":"+I9*C9","v":0}]
[]
["3","Čiščenje in priprava terena pred pričetkom gradnje; Vključno z nalaganjem na transportno sredstvo, odvoz materiala na posebno deponijo; ocena, površina ureditve cca 2000 m2;"]
[null,null,1,"kpl",null,{"$f":"+E12*C12","v":0},{"$f":"+E12*MM","v":0},{"$f":"+G12*C12","v":0},{"$f":"+E12-G12","v":0},{"$f":"+I12*C12","v":0}]
[]
["4","Ureditev gradbišča v skladu z načrtom organizacije gradbišča in v skladu z varnostnim načrtom. Po končanih delih se odstranijo vsi provizoriji, teren gradbišča se očisti in uredi v končno predvideno stanje po projektu. \nV ceni so zajete gradbiščne ograje, zaščitne ograje, izvedba uvozov, izvozov na gradbišče, postavitev in najem montažnih tipskih zabojnikov, skladiščnih prostorov, delovnih lop, izdelava in postavitev table za označitev gradbišča, skladno z veljavnim pravilnikom o označitvi gradbišč, opozorilnih tabel, koordinacija varstva pri delu in zagotovitev zaščitnih sredstev."]
[null,null,1,"kpl",null,{"$f":"+E15*C15","v":0},{"$f":"+E15*MM","v":0},{"$f":"+G15*C15","v":0},{"$f":"+E15-G15","v":0},{"$f":"+I15*C15","v":0}]
[]
["5","Izvedba geodetskih meritev, ugotovitev meja parcele zaradi gradbenih posegov in linij obstoječih komunalnih vodov, pred pričetkom gradnje, v sodelovanju s pristojnimi komunalnimi službami. Pred pričetkom gradnje je potrebno preveriti podatke, zakoličiti vse infrastrukturne vode skladno s pogoji upravljavcev. V ceni so zajeti vsi stroški geodetske službe in izvajalca."]
[null,null,1,"kpl",null,{"$f":"+E18*C18","v":0},{"$f":"+E18*MM","v":0},{"$f":"+G18*C18","v":0},{"$f":"+E18-G18","v":0},{"$f":"+I18*C18","v":0}]
[]
["6","Izvedba uradne zakoličbe objekta pred pričetkom gradnje, po projektu zakoličbe. V ceni so zajeti stroški geodeta, izmere in izdelava zapisnika o zakoličbi objekta."]
[null,null,1,"kpl",null,{"$f":"+E21*C21","v":0},{"$f":"+E21*MM","v":0},{"$f":"+G21*C21","v":0},{"$f":"+E21-G21","v":0},{"$f":"+I21*C21","v":0}]
[]
["7","Postavitev in zavarovanje gradbenih profilov  za čas gradnje in prenos geodetskih točk na profile."]
[null,null,1,"kpl",null,{"$f":"+E24*C24","v":0},{"$f":"+E24*MM","v":0},{"$f":"+G24*C24","v":0},{"$f":"+E24-G24","v":0},{"$f":"+I24*C24","v":0}]
[]
["8","Geomehanski nadzor med izvajanjem zemeljskih del."]
[null,null,40,"ur",null,{"$f":"+E27*C27","v":0},{"$f":"+E27*MM","v":0},{"$f":"+G27*C27","v":0},{"$f":"+E27-G27","v":0},{"$f":"+I27*C27","v":0}]
[]
["9","Nadzor koordinatorja za varnost pri delu med izvajanjem gradbenih in obrtniških del."]
[null,null,1,"kpl",null,{"$f":"+E30*C30","v":0},{"$f":"+E30*MM","v":0},{"$f":"+G30*C30","v":0},{"$f":"+E30-G30","v":0},{"$f":"+I30*C30","v":0}]
[]
["10","Izvedba geodetskih meritev po končani gradnji za pripravo dokumentacije in vris objekta v kataster stavb."]
[null,null,1,"kpl",null,{"$f":"+E33*C33","v":0},{"$f":"+E33*MM","v":0},{"$f":"+G33*C33","v":0},{"$f":"+E33-G33","v":0},{"$f":"+I33*C33","v":0}]
[]
["11","Pospravljanje in čiščenje gradbišča po posameznih fazah ter finalno gospodinjsko čiščenje tlakov in stenskih oblog  pred predajo objekta uporabnikom oziroma investitorjem."]
[null,null,2000,"m2",null,{"$f":"+E36*C36","v":0},{"$f":"+E36*MM","v":0},{"$f":"+G36*C36","v":0},{"$f":"+E36-G36","v":0},{"$f":"+I36*C36","v":0}]
[]
[null,"PRIPRAVLJALNA IN ZAKLJUČNA DELA",null,null,null,{"$f":"SUM(F4:F37)","v":0},null,{"$f":"SUM(H4:H37)","v":0},null,{"$f":"SUM(J4:J37)","v":0}]

{"sheet":"CDE- AO.RUŠITVENA DELA","index":68,"n_rows":49,"n_cols":10,"rows_kept":49,"cut":false,"hidden":false,"merged":[]}
[null,"Objekt C, D in E,  AO. RUŠITVENA DELA"]
[]
["ZAP. ŠT.","OPIS","KOLIČUNA","ME","CENA/ENOTO","SKUPAJ","POPUST","POPUST SKUPAJ","CENA/ENOTO S POPUSTOM","SKUPAJ S POPUSTOM"]
[]
[null,"Vsa rušitvena dela se izvajajo z upoštevanjem vseh tehničnih rešitev rušenja z upoštevanjem varnostnih ukrepov pri rušenju."]
[null,"Investitor mora zagotoviti, da izvajalci gradbenih del gradbene odpadke oddajo zbiralcu gradbenih odpadkov. Iz dokazil o naročilu prevzema gradbenih odpadkov mora biti razvidna vrsta gradbenih odpadkov, predvidena količina nastajanja gradbenih odpadkov ter naslov gradbišča z navedbo pripadajočega gradbenega dovoljenja, na katerega se nanaša prevzem gradbenih odpadkov. Investitor mora za celotno gradbišče  pooblastiti enega od izvajalcev, ki bo v njegovem imenu oddajal gradbene odpadke zbiralcu odpadkov, v predelavo in odstranjevanje in ob oddaji vsake pošiljke odpadkov izpolnil evidenčni list, določen s predpisi, ki urejajo ravnaje z odpadki."]
[null,"Pri rušitvenih delih je potrebno upoštevati predpise iz varstva pri gradbenem delu. Poleg Pravilnika o varstvu pri gradbenem delu je potrebno upoštevati tudi druge varnostne predpise, zlasti še Pravilnik o nakladanju in razkladanju tovornih vozil, Pravilnik o varstvu pri delu z delovnimi pripravami in napravami, Zakon o varovanju zdravja pri delu, Pravilnik o obremenjevanju tal z vnašanjem odpadkov in Uredbo o odpadkih"]
[null,"Ves odpadni material sortirati na gradbiščni deponiji in sproti transportirati na organizirano deponijo, obrat za reciklažo ali mestni odpad z upoštevanjem pravilnika o ravnanju z gradbenimi odpadki! Obrat za reciklažo ali organizirano komunalno deponijo izbere  izvajalec, katerega stroški so tudi komunalne takse in okoljevarstveni dodatki."]
[]
[null,"V ceno na e.m. v posameznih postavkah zajeti tudi vse vertikalne in horizontalne prenose, ter odvoz na deponijo in vse takse na deponiji."]
[null,"- izdelavo tehnološkega elaborata rušenja, s prikazom organizacije izvajanja del, terminskim planom, številom ljudi in strojev, potrebnih za rušenje, ter prikaz ravnanja z gradbenimi odpadki (izbrane deponije)"]
[null,"- v ceni je potrebno upoštevati čiščenje transportnih poti med rušenjem objekta, oz. jih vzpostaviti v prejšnje stanje"]
[null,"- izvajalec je dolžan na lastne stroške zaščititi pred poškodovanjem in uničenjem sosednje obstoječe objekte, predmete, okolico in osebe, ravno tako mora varovati obstoječe komunalne vode, komunikacijske in druge naprave. Izvajalec mora poleg splošnega gradbenega zavarovanja skleniti zavarovanje še za dodatno nevarnost: odgovornost izvajalca del in kopijo police predati investitorju"]
[null,"- ponudnik mora v ceni upoštevati vse tehnične zahteve, ki so podane v tehničnem opisu projekta, vse predpise varstva pri delu, predpise o ravnanju z gradbenimi odpadki, predpise varstva pred požarom in pogoje soglasodajalcev."]
[null,"- Ponudnik si mora objekte pred oddajo ponudbe ogledati"]
[null,"Prav tako ponudnik s podpisom na ponudbi potrjuje, da je seznanjen s stanjem objektov na kraju rušenja."]
[null,"Vso morebitno škodo, ki nastane zaradi neupoštevanje zahtev v splošnem (tehničnem) opisu projekta, nosi izvajalec del."]
[]
[null,"V c.e.m. je potrebno upoštevati čiščenje po posameznih fazah dela, ter odvoz odpadkov na deponijo do 10 km in plačilo takse."]
[]
[]
[null,"OPOMBA:\nV vseh postavkah rušitvenih del je potrebno v c.e.m upoštevati vse potrebne varovalne ukrepe, evtl. pomožne delovne ali lovilne odre (razen fasadnega odra, ki je zajet v postavki A5.1) in vse transporte na lokalno zbirno mesto odpadkov ter odvoz v deponijo do 10 km, vključno s plačilom takse."]
[]
[null,"Trakt D"]
["1","Strojno-ročno (80%-20%) rušenje celotnega objekta v zidani izvedbi: streha, ter mizarski elementi se demontirajo ročno, ostalo strojno stropovi,nosilni in predelni zidovi ter temelji vključno s sortiranjem, nakladanjem in odvozom materiala na trajno deponijo v oddaljenosti do 10 km, z razstiranjem in planiranjem\nObračun po m3.\nOpomba: v ceni rušenja mora biti upoštevano:\n– odstranjevanje notranjih napeljav,\n– zavarovanje sosednjih objektov med rušenjem,\n– eventualno podpiranje nosilnih konstrukcij med rušenjem,\n– evtl. ročno odstranjevanje strešne kritine, letvanja in kleparskih izdelkov, ter odstranjevanje oken in vrat.\nObjekt tlorisne velikosti trakt D 36 x 18 m, etažnosti K+2.\nOPOMBA: V količini je zajeta skupna bruto prostornina objektov!\nPodrobnejše količine (in vrsta materiala) za rušitev oziroma odstranitev so opredeljene v elaboratu ravnanja z gradbenimi odpadki. "]
[null,"a.) Šola trakt D Strojno ročna rušitev",27201,"m3",null,{"$f":"+E26*C26","v":0},{"$f":"+E26*MM","v":0},{"$f":"+G26*C26","v":0},{"$f":"+E26-G26","v":0},{"$f":"+I26*C26","v":0}]
[]
[null,"TRAKT C"]
["1","Odstranitev stare cinkove kritine na objektu, vključno z zlaganjem, nakladanjem, ter odvoz na trajno deponijo, vključno s plačilom komunalnega prispevka.",332,"m2",null,{"$f":"+E29*C29","v":0},{"$f":"+E29*MM","v":0},{"$f":"+G29*C29","v":0},{"$f":"+E29-G29","v":0},{"$f":"+I29*C29","v":0}]
[]
["2","Demontaža in odstranitev vseh strešnih elementov, žlebov,obrob, cevi, snegolovov, pdb… Obračun po enkratni dolžini demontiranih vertikalnih cevi in žlebov",200,"m1",null,{"$f":"+E31*C31","v":0},{"$f":"+E31*MM","v":0},{"$f":"+G31*C31","v":0},{"$f":"+E31-G31","v":0},{"$f":"+I31*C31","v":0}]
[]
["3","Odstranitev starega ostrešja objekta, rušenje, zlaganje, nakladanje, ter odvoz in plačilo komunalnega prispevka za trajno deponijo. Obračun po tlorisni projekciji strehe",332,"m2",null,{"$f":"+E33*C33","v":0},{"$f":"+E33*MM","v":0},{"$f":"+G33*C33","v":0},{"$f":"+E33-G33","v":0},{"$f":"+I33*C33","v":0}]
[]
["4","Odstranitev starega stavbnega pohištva objekta, postavka zajema odstranitev zunanjih oken in vrat, vključno s podboji, ter odstranitev notranjih vrat vključno s podboji, demontaža, rušenje, nakladanje, ter odvoz v trajno deponijo vključno s plačilom komunalnega prispevka (max odprtina do 9m2)",35,"kom",null,{"$f":"+E35*C35","v":0},{"$f":"+E35*MM","v":0},{"$f":"+G35*C35","v":0},{"$f":"+E35-G35","v":0},{"$f":"+I35*C35","v":0}]
[]
["5","Demontaža in iznos vse kopalniške in toaletne keramike iz objekta trakt C, demontaža, ročni iznos, natovarjanje, ter odvoz na trajno deponijo, vključno s plačilom prispevka",15,"kom",null,{"$f":"+E37*C37","v":0},{"$f":"+E37*MM","v":0},{"$f":"+G37*C37","v":0},{"$f":"+E37-G37","v":0},{"$f":"+I37*C37","v":0}]
[]
["6","Odstranitev in rušenje celotne stropne montažne konstrukcije, vključno z morebitnimi izolacijskimi materiali, nakladanje, ter odvoz na trajno deponijo, vklučno z plačilom komunalnega prispevka.",332,"m2",null,{"$f":"+E39*C39","v":0},{"$f":"+E39*MM","v":0},{"$f":"+G39*C39","v":0},{"$f":"+E39-G39","v":0},{"$f":"+I39*C39","v":0}]
[]
["8","Odstranitev, ter rušenje opečne stene ali zidu - izvedbe prebojev nosilnih sten starega objekta max dimenzije 220/320cm vključno s potrebnim podpiranjem, nakladanjem, ter odvozom materiala na trajno deponijo, vključno z plačilom komunalnega prispevka; dmax=40cm",20,"m3",null,{"$f":"+E41*C41","v":0},{"$f":"+E41*MM","v":0},{"$f":"+G41*C41","v":0},{"$f":"+E41-G41","v":0},{"$f":"+I41*C41","v":0}]
[]
["9","Odstranitev obstoječih ometov vključno z raznimi stenskimi oblogami, čiščenje opečnih fug, odvoz materiala na trajno deponijo, vključno z plačilom komunalnega prispevka.",600,"m2",null,{"$f":"+E43*C43","v":0},{"$f":"+E43*MM","v":0},{"$f":"+G43*C43","v":0},{"$f":"+E43-G43","v":0},{"$f":"+I43*C43","v":0}]
[]
["10","Rušenje in odstranitev podložnih betonov, ter različnih tlakov po celotnem objektu do nivoja terena - zemljine pod objektom, vključno z nakladanjem in odvozom na trajno deponijo, vključno z plačilom komunalnega prispevka, obračun po tlorisni površini objekta (predvidena debelina do d = 20cm max)",300,"m2",null,{"$f":"+E45*C45","v":0},{"$f":"+E45*MM","v":0},{"$f":"+G45*C45","v":0},{"$f":"+E45-G45","v":0},{"$f":"+I45*C45","v":0}]
[]
["12","Rušenje, ter odstranitev komplet zidnega cokla objekta -teranova, do meje opečnega zidu, površino očistiti in pripraviti za nadaljno obdelavo",40,"m2",null,{"$f":"+E47*C47","v":0},{"$f":"+E47*MM","v":0},{"$f":"+G47*C47","v":0},{"$f":"+E47-G47","v":0},{"$f":"+I47*C47","v":0}]
[]
[null,"AO.  RUŠITVENA DELA",null,null,null,{"$f":"SUM(F22:F48)","v":0},null,{"$f":"SUM(H22:H48)","v":0},null,{"$f":"SUM(J22:J48)","v":0}]

{"sheet":"CDE- A1.ZEMELJSKA DELA","index":69,"n_rows":61,"n_cols":10,"rows_kept":61,"cut":false,"hidden":false,"merged":[]}
[null,"Objekt C, D in E,  A1. ZEMELJSKA DELA"]
[]
["ZAP. ŠT.","OPIS","KOLIČUNA","ME","CENA/ENOTO","SKUPAJ","POPUST","POPUST SKUPAJ","CENA/ENOTO S POPUSTOM","SKUPAJ S POPUSTOM"]
[]
[null,"Vsa izkopna dela in transporti izkopnih materialov se obračunajo po prostornini zemljine v raščenem stanju. Vsa nasipna in zasipna dela se obračunajo po prostornini materiala v vgrajenem stanju. Deponije so stvar izvajalca oziroma ponudnika!"]
[null,"Ves izkopan material sproti transportirati na deponijo na gradbišču, kjer se posebno odlaga kvaliteten material za ponovno vgradnjo, posebej pa slab material, ki se sproti naklada in transportira na organizirano komunalno deponijo, ki jo izbere izvajalec ali punudnik, katerega stroški so tudi komunalne takse in okoljevarstveni dodatki."]
[null,"OPOMBA: način izvedbe zameljskih del je prepuščen tehnologiji in opremljenosti izvajalca!"]
[null,"Pred začetkom izvedbe zemeljskih del pregledati geotehnično poročilo, po izkopu gradbene jame teren pregleda geomehanik!"]
[null,"Ob izkopu mora biti prisoten geomehanik!"]
[null,"Deponija kvalitetnega materiala, ki se ponovno uporabi za vgradnjo mora biti obvezno pod nadzorom naročnika !"]
[]
[null,"Dela je potrebno izvajati po določilih tehničnih predpisov in skladno z obveznimi standardi SIST-i. lzkope se obračunava na podlagi profilov, posnetih pred pričetkom del in po opravljenem delu"]
[null,"Pri izvedbi izkopov je obvezno  upoštevati navodila  in mnenja geomehanika.  Po opravljenem  izkopu in kontroli geomehanik  poda svoje mneneje, ki je merodajno  za nadaljevanje  dela. Strošek geomehanika pri izkopu nosi izvajalec."]
[]
[null,"Za zasipanje gradbene jame se mora uporabiti izbran čisti material, dobljen pri izkopu gradbene jame, ali pa če ta ne ustreza, dobaviti novega.   Zasipanje je izvajati v slojih, z utrevanjem vsakega sloja posebej tako, da se sesedanje zemeljskega materiala zmanjša na minimum."]
[]
[null,"Standardi za zemeljska dela vsebujejo poleg izdelave po popisu v posamezni postavki še navedena dela, ki jih je potrebno upoštevati v ceni za enoto:"]
[null,"* vsa potrebna pripravljalna dela za zemeljska dela"]
[null,"* vse potrebne transporte do mesta vgrajevanja"]
[null,"* vse potrebno delo in material"]
[null,"* vsa potrebna pomožna sredstva za delo na objektu"]
[null,"* usklajevanje z osnovnim načrtom in posvetovanje s projektantom"]
[null,"* čiščenje izkopov neposredno pred pričetkom betoniranja"]
[null,"* terminsko usklajevanje del z ostalimi izvajalci na objektu"]
[null,"* pregled bočnih strani izkopa vsak dan pred pričetkom dela, zlasti po dež. vremenu, mrazu ali miniranju"]
[null,"* popravilo eventuelne škode povzročene ostalim izvajalcem na gradbišču"]
[null,"* čiščenje gradbišča in prostorov ter odvoz odvečnega meteriala na stalno deponijo"]
[null,"* plačilo komunalnih prispevkov za stalno deponijo odvečnega izkopanega materiala"]
[null,"*  eventuelne poškodbe  in čiščenja javnih vozisc ter drugih površin zaradi prevozov bremenijo izvajalca. lzvajalec del mora posebej paziti na vse obstoječe komunalne in energetske priključke"]
[null,"* dela in ukrepe po določilih veljavnih predpisov varstva pri delu"]
[null,"▪ eventualno črpanje vode iz gradbene jame in temeljev"]
[]
[]
[null,"Enotna cena mora zajeti izdelavo vseh potrebnih  detajlov  in dopolnilnih  del, katera  je potrebno  izvesti za dokončanje  posameznih  del,  tudi če potrebni detajli in zaključki niso podrobno  navedeni in opisani v popisu del, in so ta dopolnila  nujna za pravilno funkcioniranje posameznih sistemov in elementov objekta."]
[]
[null,"Opomba:\nNačin izvedbe zameljskih del je prepuščen tehnologiji in opremljenosti izvajalca!\n- V c.e.m. je potrebno zajeti ročne izkope, peščene posteljice in zasipe s komprimiranjem za izvedbo talnih inštalacij v objektu (kanalizacija, ...)\n\nIzkop gradbene jame mora biti opravljen v prisotnosti geomehanika, oziroma potrebno je pred začetkom izvedbe zemeljskih del pregledati geotehnično poročilo, po izkopu gradbene jame pa teren pregleda geomehanik! \nOPOMBA: \nEvtl. Varovanje gradbene jame in ostala tehnična vprašanja se urejajo na licu mesta po navodilih geomehanskega nadzora!"]
[]
[]
["1","Površinski plitvi odriv humusa oziroma mešanega zgornjega sloja iz travne ruše in zemlje (evtl. delno iz peščenega nasutja), vse  v terenu III. kategorije  na mestu izgradnje objekta.  Površinski izkop mešanega  materiala oziroma humusa, povprečne globine cca 30 cm, z direktnim odlaganjem  na deponijo na gradbišču, kjer se dober material kopiči posebej za ponovno vgraditev za zelenice in zasipe ob objektih, slab mešan material pa ločeno, za kasnejši odvoz na mestno deponijo ali pa se uporabi za izravnavo parcele oziroma evtl. za nasip."]
[null,null,300,"m3",null,{"$f":"+E40*C40","v":0},{"$f":"+E40*MM","v":0},{"$f":"+G40*C40","v":0},{"$f":"+E40-G40","v":0},{"$f":"+I40*C40","v":0}]
[]
["2","Široki izkop gradbene jame, v zemljini III. Ktg., globine do spodnjega roba tamponskega nasutja pod talnimi ploščami, z odlaganjem materiala na gradbiščno deponijo - dober material za zasip za temelji oziroma planiranje okolice, slab material pa za kasnejši odvoz na deponijo.\nGlobina izkopa cca 2,00 do cca 3,4 m (glede na obstoječe kote terena) \nNaklon stranic zkopa predvideno cca 60°."]
[null,null,2400,"m3",null,{"$f":"+E43*C43","v":0},{"$f":"+E43*MM","v":0},{"$f":"+G43*C43","v":0},{"$f":"+E43-G43","v":0},{"$f":"+I43*C43","v":0}]
[]
["3","Planiranje dna gradbene jame s točnostjo +- 3 cm z valjanjem in utrjevanjem do predpisane zbitosti."]
[null,null,800,"m2",null,{"$f":"+E46*C46","v":0},{"$f":"+E46*MM","v":0},{"$f":"+G46*C46","v":0},{"$f":"+E46-G46","v":0},{"$f":"+I46*C46","v":0}]
[]
["4","Dobava in vgrajevanje komprimiranega sloja tamponskega nasutja, debeline min. 40 cm, vključno z utrjevanjem do predpisane zbitosti. Material  0-32 mm, utrjevanje po plasteh deb. 10 cm, izvedva z vsemi transporti in pomožnimi deli, preizkusi in meritvami. \n \nPredhodno je v gradbeno jamo potrebno položiti sloj iz geotekstila (Kot npr. politlak folija Typar nad 300 g/m2, Polyfelt), z izvedbo vseh preklopov in zaključkov na stene gr. jame, kot ločilni sloj med raščenim zbitim terenom in novim tamponskim slojem. Postavka zajema dobavo in vgradnjo materiala."]
[null,"a.) Geotekstil: ",1000,"m2",null,{"$f":"+E49*C49","v":0},{"$f":"+E49*MM","v":0},{"$f":"+G49*C49","v":0},{"$f":"+E49-G49","v":0},{"$f":"+I49*C49","v":0}]
[null,"b.) Tamponsko nasutje: ",345,"m3",null,{"$f":"+E50*C50","v":0},{"$f":"+E50*MM","v":0},{"$f":"+G50*C50","v":0},{"$f":"+E50-G50","v":0},{"$f":"+I50*C50","v":0}]
[]
["5","Zasip za temeljnimi ploščami in podkletenimi stenami objekta, v slojih po 30 cm z materialom iz gradbiščne deponije, kateremu se odstranijo neuporabni delci, vključno z utrjevanjem po plasteh do predpisane zbitosti."]
[null,null,486,"m3",null,{"$f":"+E53*C53","v":0},{"$f":"+E53*MM","v":0},{"$f":"+G53*C53","v":0},{"$f":"+E53-G53","v":0},{"$f":"+I53*C53","v":0}]
[]
["6","Ročni izkop gradbene jame ob obstoječih objektih ,ter priprava podlage za vgrajevanje drenažnih slojev , izvedbe priklopov raznih cevi in jaškov, pomoč stroju pri planiranju dna izkopa. Količina ocenjena"]
[null,null,50,"m3",null,{"$f":"+E56*C56","v":0},{"$f":"+E56*MM","v":0},{"$f":"+G56*C56","v":0},{"$f":"+E56-G56","v":0},{"$f":"+I56*C56","v":0}]
[]
["7","Odvoz odvečnega materiala v trajno deponijo. V kolikor ni drugače dogovorjeno z investitorjem, je višek izkopanega materiala stvar izvajalca, ki ga odstrani iz gradbišča. Kvaliteta materiala je razvidna iz geološkega poročila. Odškodnino vključiti v ponudbeno ceno. \nOpomba: V količini zajet ves predviden odvečni material (v raščenem stanju) pri izvedbi zemeljskih del za izgradnjo objekta.\nDeponija........................................................................................................................ km"]
[null,null,2105,"m3",null,{"$f":"+E59*C59","v":0},{"$f":"+E59*MM","v":0},{"$f":"+G59*C59","v":0},{"$f":"+E59-G59","v":0},{"$f":"+I59*C59","v":0}]
[]
[null,"A1. ZEMELJSKA DELA",null,null,null,{"$f":"SUM(F36:F60)","v":0},null,{"$f":"SUM(H36:H60)","v":0},null,{"$f":"SUM(J36:J60)","v":0}]

{"sheet":"CDE- A2.TESARSKA DELA","index":70,"n_rows":102,"n_cols":10,"rows_kept":102,"cut":false,"hidden":false,"merged":[]}
[null,"Objekt C, D in E,  A2.  TESARSKA DELA"]
[]
["ZAP. ŠT.","OPIS","KOLIČUNA","ME","CENA/ENOTO","SKUPAJ","POPUST","POPUST SKUPAJ","CENA/ENOTO S POPUSTOM","SKUPAJ S POPUSTOM"]
[]
[null,"Pri vseh postavkah v cenah upoštevati dobavo materiala s prevozom in zlaganjem na gradbišču s prenosom do mesta vgraditve, opaženjem, razopaženjem, čiščenjem lesa in vsemi pomožnimi deli."]
[]
[null," Vrsta in kakovost opažene površine za vidne betone: ( glej tudi navodila navedena v betonskih delih ):"]
[null,"a./ Konstrukcija opažev in kalupov mora biti takšna, da pri razopaževanju ne more priti do poškodb strjujočega betona na elementu."]
[null,"b./ Opaži morajo biti tesni. Zlasti pri vgrajevanju betona z vibratorjem mora biti preprečeno vsako izcejanje vode ali cementno-peščenega glena. Tesnitev opažev je treba izvesti samo z materiali, ki ne vplivajo škodljivo na hidratacijo, in ki ne obarvajo betonskih površin. Po možnosti naj se zagotovijo standardizirani tesni spoji."]
[null,"c./ Opaži in opažni premazi ne smejo vplivati na spremembo barvnega tona betonskih površin in ne smejo z betonom kemično reagirati ali na kakršen koli način škodljivo vplivati na beton."]
[null,"Jekleni opaži ne smejo biti rjasti in mastni in jih je treba očistiti vsake umazanije, ki bi lahko razbarvala betonske površine."]
[]
[null,"Opaži morajo biti izdelani točno po merah v načrtu, z vsemi potrebnimi podporami, horizontalno in vertikalno povezavo, tako da so stabilni in sposobni za obtežbo z betonom. Notranje površine morajo biti čiste in ravne.Pri objektih z več nadstropji mora biti razpored gornjih podpor tak, da se obtežba prenaša neposredno na spodnje podpore."]
[null,"Opaži morajo biti izdelani tako, da se razopaževanje opravi brez pretresov in poškodovanja konstrukcije in opažev samih."]
[null,"Obračun se vrši po opisu v posamezni postavki, s tem da se upoštevajo pri obračunu notranje površine opažev, to je vidne površine konstrukcije."]
[null,"V ceni morajo biti zajeta vsa pomožna dela, po opisu splošnih določil za tesarska dela:"]
[null,"* dela in ukrepe po določilih veljavnih predpisov varstva pri delu"]
[null,"* snemanje potrebnih izmer na mestu samem;"]
[null,"* postavitev, premeščanje in odstranitev premičnih odrov višine do 2,00 m potrebnih za napravo tesarskih del;"]
[null,"* zbiranje in sortiranje lesa po dimenzijah"]
[null,"* izdelavo in demontažo opažev"]
[null,"* podpiranje, zavetrovanje in vezavo opažev"]
[null,"* ruvanje žičnikov, čiščenje opažev"]
[null,"* vzdrževanje materiala in elemntov opažev"]
[null,"* vzdrževanje naprav in premičnih odrov in odrov, ki so potrebni za betoniranje"]
[]
[null,"Opaž vidnih konstrukcij je potrebno razumeti tako, da so te neometane oz. neobložene pri katerih je predpisana poplnoma ravna površina in kjer je to navedeno, tudi vidna struktura lesa. Medsebojno  veznje opažev se izvede z veznimi elemnti skozi distančne cevke."]
[null,"Če se za vidne površine betonov uporabljajo za opaže deske, morajo biti stiki desk praviloma oblikovani na pero in utor. Z natančno izdelavo in tesnjenjem stikov je potrebno zagotoviti nepropustnost  opažev za odtekanje vode ali malte betona"]
[]
[null,"V ceni za enoto je potrebno upoštevati tudi:"]
[null,"*  dobavo  lesa  in  opažnih  elementov,  vsega  pritrdilnega  in   pomožnega  materiala,  vse  transportne  in manipulativne stroške"]
[null,"*  najemnina, vzdrževanje, prenova opažev, nove opažne plošče za vidne betone, stroški odpisa opreme"]
[null,"*  stroške vseh potrebnih elementov, veznih sredstev, podpor, drobnega materiala, odrov za betoniranje, ograje na raobovih plošč, ...."]
[null,"*  tesnila  za preprečitev  iztekanja  cementnega  mleka  med opažnimi  ploščami  in med  opažem  in  bet."]
[null,"konstrukcijo, tesnenje juvidur cevi"]
[null,"*  stike opažnih elementov potrdi projektant, izvajalec pripravi opažne nacrte"]
[null,"* tehnološki načrt opaženja v potrditev (med drugimi preprečevanje razpok zaradi krčenja)"]
[null,"*  stroške žerjavov oz druge tehnologije za vertikalne in horiz. transporte"]
[null,"* v ceni za enoto je upoštevati tudi opaže vseh prebojev za vse vrste inštalacij. Odprtine v opažu velikosti do 1 m2 in opaži odprtin širine do 30 cm se ne obračunavajo posebej."]
[null,"*  dodatne trikotne letvice na stikih različnih betonaž po detajlu odgovornega arhitekta"]
[null,"*   istočasno z izdelavo opažev se vgrajujejo tudi razvodi in doze za inštalacije "]
[null," "]
[null,"V   ceni  opažev   za   \"vidni   beton\"   mora   ponudnik   zajeti   tudi   ev.   strošek   obdelave   betona   pred slikopleskarskimi deli ter vgradnjo trikotnih letvic 3x3 cm na vseh odprtih robovih ter na konzolnih ploščah za izvedbo odkapa."]
[]
[null,"Lovilni in varovalni odri se ne obračunavajo posebej. Delovni odri morajo biti zgrajeni v skladu s predpisi o varnosti pri delu na visokih odrih in pravilno sidrani na objekt"]
[]
[null,"Enotna cena mora zajeti izdelavo vseh potrebnih  detajlov  in dopolnilnih  del, katera  je potrebno  izvesti za dokončanje  posameznih  del,  tudi če potrebni detajli in zaključki niso podrobno  navedeni in opisani v popisu del, in so ta dopolnila  nujna za pravilno funkcioniranje posameznih sistemov in elementov objekta."]
[]
[null,"V c.e.m. je potrebno upoštevati notranje, premične in dvižne delovne odre in ploščadi, čiščenje po posameznih fazah dela, ter odvoz odpadkov na deponijo!"]
[]
[null,"OPOMBA: V c.e.m je potrebno upoštevati tudi izvedbo vseh horizontalnih in vertikalnih inštalacijskih prebojev za strojne in elektro inštalacije!"]
[]
[null,"TRAKT D"]
["1","Naprava in odstranitev opaža čelnih ploskev AB temeljne plošče objekta (trakt D) debeline 50 cm, s prenosom materiala, čiščenjem lesa in vsemi pomožnimi deli. Skupaj cca 110 m1.\nOPOMBA:\nPred betoniranjem je potrebno vstaviti zaščitne cevi za evtl. vertikalne in horizontalne odvode kanalizacijskega razvoda."]
[null,null,55,"m2",null,{"$f":"+E55*C55","v":0},{"$f":"+E55*MM","v":0},{"$f":"+G55*C55","v":0},{"$f":"+E55-G55","v":0},{"$f":"+I55*C55","v":0}]
[]
["2","Naprava in odstranitev dvostranega opaža AB kletnih sten debeline 20-40 cm, višine max do 3m', s prenosom materiala, čiščenjem lesa in vsemi pomožnimi deli."]
[null,"a) Obodne stene kleti deb. 40 cm: ",450,"m2",null,{"$f":"+E58*C58","v":0},{"$f":"+E58*MM","v":0},{"$f":"+G58*C58","v":0},{"$f":"+E58-G58","v":0},{"$f":"+I58*C58","v":0}]
[null,"b) Stene kleti, deb. 20 cm: ",190,"m2",null,{"$f":"+E59*C59","v":0},{"$f":"+E59*MM","v":0},{"$f":"+G59*C59","v":0},{"$f":"+E59-G59","v":0},{"$f":"+I59*C59","v":0}]
[null,"c) Stene kleti, deb. 25 cm: ",140,"m2",null,{"$f":"+E60*C60","v":0},{"$f":"+E60*MM","v":0},{"$f":"+G60*C60","v":0},{"$f":"+E60-G60","v":0},{"$f":"+I60*C60","v":0}]
[]
["3","Naprava in odstranitev dvostranega opaža AB sten pritličja debeline 20-30 cm, višine max do 3,7m', s prenosom materiala, čiščenjem lesa in vsemi pomožnimi deli."]
[null,"a) Stene pritličja deb. 30 cm: ",1080,"m2",null,{"$f":"+E63*C63","v":0},{"$f":"+E63*MM","v":0},{"$f":"+G63*C63","v":0},{"$f":"+E63-G63","v":0},{"$f":"+I63*C63","v":0}]
[null,"b) Stene pritličja, deb. 20 cm: ",95,"m2",null,{"$f":"+E64*C64","v":0},{"$f":"+E64*MM","v":0},{"$f":"+G64*C64","v":0},{"$f":"+E64-G64","v":0},{"$f":"+I64*C64","v":0}]
[]
["4","Naprava in odstranitev dvostranega opaža AB sten nadstropja debeline 20-30 cm, višine max do 4,6m', s prenosom materiala, čiščenjem lesa in vsemi pomožnimi deli."]
[null,"a) Stene nadstropja deb. 30 cm: ",1300,"m2",null,{"$f":"+E67*C67","v":0},{"$f":"+E67*MM","v":0},{"$f":"+G67*C67","v":0},{"$f":"+E67-G67","v":0},{"$f":"+I67*C67","v":0}]
[null,"b) Stene nadstropja, deb. 20 cm: ",75,"m2",null,{"$f":"+E68*C68","v":0},{"$f":"+E68*MM","v":0},{"$f":"+G68*C68","v":0},{"$f":"+E68-G68","v":0},{"$f":"+I68*C68","v":0}]
[]
["5","Naprava in odstranitev opaža AB etažnih in strešnih plošč objekta, s prenosom materiala, čiščenjem lesa in vsemi pomožnimi deli.\n- AB etažne in strešne plošče objekta deb. 30 cm\nV količini zajete spodnje plošče in čelni zaključki plošč.  \nVišina podpiranja do cca od 3,0 do 4,60m'."]
[null,null,1250,"m2",null,{"$f":"+E71*C71","v":0},{"$f":"+E71*MM","v":0},{"$f":"+G71*C71","v":0},{"$f":"+E71-G71","v":0},{"$f":"+I71*C71","v":0}]
[]
["6","Naprava in odstranitev opaža AB dvigalnih jaškov, s prenosom materiala, čiščenjem lesa in vsemi pomožnimi deli. - Temeljne plošče jaškov deb. 30 cm\n- Strešna plošča jaškov deb.30cm (je del etažne plošče)\n- Stene jaškov deb. 20-30 cm\n Skupna višina sten cca 17 m1."]
[null,"a) Temelji in stene: ",650,"m2",null,{"$f":"+E74*C74","v":0},{"$f":"+E74*MM","v":0},{"$f":"+G74*C74","v":0},{"$f":"+E74-G74","v":0},{"$f":"+I74*C74","v":0}]
[]
[null,"TRAKT E"]
["7","Naprava in odstranitev opaža čelnih ploskev AB temeljne plošče objekta (trakt E) debeline 30 cm, s prenosom materiala, čiščenjem lesa in vsemi pomožnimi deli. Skupaj cca 45 m1.\nOPOMBA:\nPred betoniranjem je potrebno vstaviti zaščitne cevi za evtl. vertikalne in horizontalne odvode kanalizacijskega razvoda."]
[null,null,14,"m2",null,{"$f":"+E78*C78","v":0},{"$f":"+E78*MM","v":0},{"$f":"+G78*C78","v":0},{"$f":"+E78-G78","v":0},{"$f":"+I78*C78","v":0}]
[]
["8","Naprava in odstranitev opaža pasovnih AB temeljev objekta dimenzij 58/60 in 70/20 cm (trakt E), s prenosom materiala, čiščenjem lesa in vsemi pomožnimi deli. Skupaj cca 13 m1.\nOPOMBA:\nPred betoniranjem je potrebno vstaviti zaščitne cevi za evtl. vertikalne in horizontalne odvode kanalizacijskega razvoda."]
[null,null,35,"m2",null,{"$f":"+E81*C81","v":0},{"$f":"+E81*MM","v":0},{"$f":"+G81*C81","v":0},{"$f":"+E81-G81","v":0},{"$f":"+I81*C81","v":0}]
[]
["9","Naprava in odstranitev dvostranega opaža AB sten debeline 20cm, višine max do 3,4m', s prenosom materiala, čiščenjem lesa in vsemi pomožnimi deli."]
[null,"a) Obodne in vmesne stene trakta E. 20 cm: ",400,"m2",null,{"$f":"+E84*C84","v":0},{"$f":"+E84*MM","v":0},{"$f":"+G84*C84","v":0},{"$f":"+E84-G84","v":0},{"$f":"+I84*C84","v":0}]
[]
["10","Naprava in odstranitev opaža AB etažnih in strešnih plošč objekta, s prenosom materiala, čiščenjem lesa in vsemi pomožnimi deli.\n- AB etažne in strešne plošče objekta deb. 20 cm\nV količini zajete spodnje plošče in čelni zaključki plošč.  \nVišina podpiranja do cca 3,40m'."]
[null,null,125,"m2",null,{"$f":"+E87*C87","v":0},{"$f":"+E87*MM","v":0},{"$f":"+G87*C87","v":0},{"$f":"+E87-G87","v":0},{"$f":"+I87*C87","v":0}]
[]
["11","Naprava in odstranitev opaža AB prezračevalnih jaškov iz kletne etaže, s prenosom materiala, čiščenjem lesa in vsemi pomožnimi deli.\nStene so deb. 20 cm, (višine cca 200 cm)"]
[null,null,6,"m2",null,{"$f":"+E90*C90","v":0},{"$f":"+E90*MM","v":0},{"$f":"+G90*C90","v":0},{"$f":"+E90-G90","v":0},{"$f":"+I90*C90","v":0}]
[]
[null,"Trakta D in E"]
["12","Naprava in odstranitev dvostranega opaža atik, s prenosom materiala, čiščenjem lesa in vsemi pomožnimi deli. \nAB atike objekta prerezov do 30/75 cm.\n"]
[null,"a.) atike AB izvedbe trakt D",175,"m2",null,{"$f":"+E94*C94","v":0},{"$f":"+E94*MM","v":0},{"$f":"+G94*C94","v":0},{"$f":"+E94-G94","v":0},{"$f":"+I94*C94","v":0}]
[null,"a.) atike AB izvedbe trakt E",70,"m2",null,{"$f":"+E95*C95","v":0},{"$f":"+E95*MM","v":0},{"$f":"+G95*C95","v":0},{"$f":"+E95-G95","v":0},{"$f":"+I95*C95","v":0}]
[]
[null,"Trakta D in C"]
["13","Naprava in odstranitev opaža stopnišč objekta, s prenosom materiala, čiščenjem lesa in vsemi pomožnimi deli. V količini so upoštevane tudi čelne plošče stopnic."]
[null,"a) Glavni stopniščni jedri trakt D: ",70.400000000000006,"m2",null,{"$f":"+E99*C99","v":0},{"$f":"+E99*MM","v":0},{"$f":"+G99*C99","v":0},{"$f":"+E99-G99","v":0},{"$f":"+I99*C99","v":0}]
[null,"b) Stopnišče trakt C: ",20,"m2",null,{"$f":"+E100*C100","v":0},{"$f":"+E100*MM","v":0},{"$f":"+G100*C100","v":0},{"$f":"+E100-G100","v":0},{"$f":"+I100*C100","v":0}]
[]
[null,"A2.  TESARSKA DELA",null,null,null,{"$f":"SUM(F51:F101)","v":0},null,{"$f":"SUM(H51:H101)","v":0},null,{"$f":"SUM(J51:J101)","v":0}]

{"sheet":"CDE- A3.BETONSKA DELA","index":71,"n_rows":91,"n_cols":10,"rows_kept":91,"cut":false,"hidden":false,"merged":[]}
[null,"Objekt C, D in E,  A3. BETONSKA DELA"]
[]
["ZAP. ŠT.","OPIS","KOLIČUNA","ME","CENA/ENOTO","SKUPAJ","POPUST","POPUST SKUPAJ","CENA/ENOTO S POPUSTOM","SKUPAJ S POPUSTOM"]
[]
[null,"Splošni opis"]
[null,"Dela je potrebno izvejati po določilih veljevnih tehničnih predpisov  in normativov in skladno z obveznimi standardi SIST-i;"]
[null,"SIST EN 13670"]
[null,"SIST EN 206"]
[null,"SIST EN 10080"]
[null,"Vgrajeni material mora po kvaliteti ustrezati določilom veljavnih tehničnih predpisov."]
[]
[null,"Standardi za betonska dela vsebujejo poleg izdelave v postavkah popsa  tudi;"]
[null,"*  dela in ukrepe po določilih veljavnih predpisov varstva pri delu"]
[null,"*  čiščenje in vlaženje opažev neposredno pred pričetkom betoniranja"]
[null,"* manjša popravila opažev med betoniranjem"]
[null,"* vmetavanje betona v opaže ter premečšenje lijaka ali transportne cevi med betoniranjem"]
[null,"* zgoščevanje betona"]
[null,"* nega betona; močenje, zaščita pred mrazom, soncem, vetrom, tresljaji itd."]
[null,"*  čiščenje armature od umazanije, rje, ki se lušči, maščobe,  postavljanje podložk in začasno  vezanje k opažu"]
[null,"*  za  vidne  konstrukcije  je potrebno  vgrajevati  enako  kvaliteto  mesanice  betona  in  enako  kvaliteto cementa istega proizvajalca"]
[null,"* kontrolirati, da so vsa sidra, škatle, vložki, doze, cevi in podobno na predvidenih mestih"]
[]
[null,"V ceni za enoto mora biti upoštevano poleg del opisa v postavkah, ter ukrepov iz prejšnjega odstavka tudi:"]
[null,"*   dobava  vsega  potrebnega  materiala  z  vsemi  transporti   in  manipulativnimi  stroški  ter  ustreznim skaldiščenjem in transporti do mesta vgradnje"]
[null,"* čiščenje opažev po montaži armature"]
[null,"*  čiščenje gradbišča, objekta in konstrukcijskih elemntov zaradi betoniranja"]
[null,"* varovalne odre in odre za delo na višini kot zaščita pred padcem"]
[]
[null,"-Ves  beton  na  objektu  je  neometan, stiki morajo biti pobrušeni.  Stene  in  stropovi  so  kitani  in  barvani,  ali obloženi  z  mavčnimi ploščami."]
[null,"-Za obliko in mesto  ev. delovne  rege ali prekinitve  betoniranja  se je potrebno  predhodno  dogovoriti  s projektantom statike."]
[null,"-Betonska armatura mora biti obdelana v skladu z veljavninimi predpisi v kvaliteti predpisani v statičnem računu in izdelana točno po armaturnih načrtih. Pritrjena mora biti tako, da ostane med betoniranjem  v zahtevanem položaju."]
[null,"-Za izvajalca  del so merodajne  marke  betonov  navedene  v postavkah  oziroma  v statičnem  računu  in armaturnih načrtih. V primeru neskladnosti velja tolmačenje projektanta statike."]
[]
[null,"Pred pričetkom del mora izvajalec  izdelati projekt  betona  s tehnologijo  gradnje, katerega  mora potrditi projektant statike in predstavnik investitorja. Projekt betona mora biti zajet v ceni za enoto v postavkah."]
[]
[null,"Za dopustna odstopanja glede pravilnosti in dimenzij gr. elementv veljajo določila DIN 18 202 "]
[]
[null,"ARMATURA: armaturne palice morajo biti fiksirane tako, da ni možno naknadno premikanje ali zvijanje. Za dosego predpisanih odmikov po statičnem načrtu se uporablja ustrezne nerjaveče distančnike. Pred montažo oziroma pred betoniranjem je potrebno vizualno ugotavljati ustreznost armature v pogledu čistosti - premočna zarjavelost, onesnaženost z maščobami, betonom, blatom itd.."]
[]
[null,"Enotna cena mora zajeti izdelavo vseh potrebnih detajlov in dopolnilnih del, katera je potrebno izvesti za dokončanje posameznih del, tudi če potrebni detajli in zaključki niso podrobno navedeni in opisani v popisu del, in so ta dopolnila nujna za pravilno funkcioniranje posameznih sistemov in elementov objekta."]
[]
[null,"V c.e.m. je potrebno upoštevati notranje, premične in dvižne delovne odre in ploščadi, čiščenje po posameznih fazah dela, ter odvoz odpadkov na deponijo!"]
[]
[]
[null,"OPOMBA: \n- Marke betonov oz. zahtevana tlačna trdnost je v popisu informativna in se lahko razlikuje od zahtevane tlačne trdnosti po statičnem izračunu. Izvedba po statičnem računu - glej tehnično poročilo.\n- Vse na mestu betonirane konstrukcije morajo imeti predpisano zaščitno plast armature - po načrtih projektantov konstrukterjev  in po zahtevah v požarnem elaboratu!\n- Pri vseh postavkah betonskih del upoštevati dobavo s transportom, strojno vgrajevanje betona, vibriranje, nego in površinsko izravnavo z zagladitvijo.\n- Pred začetkom betoniranja je potrebno v območju temeljne plošče izvesti vse strojne in elektro instalacije (instalacije niso predmet tega popisa).\n- V AB stenah in etažnih ploščah ter  nosilcih morajo biti pred betoniranjem izvedene odprtine za prehod instalacij!"]
[]
[]
["1","Podložni beton kvalitete B.1, C 8/10, agregat frakcije 0-16 mm. \nPodbeton pod temeljno ploščo objekta in dvigalnih jaškov, deb. 10 cm. Podložni beton zaglajen in pripravljen na polaganje hidroizolacije."]
[null,"trakt C",30,"m3",null,{"$f":"+E49*C49","v":0},{"$f":"+E49*MM","v":0},{"$f":"+G49*C49","v":0},{"$f":"+E49-G49","v":0},{"$f":"+I49*C49","v":0}]
[null,"trakt D",47,"m3",null,{"$f":"+E50*C50","v":0},{"$f":"+E50*MM","v":0},{"$f":"+G50*C50","v":0},{"$f":"+E50-G50","v":0},{"$f":"+I50*C50","v":0}]
[null,"trakt E",13,"m3",null,{"$f":"+E51*C51","v":0},{"$f":"+E51*MM","v":0},{"$f":"+G51*C51","v":0},{"$f":"+E51-G51","v":0},{"$f":"+I51*C51","v":0}]
[]
["2","Dobava in vgrajevanje betona C 25/30, v AB konstrukcije prereza 0,12 do 0,50 m3/m2/m1.\nAB temeljna plošča deb. 30 do 50 cm."]
[null,"trakt C (brez-obstoječi temelji)","0","m3",null,{"$f":"+E54*C54","v":0},{"$f":"+E54*MM","v":0},{"$f":"+G54*C54","v":0},{"$f":"+E54-G54","v":0},{"$f":"+I54*C54","v":0}]
[null,"trakt D (plošča do 50cm)",226,"m3",null,{"$f":"+E55*C55","v":0},{"$f":"+E55*MM","v":0},{"$f":"+G55*C55","v":0},{"$f":"+E55-G55","v":0},{"$f":"+I55*C55","v":0}]
[null,"trakt E (plošča do 30cm)",25,"m3",null,{"$f":"+E56*C56","v":0},{"$f":"+E56*MM","v":0},{"$f":"+G56*C56","v":0},{"$f":"+E56-G56","v":0},{"$f":"+I56*C56","v":0}]
[]
["3","Dobava in vgrajevanje betona C 25/30, v AB konstrukcije prereza od 0,20-0,30 m3/m2-m1.\nAB etažne (in strešne) plošče objekta, deb. 30 cm. "]
[null,null,375,"m3",null,{"$f":"+E59*C59","v":0},{"$f":"+E59*MM","v":0},{"$f":"+G59*C59","v":0},{"$f":"+E59-G59","v":0},{"$f":"+I59*C59","v":0}]
[]
["4","Dobava in vgradnja tipskih izolacijskih veznih elementov konzolnih plošč balkonov in teras (kot npr. SCHÖCK ISOCORB Tronsole - tipT ali podobno), dimenzij cca 8/20 cm, vgrajeni linijsko med stopniščne baze in stopniščne podeste, zaradi prerprečevanja udarnega zvoka. \nglej GRADBENE KONSTRUKCIJE in ARHITEKTURO."]
[null," Schöck Tronsole tip T-V6-H200-L1460  ",2,"kom",null,{"$f":"+E62*C62","v":0},{"$f":"+E62*MM","v":0},{"$f":"+G62*C62","v":0},{"$f":"+E62-G62","v":0},{"$f":"+I62*C62","v":0}]
[null,"Trakovi med zidovi in stopnicami:"]
[null,"Schöck Tronsole tip L420, dolžina 1460mm",2,"kom",null,{"$f":"+E64*C64","v":0},{"$f":"+E64*MM","v":0},{"$f":"+G64*C64","v":0},{"$f":"+E64-G64","v":0},{"$f":"+I64*C64","v":0}]
[null,"Schöck Tronsole tip F-V1-L1000 ",4,"kom",null,{"$f":"+E65*C65","v":0},{"$f":"+E65*MM","v":0},{"$f":"+G65*C65","v":0},{"$f":"+E65-G65","v":0},{"$f":"+I65*C65","v":0}]
[]
[]
[]
[]
["5","Dobava in vgrajevanje betona C 25/30, v AB konstrukcije prereza od 0,20-0,30 m3/m2-m1.\nAB dvigalni jaški.\n- Temeljne plošče jaškov deb. 30 cm\n- Stene jaškov deb. 20 cm\nSkupna višina sten dvigalnih jaškov je cca 17 m1."]
[null,null,78,"m3",null,{"$f":"+E71*C71","v":0},{"$f":"+E71*MM","v":0},{"$f":"+G71*C71","v":0},{"$f":"+E71-G71","v":0},{"$f":"+I71*C71","v":0}]
[]
["6","Dobava in vgrajevanje betona C 25/30, v AB konstrukcije prereza od 0,20-0,40 m3/m2-m1.\nAB stene objekta, deb. 20-40 cm\nVišina sten do cca 300 do 460 cm."]
[null,"a) AB stene trakt D, deb. 20 do 40 cm: ",500.5,"m3",null,{"$f":"+E74*C74","v":0},{"$f":"+E74*MM","v":0},{"$f":"+G74*C74","v":0},{"$f":"+E74-G74","v":0},{"$f":"+I74*C74","v":0}]
[null,"b) AB stene trakt E, deb. 20 cm: ",40,"m3",null,{"$f":"+E75*C75","v":0},{"$f":"+E75*MM","v":0},{"$f":"+G75*C75","v":0},{"$f":"+E75-G75","v":0},{"$f":"+I75*C75","v":0}]
[null,"c) AB atike trakt D in E, deb. 20 cm: ",33.25,"m3",null,{"$f":"+E76*C76","v":0},{"$f":"+E76*MM","v":0},{"$f":"+G76*C76","v":0},{"$f":"+E76-G76","v":0},{"$f":"+I76*C76","v":0}]
[]
["7","Dobava in vgrajevanje betona C 25/30, v AB konstrukcije prereza od 0,12-0,20 m3/m2-m1.\nAB konstrukcija svetlobnih oz. prezračevalnih jaškov iz kletne etaže, deb. sten je 20 cm.\nVišina cca 200 cm."]
[null,null,1,"m3",null,{"$f":"+E79*C79","v":0},{"$f":"+E79*MM","v":0},{"$f":"+G79*C79","v":0},{"$f":"+E79-G79","v":0},{"$f":"+I79*C79","v":0}]
[]
["8","Dobava in vgrajevanje betona kvalitete C 25/30, XC2, Dmax 32, v AB konstrukcije prereza od 0,12-0,20 m3/m2-m1.\nAB stopnišča."]
[null,"a) Glavni stopniščni jedri trakt D: ",15,"m3",null,{"$f":"+E82*C82","v":0},{"$f":"+E82*MM","v":0},{"$f":"+G82*C82","v":0},{"$f":"+E82-G82","v":0},{"$f":"+I82*C82","v":0}]
[null,"b) Stopnišče trakt C: ",5,"m3",null,{"$f":"+E83*C83","v":0},{"$f":"+E83*MM","v":0},{"$f":"+G83*C83","v":0},{"$f":"+E83-G83","v":0},{"$f":"+I83*C83","v":0}]
[]
["9","Izvedba tokretiranja obstoječih nosilnih sten v traktu C, obseg del zajema vsa pripravljalna dela, vključno z dolblenjem sten do dosega ustrezne debeline za nanos 5cm torkreta, ter vstavljanjem armaturnih mrež Q785. Torkretiran beton se po nanosu gladko zabriše, ter pripravi za brušenje in nanos barve"]
[null,null,1866,"m2",null,{"$f":"+E86*C86","v":0},{"$f":"+E86*MM","v":0},{"$f":"+G86*C86","v":0},{"$f":"+E86-G86","v":0},{"$f":"+I86*C86","v":0}]
[]
["10","Dobava in vgradnja  krivljenih palic rebraste armature, ne glede na premer palic, ter armaturnih mrež, vključno z distančniki mrež (distančne kače), s polaganjem, vezanjem, s prenosi do mesta vgraditve in s pomožnimi deli. Količina armature je podana na osnovi ocene 120kg/m3 vgrajenega betona. Za točne količine se držati izvlečkov načrtov gradbenih konstrukcij. Podana skupna količina mrež in palic ne glede na kvaliteto in presek. "]
[null,null,166770,"kg",null,{"$f":"+E89*C89","v":0},{"$f":"+E89*MM","v":0},{"$f":"+G89*C89","v":0},{"$f":"+E89-G89","v":0},{"$f":"+I89*C89","v":0}]
[]
[null,"A3. BETONSKA DELA",null,null,null,{"$f":"SUM(F45:F90)","v":0},null,{"$f":"SUM(H45:H90)","v":0},null,{"$f":"SUM(J45:J90)","v":0}]

{"sheet":"CDE- A4.ZIDARSKA DELA","index":72,"n_rows":106,"n_cols":10,"rows_kept":106,"cut":false,"hidden":false,"merged":[]}
[null,"Objekt C, D in E,  A4. ZIDARSKA DELA"]
[]
["ZAP. ŠT.","OPIS","KOLIČUNA","ME","CENA/ENOTO","SKUPAJ","POPUST","POPUST SKUPAJ","CENA/ENOTO S POPUSTOM","SKUPAJ S POPUSTOM"]
[]
[null,"Splošni opis"]
[null,"Vsa dela je potrebno izvjati po določilih veljavnih tehničnih predpisov in normativov in skladno z obveznimi"]
[null,"SIST-i. "]
[]
[null,"IZOLACIJE"]
[null,"Upoštevane so vse hidroizolacije temeljev, tlakov, zidov in stropov."]
[null,"Kvaliteta in vgrajeni materiali morajo ustrezati določilom veljavnih tehničnih predpisov in normativov. "]
[null,"Stanadardi za izolacijska dela vsebujejo poleg izdelave, opisane v postavkah še:"]
[null,"* vsa dela in ukrepe po določilih veljavnih predpisov varstva pri delu"]
[null,"* pripravo materiala s prenosom do mesta vgraditve"]
[null,"* izvedbo izolacije po opisu"]
[]
[null,"ZIDANJE"]
[null,"Zidanje mora biti čisto, s pravilno vezavo opeke. Stiki morajo biti dobro zaliti z malto, vrste popolnoma vodoravne, malta pa ne sme biti v debelejšem sloju kot 15 mm.Vse površine morajo biti popolnoma ravne in navpične, odvečna malta iz stikov se mora odstraniti, dokler je še sveža."]
[]
[null,"Standardi  za zidarska  dela vsebujejo  poleg  izdelave  opisane  v  postavkah  tudi vsa  pomožna  dela  in ukrepe:"]
[null,"* vsa dela in ukrepe po določilih veljavnih predpisov varstva pri delu"]
[null,"* vsa potrebna merjenja z določanjem točk, smeri, višin in ravnin, nameščanje in zaščito oznak, vodil itd."]
[null,"* zaščito pred mrazom, vročino, dežjem in fizičnih poškodb, posebno za vidne zidove"]
[null,"* zidarski odri"]
[null,"* varovalni odri za delo na višini kot zaščita pred padcem"]
[null,"* čiščenje prostorov, izdelkov in delovnih priprav med in po končanem delu"]
[null,"Vgrajeni material mora po kvaliteti ustrezati določilom veljavnih tehničnih predpisov."]
[null,"Vsa dela morajo biti izvršena tako, da je zagotovljena funkcionalnost,  stabilnost, varnost, natančnost  in življenska doba posameznih elementov."]
[]
[null,"VZIDAVE"]
[null,"Vse vzidave  in zidarske  obdelave  morajo biti izvršene  v skladu  s projektom  oz. po zahtevah  v drugi dokumentaciji."]
[null,"Material za vgrajevanje in obdelavo mora po kvaliteti ustrezati določilom veljavnih tehničnih predpisov."]
[]
[null,"Standardi za vzidave in zid. obdelave vsebujejo, poleg izdelave same, ki je opisana v posamezni postavki tudi:"]
[null,"* merjenje in označevanje pozicije vzidave"]
[null,"* dolblejneje oz. drug način priprave ležišča pred vgradnjo"]
[null,"* nameščanje, sidranje, opiranje in vezanje elementa za vzidavo"]
[null,"Dobava  elementa  načeloma  ni  upoštevana  pri  vzidavi  temveč  v  obrtniških  oz.  inštalaterskih  delih. Upoštevana je samo, če je to navedeno v posamezni postavki"]
[]
[null,"OMETI"]
[null,"Standardi za omete vsebujejo, poleg izdelave same, ki je opisana v posamezni postavki tudi:"]
[null,"* vsa dela in ukrepe po določilih veljavnih predpisov varstva pri delu"]
[null,"* potrebno predhodno čiščenje reg, in podlog ter vlaženje podlage"]
[null,"* izdelava faž, zaključkov in špalet"]
[null,"* zaščito pred mrazom, vročino, dežjem in fizičnih poškodb"]
[null,"* krpanje poškodovanih podlog"]
[null,"* ščitenje ze vgrajenih elementov in konstrukcij, ki se ne ometavajo"]
[null,"Vgrajeni material mora po kvaliteti ustrezati določilom veljavnih tehničnih predpisov. "]
[]
[null,"SKUPNA DOLOČILA"]
[null,"V ceni za enoto je potrebno upoštevati polg del navedenih v postavkah in že zgoraj opisanih del tudi:"]
[null,"* dobava vsega osnovnega in pomožnega materiala z vsemi transporti in manlpulativnimi stroški"]
[null,"* priprava malt"]
[null,"* vsi potrebni transporti materiala, polizdelkov in izdelkov"]
[null,"OBRAČUN KOLIČINE"]
[null,"Obračun se vrši v merskih enotah v postavkah, izmere količin se obračunavajo v skladu z veljavnimi normativi."]
[]
[null,"Enotna cena mora zajeti izdelavo vseh potrebnih detajlov in dopolnilnih del, katera je potrebno izvesti za dokončanje posameznih del, tudi ce potrebni detajli in zaključki niso podrobno navedeni in opisani v popisu del, in so ta dopolnila nujna za pravilno funkcioniranje posameznih sistemov in elementov objekta."]
[]
[null,"V c.e.m. je potrebno upoštevati notranje, premične in dvižne delovne odre in ploščadi, čiščenje po posameznih fazah dela, ter odvoz odpadkov na deponijo!"]
[]
[]
["1","Dobava in naprava horizontalne dvoslojne in vertikalne enoslojne hidroizolacije (npr. IZOTEKT T4 PLUS) podzemnih delov objekta, iz oksidiranega bitumna (nosilec steklena tkanina) debeline min.2.5mm, na podložni beton pod AB ploščami, ter vertikalno na obodne stene kletnega dela objekta, pod nivojem terena (do višine cca 50 cm nad nivojem terena), z varilnimi trakovi vključno z zalikano cementno prevleko s fino cem. malto 1 : 2 v deb. cca 1 cm (če površina če ni zaglajena ob izvedbi) in osnovnim hladnim bitumenskim premazom 0.3-0,5 kg/m2. Hidroizolacija se vari v enem sloju (vertikalna), oziroma v dveh slojih izvedenih navzkriž (horizontalna), preklopi na stikih in zaokrožitve na zunanje stene 10-15 cm, izvedba na pripravljeno podlago.\n\nNa vertikalni hidroizolaciji ki je pod terenom (robovi talnih plošč in AB obodne stene kleti) je potrebna tudi dobava in vgradnja zaščite z XPS 300 ploščami deb.16 cm, ter s čepasto folijo (kot npr Tefond) do 30cm nad nivo terena - oz.obdelava do višine cokla."]
[null,"a) Horizontalna dvoslojna hidroizolacija: ",950,"m2",null,{"$f":"+E64*C64","v":0},{"$f":"+E64*MM","v":0},{"$f":"+G64*C64","v":0},{"$f":"+E64-G64","v":0},{"$f":"+I64*C64","v":0}]
[null,"b) Vertikalna enoslojna hidroizolacija: ",340,"m2",null,{"$f":"+E65*C65","v":0},{"$f":"+E65*MM","v":0},{"$f":"+G65*C65","v":0},{"$f":"+E65-G65","v":0},{"$f":"+I65*C65","v":0}]
[null,"c) Diletacijska toplotna izolacija EPS 150 deb.3 cm: ",85,"m2",null,{"$f":"+E66*C66","v":0},{"$f":"+E66*MM","v":0},{"$f":"+G66*C66","v":0},{"$f":"+E66-G66","v":0},{"$f":"+I66*C66","v":0}]
[null,"d) Čepasta folija: ",340,"m2",null,{"$f":"+E67*C67","v":0},{"$f":"+E67*MM","v":0},{"$f":"+G67*C67","v":0},{"$f":"+E67-G67","v":0},{"$f":"+I67*C67","v":0}]
[]
["2","Dobava in polaganje talne toplotne (zvočne) izolacije pod estrihom, v pritličju in nadstropjih objekta. Izvedba neposredno na talno oz. etažno AB ploščo, pod estrihom.\n- Zvočna izolacija Stirotlak T 2,0 cm\n- EPS izolacija deb. 3 cm"]
[null,"a) Zvočna izolacija Stirotlak T 2,0 cm: ",4738,"m2",null,{"$f":"+E70*C70","v":0},{"$f":"+E70*MM","v":0},{"$f":"+G70*C70","v":0},{"$f":"+E70-G70","v":0},{"$f":"+I70*C70","v":0}]
[null,"b) EPS deb. 3 cm: ",4738,"m2",null,{"$f":"+E71*C71","v":0},{"$f":"+E71*MM","v":0},{"$f":"+G71*C71","v":0},{"$f":"+E71-G71","v":0},{"$f":"+I71*C71","v":0}]
[]
["3","Dobava in polaganje polietilenske folije, na toplotno izolacijo kot ločilni sloj pred izvedbo estriha v pritličju ter nadstropjih objekta."]
[null,null,4738,"m2",null,{"$f":"+E74*C74","v":0},{"$f":"+E74*MM","v":0},{"$f":"+G74*C74","v":0},{"$f":"+E74-G74","v":0},{"$f":"+I74*C74","v":0}]
[]
["4","Brušenje stikov na AB površinah ter evtl. izravnava oz. popravilo naravnih ali poškodovanih betonskih površin s fino cementno malto.\nPredvidi se brušenje stikov vidnih betonskih konstrukcij. Če ni zadostne ravnine AB površin, je potrebna izravnava ali omet površin. Določi nadzorni.\n"]
[null,"a) Brušenje AB stropov: ",2000,"m2",null,{"$f":"+E77*C77","v":0},{"$f":"+E77*MM","v":0},{"$f":"+G77*C77","v":0},{"$f":"+E77-G77","v":0},{"$f":"+I77*C77","v":0}]
[null,"b) Brušenje AB sten: ",2000,"m2",null,{"$f":"+E78*C78","v":0},{"$f":"+E78*MM","v":0},{"$f":"+G78*C78","v":0},{"$f":"+E78-G78","v":0},{"$f":"+I78*C78","v":0}]
[null,"c) OPCIJA: Izravnava neravnin (ocenjeno cca 10% površin): ",670,"m2",null,{"$f":"+E79*C79","v":0},{"$f":"+E79*MM","v":0},{"$f":"+G79*C79","v":0},{"$f":"+E79-G79","v":0},{"$f":"+I79*C79","v":0}]
[]
[]
["5","Pozidavanje odprtin z zidaki modul d=33cm ali podobno, notranjih in obodnih nenosilnih sten (kot npr. Porotherm ali GoMax), s podaljšano cementno malto, s polno zapolnitvijo vmesnih maltnih žepov (reg), kompletno z vsemi transporti, predhodno namočitvijo opečnih zidakov in vsemi pomožnimi deli.\nV c.e.m. je zajeti tudi vse delovne odre in ves material potreben za izvedbo. \n- Stene deb. 35 do 50cm\nVišina zidanja do cca 270 cm."]
[null,null,85,"m3",null,{"$f":"+E83*C83","v":0},{"$f":"+E83*MM","v":0},{"$f":"+G83*C83","v":0},{"$f":"+E83-G83","v":0},{"$f":"+I83*C83","v":0}]
[]
["6","Dobava in polaganje montažnih prefabriciranih prednapetih opečnih preklad nad vrati.  Preklade  položene  na pripravljena ležišča  v cementno malto. Minimalno naleganje je 12-15 cm.  Izvedba z vsemi transporti, montažo, izvedbo in obdelavo ležišč, močenje opečnih preklad in zapolnitev odprtin. Izvedba po detajlih po sistemu proizvajalva preklad. \nObračun po m1, v količini zajete preklade nad odprtinami širine do 1,50 m1, v zidovih širine 35 cm, na ležiščih opečnih zidov"]
[null,"a) Preklade v stenah deb. 35 cm (30 kom): ",45,"m1",null,{"$f":"+E86*C86","v":0},{"$f":"+E86*MM","v":0},{"$f":"+G86*C86","v":0},{"$f":"+E86-G86","v":0},{"$f":"+I86*C86","v":0}]
[]
["7","kompletna izvedba AB kinet za izvedbo linij vročevoda v objekt D, skozi stenske odprtine večjega razpona. Izvedba opaža s podpiranjem, izdelava potrebnih prebojev, vstavljanje konstrukcijske armature ter zalivanje z betonom\nObračun po m1 izveden kinete"]
[null,"Kineta 20/80cm",6.6,"m1",null,{"$f":"+E89*C89","v":0},{"$f":"+E89*MM","v":0},{"$f":"+G89*C89","v":0},{"$f":"+E89-G89","v":0},{"$f":"+I89*C89","v":0}]
[null,"Kineta 120/135cm",6.6,"m1",null,{"$f":"+E90*C90","v":0},{"$f":"+E90*MM","v":0},{"$f":"+G90*C90","v":0},{"$f":"+E90-G90","v":0},{"$f":"+I90*C90","v":0}]
[]
["8","Dobava in izvedba notranjih ometov (npr. strojnih mavčno-cementnih) ali klasičnih apneno-cementnih  stenskih izravnalnih  finih ometov, vključno z dobavo strojne opreme in potrebnega materiala. Izvedba na vse zidane stene  ter preklade v sklopu zidanih sten, s predhodnim cementnim obrizgom 1:2, kompletno z vsemi transporti, napravo malt in pomožnimi deli. \nOmeti d= do 2 cm. \nZidane stene.\nOPOMBA: V količini niso zajete stenske površine, na katerih je predvidena mavčna stenska obloga. Količina ocenjena glede na predvidene pozidave in ohranjanje obstoječih ometov na določenih mestih"]
[null,null,325,"m2",null,{"$f":"+E93*C93","v":0},{"$f":"+E93*MM","v":0},{"$f":"+G93*C93","v":0},{"$f":"+E93-G93","v":0},{"$f":"+I93*C93","v":0}]
[]
["9","Dobava in izvedba hidroizolacijskega sloja talnih površin mokrih prostorov v objektu, vključno z dobavo in izvedbo robnega HI traku.\nNa zaglajene naklonske estrihe  izvesti  hidroizolacijski sloj (kot npr. MAPELASTIC) izveden z dvokomponentnimi fleksibilnimi vodotesnimi masami v dveh slojih po 1 mm, v prvi sloj vtisniti plastificirano armirno mrežico, mrežica se prekrije z drugim lepilnim slojem.\nOb stenah, sanitarni opremi, instalacijah ter sifonih se izvede vodotesen elastičen kotni  tesnilni trak (kot npr. MAPEBAND).  Izvedba  po polnolepljenem sistemu (kot npr. Hidrostop elastik ali po sistemu Mapei). \nSanitarije, utility, čistila, kuhinja"]
[null,"a) Mokri prostori objekta: ",181,"m2",null,{"$f":"+E96*C96","v":0},{"$f":"+E96*MM","v":0},{"$f":"+G96*C96","v":0},{"$f":"+E96-G96","v":0},{"$f":"+I96*C96","v":0}]
[]
["10","Izvedba prebojev in evtl. utorov v armirano-betonskih ali zidanih stenskih in stropnih konstrukcijah, za izvedbo strojnih in elektro inštalacijskih razvodov. V kolikor so preboji, ki potekajo skozi AB nosilno konstrukcijo večji od 100 mm se odprtine predhodno pripravijo v opažu. Manjši preboji se izvajajo na licu mesta z mokrim vrtanjem z diamantno krono."]
[null,null,150,"ur",null,{"$f":"+E99*C99","v":0},{"$f":"+E99*MM","v":0},{"$f":"+G99*C99","v":0},{"$f":"+E99-G99","v":0},{"$f":"+I99*C99","v":0}]
[]
["11","Razna manjša zidarska dela, ki se lahko pojavijo v času gradnje, zidarska obdelava površin, ter pomoč obrtnikom."]
[null,"a.) NK delavec",150,"ur",null,{"$f":"+E102*C102","v":0},{"$f":"+E102*MM","v":0},{"$f":"+G102*C102","v":0},{"$f":"+E102-G102","v":0},{"$f":"+I102*C102","v":0}]
[null,"b.) PK delavec",160,"ur",null,{"$f":"+E103*C103","v":0},{"$f":"+E103*MM","v":0},{"$f":"+G103*C103","v":0},{"$f":"+E103-G103","v":0},{"$f":"+I103*C103","v":0}]
[null,"c.) KV delavec",150,"ur",null,{"$f":"+E104*C104","v":0},{"$f":"+E104*MM","v":0},{"$f":"+G104*C104","v":0},{"$f":"+E104-G104","v":0},{"$f":"+I104*C104","v":0}]
[]
[null,"A4. ZIDARSKA DELA",null,null,null,{"$f":"SUM(F63:F105)","v":0},null,{"$f":"SUM(H63:H105)","v":0},null,{"$f":"SUM(J63:J105)","v":0}]

{"sheet":"CDE-A5.GRADBENI ODER","index":73,"n_rows":38,"n_cols":10,"rows_kept":38,"cut":false,"hidden":false,"merged":[]}
[null,"Objekt C, D in E,  A5. GRADBENI ODER"]
[]
["ZAP. ŠT.","OPIS","KOLIČUNA","ME","CENA/ENOTO","SKUPAJ","POPUST","POPUST SKUPAJ","CENA/ENOTO S POPUSTOM","SKUPAJ S POPUSTOM"]
[]
[null,"Splošna določila"]
[null,"V kolikor v posameznih pozicijah ni drugače podano, veljajo v nadaljevanju navedena določila:"]
[null,"Etaže:"]
[null,"Vse pozicije veljajo neglede na različnost etaž. "]
[null,"Varnostni odri:"]
[null,"Varovalni odri, ki služiju varovanju življenja ali zdravja zaposlenih Izvajalca ter"]
[null,"ostalih na Gradbišču zaposlenih oseb, se za čas izvajanja del obračunavajo posebej. V kolikor so po dokončanju del ti odri "]
[null,"še potrebni, se po naročilu naročnika obračunajo posebej."]
[null,"Obseg storitve:"]
[null,"V kolikor v posameznih pozicijah ni drugače podano, je v  nadaljevanju navedenih postavk vkalkulirati: do in odvoz, montažo"]
[null,"in demontažo ter stojnino za uporabo za trajanje izvajanja lastne storitve. Naročnika je o nameravani demontaži odra "]
[null,"obvestiti vsaj 7 dni prej. V kolikor se bo oder potreboval po zahtevi Naročnika tudi po dokončanju lastnih storitev, bo stojnina "]
[null,"od tega dneva dalje obračunana posebej."]
[null,"Statične presoje in preizkusi:"]
[null,"Stroške za morebitne statične presoje stabilnosti, sidranja in preiskuse delovnega odra, varovalnih ali pomičnih odrov je "]
[null,"vkalkulirati v c.e.m.."]
[null,"Souporaba drugih Izvajalcev:"]
[null,"Souporaba odrov s strani drugih Izvajalcev v času izvajanja vseh naročnikovih del se uskalajuje "]
[null,"med Izvajalcema z ozirom na obremenitve odra, koordinacijo souporabe in podobno."]
[null,"Obračun:"]
[null,"Obračuna se vertikalna ploskev  lahkih fasadnih odrov. Merimo horizontalno zunanjo konturo "]
[null,"odra, vertiklano pa od tal do 1 m nad najvišjim delovnim odrom.  "]
[]
[]
[null,"OPOMBA:\nLahki delovni premični odri niso posebej obračunani in jih mora vsak izvajalec sam upoštevati v ceni na enoto mere za posamezne sklope del. ",null,null,null,{"$f":"SUM(F4:F28)","v":0}]
[]
[]
["1","Oder po izboru Izvajalca, za prevzem obremenitev, potrebnih za izvedbo lastnih del. Oder je računan po fasadnem plašču.\nVišina odra do cca 19 m."]
[null,null,"0","m2"]
[]
["2","Dobava in izvedba delovnih odrov v dvigalnih jaških, za prevzem obremenitev, potrebnih za izvedbo lastnih del. Oder je računan po prostorninah jaškov.\nVišina odra do cca 19 m1."]
[null,null,150,"m3",null,{"$f":"+E36*C36","v":0},{"$f":"+E36*MM","v":0},{"$f":"+G36*C36","v":0},{"$f":"+E36-G36","v":0},{"$f":"+I36*C36","v":0}]
[]
[null,"A5. GRADBENI ODER",null,null,null,{"$f":"SUM(F5:F37)","v":0},null,{"$f":"SUM(H5:H37)","v":0},null,{"$f":"SUM(J5:J37)","v":0}]

{"sheet":"CDE- A6.KANALIZACIJA ","index":74,"n_rows":19,"n_cols":10,"rows_kept":19,"cut":false,"hidden":false,"merged":[]}
[null,"Objekt C, D in E,  A6. KANALIZACIJA"]
[]
["ZAP. ŠT.","OPIS","KOLIČUNA","ME","CENA/ENOTO","SKUPAJ","POPUST","POPUST SKUPAJ","CENA/ENOTO S POPUSTOM","SKUPAJ S POPUSTOM"]
[]
[null,"OPOMBA:\nv tem popisu je zajet samo razvod meteorne kanalizacije do (vključno) zunanjih peskolovnih jaškov, ter izvedba drenaže okrog objekta. Preostala kanalizacija (vključno z vsemi jaški) je zajeta v popisu zunanje ureditve, oziroma evtl. delno v popisu strojnih inštalacij. \n\nKoličine se lahko razlikujejo od dejanskih potrebnih količin za izvedbo del. Neskladja in prilagajanja na dejansko stanje se rešuje in usklajuje pri sami izvedbi na licu mesta, količine in obseg del pa se prilagodijo dejanskim potrebam za izvedbo."]
[]
[]
["1","Dobava in vgradnja kanalizacijskih cevi za meteorno odvodnjavanje streh objekta, s PVC cevmi priključenimi na notranje vertikalne elemente odvodnjavanja (izvedba povezave med vertikalnimi strešnimi in notranjimi odtoki, ter zunanjimi peskolovi), vključno z izvedbo priključka cevi na cev oz. jašek, kar je zajeti v c.e.m. Cevi so priključene na vetrikalne odtoke, nato pa speljane pod AB talno ploščo do zunanjih jaškov.\nOPOMBA:\n V c.e.m. je zajeti vsa zemeljska in gradbena dela potrebna za izvedbo. V količini je zajeta skupna dolžina vseh cevi meteorne kanalizacije. Globina do cca 1,00 m."]
[null,"a.) PVC cevi fi 100 mm: ",10,"m1",null,{"$f":"+E9*C9","v":0},{"$f":"+E9*MM","v":0},{"$f":"+G9*C9","v":0},{"$f":"+E9-G9","v":0},{"$f":"+I9*C9","v":0}]
[null,"b) PVC cevi fi 150 mm: ",42,"m1",null,{"$f":"+E10*C10","v":0},{"$f":"+E10*MM","v":0},{"$f":"+G10*C10","v":0},{"$f":"+E10-G10","v":0},{"$f":"+I10*C10","v":0}]
[null,"c) Zemeljska in gradbena dela za cevovod met. kanalizacije: ",45,"m1",null,{"$f":"+E11*C11","v":0},{"$f":"+E11*MM","v":0},{"$f":"+G11*C11","v":0},{"$f":"+E11-G11","v":0},{"$f":"+I11*C11","v":0}]
[]
["2","Dobava in kompletna izvedba kanalizacijskega razvoda drenaže okrog objekta, vključno z izvedbo priključka cevi na cev oz. jašek, kar je zajeti v c.e.m. \n- drenažne cevi (npr. RDC MIDREN) 160, perforirane, v padcu cca 1%\n- peščeno prodnato nasutje\n- filc\n- Zemeljska in gradbena dela, ki zajemajo kompletno izvedbo izkopov, zasipov, pripravo podlage, utrjevanje planiranje, pripravo posteljice, obsipavanje cevi,...\nIzvedba na globini cca 100 do max. cca 300 cm pod nivojem terena - izvedba v času izvajanja zemeljskih del za podkleteni del objekta, zato se gradbena jama po potrebi samo poglobi za cca 10 cm na območju vgradnje drenažne cevi.\nKanalizacija mora biti izvedena v skaldu s pravili stroke, količine in potrebni material se lahko razlikujejo od dejanskih potreb za izvedbo del!\n\nOPOMBA:\nDrenažni razvod se priključi na jaške meteorne kanalizacije, ki so zajeti v popisu zunanje ureditve."]
[null,"a.) zemeljska in gradbena dela: ",156,"m1",null,{"$f":"+E14*C14","v":0},{"$f":"+E14*MM","v":0},{"$f":"+G14*C14","v":0},{"$f":"+E14-G14","v":0},{"$f":"+I14*C14","v":0}]
[null,"b.) Dobava in polaganje cevi fi 160 mm: ",156,"m1",null,{"$f":"+E15*C15","v":0},{"$f":"+E15*MM","v":0},{"$f":"+G15*C15","v":0},{"$f":"+E15-G15","v":0},{"$f":"+I15*C15","v":0}]
[null,"c.) Dobava in vgrajevanje filtrskega nasutja: ",40,"m3",null,{"$f":"+E16*C16","v":0},{"$f":"+E16*MM","v":0},{"$f":"+G16*C16","v":0},{"$f":"+E16-G16","v":0},{"$f":"+I16*C16","v":0}]
[null,"d.) Dobava in vgrajevanje filca okrog filtrskega nasutja: ",1000,"m2",null,{"$f":"+E17*C17","v":0},{"$f":"+E17*MM","v":0},{"$f":"+G17*C17","v":0},{"$f":"+E17-G17","v":0},{"$f":"+I17*C17","v":0}]
[]
[null,"A6. KANALIZACIJA",null,null,null,{"$f":"SUM(F5:F18)","v":0},null,{"$f":"SUM(H5:H18)","v":0},null,{"$f":"SUM(J5:J18)","v":0}]

{"sheet":"CDE-G. REKAP. OBRT. DELA","index":75,"n_rows":29,"n_cols":5,"rows_kept":29,"cut":false,"hidden":false,"merged":[]}
["Investitor:   ","Mestna občina Ljubljana"]
[null,"Konzorcij družb Petrol d. d. in Resalta d. o. o. "]
["Objekt:      ","OŠ Savsko naselje, Matjaževa ulica 4, Ljubljana"]
[null," - Celovita prenova objekta s statično, požarno in energetsko sanacijo."]
["Štev. proj.:     "]
["Datum:      ","April 2022"]
[]
[]
[]
[]
[null,"REKAPITULACIJA"]
[null,"OBRTNIŠKA DELA   objekta C, D in E"]
[]
[]
[null,"Ponudbena vrednost - skupna rekapitulacija","Vrednost  brez popusta","Popust","Vrednost s popustom"]
[null,"B1. KROVSKO KLEPARSKA DELA",{"$f":"'CDE- B1 KROVSKO KLEP. DELA '!$F$116","v":0},{"$f":"'CDE- B1 KROVSKO KLEP. DELA '!$H$116","v":0},{"$f":"'CDE- B1 KROVSKO KLEP. DELA '!$J$116","v":0}]
[null,"B2 ESTRIHI",{"$f":"'CDE-  B2 ESTRIHI'!$F$52","v":0},{"$f":"'CDE-  B2 ESTRIHI'!$H$52","v":0},{"$f":"'CDE-  B2 ESTRIHI'!$J$52","v":0}]
[null,"B3 MIZARSKA DELA",{"$f":"'CDE- B3 MIZARSKA DELA'!$F$113","v":0},{"$f":"'CDE- B3 MIZARSKA DELA'!$H$113","v":0},{"$f":"'CDE- B3 MIZARSKA DELA'!$J$113","v":0}]
[null,"B3a KLJUČAV. DELA",{"$f":"'CDE- B3a KLJUČAV. DELA'!$F$115","v":0},{"$f":"'CDE- B3a KLJUČAV. DELA'!$H$115","v":0},{"$f":"'CDE- B3a KLJUČAV. DELA'!$J$115","v":0}]
[null,"B4 PVC IN ALU DELA",{"$f":"'CDE- B4 PVC IN ALU DELA'!$F$326","v":0},{"$f":"'CDE- B4 PVC IN ALU DELA'!$H$326","v":0},{"$f":"'CDE- B4 PVC IN ALU DELA'!$J$326","v":0}]
[null,"B5. KERAMIČARSKA DELA",{"$f":"'CDE- B5 KERAMIČARSKA DELA'!$F$55","v":0},{"$f":"'CDE- B5 KERAMIČARSKA DELA'!$H$55","v":0},{"$f":"'CDE- B5 KERAMIČARSKA DELA'!$J$55","v":0}]
[null,"B6. TLAKARSKA DELA",{"$f":"'CDE-  B6 TLAKARSKA DELA'!$F$56","v":0},{"$f":"'CDE-  B6 TLAKARSKA DELA'!$H$56","v":0},{"$f":"'CDE-  B6 TLAKARSKA DELA'!$J$56","v":0}]
[null," B7. SUHOMONTAŽNA DELA",{"$f":"'CDE-  B7 SUHOMONTAŽNA DELA'!$F$110","v":0},{"$f":"'CDE-  B7 SUHOMONTAŽNA DELA'!$H$110","v":0},{"$f":"'CDE-  B7 SUHOMONTAŽNA DELA'!$J$110","v":0}]
[null,"B8. SLIKOPLESKARSKA DELA",{"$f":"'CDE-  B8 SLIKOPLESKARSKA DELA'!$F$58","v":0},{"$f":"'CDE-  B8 SLIKOPLESKARSKA DELA'!$H$58","v":0},{"$f":"'CDE-  B8 SLIKOPLESKARSKA DELA'!$J$58","v":0}]
[null,"B9. FASADA",{"$f":"'CDE-  B9 FASADA'!$F$64","v":0},{"$f":"'CDE-  B9 FASADA'!$H$64","v":0},{"$f":"'CDE-  B9 FASADA'!$J$64","v":0}]
[null,"B10. DVIGALO",{"$f":"'CDE-  B10 DVIGALO'!$F$14","v":0},{"$f":"'CDE-  B10 DVIGALO'!$H$14","v":0},{"$f":"'CDE-  B10 DVIGALO'!$J$14","v":0}]
[null,"SKUPAJ",{"$f":"SUM(C16:C26)","v":0},{"$f":"SUM(D16:D26)","v":0},{"$f":"SUM(E16:E26)","v":0}]
[null,"22% DDV",null,null,{"$f":"+E27*0.22","v":0}]
[null," C+D+E OBRTNIŠKA DELA  SKUPAJ Z DDV",null,null,{"$f":"+E27+E28","v":0}]

{"sheet":"CDE- B1 KROVSKO KLEP. DELA ","index":76,"n_rows":116,"n_cols":10,"rows_kept":116,"cut":false,"hidden":false,"merged":[]}
[null,"Objekt C, D in E,  B1. KROVSKO KLEPARSKA DELA"]
[]
["ZAP. ŠT.","OPIS","KOLIČUNA","ME","CENA/ENOTO","SKUPAJ","POPUST","POPUST SKUPAJ","CENA/ENOTO S POPUSTOM","SKUPAJ S POPUSTOM"]
[]
[null,"Splošno"]
[null,"Vsa dela je potrebno izvjati po določilih veljavnih tehnicnih predpisov in normativov in skladno z obveznimi SIST-i, po tehničnih specifikacijah proizvajalca kritine ter po dogovoru s projektantom! Material mora po kvaliteti ustrezati dololčilom veljavnih normativov."]
[]
[null,"V ceni za enoto je potrebno upoštevati, poleg del v postavkah, tudi:"]
[null,"* snemanje in  zarisovanje na objektu"]
[null,"* merjenje na objektu, pred pričetkom izdelave posameznih elementov"]
[null,"* izdelava tehnicnega načrta"]
[null,"* usklajevanje z osnovnimi načrti in posvetovanje s projektantom"]
[null,"* pregled pripravljenih podlog in fino čiščenje pred pričetkom del"]
[null,"* vse potrebno delo, priprava in vgrajevanje na objektu"]
[null,"* ves potreben material, glavni in pomožni, pritrdilni, tesnilni in vezni"]
[null,"* vse stroške transporta do mesta vgrajevanja"]
[null,"* vse stroške skladiščenja na gradbišču"]
[null,"* popravilo nekvalitetno izvedenih del oziroma zamenjava elementov"]
[null,"* vsa pomožna delovna sredstva kot so odri, lestve, zaščite in podobno"]
[null,"* preiskus kvalitete materialov ki se vgrajujejo in dokazovanje kvalitete z atesti•"]
[null,"* koordinacija, sodelovanje in terminsko usklajevanje del z izvajalci ostalih del"]
[null,"* čiščenje prostora po končanih delih in odvoz odpadnega materiala na stalno deponijo"]
[null,"* plačilo komunalnega prispevka za stalno deponijo odpadnega materiala"]
[null,"* vsa dela in ukrepe po določilih zakona o varstvu pri delu"]
[null,"* pregled in prevzem podlage"]
[null,"*  zagotovitev  vseh zahtev, ki se nanasajo  na posamezna  dela, ki so navedena  v elaboratu  \"Požarna varnost\", ter tistih, ki izhajajo iz predpisov ter standardov za področje varstva pred požarom"]
[]
[null,"Vsa tesarska, krovska in kleparska dela je izdelati tehnično pravilno in po pravilih stroke. Za ves material, predviden za vgradnjo, mora izvajalec del dostaviti ateste o kvaliteti."]
[null,"V kolikor želi izvajalec prilagoditi izvedbo svoji tehnologiji, mora izdelati ustrezno projektno dokumentacijo z  detajli. Tehnološke  risbe in projektno  dokumentacijo  z detajli mora pregledati in s podpisom  potrditi arhitekt. lzvajanjena objektu se lahko prične, ko projektant potrdi risbe."]
[]
[null,"Pred  pričetkom  izvajanja  del je mora  izvajalec  preveriti kvaliteto  predhodno  izvršenih  del, ki bi lahko vplivali na kvaliteto, sigurnost in trajnost elementov za izvedbo strehe. Kasnejše relemacije se ne bodo upoštevale."]
[null,"lzvajalec mora izdelati tehnološke  risbe z detajli, ki jih je potrebno  izvesti za končanje posameznih  del, tudi ce niso podrobno navedeni in opisani v popisu in načrtih, so pa nujna za pravilno funkcioniranje posameznih sistemov in elemnotv. Potrditi jih mora odgovorni projektant statike in arhitekture"]
[]
[null,"Ves les mora biti zaščiten proti zajedalcem in vremenskim vplivom! Ves siderni in pritrdilni material mora biti vroče cinkan!"]
[]
[null,"RAVNA STREHA"]
[null,"lzvajalec del mora preučiti z načrtom zahtevane tehnicne karakteristike, za vgrajeno predvidene  hidro in toplotne izolacije. Za proizvode, predvidene za vgradnjo, mora izvajalec izdelati tehnični načrt, katerega mora pregledati in s podpisom potrditi projektant. Tehnični načrt mora vsebovati:"]
[null,"*  pregled vseh tehničnih karakteristik izolacijskega proizvoda predvidenega za vgradnjo, po zahtevah iz načrta"]
[null,"* poročila o laboratorijskih preizkavah proizvodov predvidenih za vgradnjo"]
[]
[null,"Hidroizolacija mora ustrezati zahtevam SIST normativov."]
[null,"lzolacijska  dela morajo biti izvedena  tako, da posamezni deli in sloji izolacij kakor  tudi celoten  sestav ustrezajo namenu, zahtevam kvalitete, varnosti in dolgotrajnosti. Posebno pazljivo je izvesti streho okrog zbirnih kotličkov, dilatacijskih stikov in vertikalnih zaključkov strehe."]
[]
[]
[]
[null,"Opomba:\nStreha bo izvedena kot celota in mora zajemati izvedbo vseh zaključkov, obrob, tesnilni in pritrdilni material. V kolikor v posameznih postavkah detajli niso opisani in zajeti, je izvajalec dolžan pri oddaji ponudbe predvideti izvedbo strehe kot zaključeno celoto in k temu podati izvedbene detajle, dodatna dela ne bodo posebej priznana.  "]
[]
[]
["1","Nabava, izdelava, dobava in montaža slojev ravne strehe, trakt D, po sestavi S1, z  naklonom do 2%, kot zelena streha:\n\nPostavka vključuje izvedbo vseh preklopov in zaključkov na strešne svetlobne elemente, evtl. strešne vtočnike ali kanalete in vse ostale strešne elemente.\nV c.e.m. je potrebno zajeti ves potreben material za izvedbo.\nRAVNA STREHA."]
[null,"Sestava S1;"]
[null,"Urbanscape vegetacijska preproga Sedum-mix (4cm)",345,"m2",null,{"$f":"+E51*C51","v":0},{"$f":"+E51*MM","v":0},{"$f":"+G51*C51","v":0},{"$f":"+E51-G51","v":0},{"$f":"+I51*C51","v":0}]
[null,"Urbanscape substrat green Roll (4cm)",345,"m2",null,{"$f":"+E52*C52","v":0},0,{"$f":"+G52*C52","v":0},{"$f":"+E52-G52","v":0},{"$f":"+I52*C52","v":0}]
[null,"Urbanscape drenažni sistem Urbanscape, z vodnim zalogovnikom (2,5cm)",345,"m2",null,0,0,0,0,0]
[null,"Urbanscape protikoreninska membrana, folija iz črnega polietilena (0,5mm)",345,"m2",null,0,0,0,0,0]
[null,"Hidroizolacijska folija s protikoreninsko zaščito, kot npr. SIKA-Plan U18 ali enakovredno ",544,"m2",null,0,0,0,0,0]
[null,"Naklonska toplotna izolacija iz kamene mineralne volne, kot npr. SmartRoof  Top CTF1 ali enakovredno  (2-19,3cm)",416,"m2",null,0,0,0,0,0]
[null,"Toplotna izolacija iz kamene mineralne volne, kot npr. Smart Roof Thermal ali enakovredno (15cm)",416,"m2",null,0,0,0,0,0]
[null,"Parna zapora z ALU steklenim voalom, Sd ≥1200 m, kot npr. Bitalbit AL V3 (0,3mm)",544,"m2",null,0,0,0,0,0]
[null,"Pred namaz za beton, hitrovezoči, univerzalen",544,"m3",null,0,0,0,0,0]
[]
["2","Nabava, izdelava, dobava in montaža slojev ravne strehe, trakt C, po sestavi S3, z  naklonom do 2%, kot zelena streha:\n\nPostavka vključuje izvedbo vseh preklopov in zaključkov na strešne svetlobne elemente, evtl. strešne vtočnike ali kanalete in vse ostale strešne elemente.\nV c.e.m. je potrebno zajeti ves potreben material za izvedbo.\nRAVNA STREHA."]
[null,"Sestava S3;"]
[null,"Urbanscape vegetacijska preproga Sedum-mix (4cm)",249,"m2",null,{"$f":"+E63*C63","v":0},{"$f":"+E63*MM","v":0},{"$f":"+G63*C63","v":0},{"$f":"+E63-G63","v":0},{"$f":"+I63*C63","v":0}]
[null,"Urbanscape substrat green Roll (4cm)",249,"m2",null,0,0,0,0,0]
[null,"Urbanscape drenažni sistem Urbanscape, z vodnim zalogovnikom (2,5cm)",249,"m2",null,0,0,0,0,0]
[null,"Urbanscape protikoreninska membrana, folija iz črnega polietilena (0,5mm)",249,"m2",null,0,0,0,0,0]
[null,"Hidroizolacijska folija s protikoreninsko zaščito, kot npr. SIKA-Plan U18 ali enakovredno ",375,"m2",null,0,0,0,0,0]
[null,"Naklonska toplotna izolacija iz kamene mineralne volne, kot npr. SmartRoof  Top CTF1 ali enakovredno  (3-12cm)",305,"m2",null,0,0,0,0,0]
[null,"Toplotna izolacija iz kamene mineralne volne, kot npr. Smart Roof Thermal ali enakovredno (15cm)",305,"m2",null,0,0,0,0,0]
[null,"Parna zapora z ALU steklenim voalom, Sd ≥1000 m, kot npr. Izoself AL Plus (0,12mm)",375,"m2",null,0,0,0,0,0]
[null,"Smart roof Thermal trapezna polnila, obračun na m2, količina ocenjena na 1/2 površine strehe",249,"m2",null,0,0,0,0,0]
[]
["3","Nabava, izdelava, dobava in montaža slojev ravne strehe, trakt E, po sestavi S4, z  naklonom do 2%, kot zelena streha:\n\nPostavka vključuje izvedbo vseh preklopov in zaključkov na strešne svetlobne elemente, evtl. strešne vtočnike ali kanalete in vse ostale strešne elemente.\nV c.e.m. je potrebno zajeti ves potreben material za izvedbo.\nRAVNA STREHA."]
[null,"Sestava S4;"]
[null,"Urbanscape vegetacijska preproga Sedum-mix (4cm)",90,"m2",null,{"$f":"+E75*C75","v":0},{"$f":"+E75*MM","v":0},{"$f":"+G75*C75","v":0},{"$f":"+E75-G75","v":0},{"$f":"+I75*C75","v":0}]
[null,"Urbanscape substrat green Roll (4cm)",90,null,null,0,0,0,0,0]
[null,"Urbanscape drenažni sistem Urbanscape, z vodnim zalogovnikom (2,5cm)",90,"m2",null,0,0,0,0,0]
[null,"Urbanscape protikoreninska membrana, folija iz črnega polietilena (0,5mm)",90,"m2",null,0,0,0,0,0]
[null,"Hidroizolacijska folija s protikoreninsko zaščito, kot npr. SIKA-Plan U18 ali enakovredno ",129,"m2",null,0,0,0,0,0]
[null,"Naklonska toplotna izolacija iz kamene mineralne volne, kot npr. SmartRoof  Top CTF1 ali enakovredno  (2-19,3cm)",110,"m2",null,0,0,0,0,0]
[null,"Toplotna izolacija iz kamene mineralne volne, kot npr. Smart Roof Thermal ali enakovredno (15cm)",110,"m2",null,0,0,0,0,0]
[null,"Parna zapora z ALU steklenim voalom, Sd ≥1200 m, kot npr. Bitalbit AL V3 (0,3mm)",129,"m2",null,0,0,0,0,0]
[null,"Pred namaz za beton, hitrovezoči, univerzalen",129,"m2",null,0,0,0,0,0]
[]
["4","Nabava, izdelava, dobava in montaža sistema meteornega odvodnjavanja strehe nad 1. nadstropjem v traktu D, v sestavi:\n- Strešni vtočniki fi 100 mm, vključno z izvedbo priključkov na vertikalne elemente odvodnjavanja. Vtočniki morajo imeti zaščito pred nalaganjem umazanije v sistem odvodnjavanja (zaščitne mrežica), primerno za vgradnjo na strehi s peščenim prodnatim materialom.\n- Vertikalne odtočne cevi, premera 100mm. Spodaj so povezane na podtalni razvod meteorne kanalizacije pod terenom, zgoraj pa se spojijo s strešnimi točkovnimi vtočniki.\nV c.e.m. je potrebno upoštevati vse priključke, pritrdilni in ostali material potreben za izvedbo ter  vsa pomožna dela."]
[null,"a) Strešni vtočniki fi 100 mm: ",4,"kpl",null,{"$f":"+E86*C86","v":0},{"$f":"+E86*MM","v":0},{"$f":"+G86*C86","v":0},{"$f":"+E86-G86","v":0},{"$f":"+I86*C86","v":0}]
[null,"b) Vertikalne cevi fi 100 mm: ",20,"m1",null,{"$f":"+E87*C87","v":0},{"$f":"+E87*MM","v":0},{"$f":"+G87*C87","v":0},{"$f":"+E87-G87","v":0},{"$f":"+I87*C87","v":0}]
[]
["5","Nabava, izdelava, dobava in montaža kape atike na strehi objektov, iz ALU barvane pločevine, deb. 2 mm (ral 9006 – srebrno siva), vključno s podkonstrukcijo, z nosilci kape in vsem potrebnim materialom za izvedbo. Kapa se namesti na atične stene, ki se predhodno izolirajo in na obodni strani obdelajo s fasadno oblogo.\nOPOMBA: Razvite širine atičnih kap so informativne oz. ocenjene, izvedba preklopov glede na dejanske potrebe za izvedbo. Izvajalec mora pred izvedbo izdelati delavniške risbe in detajle, ki jih potrdi projektant."]
[null,"a.) Atična kapa trakt D r.š. cca 90 cm (Streha objekta): ",130,"m1",null,{"$f":"+E90*C90","v":0},{"$f":"+E90*MM","v":0},{"$f":"+G90*C90","v":0},{"$f":"+E90-G90","v":0},{"$f":"+I90*C90","v":0}]
[null,"b.) Atična kapa trakt C r.š. cca 90 cm (Streha objekta): ",85,"m1",null,{"$f":"+E91*C91","v":0},{"$f":"+E91*MM","v":0},{"$f":"+G91*C91","v":0},{"$f":"+E91-G91","v":0},{"$f":"+I91*C91","v":0}]
[null,"c.) Atična kapa trakt E r.š. cca 80 cm (Streha objekta): ",46,"m1",null,{"$f":"+E92*C92","v":0},{"$f":"+E92*MM","v":0},{"$f":"+G92*C92","v":0},{"$f":"+E92-G92","v":0},{"$f":"+I92*C92","v":0}]
[]
["6","Nabava in izvedba nosilnih AB podstavkov za postavitev Aklimatov in ostalih strojnih naprav na strehi-trakt D objekta po sestavi S1a. Postavitev trde toplotne izolacije na pripravljeno podlago, tipa XPS500 ali enakovredno, prekrivanje s filcem, ter namestitev prefabriciranega AB podstavka dmin=20cm kot podstavek za montaži aklimata. Obračun po m2 podlage in podstavka."]
[null,"a.) Postavitev XPS500 izolacije d=20cm",30,"m2",null,{"$f":"+E95*C95","v":0},{"$f":"+E95*MM","v":0},{"$f":"+G95*C95","v":0},{"$f":"+E95-G95","v":0},{"$f":"+I95*C95","v":0}]
[null,"b.) Namestitev prefabriciranih AB podstavkov d=10cm",30,"m2",null,{"$f":"+E96*C96","v":0},{"$f":"+E96*MM","v":0},{"$f":"+G96*C96","v":0},{"$f":"+E96-G96","v":0},{"$f":"+I96*C96","v":0}]
[]
["7","Izvedba kvadratnega varnostnega preliva preseka 400/100mm in 300/100mm skozi strehe atik objekta traktov C in D, vključno z obdelavo tesnenja, izvedbo preboja, ter vstavljanjem AL zidne obrobe RAL 9006"]
[null,"trakt D (400/100mm)",2,"kom",null,{"$f":"+E99*C99","v":0},{"$f":"+E99*MM","v":0},{"$f":"+G99*C99","v":0},{"$f":"+E99-G99","v":0},{"$f":"+I99*C99","v":0}]
[null,"trakt C (300/100mm)",2,"kom",null,{"$f":"+E100*C100","v":0},{"$f":"+E100*MM","v":0},{"$f":"+G100*C100","v":0},{"$f":"+E100-G100","v":0},{"$f":"+I100*C100","v":0}]
[]
[]
["8","Izvedba varnostnega preliva fi100mm in fi150mm skozi strehe atik objekta trakta E in trakta D, vključno z obdelavo tesnenja, izvedbo preboja, ter vstavljanjem AL zidne obrobe RAL 9006"]
[null,"trakt E (fi100)",2,"kom",null,{"$f":"+E104*C104","v":0},{"$f":"+E104*MM","v":0},{"$f":"+G104*C104","v":0},{"$f":"+E104-G104","v":0},{"$f":"+I104*C104","v":0}]
[null,"trakt D (fi150)",2,"kom",null,{"$f":"+E105*C105","v":0},{"$f":"+E105*MM","v":0},{"$f":"+G105*C105","v":0},{"$f":"+E105-G105","v":0},{"$f":"+I105*C105","v":0}]
[]
["9","Kompletna izdelava, dobava in montaža zidne obrobe, r.š. cca 60 cm, iz AL pločevine 0.6 mm, oblikovana, RAL 9006, pozicije kjer se nov objekt stikuje z obstoječim objektom (stik s traktom C in traktom B, ter med traktom E in A)"]
[null,null,30,"m1",null,{"$f":"+E108*C108","v":0},{"$f":"+E108*MM","v":0},{"$f":"+G108*C108","v":0},{"$f":"+E108-G108","v":0},{"$f":"+I108*C108","v":0}]
[]
["10","Izvedba hidroizolacijskega tesnenja zunanjih špalet strešnih oken-kupol in drugih prebojev za jaške, zračnike, pdb., z bitumenskimi samolepilnimi trakovi tip-a Isoself P3 ali podobno prekrivanja vsaj 5cm na stiku linije zunanjega preboja streh"]
[null,null,65,"m1",null,{"$f":"+E111*C111","v":0},{"$f":"+E111*MM","v":0},{"$f":"+G111*C111","v":0},{"$f":"+E111-G111","v":0},{"$f":"+I111*C111","v":0}]
[]
["11","Izvedba nasutja iz pranega prodca d=6cm okroglih zrn fi8-16mm, na geotekstil kot npr.politlak folija Typar nad 300 g/m2, Polyfelt na pripravljeno ustrezno podlago, področja ravnih streh za zaščito pred vetrom in hkrati kot področje pohodnih sanacijskih poti za vzdrževanje strehe (Trakti D, C in E)"]
[null,null,150,"m2",null,{"$f":"+E114*C114","v":0},{"$f":"+E114*MM","v":0},{"$f":"+G114*C114","v":0},{"$f":"+E114-G114","v":0},{"$f":"+I114*C114","v":0}]
[]
[null,"B1. KROVSKO KLEPARSKA DELA",null,null,null,{"$f":"SUM(F46:F115)","v":0},null,{"$f":"SUM(H46:H115)","v":0},null,{"$f":"SUM(J46:J115)","v":0}]

{"sheet":"CDE-  B2 ESTRIHI","index":77,"n_rows":52,"n_cols":10,"rows_kept":52,"cut":false,"hidden":false,"merged":[]}
[null,"Objekt C, D in E,   B2. ESTRIHI"]
[]
["ZAP. ŠT.","OPIS","KOLIČUNA","ME","CENA/ENOTO","SKUPAJ","POPUST","POPUST SKUPAJ","CENA/ENOTO S POPUSTOM","SKUPAJ S POPUSTOM"]
[]
[null,"Splošni opis"]
[null,"Vsa dela je potrebno izvjati po določilih veljavnih tehničnih predpisov in normativov in skladno z obveznimi"]
[null,"SIST-i!"]
[null,"Beton za estrihe mora biti v skladu z zahtevami iz načrta gradbenih konstrukcij."]
[null,"Gotova površina cementnega estriha mora biti ravna v skladu z dopustnimi ravninskimi odstopanji po DIN"]
[null,"18202."]
[null,"lzdelana  podlaga  mora biti trdna, ravna in horizontalria, mokri prostori (kopalnica)  morajo imeti naklon proti talnemu sifonu min. 1%."]
[null,"Cementni estrih kot zaključni sloj podloge za tlake ne sme imeti razpok, poroznih mest, površina mora biti gladka oz. izdelana v skadu z zahtevami finalnega poda. Pri izdelavi je paziti na predpisane  debeline posameznih plasti in višino tlaka v posameznem prostoru."]
[null,"Vse slabo  izdelane  podloge  tlakov  gredo  v breme  izvajalca  podloge.  Tlak  je potrebno  do  pridobitve popolne trdnosti negovati in zaščititi."]
[]
[null,"Za  povečanje  odpornosti  cementnega  estriha,   kvalitete  izdelave  in  obdelave  je  uporabiti  naslednje dodatke: pospeševalce, plastifikatorje in sredstva za zaščito proti mrazu. Dodatke je dovoljeno uporabljati, kadar le-ti ne vplivajo škodljivo na kvaliteto cementnega estriha in talno oblogo."]
[null,"Hidroizolacijski sloj na katerega  se direktno izvede cementni estrih, mora imeti zavarjene  ali zalepljene stike, biti brez mehurjev in mehaničnih.poškodb, raven in čist."]
[null,"Površina gotovega cementnega  estriha mora biti gladka ali hrapava, odvisno od predvidene  vrste talne obloge"]
[]
[null,"Pri izvedbi  plavajočih  estrihov  je  potrebno  ob  stenah  položiti  sloj  mehkega  izloacijskega  materiala debeline min. 0,5 cm, višine minimalno kot je debelina estriha, kot dilatacijski sloj med estrihom in steno, s cimer se prepreči prenos udarnega zvoka."]
[null,"Toplotne in zvočne izolacije morajo biti izvedene tako, da na preklopih in v stiku z drugimi konstrukcijami ni toplotnih in zvočnih mostov."]
[]
[null,"ENOTNA CENA MORA VSEBOVATI:"]
[null,"* vsa potrebna pripravljalna dela in čiščenje podlog"]
[null,"* izdelavo tehničnega načrta za izolacijske materiale"]
[null,"* merjenje na objektu"]
[null,"* vse potrebne transporte do mesta vgrajevanja"]
[null,"* skladiščenje materiala na gradbišču"]
[null,"* preizkušanje kvalitete za vse materiale, ki se vgrajujejo in dokazovanje kvalitete z atesti"]
[null,"* ves potreben material (estrih, toplotna in zvočna izolacija, armatura)"]
[null,"* opaž robov"]
[null,"*  dilatacije;   stiki s stenami in konstrukcijskimi elementi za preprečitev  zvočnih  mostov, konstruktivne dilatacije,  prehodi instalacij"]
[null,"* vse potrebno delo do končnega izdelka"]
[null,"* vsa potrebna pomožna sredstva za vgrajevanje na objektu kot so lestve, odri in podobno"]
[null,"* usklajevanje z osnovnim načrtom in posvetovanje s projektantom"]
[null,"* terminsko usklajevanje del z ostalimi izvajalci na objektu"]
[null,"* finalna obdelava elementov po opisu"]
[null,"* popravilo eventuelno povzročene škode ostalim izvajalcem na gradbišču"]
[null,"* čiščenje prostorov in odvoz odpadnega meteriala na stalno deponijo in plačilo takse"]
[null,"* vsa dela in ukrepe po določilih zakona o varstvu pri delu"]
[]
[null,"Enotna  cena  mora zajeti izdelavo vseh potrebnih  detajlov in dopolnilnih del, katera je potrebno  izvesti za dokončanje  posameznih del, tudi če potrebni detajli in zaključki niso podrobno navedeni in opisani v popisu del, in so ta dopolnila nujna za pravilno funkcioniranje posameznih sistemov in elementov objekta."]
[]
[null,"V c.e.m. je potrebno upoštevati čiščenje po posameznih fazah dela, ter odvoz odpadkov na deponijo!"]
[]
[]
[null,"OPOMBA:\nEstrihi so izvedeni kot cementni, trdnostni razred C 16/20, mikroarmirani so s steklenimi vlakni (količino mikroarmature za doseganje upogibne trdnosti določi tehnolog). Izvedeni kot plavajoči z zvočno izolacijo in stranskim trakom pri steni. \nToplotna izolacija in PE folija sta zajeti v postavkah zidarskih del. "]
[]
[]
["1","Dobava in naprava mikro-armiranega cementnega estriha deb. do 8 cm, vgrajenega na EPS ali XPS plošče oz. PE folijo  (zajete v postavkah zidarskih del), vključno  z mikrovlakni ter dobavo in vgradnjo dilatacijskega traku pri stiku s stenami.\n- V mokrih prosotrih je predviden estrih deb do 5-6 cm, izveden v naklonu proti odtokom.\n- V suhih prostorih je predviden estrih deb. do 8 cm."]
[null,"a.) Estrih deb. 8 cm: ",2050,"m2",null,{"$f":"+E50*C50","v":0},{"$f":"+E50*MM","v":0},{"$f":"+G50*C50","v":0},{"$f":"+E50-G50","v":0},{"$f":"+I50*C50","v":0}]
[]
[null," B2. ESTRIHI",null,null,null,{"$f":"SUM(F50:F51)","v":0},null,{"$f":"SUM(H50:H51)","v":0},null,{"$f":"SUM(J50:J51)","v":0}]

{"sheet":"CDE- B3 MIZARSKA DELA","index":78,"n_rows":113,"n_cols":10,"rows_kept":113,"cut":false,"hidden":false,"merged":[]}
[null,"Objekt C, D in E,   B3. MIZARSKA  DELA"]
[]
["ZAP. ŠT.","OPIS","KOLIČUNA","ME","CENA/ENOTO","SKUPAJ","POPUST","POPUST SKUPAJ","CENA/ENOTO S POPUSTOM","SKUPAJ S POPUSTOM"]
[]
[null,"Vsa dela je potrebno izvjati po določilih veljavnih tehničnih predpisov in normativov in skladno z obveznimi SIST-i!"]
[]
[null,"Vgrajevanje  mora  biti  usklajeno  s tehnološkim  postopkom  gradnje  objekta.  Pritrjevanje  na  gradbene elemente mora biti izvedeno  tako, da se pri tem ne poslabsa funkcija, biti mora elastično in čvrsto. Vsi elementi za pritrjevanje morajo biti kovinski nerjaveči, ter ustrezne velikosti in nosilnosti."]
[null,"Vsi elementi so površinsko finalno obdelani na način kot je navedeno v popisu."]
[]
[null,"Tehnološke risbe za proizvodnjo mora izvajalec del izdelati v skladu s projektno dokumentacijo. V kolikor želi izvajalec prilagoditi izvedbo svoji tehnologiji, mora izdelati ustrezno projektno dokumentacijo  z detajli, katero mora pregledati in s podpisom potrditi odgovorni arhitekt. lzvajanje na objektu se lahko začne, ko arhitekt s podpisom potrdi risbe in vgrajene prototipe."]
[]
[null,"Glede  na  zahteve  protipožarne  zaščite,  morajo biti elementi  izvedeni  v  zahtevani  ognjeodpornosti. lzdelani morajo biti iz negorljivega materiala oz. obdelani s protipožarno zaščito, po veljanih tehničnih predpisih."]
[null,"Vse zahteve za protipožarno zaščito so dane v načrtu protipožane zaščite objekta."]
[]
[null,"ENOTNA CENA MORA VSEBOVATI:"]
[null,"* vsa potrebna pripravljalna dela in čiščenje podlog"]
[null,"* merjenje na objektu"]
[null,"* vse potrebne transporte do mesta vgrajevanja"]
[null,"* skladiščenje materiala na gradbišču"]
[null,"* preizkušanje kvalitete za vse materiale, ki se vgrajujejo in dokazovanje kvatitete z atesti"]
[null,"* vse potrebno delo v delavnici in na objektu"]
[null,"* izdelava tehnoloških risb za proizvodnjo s potrebnimi detajli"]
[null,"*  usklajevanje z osnovnim načrtom in posvetovanje s projektantom"]
[null,"* izdelava tehnoloških risb za proizvodnjo, z detajli, ki jih je potrebno izvesti za končanje posameznih del, tudi če niso podrobno  navedeni in opisani  v popisu in načrtih, so pa  nujna za pravilno  funkcioniranje"]
[null,"posameznih sistemov in elemnotv. Potrditi jih mora odgovorni projektant arhitekture"]
[null,"* ves potreben glavni, pomožni, nerjaveči pritrdilni in vezni material"]
[null,"* stekla za zasteklitve"]
[null,"* izdelava vseh potrebnih zaključkov"]
[null,"* finalna površinska obdelava"]
[null,"* vsa potrebna pomožna sredstva za vgrajevanje na objektu kot so lestve, odri in podobno"]
[null,"* usklajevanje z osnovnim načrtom in posvetovanje s projektantom"]
[null,"* terminsko usklajevanje del z ostalimi izvajalci na objektu"]
[]
[]
[null,"POZICIJE MIZARSKA DELA:"]
[]
[null,"MIZARSKO NOTRANJA VRATA"]
[null,"Notranja vrata so načrtovana kot tehnično sistemska rešitev."]
[null,"Podboj: kovinski podboj, tip dvojni objemni profil z nevidno montažo kot npr. Hörman dvodelni objemni podboj, barvano po RAL 9010."]
[null,"Vratno krilo:"]
[null," je tipske izvedbe brez pripire – poravnano z vratnim krilom. Sestavljeno je iz ojačitvenega okvirja in polnila iz cevaste iverne plošče. Zvočna izolavitvnost 38dB, učilnice: 32dB."]
[null,"Okovje vrat: 3 kraki tečaji, cilindrična ključavnica, kljuka Hörmann Linea ali enakovredno."]
[null,"Površinsko obdelava vratnih kril iz ultrapasa kot na primer Egger, Solid premium  bela, št.  W1001, ST9."]
[]
[null,"MIZARSKO - SANITARNE KABINE"]
[null,"So načrtovane kot npr: \"Funder max\" stene, izdelane iz kompakt plošče, d = 13mm, obdane z Alu profilom,ki omogoča samonosilnost sten. Stene wc kabin so dvignjene od tal 10 cm zaradi enostavnega vzdrževanja wc prostorov. Uskladiti  je potrebno pritrditve sanitarnih  predelnih sten na ostale stene z izvajalci le-teh. Imajo varnostne ključavnice z oznako prosto, zasedeno, kljuka - skladno s sistemom, barva: Fundermax 0066, mat."]
[]
[null,"MIZARSKA POMIČNA PREDELNA STENA"]
[null,"Zasnovana je v prostoru med gospodinjsko učilnico ter dvorano, kot npr. produkt Hufcor 100. Pomične predelne stene so sestavljene iz osnovnega panela, brez okvirja, raven rob. Površinska obdelava je iz melamina oz. ultrapasa, bele barve, frontwhite 120.  Sistemski element ima zunanjo oblogo iz 16 mm zvočno-izolacijske iverne plošče, vertikalne robnike iz aluminija, v notranjosti ima element je zvočno izolacijo iz kamene volne debeline 70 cm. Sestavljena predelna stena učinkuje kot celovita enota. Debelina elementov je 113mm. Povezava elementov je eloksirani aluminijasti pogrezni profili (utor-pero) z magnetno povezavo 70N/m. Vsak element ima zgornjo in spodnjo potisno prečko iz aluminija s specialnimi tesnili in polnili za dušenje zvoka. Potisni tlak (nastavljivo) je preko dvojnega škarjastega mehanizma."]
[null,"Nastavitev višine: Vsak voziček s kolesi je opremljen z avtomatsko mehaniko za reguliranje višine, tako da se lahko tudi naknadno, brez odpiranja stropa, element na novo prilagodi. Stena je opremljena s teleskopskim elementom zaradi doseganja ustrezne zvočne izolacije. Tirnice: Pocinkano jeklo, 98mm x 66mm x 4mm. Tirnica vključno s podkonstrukcijo je skrita v višino spuščenega strop iz akustičnih kovinskih lamel. Zaradi vidnosti je tirnica prašno barvana po ral 9010. spodnji rob poravnan s spuščenim stropom. Svetla višina 360cm. Zvočna izolativnost Rw 42dB.  "]
[]
[null,"Opomba: Vse mere, št. komadov in način odpiranja obvezno preveriti na objektu!"]
[null,"-V primeru nejasnosti kontaktirati projektanta!"]
[]
[]
["1","Izdelava, dobava in montaža notranjih lesenih vrat s kovinskimi podboji, vključno z  obrobami, profili, vratnimi štoperji in vsem ostalim potrebnim materialom.\nV1   Notranja vrata kuhinja \nNotranja enokrilna vrata kot npr. Hörman\n\n- Gradbena odprtina: 100/215 cm\n- Svetli prehod: 90/210 cm\n- vgradnja: AB stena deb. 20-30 cm 1x, MK stena deb. 20 cm 1x\n- Odpiranje:  1L, 1D\n- Št. kom: 2x\n\n- Podboj: kovinski podboj, dvojni objemni podboj z zakrito montažo, kot npr. Hörmann Variofix\n- Vratno krilo:  tipska izvedba \nOjačitveni okvir in polnilo iz cevaste iverne plošče. Kot npr. Hörmann Baseline Duradecor\nTesnilo vstavljeno v sistemski utor, enake barve kot vratno krilo\nKljuka: kljuka Hörmann Linea ali enakovredno RAL 9006\nOkovje: 3 kraki tečaji\nKljučavnica: cilindrična ključavnica\n\nGlej splošne opombe in sheme za mizarska dela!\nPOZ.: V1"]
[null,null,2,"kom",null,{"$f":"+E57*C57","v":0},{"$f":"+E57*MM","v":0},{"$f":"+G57*C57","v":0},{"$f":"+E57-G57","v":0},{"$f":"+I57*C57","v":0}]
[]
["2","Izdelava, dobava in montaža notranjih lesenih vrat s kovinskimi podboji, vključno z  obrobami, profili, vratnimi štoperji in vsem ostalim potrebnim materialom.\nV2   Notranja požarno odporna vrata - večnamenska dvorana\nNotranja dvokrilna ognjeodporna vrata kot npr. Hörman \n\n- Gradbena odprtina: 180/215 cm\n- Svetli prehod: 170/210 cm\n- vgradnja: AB stena deb. 30 cm 2x\n- Odpiranje:  2 L/D\n- Št. kom: 2x\npožarna odpornost: EI30-C5\n\n- Podboj: kovinski podboj, dvojni objemni podboj z zakrito montažo, kot npr. Hörmann Variofix\n- Vratno krilo:  tipska izvedba \npožarno polnilo\nKljuka: panik kljulka po EN 179, samozapiralo\nOkovje: 3 kraki tečaji\nKljučavnica: cilindrična ključavnica\nBarva: Podboj: v enaki barvi kot vratno krilo\nKrilo: Površinska obdelava Ultrapas Egger, Solid premium bela, št. W 1001 ST9 \n\nGlej splošne opombe in sheme za mizarska dela!\nPOZ.: V2"]
[null,null,2,"kom",null,{"$f":"+E60*C60","v":0},{"$f":"+E60*MM","v":0},{"$f":"+G60*C60","v":0},{"$f":"+E60-G60","v":0},{"$f":"+I60*C60","v":0}]
[]
["3","Izdelava, dobava in montaža notranjih lesenih vrat s kovinskimi podboji, vključno z  obrobami, profili, vratnimi štoperji in vsem ostalim potrebnim materialom.\nV3   Notranja vrata - rekviziti\nNotranja enokrilna vrata kot npr. Hörman\n\n- Gradbena odprtina: 110/215 cm\n- Svetli prehod: 100/210 cm\n- vgradnja: AB stena deb. 30 cm 1x\n- Odpiranje:  1D\n- Št. kom: 1x\n\n- Podboj: kovinski podboj, dvojni objemni podboj z zakrito montažo, kot npr. Hörmann Variofix\n- Vratno krilo:  tipska izvedba \nOjačitveni okvir in polnilo iz cevaste iverne plošče. Kot npr. Hörmann Baseline Duradecor\nTesnilo vstavljeno v sistemski utor, enake barve kot vratno krilo\nKljuka: kljuka Hörmann Linea ali enakovredno RAL 9006\nOkovje: 3 kraki tečaji\nKljučavnica: cilindrična ključavnica\nBarva: Podboj: v enaki barvi kot vratno krilo\nKrilo: Površinska obdelava Ultrapas Egger, Solid premium bela, št. W 1001 ST9 \n\nGlej splošne opombe in sheme za mizarska dela!\nPOZ.: V3"]
[null,null,1,"kom",null,{"$f":"+E63*C63","v":0},{"$f":"+E63*MM","v":0},{"$f":"+G63*C63","v":0},{"$f":"+E63-G63","v":0},{"$f":"+I63*C63","v":0}]
[]
["4","Izdelava, dobava in montaža notranjih lesenih vrat s kovinskimi podboji, vključno z  obrobami, profili, vratnimi štoperji in vsem ostalim potrebnim materialom.\nV4   Notranja vrata- sanitarije v 1. nadstopju\nNotranja enokrilna ognjevarna vrata kot npr. Hörman\n\n- Gradbena odprtina: 100/215 cm\n- Svetli prehod: 90/210 cm\n- vgradnja: MK stena deb. 15 cm 3x\n- Odpiranje:  2L, 1D\n- Št. kom: 3x\npožarna odpornost: EI30-C5\n\n- Podboj: kovinski podboj, dvojni objemni podboj z zakrito montažo, kot npr. Hörmann Variofix\n- Vratno krilo:  tipska izvedba \npožarno polnilo\nKljuka: panik kljulka po EN 179, samozapiralo\nOkovje: 3 kraki tečaji\nKljučavnica: cilindrična ključavnica\nBarva: Podboj: v enaki barvi kot vratno krilo\nKrilo: Površinska obdelava Ultrapas Egger, Solid premium bela, št. W 1001 ST9 \n\nGlej splošne opombe in sheme za mizarska dela!\nPOZ.: V4"]
[null,null,3,"kom",null,{"$f":"+E66*C66","v":0},{"$f":"+E66*MM","v":0},{"$f":"+G66*C66","v":0},{"$f":"+E66-G66","v":0},{"$f":"+I66*C66","v":0}]
[]
["5","Izdelava, dobava in montaža notranjih lesenih vrat s kovinskimi podboji, vključno z  obrobami, profili, vratnimi štoperji in vsem ostalim potrebnim materialom.\nV5   Notranja vrata kabinet \nNotranja enokrilna ognjevarna vrata kot npr. Hörman\n\n- Gradbena odprtina: 90/215 cm\n- Svetli prehod: 80/210 cm\n- vgradnja: MK stena deb. 15 cm 1x\n- Odpiranje:  1L\n- Št. kom: 1x\npožarna odpornost: EI30-C5\nZvočna izolativnost: Rw = 42 dB\n\n- Podboj: kovinski podboj, dvojni objemni podboj z zakrito montažo, kot npr. Hörmann Variofix\n- Vratno krilo:  tipska izvedba \npožarno polnilo\nKljuka: panik kljulka po EN 179, samozapiralo\nOkovje: 3 kraki tečaji\nKljučavnica: cilindrična ključavnica\nBarva: Podboj: v enaki barvi kot vratno krilo\nKrilo: Površinska obdelava Ultrapas Egger, Solid premium bela, št. W 1001 ST9 \n\nGlej splošne opombe in sheme za mizarska dela!\nPOZ.: V5"]
[null,null,1,"kom",null,{"$f":"+E69*C69","v":0},{"$f":"+E69*MM","v":0},{"$f":"+G69*C69","v":0},{"$f":"+E69-G69","v":0},{"$f":"+I69*C69","v":0}]
[]
["6","Izdelava, dobava in montaža notranjih lesenih vrat s kovinskimi podboji, vključno z  obrobami, profili, vratnimi štoperji in vsem ostalim potrebnim materialom.\nV6   Notranja enokrilna vrata gospodinjska učilnica\nNotranja enokrilna ognjevarna vrata kot npr. Hörman\n\n- Gradbena odprtina: 110/215 cm\n- Svetli prehod: 100/210 cm\n- vgradnja: MK stena deb. 15 cm 1x\n- Odpiranje:  1L\n- Št. kom: 1x\npožarna odpornost: EI30-C5\nZvočna izolativnost: Rw = 32 dB\n\n- Podboj: kovinski podboj, dvojni objemni podboj z zakrito montažo, kot npr. Hörmann Variofix\n- Vratno krilo:  tipska izvedba \npožarno polnilo\nKljuka: panik kljulka po EN 179, samozapiralo\nOkovje: 3 kraki tečaji\nKljučavnica: cilindrična ključavnica\nBarva: Podboj: v enaki barvi kot vratno krilo\nKrilo: Površinska obdelava Ultrapas Egger, Solid premium bela, št. W 1001 ST9 \n\nGlej splošne opombe in sheme za mizarska dela!\nPOZ.: V6"]
[null,null,1,"kom",null,{"$f":"+E72*C72","v":0},{"$f":"+E72*MM","v":0},{"$f":"+G72*C72","v":0},{"$f":"+E72-G72","v":0},{"$f":"+I72*C72","v":0}]
[]
["7","Izdelava, dobava in montaža notranjih lesenih vrat s kovinskimi podboji, vključno z  obrobami, profili, vratnimi štoperji in vsem ostalim potrebnim materialom.\nV8   Notranja vrata sanitarije trakt C \nNotranja enokrilna vrata kot npr. Hörman\n\n- Gradbena odprtina: 90/215 cm\n- Svetli prehod: 80/210 cm\n- vgradnja: MK stena deb. 12,5 cm 9x\n- Odpiranje:  3L, 6D\n- Št. kom: 9x\n\n- Podboj: kovinski podboj, dvojni objemni podboj z zakrito montažo, kot npr. Hörmann Variofix\n- Vratno krilo:  tipska izvedba \nOjačitveni okvir in polnilo iz cevaste iverne plošče. Kot npr. Hörmann Baseline Duradecor\nTesnilo vstavljeno v sistemski utor, enake barve kot vratno krilo\nKljuka: kljuka Hörmann Linea ali enakovredno RAL 9006\nOkovje: 3 kraki tečaji\nKljučavnica: cilindrična ključavnica\nBarva: Podboj: v enaki barvi kot vratno krilo\nKrilo: Površinska obdelava Ultrapas Egger, Solid premium bela, št. W 1001 ST9 \n\nGlej splošne opombe in sheme za mizarska dela!\nPOZ.: V8"]
[null,null,9,"kom",null,{"$f":"+E75*C75","v":0},{"$f":"+E75*MM","v":0},{"$f":"+G75*C75","v":0},{"$f":"+E75-G75","v":0},{"$f":"+I75*C75","v":0}]
[]
["8","Izdelava, dobava in montaža notranjih lesenih vrat s kovinskimi podboji, vključno z  obrobami, profili, vratnimi štoperji in vsem ostalim potrebnim materialom.\nV9   Notranja vrata učilnice trakt C \nNotranja enokrilna vrata kot npr. Hörman\n\n- Gradbena odprtina: 100/205 cm\n- Svetli prehod: 90/200 cm\n- vgradnja: opečna stena deb. 35 cm 6x\n- Odpiranje:  6L\n- Št. kom: 6x\nZvočna izolativnost: Rw = 32 dB\n\n- Podboj: kovinski podboj, dvojni objemni podboj z zakrito montažo, kot npr. Hörmann Variofix\n- Vratno krilo:  tipska izvedba \nOjačitveni okvir in polnilo iz cevaste iverne plošče. Kot npr. Hörmann Baseline Duradecor\nTesnilo vstavljeno v sistemski utor, enake barve kot vratno krilo\nKljuka: kljuka Hörmann Linea ali enakovredno RAL 9006\nOkovje: 3 kraki tečaji\nKljučavnica: cilindrična ključavnica\nBarva: Podboj: v enaki barvi kot vratno krilo\nKrilo: Površinska obdelava Ultrapas Egger, Solid premium bela, št. W 1001 ST9 \n\nGlej splošne opombe in sheme za mizarska dela!\nPOZ.: V9"]
[null,null,6,"kom",null,{"$f":"+E78*C78","v":0},{"$f":"+E78*MM","v":0},{"$f":"+G78*C78","v":0},{"$f":"+E78-G78","v":0},{"$f":"+I78*C78","v":0}]
[]
["9","Izdelava, dobava in montaža notranjih lesenih vrat s kovinskimi podboji, vključno z  obrobami, profili, vratnimi štoperji in vsem ostalim potrebnim materialom.\nV10   Notranja vrata kabineti trakt C\nNotranja enokrilna vrata kot npr. Hörman\n\n- Gradbena odprtina: 100/215 cm\n- Svetli prehod: 90/210 cm\n- vgradnja: MK stena deb. 15 cm 5x\n- Odpiranje:  3L, 2D\n- Št. kom: 5x\nZvočna izolativnost: Rw = 32 dB\n\n- Podboj: kovinski podboj, dvojni objemni podboj z zakrito montažo, kot npr. Hörmann Variofix\n- Vratno krilo:  tipska izvedba \nOjačitveni okvir in polnilo iz cevaste iverne plošče. Kot npr. Hörmann Baseline Duradecor\nTesnilo vstavljeno v sistemski utor, enake barve kot vratno krilo\nKljuka: kljuka Hörmann Linea ali enakovredno RAL 9006\nOkovje: 3 kraki tečaji\nKljučavnica: cilindrična ključavnica\nBarva: Podboj: v enaki barvi kot vratno krilo\nKrilo: Površinska obdelava Ultrapas Egger, Solid premium bela, št. W 1001 ST9 \n\nGlej splošne opombe in sheme za mizarska dela!\nPOZ.: V10"]
[null,null,5,"kom",null,{"$f":"+E81*C81","v":0},{"$f":"+E81*MM","v":0},{"$f":"+G81*C81","v":0},{"$f":"+E81-G81","v":0},{"$f":"+I81*C81","v":0}]
[]
["10","Izdelava, dobava in montaža notranjih lesenih vrat s kovinskimi podboji, vključno z  obrobami, profili, vratnimi štoperji in vsem ostalim potrebnim materialom.\nV11   Notranja vrata učilnice v drugem nadstropju trakt C \nNotranja enokrilna vrata kot npr. Hörman\n\n- Gradbena odprtina: 100/215 cm\n- Svetli prehod: 90/210 cm\n- vgradnja: MK stena deb. 20 cm 3x\n- Odpiranje:  2L, 1D\n- Št. kom: 3x\nZvočna izolativnost: Rw = 32 dB\n\n- Podboj: kovinski podboj, dvojni objemni podboj z zakrito montažo, kot npr. Hörmann Variofix\n- Vratno krilo:  tipska izvedba \nOjačitveni okvir in polnilo iz cevaste iverne plošče. Kot npr. Hörmann Baseline Duradecor\nTesnilo vstavljeno v sistemski utor, enake barve kot vratno krilo\nKljuka: kljuka Hörmann Linea ali enakovredno RAL 9006\nOkovje: 3 kraki tečaji\nKljučavnica: cilindrična ključavnica\nBarva: Podboj: v enaki barvi kot vratno krilo\nKrilo: Površinska obdelava Ultrapas Egger, Solid premium bela, št. W 1001 ST9 \n\nGlej splošne opombe in sheme za mizarska dela!\nPOZ.: V11"]
[null,null,3,"kom",null,{"$f":"+E84*C84","v":0},{"$f":"+E84*MM","v":0},{"$f":"+G84*C84","v":0},{"$f":"+E84-G84","v":0},{"$f":"+I84*C84","v":0}]
[]
["11","Izdelava, dobava in montaža notranjih lesenih vrat s kovinskimi podboji, vključno z  obrobami, profili, vratnimi štoperji in vsem ostalim potrebnim materialom.\nV12   Notranja vrata pod stopniščem \nNotranja enokrilna vrata kot npr. Hörman\n\n- Gradbena odprtina: 100/215 cm\n- Svetli prehod: 90/210 cm\n- vgradnja: MK stena deb. 20 cm 3x\n- Odpiranje:  2L, 1D\n- Št. kom: 3x\n\n- Podboj: kovinski podboj, dvojni objemni podboj z zakrito montažo, kot npr. Hörmann Variofix\n- Vratno krilo:  tipska izvedba \nOjačitveni okvir in polnilo iz cevaste iverne plošče. Kot npr. Hörmann Baseline Duradecor\nTesnilo vstavljeno v sistemski utor, enake barve kot vratno krilo\nKljuka: kljuka Hörmann Linea ali enakovredno RAL 9006\nOkovje: 3 kraki tečaji\nKljučavnica: cilindrična ključavnica\nBarva: Podboj: v enaki barvi kot vratno krilo\nKrilo: Površinska obdelava Ultrapas Egger, Solid premium bela, št. W 1001 ST9 \n\nGlej splošne opombe in sheme za mizarska dela!\nPOZ.: V12"]
[null,null,3,"kom",null,{"$f":"+E87*C87","v":0},{"$f":"+E87*MM","v":0},{"$f":"+G87*C87","v":0},{"$f":"+E87-G87","v":0},{"$f":"+I87*C87","v":0}]
[]
["12","Izdelava, dobava in montaža notranjih lesenih pregradnih sanitarnih sten, vključno vsem potrebnim materialom.\nSK1   Sanitarna kabina - klet\n\n- Dim. elementa: 80/215 cm in 100/215 cm\n- Svetli prehod: 60/210 cm (2D)\n- Št. kom: 2x\n\n- Opis: tip kot npr. \"Funder max\" stene\npredelne stene so izdelane iz kompakt plošče, d=13 mm. Obdane so z ALU profilom, ki omogoča samonosilnost sten.\nStene kabin so dvignjene od tal za 10 cm zaradi lažjega vzdrževanja prostorov. \n- Kljuka:  zunaj kljuka, znotraj zapah\n- Barva: fundermax 0066, mat \n\nGlej splošne opombe in sheme za mizarska dela!\nPOZ.: SK1"]
[null,null,2,"kom",null,{"$f":"+E90*C90","v":0},{"$f":"+E90*MM","v":0},{"$f":"+G90*C90","v":0},{"$f":"+E90-G90","v":0},{"$f":"+I90*C90","v":0}]
[]
["13","Izdelava, dobava in montaža notranjih lesenih pregradnih sanitarnih sten, vključno vsem potrebnim materialom.\nSK2 Sanitarna kabina in SK3 pregrada \n\n- Dim. elementa: 155/215 cm, 105/215 in 60/215 cm\n- Svetli prehod: 70/210 cm (1D)\n- Št. kom: 1x\n\n- Opis: tip kot npr. \"Funder max\" stene\npredelne stene so izdelane iz kompakt plošče, d=13 mm. Obdane so z ALU profilom, ki omogoča samonosilnost sten.\nStene kabin so dvignjene od tal za 10 cm zaradi lažjega vzdrževanja prostorov. \n- Kljuka:  zunaj kljuka, znotraj zapah\n- Barva: fundermax 0066, mat \n\nGlej splošne opombe in sheme za mizarska dela!\nPOZ.: SK2 in SK3"]
[null,null,1,"kom",null,{"$f":"+E93*C93","v":0},{"$f":"+E93*MM","v":0},{"$f":"+G93*C93","v":0},{"$f":"+E93-G93","v":0},{"$f":"+I93*C93","v":0}]
[]
["14","Izdelava, dobava in montaža notranjih lesenih pregradnih sanitarnih sten, vključno vsem potrebnim materialom.\nSK4 Sanitarna kabina sanitarije v 1. nadstropju\n\n- Dim. elementa: 345/215 cm in 104/215 cm\n- Svetli prehod: 70/210 cm (1D, 1L)\n- Št. kom: 1x\n\n- Opis: tip kot npr. \"Funder max\" stene\npredelne stene so izdelane iz kompakt plošče, d=13 mm. Obdane so z ALU profilom, ki omogoča samonosilnost sten.\nStene kabin so dvignjene od tal za 10 cm zaradi lažjega vzdrževanja prostorov. \n- Kljuka:  zunaj kljuka, znotraj zapah\n- Barva: fundermax 0066, mat \n\nGlej splošne opombe in sheme za mizarska dela!\nPOZ.: SK4"]
[null,null,1,"kom",null,{"$f":"+E96*C96","v":0},{"$f":"+E96*MM","v":0},{"$f":"+G96*C96","v":0},{"$f":"+E96-G96","v":0},{"$f":"+I96*C96","v":0}]
[]
["15","Izdelava, dobava in montaža notranjih lesenih pregradnih sanitarnih sten, vključno vsem potrebnim materialom.\nSK5   Sanitarna kabina - pritličje Ž trakt C\n\n- Dim. elementa: 180/160 cm in 133,5/160 cm 2x\n- Svetli prehod: 70/155 cm (2D)\n- Št. kom: 1x\n\n- Opis: tip kot npr. \"Funder max\" stene\npredelne stene so izdelane iz kompakt plošče, d=13 mm. Obdane so z ALU profilom, ki omogoča samonosilnost sten.\nStene kabin so dvignjene od tal za 10 cm zaradi lažjega vzdrževanja prostorov. \n- Kljuka:  zunaj kljuka, znotraj zapah\n- Barva: fundermax 0066, mat \n\nGlej splošne opombe in sheme za mizarska dela!\nPOZ.: SK5"]
[null,null,1,"kom",null,{"$f":"+E99*C99","v":0},{"$f":"+E99*MM","v":0},{"$f":"+G99*C99","v":0},{"$f":"+E99-G99","v":0},{"$f":"+I99*C99","v":0}]
[]
["16","Izdelava, dobava in montaža notranjih lesenih pregradnih sanitarnih sten, vključno vsem potrebnim materialom.\nSK6   Sanitarna kabina - pritličje M trakt C\n\n- Dim. elementa: 168/160 cm in 135/160 cm 2x\n- Svetli prehod: 70/155 cm (2D)\n- Št. kom: 1x\n\n- Opis: tip kot npr. \"Funder max\" stene\npredelne stene so izdelane iz kompakt plošče, d=13 mm. Obdane so z ALU profilom, ki omogoča samonosilnost sten.\nStene kabin so dvignjene od tal za 10 cm zaradi lažjega vzdrževanja prostorov. \n- Kljuka:  zunaj kljuka, znotraj zapah\n- Barva: fundermax 0066, mat \n\nGlej splošne opombe in sheme za mizarska dela!\nPOZ.: SK6"]
[null,null,1,"kom",null,{"$f":"+E102*C102","v":0},{"$f":"+E102*MM","v":0},{"$f":"+G102*C102","v":0},{"$f":"+E102-G102","v":0},{"$f":"+I102*C102","v":0}]
[]
["17","Izdelava, dobava in montaža notranjih lesenih pregradnih sanitarnih sten, vključno vsem potrebnim materialom.\nSK7   Sanitarna kabina - prvo in drugo nadstropje Ž trakt C\n\n- Dim. elementa: 180/215 cm in 133,5/215 cm 2x\n- Svetli prehod: 70/210 cm (2D)\n- Št. kom: 2x\n\n- Opis: tip kot npr. \"Funder max\" stene\npredelne stene so izdelane iz kompakt plošče, d=13 mm. Obdane so z ALU profilom, ki omogoča samonosilnost sten.\nStene kabin so dvignjene od tal za 10 cm zaradi lažjega vzdrževanja prostorov. \n- Kljuka:  zunaj kljuka, znotraj zapah\n- Barva: fundermax 0066, mat \n\nGlej splošne opombe in sheme za mizarska dela!\nPOZ.: SK7"]
[null,null,2,"kom",null,{"$f":"+E105*C105","v":0},{"$f":"+E105*MM","v":0},{"$f":"+G105*C105","v":0},{"$f":"+E105-G105","v":0},{"$f":"+I105*C105","v":0}]
[]
["18","Izdelava, dobava in montaža notranjih lesenih pregradnih sanitarnih sten, vključno vsem potrebnim materialom.\nSK8   Sanitarna kabina - prvo in drugo nadstropje M trakt C\n\n- Dim. elementa: 90/215 cm, 133,5/215 in 60/215 cm\n- Svetli prehod: 70/210 cm (1L)\n- Št. kom: 2x\n\n- Opis: tip kot npr. \"Funder max\" stene\npredelne stene so izdelane iz kompakt plošče, d=13 mm. Obdane so z ALU profilom, ki omogoča samonosilnost sten.\nStene kabin so dvignjene od tal za 10 cm zaradi lažjega vzdrževanja prostorov. \n- Kljuka:  zunaj kljuka, znotraj zapah\n- Barva: fundermax 0066, mat \n\nGlej splošne opombe in sheme za mizarska dela!\nPOZ.: SK8"]
[null,null,2,"kom",null,{"$f":"+E108*C108","v":0},{"$f":"+E108*MM","v":0},{"$f":"+G108*C108","v":0},{"$f":"+E108-G108","v":0},{"$f":"+I108*C108","v":0}]
[]
["19","Izdelava, dobava in montaža notranjih lesenih pomičnih pregraddnih sten, vključno vsem potrebnim materialom.\nV7   Pomična stena v dvorani prvega nadstropja \nPomične stene kot npr. Hufcor 100, namenjene hitremu in enostavnemu preoblikovanju velikihprostorov v manjše in obratno, v prostoru večnamenska dvorana, 1ND.9.\n\n- Dim. elementa: 650/360 cm brez vodila\n- Št. kom: 1x\nZvočna izolativnost: 52dB\n\n- Opis: \n- pomične predelne stene so sestavljene iz osnovnega panela, brez okvirja, rob je raven.\n- sistemski element za zunanjo oblogo iz 16 mm zvočno-izolacijske iverne plošče, vertikalni robniki iz aluminija\n- v notranjosti je zvočna izolacija iz kamene volne deb. 70 cm\n- debelina elementov je 113 mm\n- elementi so povezani z eloksiranimi aluminijastimi pogreznimi profili (utor-pero)z magnetno povezavo 70N/m. Vsak element je opremljen z zgornjo in spodnjo potisno prečko iz aluminija s specialnimi tesnili in polnili za dušenje zvoka. \n- tirnice iz pocinkanega jekla, 98 mm x 66 mm x 4 mm. \n- tirnica prašno barvana, RAL 9010\n- Barva: melamin, bele barve, front white 120\n\nGlej splošne opombe in sheme za mizarska dela!\nPOZ.: V7"]
[null,null,1,"kom",null,{"$f":"+E111*C111","v":0},{"$f":"+E111*MM","v":0},{"$f":"+G111*C111","v":0},{"$f":"+E111-G111","v":0},{"$f":"+I111*C111","v":0}]
[]
[null," B3. MIZARSKA DELA",null,null,null,{"$f":"SUM(F56:F112)","v":0},null,{"$f":"SUM(H56:H112)","v":0},null,{"$f":"SUM(J56:J112)","v":0}]

{"sheet":"CDE- B3a KLJUČAV. DELA","index":79,"n_rows":115,"n_cols":10,"rows_kept":115,"cut":false,"hidden":false,"merged":[]}
[null," Objekt C, D in E,  B3a. KLJUČAVNIČARSKA DELA"]
[]
["ZAP. ŠT.","OPIS","KOLIČUNA","ME","CENA/ENOTO","SKUPAJ","POPUST","POPUST SKUPAJ","CENA/ENOTO S POPUSTOM","SKUPAJ S POPUSTOM"]
[]
[null,"Vsa dela je potrebno izvjati po določilih veljavnih tehničnih predpisov in normativov in skladno z obveznimi SIST-i!"]
[]
[null,"Vgrajevanje  mora  biti  usklajeno  s tehnološkim  postopkom  gradnje  objekta.  Pritrjevanje  na  gradbene elemente mora biti izvedeno  tako, da se pri tem ne poslabsa funkcija, biti mora elastično in čvrsto. Vsi elementi za pritrjevanje morajo biti kovinski nerjaveči, ter ustrezne velikosti in nosilnosti."]
[null,"Vsi elementi so površinsko finalno obdelani na način kot je navedeno v popisu."]
[]
[null,"Tehnološke risbe za proizvodnjo mora izvajalec del izdelati v skladu s projektno dokumentacijo. V kolikor želi izvajalec prilagoditi izvedbo svoji tehnologiji, mora izdelati ustrezno projektno dokumentacijo  z detajli, katero mora pregledati in s podpisom potrditi odgovorni arhitekt. lzvajanje na objektu se lahko začne, ko arhitekt s podpisom potrdi risbe in vgrajene prototipe."]
[]
[null,"Glede  na  zahteve  protipožarne  zaščite,  morajo biti elementi  izvedeni  v  zahtevani  ognjeodpornosti. lzdelani morajo biti iz negorljivega materiala oz. obdelani s protipožarno zaščito, po veljanih tehničnih predpisih."]
[null,"Vse zahteve za protipožarno zaščito so dane v načrtu protipožane zaščite objekta."]
[]
[null,"ENOTNA CENA MORA VSEBOVATI:"]
[null,"* vsa potrebna pripravljalna dela in čiščenje podlog"]
[null,"* merjenje na objektu"]
[null,"* vse potrebne transporte do mesta vgrajevanja"]
[null,"* skladiščenje materiala na gradbišču"]
[null,"* preizkušanje kvalitete za vse materiale, ki se vgrajujejo in dokazovanje kvatitete z atesti"]
[null,"* vse potrebno delo v delavnici in na objektu"]
[null,"* izdelava tehnoloških risb za proizvodnjo s potrebnimi detajli"]
[null,"*  usklajevanje z osnovnim načrtom in posvetovanje s projektantom"]
[null,"* izdelava tehnoloških risb za proizvodnjo, z detajli, ki jih je potrebno izvesti za končanje posameznih del, tudi če niso podrobno  navedeni in opisani  v popisu in načrtih, so pa  nujna za pravilno  funkcioniranje"]
[null,"posameznih sistemov in elemnotv. Potrditi jih mora odgovorni projektant arhitekture"]
[null,"* ves potreben glavni, pomožni, nerjaveči pritrdilni in vezni material"]
[null,"* stekla za zasteklitve"]
[null,"* izdelava vseh potrebnih zaključkov"]
[null,"* finalna površinska obdelava"]
[null,"* vsa potrebna pomožna sredstva za vgrajevanje na objektu kot so lestve, odri in podobno"]
[null,"* usklajevanje z osnovnim načrtom in posvetovanje s projektantom"]
[null,"* terminsko usklajevanje del z ostalimi izvajalci na objektu"]
[null,"* popravilo eventuelno povzročene skode ostalim izvajalcem na gradbišču"]
[null,"* čiščenje prostorov in odvoz odpadnega meteriala na stalno deponijo in plačilo takse"]
[null,"* zaščita izdelekov pred poškodbami do predaje naročniku del"]
[null,"* vsa dela in ukrepe po določilih zakona o varstvu pri delu"]
[]
[null,"Enotna  cena  mora zajeti izdelavo  vseh potrebnih  detajlov in dopolnilnih del, katera je potrebno  izvesti za dokončanje  posameznih del, tudi če potrebni detajli in zakljucki niso podrobno navedeni in opisani v popisu del, in so ta dopolnila nujna za pravilno funkcioniranje posameznih sistemov in elementov objekta."]
[]
[null,"Vse mere in število komadov je pred naročilom potrebno preveriti na objektu!"]
[null,"V c.e.m. je potrebno upoštevati notranje, premične in dvižne delovne odre in ploščadi, čiščenje po posameznih fazah dela, ter odvoz odpadkov na deponijo!"]
[null,"SPLOŠNO:"]
[null,"JEKLENA NOTRANJA VRATA – navadna "]
[null,"so predvidena v kletnih prostorih, kot npr. Hormann. So enokrilne ali dvokrilne izvedbe. "]
[null,"Vratno krilo: debeline 40mm z ozko pripiro. Spojna konstrukcija je po celotni površini zlepljena kar zagotavlja visoko stabilnost in togot krila. "]
[null,"Podboji vrat: so tovarniško pred pripravljen. "]
[null,"Okovje, kljuka in ključavnica: tipsko okovje , cilindrična ključavnica  , ALU tipska kljuka (kot npr. Vovko) iz nerjavega jekla."]
[null,"Barva:  so v pocinkani izvedbi z visokokakovostnim prašnim premazom po RAL 7035 - svetlo siva. "]
[]
[null,"JEKLENA NOTRANJA VRATA - na mejah požarnih sektorjev "]
[null,"Ognje odporna jeklena vrata so predvidena v kletni etaž, kot npr. NINZ Univer požarna vrata. So enokrilne izvedbe in požarne odpornosti EI230-SmC3..  "]
[null,"Vratno krilo: debeline 60mm z ozko pripiro. Spojna konstrukcija je po celotni površini zlepljena kar zagotavlja visoko stabilnost in togost krila. Koeficient toplotne prepustnosti 1,58 W/ (m²·K) in je protivlomnega razreda min RC 2. "]
[null,"Podboji vrat: tovarniško predpripravljen. Debelina pločevine je 2mm. ima profiliran z utor za sistemsko tesnilo iz gume."]
[null,"Okovje, kljuka in ključavnica: ognjevarna garnitura kljuk, kot npr. Hot-cil-x, po EN 179, z objektnim krogličnim ležajem iz nerjavnega jekla, samozapiralo, sistemsko trokratno okvje, cilindrična ključavnica."]
[null,"Barva: v pocinkani izvedbi in visokokakovostnim prašnim premazom, RAL 7035 - svetlo siva."]
[]
[null,"Opomba: Vse mere, št. komadov in način odpiranja obvezno preveriti na objektu!"]
[null,"-V primeru nejasnosti kontaktirati projektanta!"]
[]
["20","Izdelava, dobava in montaža notranjih kovinskih vrat s podboji, vključno z  obrobami, profili, vratnimi štoperji in vsem ostalim potrebnim materialom.\nV1   Požarno odporna notranja vrata - stopnišče v kleti\nOgnje odporna jeklena enokrilna vrata, kot npr. Ninz Univer\n\n- Gradbena odprtina: 100/215 cm\n- Svetli prehod: 90/210 cm\n- vgradnja: AB stena deb. 20 cm 1x\n- Odpiranje:  1D\n- Št. kom: 1x\nPožarna odpornostt: EI30-C5\nProtivlomni razred: min. RC 2\nKoef. toplotne prepustnosti: 1,58 W/(m2K)\n\n- Podboj: tovarniško predpripravljen, kot npr. \nUniver. Debelina pločevine je 2 mm, profiliran utor za sistemsko tesnilo gume\n- Vratno krilo:  deb. 60 mm z ozko pripiro\nKljuka, okovje, ključavnica: \nognjevarna garnitura kljuk, kot npr. Hot-cil-x, po EN 179, z objektnim krogličnim ležajem iz nerjavnega jekla\nsamozapiralo\nsistemsko trokrako okovje\ncilindrična ključavnica\nBarva: vratno krilo in podboji v pocinkani izvedbi in visokokakovostnim prašnim premazom, RAL 7035 - svetlo siva.\n\nGlej splošne opombe in sheme za ključavničarska dela!\nPOZ.: V1"]
[null,null,1,"kom",null,{"$f":"+E61*C61","v":0},{"$f":"+E61*MM","v":0},{"$f":"+G61*C61","v":0},{"$f":"+E61-G61","v":0},{"$f":"+I61*C61","v":0}]
[]
["21","Izdelava, dobava in montaža notranjih kovinskih vrat s podboji, vključno z  obrobami, profili, vratnimi štoperji in vsem ostalim potrebnim materialom.\nV2   Kovinska notranja vrata - klet\nJeklena enokrilna vrata, kot npr.  Hörmann\n\n- Gradbena odprtina: 100/215 cm\n- Svetli prehod: 90/210 cm\n- vgradnja: AB stena deb. 20 cm 2x\n- Odpiranje:  1D, 1L\n- Št. kom: 2x\n\n- Podboj: tovarniško predpripravljen, kot npr. \nHörmann DryFix\n- Vratno krilo:  deb. 40 mm, s trojnim utorom\npocinknana pločevina debeline 0,6 mm, polnilo v obliki satovja po veči površini zlepljeno z jekleno pločevino.\nKljuka, okovje, ključavnica: \ntipsko okovje \ncilindrična ključavnica  \nALU tipska kljuka (kot npr. Vovko)\nBarva: \nvratno krilo in podboji v pocinkani izvedbi in visokokakovostnim prašnim premazom, RAL 9006\n\nGlej splošne opombe in sheme za ključavničarska dela!\nPOZ.: V2"]
[null,null,2,"kom",null,{"$f":"+E64*C64","v":0},{"$f":"+E64*MM","v":0},{"$f":"+G64*C64","v":0},{"$f":"+E64-G64","v":0},{"$f":"+I64*C64","v":0}]
[]
["22","Izdelava, dobava in montaža notranjih kovinskih vrat s podboji, vključno z  obrobami, profili, vratnimi štoperji in vsem ostalim potrebnim materialom.\nV3   Kovinska notranja vrata - klet\nJeklena enokrilna vrata, kot npr.  Hörmann\n\n- Gradbena odprtina: 90/215 cm\n- Svetli prehod: 80/210 cm\n- vgradnja: AB stena deb. 20 cm 1x, AB stena 30 cm 1x\n- Odpiranje:  2D\n- Št. kom: 2x\n\n- Podboj: tovarniško predpripravljen, kot npr. \nHörmann DryFix\n- Vratno krilo:  deb. 40 mm, s trojnim utorom\npocinknana pločevina debeline 0,6 mm, polnilo v obliki satovja po veči površini zlepljeno z jekleno pločevino.\nKljuka, okovje, ključavnica: \ntipsko okovje \ncilindrična ključavnica  \nALU tipska kljuka (kot npr. Vovko)\nBarva: \nvratno krilo in podboji v pocinkani izvedbi in visokokakovostnim prašnim premazom, RAL 9006\n\nGlej splošne opombe in sheme za ključavničarska dela!\nPOZ.: V3"]
[null,null,2,"kom",null,{"$f":"+E67*C67","v":0},{"$f":"+E67*MM","v":0},{"$f":"+G67*C67","v":0},{"$f":"+E67-G67","v":0},{"$f":"+I67*C67","v":0}]
[]
["23","Izdelava, dobava in montaža notranjih kovinskih vrat s podboji, vključno z  obrobami, profili, vratnimi štoperji in vsem ostalim potrebnim materialom.\nV4   Kovinska notranja vrata - klet\nJeklena dvokrilna vrata, kot npr.  Hörmann\n\n- Gradbena odprtina: 190/215 cm\n- Svetli prehod: 180/210 cm\n- vgradnja: AB stena deb. 30 cm 2x\n- Odpiranje:  2 L/D\n- Št. kom: 2x\n\n- Podboj: tovarniško predpripravljen, kot npr. \nHörmann DryFix\n- Vratno krilo:  deb. 40 mm, s trojnim utorom\npocinknana pločevina debeline 0,6 mm, polnilo v obliki satovja po veči površini zlepljeno z jekleno pločevino.\nKljuka, okovje, ključavnica: \ntipsko okovje \ncilindrična ključavnica  \nALU tipska kljuka (kot npr. Vovko)\nBarva: \nvratno krilo in podboji v pocinkani izvedbi in visokokakovostnim prašnim premazom, RAL 9006\n\nGlej splošne opombe in sheme za ključavničarska dela!\nPOZ.: V4"]
[null,null,2,"kom",null,{"$f":"+E70*C70","v":0},{"$f":"+E70*MM","v":0},{"$f":"+G70*C70","v":0},{"$f":"+E70-G70","v":0},{"$f":"+I70*C70","v":0}]
[]
["24","Izdelava, dobava in montaža notranjih kovinskih vrat s podboji, vključno z  obrobami, profili, vratnimi štoperji in vsem ostalim potrebnim materialom.\nV5   Kovinska notranja vrata - pritličje \nJeklena enokrilna vrata, kot npr.  Hörmann\n\n- Gradbena odprtina: 100/215 cm\n- Svetli prehod: 90/210 cm\n- vgradnja: AB stena deb. 20 cm 1x\n- Odpiranje:  1D\n- Št. kom:1x\n\n- Podboj: tovarniško predpripravljen, kot npr. \nHörmann DryFix\n- Vratno krilo:  deb. 40 mm, s trojnim utorom\npocinknana pločevina debeline 0,6 mm, polnilo v obliki satovja po veči površini zlepljeno z jekleno pločevino.\nsvetlobni izrez v zgornjem delu krila, zasteklitev deb. 4-6 mm \nKljuka, okovje, ključavnica: \ntipsko okovje \ncilindrična ključavnica  \nALU tipska kljuka (kot npr. Vovko)\nBarva: \nvratno krilo in podboji v pocinkani izvedbi in visokokakovostnim prašnim premazom, RAL 9006\n\nGlej splošne opombe in sheme za ključavničarska dela!\nPOZ.: V5"]
[null,null,1,"kom",null,{"$f":"+E73*C73","v":0},{"$f":"+E73*MM","v":0},{"$f":"+G73*C73","v":0},{"$f":"+E73-G73","v":0},{"$f":"+I73*C73","v":0}]
[]
["25","Izdelava, dobava in montaža notranjih kovinskih vrat s podboji, vključno z  obrobami, profili, vratnimi štoperji in vsem ostalim potrebnim materialom.\nV6   Notranja vrata prehod proti traktu A\nOgnje odporna jeklena enokrilna vrata, kot npr. Ninz Univer\n\n- Gradbena odprtina: 90/215 cm\n- Svetli prehod: 80/210 cm\n- vgradnja: AB stena deb. 20 cm 1x\n- Odpiranje:  1L\n- Št. kom: 1x\nPožarna odpornostt: EI30-C5\nProtivlomni razred: min. RC 2\nKoef. toplotne prepustnosti: 1,58 W/(m2K)\n\n- Podboj: tovarniško predpripravljen, kot npr. \nUniver. Debelina pločevine je 2 mm, profiliran utor za sistemsko tesnilo gume\n- Vratno krilo:  deb. 60 mm z ozko pripiro\nKljuka, okovje, ključavnica: \nognjevarna garnitura kljuk, kot npr. Hot-cil-x, po EN 179, z objektnim krogličnim ležajem iz nerjavnega jekla\nsamozapiralo\nsistemsko trokrako okovje\ncilindrična ključavnica\nBarva: vratno krilo in podboji v pocinkani izvedbi in visokokakovostnim prašnim premazom, RAL 9006.\n\nGlej splošne opombe in sheme za ključavničarska dela!\nPOZ.: V6"]
[null,null,1,"kom",null,{"$f":"+E76*C76","v":0},{"$f":"+E76*MM","v":0},{"$f":"+G76*C76","v":0},{"$f":"+E76-G76","v":0},{"$f":"+I76*C76","v":0}]
[]
["26","Izdelava, dobava in montaža notranjih kovinskih vrat s podboji, vključno z  obrobami, profili, vratnimi štoperji in vsem ostalim potrebnim materialom.\nV7   Notranja vrata \nJeklena dvokrilna vrata, kot npr.  Hörmann\n\n- Gradbena odprtina: 170/215 cm\n- Svetli prehod: 160/210 cm\n- vgradnja: AB stena deb. 20 cm 1x\n- Odpiranje:  1 L/D\n- Št. kom: 1x\n\n- Podboj: tovarniško predpripravljen, kot npr. \nHörmann DryFix\n- Vratno krilo:  deb. 40 mm, s trojnim utorom\npocinknana pločevina debeline 0,6 mm, polnilo v obliki satovja po veči površini zlepljeno z jekleno pločevino.\nKljuka, okovje, ključavnica: \ntipsko okovje \ncilindrična ključavnica  \nALU tipska kljuka (kot npr. Vovko)\nBarva: \nvratno krilo in podboji v pocinkani izvedbi in visokokakovostnim prašnim premazom, RAL 9006\n\nGlej splošne opombe in sheme za ključavničarska dela!\nPOZ.: V7"]
[null,null,1,"kom",null,{"$f":"+E79*C79","v":0},{"$f":"+E79*MM","v":0},{"$f":"+G79*C79","v":0},{"$f":"+E79-G79","v":0},{"$f":"+I79*C79","v":0}]
[]
["27","Izdelava, dobava in montaža notranjih kovinskih vrat s podboji, vključno z  obrobami, profili, vratnimi štoperji in vsem ostalim potrebnim materialom.\nV8   Zunanja vrata hišniška delavnica \nJeklena dvokrilna vrata, kot npr.  Hörmann\n\n- Gradbena odprtina: 240/215 cm\n- Svetli prehod: 230/210 cm\n- vgradnja: AB stena deb. 20 cm 1x\n- Odpiranje:  1 L/D\n- Št. kom: 1x\n\n- Podboj: tovarniško predpripravljen, kot npr. \nHörmann DryFix\n- Vratno krilo:  deb. 40 mm, s trojnim utorom\npocinknana pločevina debeline 0,6 mm, polnilo v obliki satovja po veči površini zlepljeno z jekleno pločevino.\nKljuka, okovje, ključavnica: \ntipsko okovje \ncilindrična ključavnica  \nALU tipska kljuka (kot npr. Vovko)\nBarva: \nvratno krilo in podboji v pocinkani izvedbi in visokokakovostnim prašnim premazom, RAL 9006\n\nGlej splošne opombe in sheme za ključavničarska dela!\nPOZ.: V8"]
[null,null,1,"kom",null,{"$f":"+E82*C82","v":0},{"$f":"+E82*MM","v":0},{"$f":"+G82*C82","v":0},{"$f":"+E82-G82","v":0},{"$f":"+I82*C82","v":0}]
[]
["28","Izdelava, dobava in montaža notranjih kovinskih vrat s podboji, vključno z  obrobami, profili, vratnimi štoperji in vsem ostalim potrebnim materialom.\nV9   Notranja vrata prehod proti traktu A\nJeklena dvokrilna vrata, kot npr.  Hörmann\n\n- Gradbena odprtina: 150/215 cm\n- Svetli prehod: 140/210 cm\n- vgradnja: AB stena deb. 20 cm 1x\n- Odpiranje:  1 L/D\n- Št. kom: 1x\n\n- Podboj: tovarniško predpripravljen, kot npr. \nHörmann DryFix\n- Vratno krilo:  deb. 40 mm, s trojnim utorom\npocinknana pločevina debeline 0,6 mm, polnilo v obliki satovja po veči površini zlepljeno z jekleno pločevino.\nKljuka, okovje, ključavnica: \ntipsko okovje \ncilindrična ključavnica  \nALU tipska kljuka (kot npr. Vovko)\nBarva: \nvratno krilo in podboji v pocinkani izvedbi in visokokakovostnim prašnim premazom, RAL 9006\n\nGlej splošne opombe in sheme za ključavničarska dela!\nPOZ.: V9"]
[null,null,1,"kom",null,{"$f":"+E85*C85","v":0},{"$f":"+E85*MM","v":0},{"$f":"+G85*C85","v":0},{"$f":"+E85-G85","v":0},{"$f":"+I85*C85","v":0}]
[]
[null,"REŠETKE, LESTED, OGRAJE"]
[]
["29","Izdelava, dobava in montaža talnih rešetk na svetlobne/prezračevalne jaške.\nP1   Talna prezračevalna rešetka \nTalna rešetka prezračevalnih jaškov, pritličje Z\n\nDim. rešetke: 108/69 cm\nŠt. kom.: 1\nDodatno: Ojačitveni profil 40/80\n\nSestavljene iz konstrukcijskega jekla S235JR, S355J2, skladno s standardom EN 1433. \nVstavljene so v nosilni L okvir, okvirne dimenzije 108 x 69 x 5, vgrajen v AB zid. \nVišina rešetk je 40 mm. Sestavljene so iz nosilnega in prečnega traka, ki sta proti drsno nazobčana. Zanka velikosti 33 x 66 mm. \nRešetke so vroče cinkane. \n\nGlej splošne opombe in sheme ključavničarskih del!\nPOZ.: P1"]
[null,null,"0","kom"]
[]
["30","Izdelava, dobava in montaža jeklenih stopnic.\nS1   Tipske kovinske stopnice \n\nDim.: 45/85 cm\nŠt. kom.: 1\n\nTipske kovinske stopnice za dostop na streho.\nNastopni klini ∅28 mm, hrbtno varovalo 60/4 mm v razmaku 80 cm.\nHrbtno varovalo je sestavljeno iz horizontalnih in vertikalnih kovinskih prečk dimenzije 4/30 mm - vse vroče cinkano.  \n\nGlej splošne opombe in sheme ključavničarskih del!\nPOZ.: S1"]
[null,null,1,"kom",null,{"$f":"+E93*C93","v":0},{"$f":"+E93*MM","v":0},{"$f":"+G93*C93","v":0},{"$f":"+E93-G93","v":0},{"$f":"+I93*C93","v":0}]
[]
["31","Izdelava, dobava in montaža kovinskih ograj na stopniščih.\nOgraje glavnega stopnišča, stopnišča kuhinje ter stopnišča v hodniku 1. nadstropja trakta D so zasnovane po enakem principu.  Nosilna konstrukcija ograje je okvir iz ploščatih polnih profilov preseka 50 x 15 mm. Znotraj njega so stojke  iz ploščatih polnih profilov preseka 50 x 15 mm v vertikalnem rastru z osnim razmakom med  10 in 12 cm. Okvir se na stopniščno ramo pritrjuje preko pritrdilnih ploščic umeščenih med stojke - glej sheme ograje (OG1, OG2, OG3).  Vse je vročecinkano in prašno barvano, RAL 9010, belo. Na stojke ograje je z jeklenim profilom točkovno pritrjen rokoprijem, ki ima lesen, ovalno kvadratni ročaj, preseka 50/ 50 mm. \nOb stene glavnega stopnišča trakta D je z jeklenim linijskim profilom pritrjeno držalo - ovalni kvadratni ročaj iz lesa,  preseka 50x50mm (shema OR1).\n\nOG1, OG2 in OG3: OGRAJA Z ROČAJEM:\n- ročaj kvadratni profil 50/50 mm iz lesa pritrjeno na jeklene nosilce, ki so točkovno varjeni na stojko ograje \n- okvir ograje je iz polne pločevine, dim 15/50mm                        \n- ograja je stransko pritrjena na stopniščne rame preko pritrdilnih ploščic \n- tovarniško barvano, RAL 9010, belo\n\nOR1: DRŽALO FIKSIRANO OB STENO:\n- ročaj kvadratni profil 50/50 mm iz lesa pritrjeno na L konzolne nosilce iz pločevine dim.80/60/8mm\n- sidran v steno s pomočjo pritrdilnih ploščic \n- barva RAL 9010, bela \n\nVsi profili so vroče cinkani in prašno barvani\nGlej splošne opombe in sheme ograj!\nPOZ.: OG1, OG2, OG3 in OR1"]
[null,"a) Ograja OG1: ",17.600000000000001,"m1",null,{"$f":"+E96*C96","v":0},{"$f":"+E96*MM","v":0},{"$f":"+G96*C96","v":0},{"$f":"+E96-G96","v":0},{"$f":"+I96*C96","v":0}]
[null,"b) Držalo OR1: ",27.3,"m1",null,{"$f":"+E97*C97","v":0},{"$f":"+E97*MM","v":0},{"$f":"+G97*C97","v":0},{"$f":"+E97-G97","v":0},{"$f":"+I97*C97","v":0}]
[null,"c) Ograja OG2: ",8.3000000000000007,"m1",null,{"$f":"+E98*C98","v":0},{"$f":"+E98*MM","v":0},{"$f":"+G98*C98","v":0},{"$f":"+E98-G98","v":0},{"$f":"+I98*C98","v":0}]
[null,"d) Ograja OG3: ",2.7,"m1",null,{"$f":"+E99*C99","v":0},{"$f":"+E99*MM","v":0},{"$f":"+G99*C99","v":0},{"$f":"+E99-G99","v":0},{"$f":"+I99*C99","v":0}]
[]
["32","Izdelava, dobava in montaža kovinskih ograj na stopniščih.\nObstoječa ograja glavnega stopnišča trakta C iz pritličja v 1. nadstropje se ohrani. \nObstoječ del jeklene ograje se zbrusi ter pobarva z barvo po RAL 9010. Zbrusi ter zaščiti z  se tudi lesen rokoprijem.\nPredvidena je nova ograja stopnišča trakta C iz 1. nadstropja v 2. nadstropje. . Nosilna konstrukcija ograje je okvir iz ploščatih polnih profilov preseka 50 x 15 mm. Znotraj njega so stojke  iz ploščatih polnih profilov preseka 50 x 15 mm v vertikalnem rastru z osnim razmakom med  10 in 12 cm. Okvir se pritrjuje na nastopne ploskve stopnic s pritrdilnimi ploščicami.  glej sheme ograje (OG4).  Vse je vročecinkano in prašno barvano, RAL 9010, belo. Na okvir ograje je privarjen jekleni linijski profil, na katerega je pritrjen rokoprijem, ki ima lesen, ovalno kvadratni ročaj, preseka 50/ 50 mm. \n\nOG4: OGRAJA Z ROČAJEM (obstoječa):\nFotografija prikazuje obstoječe stopnišče z ograjo in lesenim rokoooprijemom. \nObstoječa stopniščna ograja se popravi, prav tako obstoječ lesen rokooprijem \n\nOG4: OGRAJA Z ROČAJEM (nova):\n- ročaj kvadratni profil 50/50 mm iz lesa, sidran v okvir pograje \n- okvir ograje je iz polne pločevine, dim 15/50mm                               \n- ograja je talno pritrjena na stopniščne rame preko pritrdilnih ploščic \n- tovarniško barvano, RAL 9010\n\nVsi profili so vroče cinkani in prašno barvani\nGlej splošne opombe in sheme ograj!\nPOZ.: OG4"]
[null,"a) Ograja OG4 (obstoječa): ",9.1999999999999993,"m1",null,{"$f":"+E102*C102","v":0},{"$f":"+E102*MM","v":0},{"$f":"+G102*C102","v":0},{"$f":"+E102-G102","v":0},{"$f":"+I102*C102","v":0}]
[null,"b) Ograja OG4 (nova): ",11.4,"m1",null,{"$f":"+E103*C103","v":0},{"$f":"+E103*MM","v":0},{"$f":"+G103*C103","v":0},{"$f":"+E103-G103","v":0},{"$f":"+I103*C103","v":0}]
[]
[]
["33","Izdelava dobava in montaža primarnih jeklenih profilov IPB240 in IPBI240, ter sekundarne konstrukcije iz profilov HOP 160/120/8, kot konstrukcijskih stebrov tj.nosilnih elementov objekta Trakt C-2 nadstropje višine max do 500cm. Vsi elementi so vroče cinkani (100μm), ter dvoslojni premaz s skupno debelino 160 μm (2 x 80 μm na epoxy oz. poliuretanski osnovi) Obojestransko zaprta konstrukcija, Trakt C, obračun po kg vgrajene obdelane in zmontirane konstrukcije"]
[null,null,20240.509999999998,"kg",null,{"$f":"+E107*C107","v":0},{"$f":"+E107*MM","v":0},{"$f":"+G107*C107","v":0},{"$f":"+E107-G107","v":0},{"$f":"+I107*C107","v":0}]
[]
["34","Izdelava dobava in montaža primarnih jeklenih profilov IPBI240, kot konstrukcije za postavitev aklimata na strehi objekta Trakt C  max do 100cm višine noge in vzdolžne prečke dolžine do 800cm. Vsi elementi so vroče cinkani (100μm), ter dvoslojni premaz s skupno debelino 160 μm (2 x 80 μm na epoxy oz. poliuretanski osnovi) odprta konstrukcija-poravnana pripravljena za montažo aklimata, Trakt C, obračun po kg vgrajene obdelane in zmontirane konstrukcije"]
[null,null,1083,"kg",null,{"$f":"+E110*C110","v":0},{"$f":"+E110*MM","v":0},{"$f":"+G110*C110","v":0},{"$f":"+E110-G110","v":0},{"$f":"+I110*C110","v":0}]
[]
["35","Izdelava, dobava in montaža nadstreška prostora za posode za odpadke in kolesarnice (Pripadajoča objekta 2 in 3)\nNahaja se na vzhodni strani ob glavnem objektu. Konstrukcija je postavljena na talno AB ploščo. Nosilno konstrukcijo sestavljajo okviri iz jeklenih stebrov in nosilcev HOP 100/100/5 in so sidrani v AB talno ploščo, ter med seboj horizontalno povezani z jeklenimi prečkami HOP 50/50/4mm. Na prečke se privari tipsko ekspandirano pločevino tipa Benkotehna 12/6/2mm, na vhod se montira vodilo za enosmerna drsna vrata.  Raster okvirjev je od 120 do 180 cm. AKZ jeklenih konstrukcij je natančno opredeljena v načrtu gradbenih konstrukcij. Pri izdelavi in montaži nadstreškov je potrebno strogo upoštevati splošne opombe ključavničarskih del. Vsi elementi so vroče cinkani (100μm), ter dvoslojni premaz s skupno debelino 160 μm (2 x 80 μm na epoxy oz. poliuretanski osnovi). Barva zaključnega sloja je po Ral 9007.  "]
[null,null,3150,"kg",null,{"$f":"+E113*C113","v":0},{"$f":"+E113*MM","v":0},{"$f":"+G113*C113","v":0},{"$f":"+E113-G113","v":0},{"$f":"+I113*C113","v":0}]
[]
[null," B3a. KLJUČAVNIČARSKA DELA",null,null,null,{"$f":"SUM(F60:F114)","v":0},null,{"$f":"SUM(H60:H114)","v":0},null,{"$f":"SUM(J60:J114)","v":0}]

{"sheet":"CDE- B4 PVC IN ALU DELA","index":80,"n_rows":326,"n_cols":10,"rows_kept":326,"cut":false,"hidden":false,"merged":[]}
[null,"Objekt C, D in E,  B4. PVC IN ALU DELA"]
[]
["ZAP. ŠT.","OPIS","KOLIČUNA","ME","CENA/ENOTO","SKUPAJ","POPUST","POPUST SKUPAJ","CENA/ENOTO S POPUSTOM","SKUPAJ S POPUSTOM"]
[]
[null,"Vsa dela je potrebno izvajati po določilih veljavnih tehničnih predpisov in normativov in skladno z obveznimi"]
[null,"SIST-i!"]
[]
[null,"Vsi nosilni elementi vrat, sten in okenskih kril morajo po nosilnosti odgovarjati teži kril, teža pa je odvisna od velikosti krila, debeline in sestave. Dimenzijo nosilnih elementov je dokazati s statičnim računom."]
[null,"Okovje zajema nasadila, kljuko, ključavnico, ščitnike in zapah, vrsta okovja pa je odvisna od zahtevanega namena vrat. Vse elemente okovja mora pred vgradnjo pregledati in potrditi projektant."]
[null,"Nasadila  morajo  biti ustrezne  nosilnosti.  Nosilnost  in  potrebno  število  nasadil  je  določiti s  statičnim izračunom, odvisno pa je od teže krila. Na vsaka vrata je vgraditi najmanj tri nasadila."]
[null,"Neoprenska tesnila za tesnenje kril morajo biti visoke kvalitete, kar je dokazati z atesti."]
[]
[null,"Vgrajevanje  mora  biti  usklajeno  s tehnološkim  postopkom  gradnje  objekta.  Pritrjevanje  na  gradbene elemente mora biti izvedeno  tako, da se pri tern ne poslabša  funkcija, biti mora elastično  in čvrsto. Vsi elementi za pritrjevanje morajo biti kovinski nerjaveči, ter ustrezne velikosti in nosilnosti."]
[null,"Vsi elementi so površinsko finalno obdelana na način kot je navedeno v popisu."]
[]
[null,"Tehnološke risbe za proizvodnjo mora izvajalec del izdelati v skladu s projektno dokumentacijo. V kolikor želi izvajalec prilagoditi izvedbo svoji tehnologiji, mora izdelati ustrezno projektno dokumentacijo  z detajli, katero mora pregledati in s podpisom potrditi odgovorni arhitekt. lzvajanje na objektu se lahko začne, ko arhitekt s podpisom potrdi risbe in vgrajene prototipe."]
[]
[null,"Glede  na  zahteve  protipožarne  zaščite,  so  vrata  oz.  stene  izvedena  v  zahtevani  ognjeodpornosti. lzdelana morajo biti iz negorljivega materiala in opremljena z vsem potrebnim okovjem za požarna vrata, po veljavnih tehničnih predpisih."]
[null,"Vsi  stiki  med  posameznimi   elementi   medsebojno,   s  stenami   in  tlaki  morajo   ustrezati  zahtevam"]
[null,"protipožarne zaščite enako kot vrata sama. lzvajalec vrat je dolžan predložiti atest o požarni odpomosti. Vse zahteve za protipožarno zaščito so dane v načrtu protipožane zaščite objekta"]
[null,"Vrata in stene morajo imeti priložene ateste o zahtevani požarni in zvočni izolativnosti."]
[]
[null,"ENOTNA CENA MORA VSEBOVATI:"]
[null,"* vsa potrebna pripravljalna dela in čiščenje podlog"]
[null,"* merjenje na objektu"]
[null,"* vse potrebne transporte do mesta vgrajevanja"]
[null,"* skladiščenje materiala na gradbišču"]
[null,"* preizkušanje kvalitete za vse materiale, ki se vgrajujejo in dokazovanje kvatitete z atesti"]
[null,"* vse potrebno delo v delavnici in na objektu"]
[null,"* izdelava tehnoloških risb za proizvodnjo s potrebnimi detajli"]
[null,"*  usklajevanje z osnovnim načrtom in posvetovanje s projektantom"]
[null,"* izdelava tehnoloških risb za proizvodnjo, z detajli, ki jih je potrebno izvesti za končanje posameznih del, tudi ce niso podrobno  navedeni in opisani  v popisu in nacrtih, so pa  nujna za pravilno  funkcioniranje"]
[null,"posameznih sistemov in elemnotv. Potrditi jih mora odgovorni projektant arhitekture"]
[null,"* ves potreben glavni, pomožni, nerjaveci pritrdilni in vezni material"]
[null,"* stekla za zasteklitve"]
[null,"* senčila"]
[null,"* izdelava vseh potrebnih zaključkov"]
[null,"* finalna površinska obdelava kril, okvirjev in podbojev po opisu"]
[null,"* vsa potrebna pomožna sredstva za vgrajevanje na objektu kot so lestve, odri in podobno"]
[null,"* usklajevanje z osnovnim načrtom in posvetovanje s projektantom"]
[null,"* terminsko usklajevanje del z ostalimi izvajalci na objektu"]
[null,"* popravilo eventuelno povzročene škode ostalim izvajalcem na gradbišču"]
[null,"* čiščenje prostorov in odvoz odpadnega meteriala na stalno deponijo in placilo takse"]
[null,"* zaščita izdelekov pred poškodbami do predaje naročniku del"]
[null,"* vsa dela in ukrepe po določilih zakona o varstvu pri delu"]
[]
[null,"Enotna  cena  mora zajeti izdelavo  vseh potrebnih  detajlov in dopolnilnih del, katera je potrebno  izvesti za dokončanje  posameznih del, tudi če potrebni detajli in zaključki niso podrobno navedeni in opisani v popisu del, in so ta dopolnila nujna za pravilno funkcioniranje posameznih sistemov in elementov objekta."]
[]
[null,"Vse mere in število komadov je pred naročilom potrebno preveriti na objektu!"]
[]
[null,"V c.e.m. je potrebno upoštevati notranje, premične in dvižne delovne odre in ploščadi, čiščenje po posameznih fazah dela, ter odvoz odpadkov na deponijo!"]
[]
[null,"SPLOŠNE OPOMBE ZA okna in svetlobne kupole iz PVC profilov"]
[null,"PVC OKNA"]
[null,"Vsa okna v traktu C so načrtovana v PVC izvedbi, npr. Schüco Living 82 MD .  V obstoječem delu (P +1N) so načrtovana po vzoru obstoječih, v nadzidavi (2N) pa so načrtovana kot manjša - v istem osnem ritmu."]
[null,"Profili okvirjev so iz kakovostno preverjenega, trdega PVC za visoke obremenitve."]
[null,"Okenski profil in krilo:"]
[null,"osnovna gradbena globina sistema je 82 mm"]
[null,"- 7 komorni sistem v podboju in krilu"]
[null,"- profil okvirja iz kakovostno preverjenega, trdega PVC za visoke obremenitve"]
[null,"Zasteklitev:"]
[null,"troslojna termoizolacijska zasteklitev, Ug=0,6 W/m2K, varnostno steklo, zunanje in notranje lepljeno VSG"]
[null,"Oprema (okna): - kombinirano odpiranje po vertikalni in horizontalni osi, kljuka sistemska, npr. Schüco."]
[null,"Barva profilov: belo/belo."]
[null,"Polica zunaj: Alu ekstrudirana polica, širine 250 mm, debeline 25 mm s sistemskimi zaključnimi elementi, barva RAL 9006"]
[null,"Polica notri: PVC polica širine 180 mm s sistemskimi zaključnimi elementi, barva RAL 9010."]
[null,"Zaključki na gradbeni element morajo biti izvedeni po RAL smernicah montaže - znotraj paronepropustni, zunaj paropropustni, vodotesni."]
[]
[null,"SENČILA"]
[null,"Na fasadi trakta C (razen v prostorih, kjer ni potrebe) so predvidene zunanje ALU žaluzije, kot npr. Krater 130 ali enakovredno. Škatla je montirana vidno, nad okenskim nabitkom, dim 13,0 x 30,0 cm . Tip lamel: ALU lamele, kot npr. C 80 mm, ročni pogon na MC palico. Vse v barvi po RAL 9006."]
[]
[null,"PVC - SVETLOBNE KUPOLE"]
[null,"Pravokotne svetlobne kupole dimenzije 90 x 120 cm so načrtovane na strehi trakta C, kot npr. Velux, kupola CFP + ISD. Namenjene so naravnemu osvetljevanju učilnic."]
[null,"-PVC okvir"]
[null,"-pokrivno akrilno mlečno steklo (ISD) ter spodnji fiksni element (CFP)"]
[null,"-termoizolativna dvoslojna zasteklitev  (73QV), z lepljenim notranjim in okrepljenim zunanjim steklom"]
[null,"Zaradi višine je potrebna vgradnja podaljška okvirja."]
[null,"Opremljene so s plise senčili za osnovno senčenje. Upravljajo se daljinsko na električni pogon."]
[]
[null,"PVC – SVETLOBNE KUPOLE ZA ODVOD DIMA IN TOPLOTE - NODT"]
[null,"Pravokotne kupole, dim 100 x 100 cm so predvidena na strehi trakta C – nad stopniščem, kot npr. Velux, kupola CSP + ISD. Namenjene se odvodu dima in toplote. Geometrična odprtina kupole 100/100 =0,88"]
[null,"-PVC okvir z vgrajenim električnim mehanizmom za odpiranje"]
[null,"-kupola iz karila v mlečni izvedbi (ISD)"]
[null,"-termoizolativna dvoslojna zasteklitev  (1073Q), z lepljenim notranjim in ojačanim zunanjim steklom"]
[null,"Zaradi višine je potrebna vgradnja podaljška okvirja."]
[]
[null,"- krmilna enota (KFC 210/220) vsebuje UPS baterijo, ki skrbi za pogon ob izpadu električne energije"]
[null,"- dimni senzor"]
[null,"- stikalo za prezračevanje"]
[null,"- senzor za dež"]
[]
[null,"Opomba: Vse mere, št. komadov in način odpiranja obvezno preveriti na objektu, končna izvedba po potrjenem detajlu!"]
[null,"-V primeru nejasnosti kontaktirati projektanta!"]
[]
["1","Izdelava, dobava in montaža PVC okna, vključno s policami, obrobami, profili in vsem ostalim potrebnim materialom.\nO1 - enokrilno okno iz PVC profilov (kot npr. kot npr. Schüco Living 82 MD ali podobno). \n- Gradbena odprtina: 92/118 cm\n- Parapet 223 cm. \n- Odpiranje:  ročno - po vertikalni in horizontalni osi, po shemi\n- Št. kom: 6x\n\nNabitek: 25 cm\nZunanja senčila: /\n\nGlej splošne opombe in sheme za PVC dela!\nPOZ.: O1"]
[null,null,"0","kom"]
[]
["2","Izdelava, dobava in montaža PVC okna, vključno s policami, obrobami, profili in vsem ostalim potrebnim materialom.\nO2 - štiri-krilno okno iz PVC profilov (kot npr. kot npr. Schüco Living 82 MD ali podobno). \n- Gradbena odprtina: 177/258 cm\n- Parapet 122 cm. \n- Odpiranje:  ročno - po vertikalni in horizontalni osi, po shemi\n- Št. kom: 2x\n\nNabitek: 25 cm\nZunanja senčila: /\n\nGlej splošne opombe in sheme za PVC dela!\nPOZ.: O2"]
[null,null,"0","kom"]
[]
["3","Izdelava, dobava in montaža PVC okna, vključno s policami, obrobami, profili in vsem ostalim potrebnim materialom.\nO3 - enokrilno okno + fiksna zasteklitev iz PVC profilov (kot npr. kot npr. Schüco Living 82 MD ali podobno). \n- Gradbena odprtina: 111/258 cm\n- Parapet 122 cm. \n- Odpiranje:  ročno - po vertikalni in horizontalni osi, po shemi\n- Št. kom: 6x\n\nNabitek: 25 cm\nZunanja senčila: /\n\nGlej splošne opombe in sheme za PVC dela!\nPOZ.: O3"]
[null,null,"0","kom"]
[]
["4","Izdelava, dobava in montaža PVC okna, vključno s policami, obrobami, profili in vsem ostalim potrebnim materialom.\nO4 - štiri-krilno okno iz PVC profilov (kot npr. kot npr. Schüco Living 82 MD ali podobno). \n- Gradbena odprtina: 188/258 cm\n- Parapet 122 cm. \n- Odpiranje:  ročno - po vertikalni in horizontalni osi, po shemi\n- Št. kom: 4x\n\nNabitek: 25 cm\nZunanja senčila: /\n\nGlej splošne opombe in sheme za PVC dela!\nPOZ.: O4"]
[null,null,"0","kom"]
[]
["5","Izdelava, dobava in montaža PVC okna, vključno s policami, obrobami, profili in vsem ostalim potrebnim materialom.\nO5 - štiri-krilno okno iz PVC profilov (kot npr. kot npr. Schüco Living 82 MD ali podobno). \n- Gradbena odprtina: 211/258 cm\n- Parapet 83 cm. \n- Odpiranje:  ročno - po vertikalni in horizontalni osi, po shemi\n- Št. kom: 3x\n\nNabitek: 25 cm\nZunanja senčila: /\n\nGlej splošne opombe in sheme za PVC dela!\nPOZ.: O5"]
[null,null,"0","kom"]
[]
["6","Izdelava, dobava in montaža PVC okna, vključno s policami, obrobami, profili in vsem ostalim potrebnim materialom.\nO6 - štiri-krilno okno iz PVC profilov (kot npr. kot npr. Schüco Living 82 MD ali podobno). \n- Gradbena odprtina: 211/342 cm (svetli prehod vrat 85/210 cm)\n- Parapet 0-83 cm. \n- Odpiranje:  ročno - po vertikalni in horizontalni osi, po shemi\n- Št. kom: 3x\n\nNabitek: 25 cm\nZunanja senčila: ALU zunanje žaluzije, kot npr. Medle Krater 130 ali enakovredno, vidna škatla, dim 13 x 30 cm (gxv), ALU lamele, kot npr. C 80 mm, RAL 9006, ročni pogon na MC palico \n3 kom\n\nGlej splošne opombe in sheme za PVC dela!\nPOZ.: O6"]
[null,"a) Okno: ","0","kom"]
[null,"b) Senčila: ","0","kpl"]
[]
["7","Izdelava, dobava in montaža PVC okna, vključno s policami, obrobami, profili in vsem ostalim potrebnim materialom.\nO7 - štiri-krilno okno iz PVC profilov (kot npr. kot npr. Schüco Living 82 MD ali podobno). \n- Gradbena odprtina: 211-216/258 cm (OPOMBA: odprtine so obstoječe, obvezno preveriti dimenzije na licu mesta)\n- Parapet 83 cm. \n- Odpiranje:  ročno - po vertikalni in horizontalni osi, po shemi\n- Št. kom: 18x\n\nNabitek: 25 cm\nZunanja senčila: ALU zunanje žaluzije, kot npr. Medle Krater 130 ali enakovredno, vidna škatla, dim 13 x 30 cm (gxv), ALU lamele, kot npr. C 80 mm, RAL 9006, ročni pogon na MC palico \n3 kom\n\nGlej splošne opombe in sheme za PVC dela!\nPOZ.: O7"]
[null,"a) Okno: ","0","kom"]
[null,"b) Senčila: ","0","kpl"]
[]
["8","Izdelava, dobava in montaža PVC okna, vključno s policami, obrobami, profili in vsem ostalim potrebnim materialom.\nO8 - enokrilno okno + fiksna zasteklitev iz PVC profilov (kot npr. kot npr. Schüco Living 82 MD ali podobno). \n- Gradbena odprtina: 145/260 cm\n- Parapet 77 cm. \n- Odpiranje:  ročno - po vertikalni in horizontalni osi, po shemi\n- Št. kom: 1x\n\nNabitek: 25 cm\nZunanja senčila: /\n\nGlej splošne opombe in sheme za PVC dela!\nPOZ.: O8"]
[null,null,"0","kom"]
[]
["9","Izdelava, dobava in montaža PVC okna, vključno s policami, obrobami, profili in vsem ostalim potrebnim materialom.\nO9 - enokrilno okno + fiksna zasteklitev iz PVC profilov (kot npr. kot npr. Schüco Living 82 MD ali podobno). \n- Gradbena odprtina: 145/235 cm\n- Parapet 104 cm. \n- Odpiranje:  ročno - po vertikalni in horizontalni osi, po shemi\n- Št. kom: 11x\n\nNabitek: 25 cm\nZunanja senčila: ALU zunanje žaluzije, kot npr. Medle Krater 130 ali enakovredno, vidna škatla, dim 13 x 30 cm, ALU lamele, kot npr. C 80 mm, RAL 9006, ročni pogon na MC palico \n11 kom\n\nGlej splošne opombe in sheme za PVC dela!\nPOZ.: O9"]
[null,"a) Okno: ",11,"kom",null,{"$f":"+E122*C122","v":0},{"$f":"+E122*MM","v":0},{"$f":"+G122*C122","v":0},{"$f":"+E122-G122","v":0},{"$f":"+I122*C122","v":0}]
[null,"b) Senčila: ",11,"kpl",null,{"$f":"+E123*C123","v":0},{"$f":"+E123*MM","v":0},{"$f":"+G123*C123","v":0},{"$f":"+E123-G123","v":0},{"$f":"+I123*C123","v":0}]
[]
["10","Izdelava, dobava in montaža PVC okna, vključno s policami, obrobami, profili in vsem ostalim potrebnim materialom.\nO10 - enokrilno okno + fiksna zasteklitev iz PVC profilov (kot npr. kot npr. Schüco Living 82 MD ali podobno). \n- Gradbena odprtina: 145/235 cm\n- Parapet 104 cm. \n- Odpiranje:  ročno - po vertikalni in horizontalni osi, po shemi\n- Št. kom: 7x\n\nNabitek: 25 cm\nZunanja senčila: /\n\nGlej splošne opombe in sheme za PVC dela!\nPOZ.: O10"]
[null,null,7,"kom",null,{"$f":"+E126*C126","v":0},{"$f":"+E126*MM","v":0},{"$f":"+G126*C126","v":0},{"$f":"+E126-G126","v":0},{"$f":"+I126*C126","v":0}]
[]
["11","Izdelava, dobava in montaža PVC okna, vključno s policami, obrobami, profili in vsem ostalim potrebnim materialom.\nO11 - enokrilno okno + fiksna zasteklitev iz PVC profilov (kot npr. kot npr. Schüco Living 82 MD ali podobno). \n- Gradbena odprtina: 145/235 cm\n- Parapet 297 cm. \n- Odpiranje:  ročno - po vertikalni in horizontalni osi, po shemi\n- Št. kom: 1x\n\nNabitek: 25 cm\nZunanja senčila: /\n\nGlej splošne opombe in sheme za PVC dela!\nPOZ.: O11"]
[null,null,1,"kom",null,{"$f":"+E129*C129","v":0},{"$f":"+E129*MM","v":0},{"$f":"+G129*C129","v":0},{"$f":"+E129-G129","v":0},{"$f":"+I129*C129","v":0}]
[]
["12","Izdelava, dobava in montaža PVC okna, vključno s policami, obrobami, profili in vsem ostalim potrebnim materialom.\nO12 - enokrilno okno + fiksna zasteklitev iz PVC profilov (kot npr. kot npr. Schüco Living 82 MD ali podobno). \n- Gradbena odprtina: 136/235 cm\n- Parapet 104 cm. \n- Odpiranje:  ročno - po vertikalni in horizontalni osi, po shemi\n- Št. kom: 1x\n\nNabitek: 25 cm\nZunanja senčila: /\n\nGlej splošne opombe in sheme za PVC dela!\nPOZ.: O12"]
[null,null,1,"kom",null,{"$f":"+E132*C132","v":0},{"$f":"+E132*MM","v":0},{"$f":"+G132*C132","v":0},{"$f":"+E132-G132","v":0},{"$f":"+I132*C132","v":0}]
[]
["13","Izdelava, dobava in montaža PVC okna, vključno s policami, obrobami, profili in vsem ostalim potrebnim materialom.\nO13 - enokrilno okno iz PVC profilov (kot npr. kot npr. Schüco Living 82 MD ali podobno). \n- Gradbena odprtina: 145/225 cm\n- Parapet 114 cm. \n- Odpiranje:  ročno - po vertikalni in horizontalni osi, po shemi\n- Št. kom: 1x\n\nNabitek: 25 cm\nZunanja senčila: /\n\nGlej splošne opombe in sheme za PVC dela!\nPOZ.: O13"]
[null,null,1,"kom",null,{"$f":"+E135*C135","v":0},{"$f":"+E135*MM","v":0},{"$f":"+G135*C135","v":0},{"$f":"+E135-G135","v":0},{"$f":"+I135*C135","v":0}]
[]
["14","Izdelava, dobava in montaža PVC okna, vključno s policami, obrobami, profili in vsem ostalim potrebnim materialom.\nO16 - enokrilno okno iz PVC profilov (kot npr. kot npr. Schüco Living 82 MD ali podobno). \n- Gradbena odprtina: 60/50 cm\n- Parapet 126 cm. \n- Odpiranje:  ročno - po vertikalni in horizontalni osi, po shemi\n- Št. kom: 1x\n\nNabitek: /\nZunanja senčila: /\n\nGlej splošne opombe in sheme za PVC dela!\nPOZ.: O16"]
[null,null,"0","kom"]
[]
["15","Izdelava, dobava in montaža PVC strešnih svetlobnih kupol, vključno z obrobami, profili in vsem ostalim potrebnim materialom.\nO14 - PVC pravokotna svetlobna kupola (kot npr. Velux kupola CFP + ISD)\n- Gradbena odprtina: 90/120 cm\n- Odpiranje: Fiksna zasteklitev\n- Št. kom: 3x\nZNAČILNOSTI:\n-PVC okvir\n-pokrivno akrilno mlečno steklo (ISD) ter spodnji fiksni element (CFP)\n-termoizolativna dvoslojna zasteklitev  (73QV), z lepljenim notranjim in okrepljenim zunanjim steklom\n- U vrednost kupole: U=0,80 W/m2K\nDODATNO:\nkupole so opremljene s plise senčili za osnovno senčenje (FMG)\nupravljnaje na električni pogon. \n\nGlej splošne opombe in sheme za PVC dela!\nPOZ.: O14"]
[null,null,"0","kom"]
[]
["16","Izdelava, dobava in montaža PVC strešnih svetlobnih kupol, vključno z obrobami, profili in vsem ostalim potrebnim materialom.\nO15 - PVC pravokotna ODT svetlobna kupola (kot npr. Velux kupola CFP + ISD)\n- Gradbena odprtina: 100/100 cm\n- Št. kom: 2x\nZNAČILNOSTI:\n-PVC okvir z vgrajenim električnim mehanizmom za odpiranje \n-kupola iz karila v mlečni izvedbi (ISD)\n-termoizolativna dvoslojna zasteklitev  (1073Q), z lepljenim notranjim in ojačanim zunanjim steklom \nDODATNO:\nkrmilna enota (KFC 210/220) vsebuje UPS baterijo, ki skrbi za pogon ob izpadu električne energije\ndimni senzor\nstikalo za prezračevanje \nsenzor za dež \n\nGlej splošne opombe in sheme za PVC dela!\nPOZ.: O15"]
[null,null,"0","kom"]
[]
["17","Izdelava, dobava in montaža PVC strešnih svetlobnih kupol, vključno z obrobami, profili in vsem ostalim potrebnim materialom.\nO17 - PVC pravokotna ODT svetlobna kupola (kot npr. Velux kupola CFP + ISD)\n- Gradbena odprtina: 100/100 cm\n- Št. kom: 2x\nZNAČILNOSTI:\n-PVC okvir z vgrajenim električnim mehanizmom za odpiranje \n-kupola iz karila v mlečni izvedbi (ISD)\n-termoizolativna dvoslojna zasteklitev  (1073Q), z lepljenim notranjim in ojačanim zunanjim steklom \nDODATNO:\nkrmilna enota (KFC 210/220) vsebuje UPS baterijo, ki skrbi za pogon ob izpadu električne energije\ndimni senzor\nstikalo za prezračevanje \nsenzor za dež \n\nGlej splošne opombe in sheme za PVC dela!\nPOZ.: O17"]
[null,null,"0","kom"]
[]
["18","Izdelava, dobava in montaža PVC strešnih svetlobnih kupol, vključno z obrobami, profili in vsem ostalim potrebnim materialom.\nO18 - PVC pravokotna ODT svetlobna kupola (kot npr. Velux kupola CFP + ISD)\n- Gradbena odprtina: 120/120 cm\n- Št. kom: 2x\nZNAČILNOSTI:\n-PVC okvir z vgrajenim električnim mehanizmom za odpiranje \n-kupola iz karila v mlečni izvedbi (ISD)\n-termoizolativna dvoslojna zasteklitev  (1073Q), z lepljenim notranjim in ojačanim zunanjim steklom \nDODATNO:\nkrmilna enota (KFC 210/220) vsebuje UPS baterijo, ki skrbi za pogon ob izpadu električne energije\ndimni senzor\nstikalo za prezračevanje \nsenzor za dež \n\nGlej splošne opombe in sheme za PVC dela!\nPOZ.: O18"]
[null,null,"0","kom"]
[]
[]
[]
[null,"POZICIJE ALU DELA:"]
[]
[null,"ALU OKNA in STEKLENE STENE Z VRATI"]
[]
[null,"ZASTEKLJENA FASADA iz Alu profilov"]
[null,"Zastekljeni deli trakta D so zasnovani kot samonosilna, toplotno izolirana fasadna konstrukcija iz stebrov in prečk (vsi zastekljeni deli so obdelani v shemah Alu del)  Vidna širina stebrov in prečk znaša 50 mm."]
[null,"Osnovni profili pravokotne oblike, globina po statičnih zahtevah - vertikale od 50 do 250 mm, horizontale od 6 do 255 mm. Posebna izvedba profilov za elemente, kjer je potreben razvod kablov po konstrukciji s kanalom na notranji strani za razvod instalacij - E profili; globina E vertikal 105 in 125 mm, globina E horizontal 110 in 130 mm; za ostale globine je na voljo poseben adaprer profil za razvod kablov, ki se ga dodatno montira na notranji strani konstrukcije. Na voljo so sistemski Alu in jekleni vstavni profili za povečanje vzrajnostnega momenta profilov.  Oblika in globina pokrivnih profilov po katalogu."]
[null,"Sistemski PVC adapter profili za izvedbo priključkov na ostale gradbene konstrukcije."]
[null,"Konstrukcija v  izvedbi SI - visokoizolativni sistem (SI - Super Insulation), ki omogoča faktor toplotne prevodnosti konstrukcije Uf do 0,7 W/m²K (z upoštevanjem faktorja vijačnih zvez) - SI izolator posebne oblike za preprečevanje kroženja zraka v steklitvenem prostoru, steklitvena letvica v PVC ali ALU izvedbi z reflektivno površino na notranji strani za zmanjšanje toplotnih izgub zaradi radiacije. Možna je vgradnja stekel in izolacijskih polnil do debeline 86 mm in teže do 910 kg. "]
[null,"Zaključki na gradbeni element morajo biti izvedeni po RAL smernicah montaže - znotraj paronepropustni, zunaj paropropustni, vodotesni."]
[null,"V fasadno konstrukcijo so vstavljene sistemske rešitve kot so fiksne zasteklitve, steklo paneli, okna na primer Schüco AWS 75.SI+ in vrata na primer  Vrata SCHÜCO ADS 75 HD. HI. Skupna toplotna prevodnost fasade Ucw = 0,9 W/m2K. "]
[null,"Na fasadi trakta D niso predvidena zunanja senčila, zato je potrebno skladno s tehnično smernico TSG -1-004_2010 zagotoviti zaščito protisončnemu sevanju pri kateri je faktor prepustnosti celotnega sončnega obsevanja stekla g < 0,5. Zasteklitev transparentnih fiksnih polj , oken in vrat (na določenih delih fasade), je sončno zaščitno troslojno steklo, Ug = 0,6 W/m2K, g = 0,35, LT = 62%, TGI distančnik stekla; ʎ=0.044 W/mK. Zaradi varnosti so predvidena varnostna stekla, zunanje in notranje lepljeno VSG (zaščita pred padcem v globino)."]
[]
[null,"Opomba: Vse mere, št. komadov in način odpiranja obvezno preveriti na objektu!"]
[null,"-V primeru nejasnosti kontaktirati projektanta!"]
[]
[null,"ALU OKNA"]
[null,"Ostala okna so zasnovana kot npr. Schüco AWS 75.SI+. Visoko toplotno izoliran sistem za fiksne zasteklitve ter enokrilna in dvokrilna okna in balkonska vrata; SI (Super Insulation); "]
[null,"Podboj:  osnovna globina podboja 75 mm"]
[null,"Okensko krilo:  globina krila je 85 mm"]
[null,"Zasteklitev: troslojna termoizolacijska zasteklitev, Ug = 0,6 W/m2K, varnostno steklo, zunaj in znotraj lepljeno VSG, "]
[null,"Zasteklitev netransparentnega dela: Alu barvana pločevina, deb. 2 mm, RAL 9006"]
[null,"toplotna izolacija po celotni globini osnovne funkcije fasade"]
[null,"Odpiranje: enokrilno, ročno,  kombinirano odpiranje po vertikalni in horizontalni osi"]
[null,"Okovje: po sistemu Schüco AvanTec SimplySmart (skrito okovje)"]
[null,"Kljuka: sistemska Schüco ALU / INOX, barva 'natur'"]
[null,"Tesnjenje: po RAL smernicah motaže po obodu"]
[null,"Barva: elektrostatično prašno barvana po RAL 9006."]
[null,"Zvočna izolativnost: Rw + Ctr ≥ 28 dB"]
[null,"Zunanja polica: v ALU izvedbi, RAL 9006"]
[null,"notranja polica - PVC polica s sistemskimi zaključnimi elementi, debeline 2,5 cm, bela barva, RAL 9010"]
[]
[null,"SENČILA"]
[null,"Na fasadi trakta C (razen v prostorih, kjer ni potrebe) so predvidene zunanje ALU žaluzije, kot npr. Krater 130 ali enakovredno. Škatla je montirana vidno, nad okenskim nabitkom, dim 13,0 x 30,0 cm . Tip lamel: ALU lamele, kot npr. C 80 mm, ročni pogon na MC palico. Vse v barvi po RAL 9006."]
[]
[null,"Opomba: Vse mere, št. komadov in način odpiranja obvezno preveriti na objektu!"]
[null,"-V primeru nejasnosti kontaktirati projektanta!"]
[]
[null,"ALU VRATA – navadna"]
[null,"Vrata vetrolova so načrtovana kot npr. Vrata Schüco ADS 75 HD. HI. Visoko toplotno izolirani sistem za vrata s 75 mm osnovne gradbene globine za navznoter in navzven odpirajoča enokrilna in dvokrilna vrata za velike obremenitve (HD = Heavy Duty).  Sistem je namenjen za vstavljanje steklenih polnil, Alu izolacijskih polnil, pri uporabi posebnega profila za krilo pa tudi enostranskih in obojestranskih prektivnih polnil. Sistem omogoča izvedbo stranskih svetlob in nadsvetlob. "]
[null,"Uporaba sistemskega npr. Schüco okovja omogoča izvedbo do max. višina krila 3000 mm, max. širina krila 1400 mm. in max. teža krila 200 kg. Sistem certificiran tudi za evakuacijske in panik izhode po EN 179 in EN 1125. "]
[]
[null,"Podboj in vratno krilo:  "]
[null,"visoko toplotno izolirani sistem za vrata 75 mm osnovne gradbene globine"]
[null,"zunaj in znotraj je konstrukcija površinsko poravnana, opremljena z dvema prepirnima tesniloma "]
[null,"Uf=2,0 W/m2K"]
[null,"Transparentno polje:"]
[null,"troslojna termoizolacijska zasteklitev, Ug=0,6 W/m2K ali zasteklitev brez toplotnih zahtev -varnostno steklo,"]
[null,"TGI distančnik stekla "]
[null,"varnostno steklo, zunaj in znotraj lepljeno VSG"]
[null,"Okovje: Vratna krila so opremljena s sistemskim okovjem, valjčni tečaji, cilindrični vložek, samozapiralo. Vse kljuke, ročaji po izbiri projektanta iz Schüco asortimana. Krila  lahko opremljena z »anti-panik« okovjem po  EN1125 standardu; z različnimi panik funkcijami v primeru evakuacijskih vrat, ali z elektro odklepom - po zahtevi."]
[null,"Barva: elektrostatično prašno barvana po RAL 9006."]
[null,"Zaključki na gradbeni element morajo biti izvedeni po RAL smernicah montaže - znotraj paronepropustni, zunaj paropropustni, vodotesni."]
[]
[null,"Opomba: Vse mere, št. komadov in način odpiranja obvezno preveriti na objektu!"]
[null,"-V primeru nejasnosti kontaktirati projektanta!"]
[]
[null,"ALU NOTRANJA VRATA – na mejah požarnih sektorjev"]
[null,"Vgrajena so na mejah požarnih sektorjev požarno odporne izvedbe skladno z načrtom evakuacije. Načrtovana so vrata z globino podboja 80 mm kot npr. Schüco ADS 80 FR 30.  Dovoljena je le uporaba okovja in stekel ter polnih skladnih s STS 09/0078. Sistem certificiran tudi za evakuacijske in panik izhode po EN 179 in EN 1125."]
[]
[null,"Podboj:  "]
[null,"globina podboja 80 mm, 5-komorni ALU profili s prekinjenim toplotnim mostom, vratna konstrukcija je med podbojem in krilom površinsko poravnana."]
[null,"Vratno krilo:"]
[null,"5 komorni profil, za požarne nenosilne konstrukcije, stekleni del - požarno steklo (kot npr. Pyrostop 36), EI30 v skladu s STS.  "]
[null,"Izvedba praga:"]
[null,"spodnji del vrat opremljen z avtomatskim tesnilom, ki se med procesom zapiranja samodejno spust"]
[null,"Izvedba zasteklitev: "]
[null,"EI30, oprema in montaža elementov mora biti izvedena v skladu z zahtevami STS (Slovenskega tehničnega soglasja) za ta sistem. Vsi stranski zaključki iz pločevine, kakor tudi vsi spoji in obrobe, morajo biti v skladu s požarno - gradbeno - fizikalnimi zahtevami iz STS. "]
[null,"Schüco ADS 80 FR 30 - testi in standardi: "]
[null,"- Požarna odpornost po EN 13501-2 - EI130 / EI230 "]
[null,"- Funkcija samo zapiranja po EN 14600 - C5 "]
[null,"- Dimno tesnost po EN 1634-3 - razred Sm "]
[null,"- Protivlomni razred po EN 1627-3 - do RC3"]
[null,"Nasadila: sistemska na primer Schüco cilindrična."]
[null,"Okovje vrat: sistemsko – požarno - po izboru glede na zahteve v objektu, opremljena z okovjem za izhod v paniki po EN179 ali EN1125 standardu, z različnimi funkcijami v primeru evakuacijskih vrat, ali z elektro odklepom - po zahtevi iz požarnega elaborata.\""]
[null,"Zapiralo: je samozapiralo X (v skladu s STS)"]
[null,"Barva: elektrostatično prašno barvana po RAL 9006."]
[]
[null,"Opomba: Vse mere, št. komadov in način odpiranja obvezno preveriti na objektu!"]
[null,"-V primeru nejasnosti kontaktirati projektanta!"]
[]
[]
["19","Izdelava, dobava in montaža ALU okna, vključno s policami, obrobami, profili in vsem ostalim potrebnim materialom.\nO1 - enokrilno okno + fiksna zasteklitev iz ALU profilov (kot npr. kot npr. Schüco AWS 75 BS SI+). \n- Gradbena odprtina: 126/302 cm\n- Parapet 0 cm. \n- Odpiranje:  ročno, po shemi\n- Št. kom: 2x\n\nGlej splošne opombe in sheme za ALU dela!\nPOZ.: O1"]
[null,null,"0","kom"]
[]
["20","Izdelava, dobava in montaža ALU okna, vključno s policami, obrobami, profili in vsem ostalim potrebnim materialom.\nO2 - enokrilno okno iz ALU profilov (kot npr. kot npr. Schüco AWS 75 BS SI+). \n- Gradbena odprtina: 140/75 cm\n- Parapet 173 cm. \n- Odpiranje:  ročno, po shemi\n- Št. kom: 3x\n\nGlej splošne opombe in sheme za ALU dela!\nPOZ.: O2"]
[null,null,"0","kom"]
[]
["21","Izdelava, dobava in montaža ALU steklenega fasadnega elementa, vključno s podkonstrukcijio, obrobami, profili in vsem ostalim potrebnim materialom.\nSS1 - Fasadna zasteklitev z vhodnimi vrati iz ALU profilov (kot npr. kot npr. Schüco FWS 50 SI). \n- Dimenzija: 614/313 cm\n- Fasadni raster: 120 cm. \n- Št. kom: 1x\n\nElementi v fasadni zasteklitvi:\n*FV FASADANA VRATA - SCHÜCO ADS 75 HD.HI:\n- dim.: 115/213\n- Št kom.: 3x\n- Odpiranje: 2L, 1D\n*F0 FASADNO OKNO - SCHÜCO AWS 75 .SI+\nŠt. kom.: /\n*FZ - FIKSNA ZASTEKLITEV\nŠt. kom.: 3+1\n*FP - FASADNI PANEL\nŠt kom.: 1x\n*PL - RAZŠIRITVENA PLOČEVINA\nšt. kom.: 3x\n\nGlej splošne opombe in sheme za ALU dela!\nPOZ.: SS1"]
[null,null,"0","kom"]
[]
["22","Izdelava, dobava in montaža ALU steklenega fasadnega elementa, vključno s podkonstrukcijio, obrobami, profili in vsem ostalim potrebnim materialom.\nSS2 - Fasadna zasteklitev z vhodnimi vrati iz ALU profilov (kot npr. kot npr. Schüco FWS 50 SI). \n- Dimenzija: 1700/313 cm\n- Fasadni raster: 129,5 cm. \n- Št. kom: 1x\n\nElementi v fasadni zasteklitvi:\n*FV FASADANA VRATA - SCHÜCO ADS 75 HD.HI:\n- dim.: 129/213\n- Št kom.: 2x\n- Odpiranje: 1L, 1D\n*F0 FASADNO OKNO - SCHÜCO AWS 75 .SI+\nŠt. kom.: 3x (124,5/80 cm)\n*FZ - FIKSNA ZASTEKLITEV\nŠt. kom.: 8+3+2=13x\n*FP - FASADNI PANEL\nŠt kom.: /\n*PL - RAZŠIRITVENA PLOČEVINA\nšt. kom.: 3x\n\nGlej splošne opombe in sheme za ALU dela!\nPOZ.: SS2"]
[null,null,"0","kom"]
[]
["23","Izdelava, dobava in montaža ALU steklenega fasadnega elementa, vključno s podkonstrukcijio, obrobami, profili in vsem ostalim potrebnim materialom.\nSS3 - Fasadna zasteklitev z vhodnimi vrati iz ALU profilov (kot npr. kot npr. Schüco FWS 50 SI). \n- Dimenzija: 154,5/313 cm\n- Fasadni raster: 120 cm. \n- Št. kom: 1x\n\nElementi v fasadni zasteklitvi:\n*FV FASADANA VRATA - SCHÜCO ADS 75 HD.HI:\n- dim.: 115/213\n- Št kom.: 1x\n- Odpiranje: 1L\n*F0 FASADNO OKNO - SCHÜCO AWS 75 .SI+\nŠt. kom.: /\n*FZ - FIKSNA ZASTEKLITEV\nŠt. kom.: 1+1=2x\n*FP - FASADNI PANEL\nŠt kom.: /\n*PL - RAZŠIRITVENA PLOČEVINA\nšt. kom.: 3x\n\nGlej splošne opombe in sheme za ALU dela!\nPOZ.: SS3"]
[null,null,"0","kom"]
[]
["24","Izdelava, dobava in montaža ALU steklenega fasadnega elementa, vključno s podkonstrukcijio, obrobami, profili in vsem ostalim potrebnim materialom.\nSS4 - Fasadna zasteklitev z vhodnimi vrati iz ALU profilov (kot npr. kot npr. Schüco FWS 50 SI). \n- Dimenzija: 1181,5/313 cm\n- Fasadni raster: 129,5 cm. \n- Št. kom: 1x\n\nElementi v fasadni zasteklitvi:\n*FV FASADANA VRATA - SCHÜCO ADS 75 HD.HI:\n- dim.: /\n- Št kom.: /\n- Odpiranje: /\n*F0 FASADNO OKNO - SCHÜCO AWS 75 .SI+\nŠt. kom.: 3x (124,5/80 cm)\n*FZ - FIKSNA ZASTEKLITEV\nŠt. kom.: 6+3=9x\n*FP - FASADNI PANEL\nŠt kom.: /\n*PL - RAZŠIRITVENA PLOČEVINA\nšt. kom.: 3x\n\nGlej splošne opombe in sheme za ALU dela!\nPOZ.: SS4"]
[null,null,"0","kom"]
[]
["25","Izdelava, dobava in montaža ALU steklenega fasadnega elementa, vključno s podkonstrukcijio, obrobami, profili in vsem ostalim potrebnim materialom.\nSS5 - Fasadna zasteklitev z vhodnimi vrati iz ALU profilov (kot npr. kot npr. Schüco FWS 50 SI). \n- Dimenzija: 614/313 cm\n- Fasadni raster: 120 cm. \n- Št. kom: 1x\n\nElementi v fasadni zasteklitvi:\n*FV FASADANA VRATA - SCHÜCO ADS 75 HD.HI:\n- dim.: /\n- Št kom.: /\n- Odpiranje: /\n*F0 FASADNO OKNO - SCHÜCO AWS 75 .SI+\nŠt. kom.: 2x (115/80 cm)\n*FZ - FIKSNA ZASTEKLITEV\nŠt. kom.: 2+3=5x\n*FP - FASADNI PANEL\nŠt kom.: /\n*PL - RAZŠIRITVENA PLOČEVINA\nšt. kom.: 3x\n\nGlej splošne opombe in sheme za ALU dela!\nPOZ.: SS5"]
[null,null,"0","kom"]
[]
["26","Izdelava, dobava in montaža ALU steklenega fasadnega elementa, vključno s podkonstrukcijio, obrobami, profili in vsem ostalim potrebnim materialom.\nSS6 - Fasadna zasteklitev z vhodnimi vrati iz ALU profilov (kot npr. kot npr. Schüco FWS 50 SI). \n- Dimenzija: 792,5/313 cm\n- Fasadni raster: 129,5 cm. \n- Št. kom: 2x\n\nElementi v fasadni zasteklitvi:\n*FV FASADANA VRATA - SCHÜCO ADS 75 HD.HI:\n- dim.: /\n- Št kom.: /\n- Odpiranje: /\n*F0 FASADNO OKNO - SCHÜCO AWS 75 .SI+\nŠt. kom.: 2x (124,5/80 cm)\n*FZ - FIKSNA ZASTEKLITEV\nŠt. kom.: 2+4=6x\n*FP - FASADNI PANEL\nŠt kom.: /\n*PL - RAZŠIRITVENA PLOČEVINA\nšt. kom.: 3x\n\nGlej splošne opombe in sheme za ALU dela!\nPOZ.: SS6"]
[null,null,"0","kom"]
[]
["27","Izdelava, dobava in montaža ALU steklenega fasadnega elementa, vključno s podkonstrukcijio, obrobami, profili in vsem ostalim potrebnim materialom.\nSS7 - Fasadna zasteklitev z vhodnimi vrati iz ALU profilov (kot npr. kot npr. Schüco FWS 50 SI). \n- Dimenzija: 1181,5/313 cm\n- Fasadni raster: 129,5 cm. \n- Št. kom: 1x\n\nElementi v fasadni zasteklitvi:\n*FV FASADANA VRATA - SCHÜCO ADS 75 HD.HI:\n- dim.: /\n- Št kom.: /\n- Odpiranje: /\n*F0 FASADNO OKNO - SCHÜCO AWS 75 .SI+\nŠt. kom.: 3x (124,5/80 cm)\n*FZ - FIKSNA ZASTEKLITEV\nŠt. kom.: 6+3=9x\n*FP - FASADNI PANEL\nŠt kom.: /\n*PL - RAZŠIRITVENA PLOČEVINA\nšt. kom.: 3x\n\nGlej splošne opombe in sheme za ALU dela!\nPOZ.: SS7"]
[null,null,"0","kom"]
[]
["28","Izdelava, dobava in montaža ALU steklenega fasadnega elementa, vključno s podkonstrukcijio, obrobami, profili in vsem ostalim potrebnim materialom.\nSS8 - Fasadna zasteklitev z vhodnimi vrati iz ALU profilov (kot npr. kot npr. Schüco FWS 50 SI). \n- Dimenzija: 274/313 cm\n- Fasadni raster: 129,5 cm. \n- Št. kom: 1x\n\nElementi v fasadni zasteklitvi:\n*FV FASADANA VRATA - SCHÜCO ADS 75 HD.HI:\n- dim.: /\n- Št kom.: /\n- Odpiranje: /\n*F0 FASADNO OKNO - SCHÜCO AWS 75 .SI+\nŠt. kom.: 1x (124,5/80 cm)\n*FZ - FIKSNA ZASTEKLITEV\nŠt. kom.: 1+1=2x\n*FP - FASADNI PANEL\nŠt kom.: /\n*PL - RAZŠIRITVENA PLOČEVINA\nšt. kom.: 3x\n\nGlej splošne opombe in sheme za ALU dela!\nPOZ.: SS8"]
[null,null,"0","kom"]
[]
["29","Izdelava, dobava in montaža ALU steklenega fasadnega elementa, vključno s podkonstrukcijio, obrobami, profili in vsem ostalim potrebnim materialom.\nSS9 - Fasadna zasteklitev z vhodnimi vrati iz ALU profilov (kot npr. kot npr. Schüco FWS 50 SI). \n- Dimenzija: 254,5/313 cm\n- Fasadni raster: 120 cm. \n- Št. kom: 1x\n\nElementi v fasadni zasteklitvi:\n*FV FASADANA VRATA - SCHÜCO ADS 75 HD.HI:\n- dim.: /\n- Št kom.: /\n- Odpiranje: /\n*F0 FASADNO OKNO - SCHÜCO AWS 75 .SI+\nŠt. kom.: 1x (115/80 cm)\n*FZ - FIKSNA ZASTEKLITEV\nŠt. kom.: 1+1=2x\n*FP - FASADNI PANEL\nŠt kom.: /\n*PL - RAZŠIRITVENA PLOČEVINA\nšt. kom.: 3x\n\nGlej splošne opombe in sheme za ALU dela!\nPOZ.: SS9"]
[null,null,"0","kom"]
[]
["30","Izdelava, dobava in montaža ALU zastekljenih vrat, vključno z  obrobami, profili, vsemi mehanizmi in vsem ostalim potrebnim materialom.\nV1   Notranja vrata - prehod proti traktu A\nALU požarna vrata, kot npr. Schüco ADS 80 FR \n\n- Gradbena odprtina: 116/261 cm\n- Svetli prehod: 100/210 cm\n- vgradnja: AB stena deb. 30 cm 1x\n- Odpiranje:  1L\n- Št. kom: 1x\nPožarna odpornost: EI30-C5\n\n- Podboj: globina podboja 80 mm\n5-komorni ALU profili s prekinjenim toplotnim mostom.  Vratna konstrukcija je med podbojem in krilom površinsko poravnana. \n- Vratno krilo: 5 komorni profil, za požarne nenosilne konstrukcije, steklen del - požarno steklo (kot npr. Pyrostop 36), EI30 v skladu s STS. \nIzvedba praga - spodnji del vrat opremljen z avtomatskim tesnilom, ki se med procesom zapiranja samodejno spusti. \n- Okovje, kljuka in ključavnica: sistemsko Schüco okovje - požarno, okovje skladno s standardom STS 09/0078.\nVečnamenski utor za pritrditev okovja, panik letev po EN 1125  \ncilindrični tečaji in vložki, samozapiralo (skladno s STS)\n\nGlej splošne opombe in sheme za ALU dela!\nPOZ.: V1"]
[null,null,"0","kom"]
[]
["31","Izdelava, dobava in montaža ALU zastekljenih vrat, vključno z  obrobami, profili, vsemi mehanizmi in vsem ostalim potrebnim materialom.\nV2   Sestavljen element - prehod proti traktu A\nALU požarna vrata, kot npr. Schüco ADS 80 FR \n\n- Gradbena odprtina: 201/261 cm\n- Svetli prehod: 100/210 cm\n- vgradnja: AB stena deb. 30 cm 1x\n- Odpiranje:  1L\n- Št. kom: 1x\nPožarna odpornost: EI30-C5\n\n- Podboj: globina podboja 80 mm\n5-komorni ALU profili s prekinjenim toplotnim mostom.  Vratna konstrukcija je med podbojem in krilom površinsko poravnana. \n- Vratno krilo: 5 komorni profil, za požarne nenosilne konstrukcije, steklen del - požarno steklo (kot npr. Pyrostop 36), EI30 v skladu s STS. \nIzvedba praga - spodnji del vrat opremljen z avtomatskim tesnilom, ki se med procesom zapiranja samodejno spusti. \n- Okovje, kljuka in ključavnica: sistemsko Schüco okovje - požarno, okovje skladno s standardom STS 09/0078.\nVečnamenski utor za pritrditev okovja, panik letev po EN 1125  \ncilindrični tečaji in vložki, samozapiralo (skladno s STS)\n\nGlej splošne opombe in sheme za ALU dela!\nPOZ.: V2"]
[null,null,"0","kom"]
[]
[]
["32","Izdelava, dobava in montaža ALU zastekljenih vrat, vključno z  obrobami, profili, vsemi mehanizmi in vsem ostalim potrebnim materialom.\nV3   Vetrolov glavnega vhoda \nALU vrata, kot npr. Schüco ADS 75 HD.HI\n\n- Gradbena odprtina: 739,5/357 cm\n- Svetli prehod: 100/210 cm (3x)\n- vgradnja: AB stena deb. 20-30 cm 1x\n- Odpiranje:  1L/D\n- Št. kom: 1x\nProtivlomni razred: do RC3\n\n- Podboj in vratno krilo: \n-visoko toplotno izolirani sistem za vrata 75 mm osnovne gradbene globine\n-zunaj in znotraj je konstrukcija površinsko poravnana, opremljena z dvema prepirnima tesniloma \nUf=2,0 W/m2K\nTransparentno polje:\n-zasteklitev brez toplotnih zahtev \n-varnostno steklo, zunaj in znotraj lepljeno VSG\nNad spuščenim stropom so polni paneli\npločevina s polnilom iz kamene volne\n \n- Okovje, kljuka in ključavnica: panik kljuka po EN 179,\nsamozapiralo, sistemsko Schüco okovje, valjčni tečaji, cilindrični vložek\n\nGlej splošne opombe in sheme za ALU dela!\nPOZ.: V3"]
[null,null,"0","kom"]
[]
["33","Izdelava, dobava in montaža ALU zastekljenih vrat, vključno z  obrobami, profili, vsemi mehanizmi in vsem ostalim potrebnim materialom.\nV4   Vrata - glavni vhod jedilnica\nALU požarna vrata, kot npr. Schüco ADS 80 FR \n\n- Gradbena odprtina: 454/357 cm\n- Svetli prehod: 200/210 cm\n- vgradnja: AB stena deb. 30 cm 1x\n- Odpiranje:  1L/D\n- Št. kom: 1x\nPožarna odpornost: EI30-C5\n\n- Podboj: globina podboja 80 mm\n5-komorni ALU profili s prekinjenim toplotnim mostom.  Vratna konstrukcija je med podbojem in krilom površinsko poravnana. \n- Vratno krilo: 5 komorni profil, za požarne nenosilne konstrukcije, steklen del - požarno steklo (kot npr. Pyrostop 36), EI30 v skladu s STS. \nIzvedba praga - spodnji del vrat opremljen z avtomatskim tesnilom, ki se med procesom zapiranja samodejno spusti. \nNad spuščenim stropom so polni paneli. pločevina z ognjeodpornim polnilom. \n- Okovje, kljuka in ključavnica: sistemsko Schüco okovje - požarno, okovje skladno s standardom STS 09/0078.\nVečnamenski utor za pritrditev okovja, panik letev po EN 1125  \ncilindrični tečaji in vložki, samozapiralo (skladno s STS)\n\nGlej splošne opombe in sheme za ALU dela!\nPOZ.: V4"]
[null,null,"0","kom"]
[]
["34","Izdelava, dobava in montaža ALU zastekljenih vrat, vključno z  obrobami, profili, vsemi mehanizmi in vsem ostalim potrebnim materialom.\nV5   Notranja vrata - hodnik v pritličju\nALU požarna vrata, kot npr. Schüco ADS 80 FR \n\n- Gradbena odprtina: 159/357 cm\n- Svetli prehod: 100/210 cm\n- vgradnja: AB stena deb. 30 cm 1x\n- Odpiranje:  1L\n- Št. kom: 1x\nPožarna odpornost: EI30-C5\n\n- Podboj: globina podboja 80 mm\n5-komorni ALU profili s prekinjenim toplotnim mostom.  Vratna konstrukcija je med podbojem in krilom površinsko poravnana. \n- Vratno krilo: 5 komorni profil, za požarne nenosilne konstrukcije, steklen del - požarno steklo (kot npr. Pyrostop 36), EI30 v skladu s STS. \nIzvedba praga - spodnji del vrat opremljen z avtomatskim tesnilom, ki se med procesom zapiranja samodejno spusti.  \n- Okovje, kljuka in ključavnica: sistemsko Schüco okovje - požarno, okovje skladno s standardom STS 09/0078.\nVečnamenski utor za pritrditev okovja, panik letev po EN 1125  \ncilindrični tečaji in vložki, samozapiralo (skladno s STS)\n\nMontaža: sestavljen element se montira v tipski vratni portal za montažo vrat in se z obeh strani zapre z ognjevarno MK oblogo\n\nGlej splošne opombe in sheme za ALU dela!\nPOZ.: V5"]
[null,null,"0","kom"]
[]
["35","Izdelava, dobava in montaža ALU zastekljenih vrat, vključno z  obrobami, profili, vsemi mehanizmi in vsem ostalim potrebnim materialom.\nV6   Notranja vrata - hodnik v pritličju\nALU vrata, kot npr. Schüco ADS 75 HD.HI\n\n- Gradbena odprtina: 152/343 cm\n- Svetli prehod: 100/210 cm\n- vgradnja: AB stena deb. 30 cm oz. MK stena deb. 20 cm 1x\n- Odpiranje:  1L\n- Št. kom: 1x\nProtivlomni razred: do RC3\n\n- Podboj in vratno krilo: \n-visoko toplotno izolirani sistem za vrata 75 mm osnovne gradbene globine\n-zunaj in znotraj je konstrukcija površinsko poravnana, opremljena z dvema prepirnima tesniloma \nUf=2,0 W/m2K\nTransparentno polje:\n-zasteklitev brez toplotnih zahtev \n-varnostno steklo, zunaj in znotraj lepljeno VSG \n- Okovje, kljuka in ključavnica: panik letev po EN 1125, sistemsko Schüco okovje, valjčni tečaji, cilindrični vložek\n\nGlej splošne opombe in sheme za ALU dela!\nPOZ.: V6"]
[null,null,"0","kom"]
[]
["36","Izdelava, dobava in montaža ALU zastekljenih vrat, vključno z  obrobami, profili, vsemi mehanizmi in vsem ostalim potrebnim materialom.\nV7   Notranja vrata - hodnik v pritličju\nALU požarna vrata, kot npr. Schüco ADS 80 FR \n\n- Gradbena odprtina: 152,5/261 cm\n- Svetli prehod: 100/210 cm\n- vgradnja: AB stena deb. 30 cm 1x\n- Odpiranje:  1D\n- Št. kom: 1x\nPožarna odpornost: EI30-C5\n\n- Podboj: globina podboja 80 mm\n5-komorni ALU profili s prekinjenim toplotnim mostom.  Vratna konstrukcija je med podbojem in krilom površinsko poravnana. \n- Vratno krilo: 5 komorni profil, za požarne nenosilne konstrukcije, steklen del - požarno steklo (kot npr. Pyrostop 36), EI30 v skladu s STS. \nIzvedba praga - spodnji del vrat opremljen z avtomatskim tesnilom, ki se med procesom zapiranja samodejno spusti.  \n- Okovje, kljuka in ključavnica: sistemsko Schüco okovje - požarno, okovje skladno s standardom STS 09/0078.\nVečnamenski utor za pritrditev okovja, panik letev po EN 1125  \ncilindrični tečaji in vložki, samozapiralo (skladno s STS)\n\nGlej splošne opombe in sheme za ALU dela!\nPOZ.: V7"]
[null,null,"0","kom"]
[]
["37","Izdelava, dobava in montaža ALU vrat, vključno z  obrobami, profili, vsemi mehanizmi in vsem ostalim potrebnim materialom.\nV8   Notranja vrata - vstop v kuhinjo\nALU požarna vrata, kot npr. Schüco ADS 80 FR \n\n- Gradbena odprtina: 116/218 cm\n- Svetli prehod: 100/210 cm\n- vgradnja: AB stena deb. 30 cm 1x\n- Odpiranje:  1L\n- Št. kom: 1x\nPožarna odpornost: EI30-C5\n\n- Podboj: globina podboja 80 mm\n5-komorni ALU profili s prekinjenim toplotnim mostom.  Vratna konstrukcija je med podbojem in krilom površinsko poravnana. \n- Vratno krilo: 5 komorni profil, za požarne nenosilne konstrukcije, steklen del - požarno steklo (kot npr. Pyrostop 36), EI30 v skladu s STS. \nIzvedba praga - spodnji del vrat opremljen z avtomatskim tesnilom, ki se med procesom zapiranja samodejno spusti.  \n- Okovje, kljuka in ključavnica: sistemsko Schüco okovje - požarno, okovje skladno s standardom STS 09/0078.\nVečnamenski utor za pritrditev okovja, panik kljuka iz Schüco asortimana, po EN179  \ncilindrični tečaji in vložki, samozapiralo (skladno s STS)\n\nGlej splošne opombe in sheme za ALU dela!\nPOZ.: V8"]
[null,null,"0","kom"]
[]
["38","Izdelava, dobava in montaža ALU zastekljenih vrat, vključno z  obrobami, profili, vsemi mehanizmi in vsem ostalim potrebnim materialom.\nV9  Notranja vrata prehod proti traktu C v prvem nadstropju\nALU požarna vrata, kot npr. Schüco ADS 80 FR \n\n- Gradbena odprtina: 154,5/261 cm\n- Svetli prehod: 100/210 cm\n- vgradnja: AB stena deb. 30 cm 1x\n- Odpiranje:  1L\n- Št. kom: 1x\nPožarna odpornost: EI30-C5\n\n- Podboj: globina podboja 80 mm\n5-komorni ALU profili s prekinjenim toplotnim mostom.  Vratna konstrukcija je med podbojem in krilom površinsko poravnana. \n- Vratno krilo: 5 komorni profil, za požarne nenosilne konstrukcije, steklen del - požarno steklo (kot npr. Pyrostop 36), EI30 v skladu s STS. \nIzvedba praga - spodnji del vrat opremljen z avtomatskim tesnilom, ki se med procesom zapiranja samodejno spusti.  \n- Okovje, kljuka in ključavnica: sistemsko Schüco okovje - požarno, okovje skladno s standardom STS 09/0078.\nVečnamenski utor za pritrditev okovja, panik letev po EN 1125  \ncilindrični tečaji in vložki, samozapiralo (skladno s STS)\n\nGlej splošne opombe in sheme za ALU dela!\nPOZ.: V9"]
[null,null,"0","kom"]
[]
["39","Izdelava, dobava in montaža ALU zastekljenih vrat, vključno z  obrobami, profili, vsemi mehanizmi in vsem ostalim potrebnim materialom.\nV10 Notranja vrata hodnik v prvem nadstropju \nALU požarna vrata, kot npr. Schüco ADS 80 FR \n\n- Gradbena odprtina: 159/354 cm\n- Svetli prehod: 100/210 cm\n- vgradnja: AB stena deb. 30 cm 1x\n- Odpiranje:  1L\n- Št. kom: 1x\nPožarna odpornost: EI30-C5\n\n- Podboj: globina podboja 80 mm\n5-komorni ALU profili s prekinjenim toplotnim mostom.  Vratna konstrukcija je med podbojem in krilom površinsko poravnana. \n- Vratno krilo: 5 komorni profil, za požarne nenosilne konstrukcije, steklen del - požarno steklo (kot npr. Pyrostop 36), EI30 v skladu s STS. \nIzvedba praga - spodnji del vrat opremljen z avtomatskim tesnilom, ki se med procesom zapiranja samodejno spusti.  \n- Okovje, kljuka in ključavnica: sistemsko Schüco okovje - požarno, okovje skladno s standardom STS 09/0078.\nVečnamenski utor za pritrditev okovja, panik kljuka iz Schüco asortimana, po EN179  \ncilindrični tečaji in vložki, samozapiralo (skladno s STS)    \n\nMontaža: sestavljen element se montira v tipski vratni portal za montažo vrat in se z obeh strani zapre z ognjevarno MK oblogo\n\nGlej splošne opombe in sheme za ALU dela!\nPOZ.: V10"]
[null,null,"0","kom"]
[]
["40","Izdelava, dobava in montaža ALU zastekljenih vrat, vključno z  obrobami, profili, vsemi mehanizmi in vsem ostalim potrebnim materialom.\nV11  Notranja vrata prehod proti traktu A v prvem nadstropju \nALU požarna vrata, kot npr. Schüco ADS 80 FR \n\n- Gradbena odprtina: 156/200 cm\n- Svetli prehod: 100/192 cm\n- vgradnja: AB stena deb. 30 cm 1x\n- Odpiranje:  1L\n- Št. kom: 1x\nPožarna odpornost: EI30-C5\n\n- Podboj: globina podboja 80 mm\n5-komorni ALU profili s prekinjenim toplotnim mostom.  Vratna konstrukcija je med podbojem in krilom površinsko poravnana. \n- Vratno krilo: 5 komorni profil, za požarne nenosilne konstrukcije, steklen del - požarno steklo (kot npr. Pyrostop 36), EI30 v skladu s STS. \nIzvedba praga - spodnji del vrat opremljen z avtomatskim tesnilom, ki se med procesom zapiranja samodejno spusti.  \n- Okovje, kljuka in ključavnica: sistemsko Schüco okovje - požarno, okovje skladno s standardom STS 09/0078.\nVečnamenski utor za pritrditev okovja, panik kljuka iz Schüco asortimana, po EN179  \ncilindrični tečaji in vložki, samozapiralo (skladno s STS)    \n\nGlej splošne opombe in sheme za ALU dela!\nPOZ.: V11"]
[null,null,"0","kom"]
[]
["41","Izdelava, dobava in montaža ALU zastekljenih vrat, vključno z  obrobami, profili, vsemi mehanizmi in vsem ostalim potrebnim materialom.\nVZ1  Vhodna vrata - dostava \nALU vrata, kot npr. Schüco ADS 75 HD.HI\n\n- Gradbena odprtina: 126/302 cm\n- Svetli prehod: 110/210 cm\n- vgradnja: AB stena deb. 30 cm 1x\n- Odpiranje:  1D\n- Št. kom: 1x\nProtivlomni razred: do RC3\n\n- Podboj in vratno krilo: \n-visoko toplotno izolirani sistem za vrata 75 mm osnovne gradbene globine\n-zunaj in znotraj je konstrukcija površinsko poravnana, opremljena z dvema prepirnima tesniloma \nUf=2,0 W/m2K\nTransparentno polje:\n-troslojna termoizolacijska zasteklitev, Ug=0,6 W/m2K\nTGI distančnik stekla \n-varnostno steklo, zunaj in znotraj lepljeno VSG\n- Okovje, kljuka in ključavnica: panik letev po EN 1125, samozapiralo, sistemsko Schüco okovje, valjčni tečaji, cilindrični vložek\n\nGlej splošne opombe in sheme za ALU dela!\nPOZ.: VZ1"]
[null,null,"0","kom"]
[]
["42","Izdelava, dobava in montaža ALU zastekljenih vrat, vključno z  obrobami, profili, vsemi mehanizmi in vsem ostalim potrebnim materialom.\nV15   Sestavljen element na stopnišču  trakt C\nALU sestavljen požarni element, kot npr. Schüco ADS 80 FR 30\n\n- Gradbena odprtina: 200/343 cm\n- Svetli prehod: 100/210 cm\n- vgradnja: Opečna stena deb. 26 cm 2x\n- Odpiranje:  2D\n- Št. kom: 2x\nPožarna odpornost: EI30-C5\n\n- Podboj: globina podboja 80 mm\n5-komorni ALU profili s prekinjenim toplotnim mostom.  Vratna konstrukcija je med podbojem in krilom površinsko poravnana. \n- Vratno krilo: 5 komorni profil, za požarne nenosilne konstrukcije, steklen del - požarno steklo (kot npr. Pyrostop 36), EI30 v skladu s STS. \nIzvedba praga - spodnji del vrat opremljen z avtomatskim tesnilom, ki se med procesom zapiranja samodejno spusti.  \n- Okovje, kljuka in ključavnica: sistemsko Schüco okovje - požarno, okovje skladno s standardom STS 09/0078.\nVečnamenski utor za pritrditev okovja, panik letev po EN 1125\ncilindrični tečaji in vložki\nsamozapiralo (skladno s STS)\n\nMontaža: sestavljen element se montira v tipski vratni portal za montažo vrat in se z obeh strani zapre z ognjevarno MK oblogo\n\nGlej splošne opombe in sheme za ALU dela!\nPOZ.: V15"]
[null,null,"0","kom"]
[]
["43","Izdelava, dobava in montaža ALU zastekljenih vrat, vključno z  obrobami, profili, vsemi mehanizmi in vsem ostalim potrebnim materialom.\nV16   Sestavljen element na stopnišču  trakt C\nALU sestavljen požarni element, kot npr. Schüco ADS 80 FR 30\n\n- Gradbena odprtina: 200/367,5 cm\n- Svetli prehod: 100/210 cm\n- vgradnja: MK stena deb. 24 in 12,5 cm 1x\n- Odpiranje:  1D\n- Št. kom: 1x\nPožarna odpornost: EI30-C5\n\n- Podboj: globina podboja 80 mm\n5-komorni ALU profili s prekinjenim toplotnim mostom.  Vratna konstrukcija je med podbojem in krilom površinsko poravnana. \n- Vratno krilo: 5 komorni profil, za požarne nenosilne konstrukcije, steklen del - požarno steklo (kot npr. Pyrostop 36), EI30 v skladu s STS. \nIzvedba praga - spodnji del vrat opremljen z avtomatskim tesnilom, ki se med procesom zapiranja samodejno spusti.  \n- Okovje, kljuka in ključavnica: sistemsko Schüco okovje - požarno, okovje skladno s standardom STS 09/0078.\nVečnamenski utor za pritrditev okovja, panik letev po EN 1125\ncilindrični tečaji in vložki\nsamozapiralo (skladno s STS)\n\nMontaža: sestavljen element se montira v tipski vratni portal za montažo vrat in se z obeh strani zapre z ognjevarno MK oblogo\n\nGlej splošne opombe in sheme za ALU dela!\nPOZ.: V16"]
[null,null,"0","kom"]
[]
["44","Izdelava, dobava in montaža ALU zastekljenih vrat, vključno z  obrobami, profili, vsemi mehanizmi in vsem ostalim potrebnim materialom.\nV17   Sestavljen element vetrolov vrtca  trakt C\nALU vrata, kot npr. Schüco ADS 75 HD.HI\n\n- Gradbena odprtina: 216/303 cm\n- Svetli prehod: 100/210 cm\n- vgradnja: opečna stena deb. 35 cm oz. MK stena deb. 20 cm 1x\n- Odpiranje:  1D\n- Št. kom: 1x\nProtivlomni razred: do RC3\n\n- Podboj in vratno krilo: \n-visoko toplotno izolirani sistem za vrata 75 mm osnovne gradbene globine\n-zunaj in znotraj je konstrukcija površinsko poravnana, opremljena z dvema prepirnima tesniloma \nUf=2,0 W/m2K\nTransparentno polje:\n-zasteklitev brez toplotnih zahtev -varnostno steklo, zunaj in znotraj lepljeno VSG\n- Okovje, kljuka in ključavnica: panik kljuka po EN 179, iz Schűco asortimana , sistemsko Schüco okovje, valjčni tečaji, cilindrični vložek\n\nMontaža: sestavljen element se montira v tipski vratni portal za montažo vrat in se z obeh strani zapre z MK oblogo\n\nGlej splošne opombe in sheme za ALU dela!\nPOZ.: V17"]
[null,null,"0","kom"]
[]
["45","Izdelava, dobava in montaža ALU zastekljenih vrat, vključno z  obrobami, profili, vsemi mehanizmi in vsem ostalim potrebnim materialom.\nVZ2   Evakuacijski izhod trakt C\nALU vrata, kot npr. Schüco ADS 75 HD.HI\n\n- Gradbena odprtina: 229/303 cm\n- Svetli prehod: 100/210 cm\n- vgradnja: opečna stena deb. 36 cm 1x\n- Odpiranje:  1L\n- Št. kom: 1x\nProtivlomni razred: do RC3\n\n- Podboj in vratno krilo: \n-visoko toplotno izolirani sistem za vrata 75 mm osnovne gradbene globine\n-zunaj in znotraj je konstrukcija površinsko poravnana, opremljena z dvema prepirnima tesniloma \nUf=2,0 W/m2K\nTransparentno polje:\n-troslojna termoizolacijska zasteklitev, Ug=0,6 W/m2K\nTGI distančnik stekla \n-varnostno steklo, zunaj in znotraj lepljeno VSG\n- Okovje, kljuka in ključavnica: panik letev po EN1125 iz Schűco asortimana, smaozapiralo, sistemsko Schüco okovje, valjčni tečaji, cilindrični vložek\n\nGlej splošne opombe in sheme za ALU dela!\nPOZ.: VZ2"]
[null,null,"0","kom"]
[]
["46","Izdelava, dobava in montaža ALU zastekljenih vrat, vključno z  obrobami, profili, vsemi mehanizmi in vsem ostalim potrebnim materialom.\nVZ3   Sestavljen element vhod v vrtec trakt C\nALU vrata, kot npr. Schüco ADS 75 HD.HI\n\n- Gradbena odprtina: 216/343 cm\n- Svetli prehod: 100/210 cm\n- vgradnja: opečna stena deb. 35 cm, oz. MK stena deb. 20 cm 1x\n- Odpiranje:  1D\n- Št. kom: 1x\nProtivlomni razred: do RC3\n\n- Podboj in vratno krilo: \n-visoko toplotno izolirani sistem za vrata 75 mm osnovne gradbene globine\n-zunaj in znotraj je konstrukcija površinsko poravnana, opremljena z dvema prepirnima tesniloma \nUf=2,0 W/m2K\nTransparentno polje:\n-troslojna termoizolacijska zasteklitev, Ug=0,6 W/m2K\nTGI distančnik stekla \n-varnostno steklo, zunaj in znotraj lepljeno VSG\n- Okovje, kljuka in ključavnica: panik letev po EN1125 iz Schűco asortimana, smaozapiralo, sistemsko Schüco okovje, valjčni tečaji, cilindrični vložek\n\nGlej splošne opombe in sheme za ALU dela!\nPOZ.: VZ3"]
[null,null,"0","kom"]
[]
["47","Izdelava, dobava in montaža notranjega ALU predpražnika, vključno s podkonstrukcijo oziroma vgradnim okvirjem in vsem ostalim potrebnim materialom.\nNotranji predpražniki kot npr. Emco DIPLOMAT Premium, glavni vhod, vhod 1.triada, vhod vrtec\nAlu predpražnik,\nvložek Outdoor 517 P\nvišina 17,0 mm\nširina profila 27,5 mm\nNosilni profil je iz torzijsko trdnega aluminija, \nz izolacijo Premium proti pohodnemu zvoku \nna spodnji strani,barva C31 nerjavo jeklo. \nVremensko odporen vložek Outdoor za znatno temeljito odstranitev grobe umazanije.\nprotizdrsna lastnost R 11 po DIN 51130\nVgrajeni so v 17 mm poglobitev talne obloge (keramika, teraco). \n\nPOZ.: NP1, NP2 in NP3"]
[null,"a) NP1 predpražnik dim. 600/110 cm: ","0","kom"]
[null,"b) NP2 predpražnik dim. 180/110 cm: ","0","kom"]
[null,"c) NP3 predpražnik dim. 120/110 cm: ","0","kom"]
[]
[null,"B4. PVC IN ALU DELA",null,null,null,{"$f":"SUM(F5:F325)","v":0},null,{"$f":"SUM(H5:H325)","v":0},null,{"$f":"SUM(J5:J325)","v":0}]

{"sheet":"CDE- B5 KERAMIČARSKA DELA","index":81,"n_rows":55,"n_cols":10,"rows_kept":55,"cut":false,"hidden":false,"merged":[]}
[null,"Objekt C, D in E,  B5. KERAMIČARSKA DELA"]
[]
["ZAP. ŠT.","OPIS","KOLIČUNA","ME","CENA/ENOTO","SKUPAJ","POPUST","POPUST SKUPAJ","CENA/ENOTO S POPUSTOM","SKUPAJ S POPUSTOM"]
[]
[null,"Splošni opis"]
[null,"Vsa dela je potrebno izvjati po določilih veljavnih tehničnih predpisov in normativov in skladno z obveznimi SIST-i! material mora po kvaliteti ustrezati določilom veljavnih normativov."]
[null,"Keramične talne obloge v mokrih prostorih (tuši, kopalnice) in na stopniščih, ter keramične in granito-keramične površine morajo biti ustrezati predpisani drsnosti."]
[null,"lzvajalec  keramičarskih  del mora  pred. pričetkom  dela  pregledati  vse  površine,  ki bodo  oblagane  in opozoriti gradbeno vodstvo oziroma nadzor na eventuelne pomanjkljivosti, ki bi utegnile kvarno vplivati na na brezhibno polaganje keramike. Kasnejši izgovori o pomanjkljivih površinah bodo smatrani za brezpredmetne."]
[null,"Za oblaganje  zidov  in tal mora  izvajalec  uporabiti   ploščice  ustrezne  kvalitete,  počene,  nalomljene  ali"]
[null,"drugače  poškodovane  ploščice  mora  izločiti.  Za  vezni material  uporabiti  ustrezen  material  kot  je  to navedeno pri opisu posamezne postavke."]
[null,"V enotno ceno obloge je vsteto tudi naprava odprtin za razne instalacije in vzidava inštalacijskih vratic in prezračevalnih rešetk."]
[null,"lzvajalec keramičarskih del s svojim delom ne sme poškodovati ali onesnažiti drugih izdelkov, po potrebi mora te usrezno zaščititi."]
[null,"Po izvršenemdelu mora izvajalec keramičarskih del odstraniti ves preostali material in odpadke ter očistiti prostore, ki so bili zaradi njegovih del onesnaženi."]
[]
[null,"V izračunu količine je podana neto površina. Ponudnik mora v ceni upoštevati predviden odpad materiala. Pvršine odprtin do 0,50 m2, katere se ne oblagajo, ampak se oblaganje vrši ob odprtinah, se ne odbijajo."]
[]
[null,"Cena za enoto mora vsebovati tudi:"]
[null,"* vsa potrebna pripravljalna dela"]
[null,"* merjenje na objektu"]
[null,"* vse potrebne transporte do mesta vgrajevanja"]
[null,"*  vse potrebno delo do končnega izdelka"]
[null,"* skladiščenje materiala na gradbišču"]
[null,"* atestiranje vseh materialov in dokazovanje kvalitete z atesti"]
[null,"* ves potreben glavni, pomožni, pritrdilni in vezni material"]
[null,"* dajanje vzorcev in vgrajevanje vzorcev na objektu (min. 3 vzorci)"]
[null,"* vsa potrebna pomožna sredstva za vgrajevanje na objektu kot so lestve, odri in podobno"]
[null,"* usklajevanje z osnovnim načrtom in posvetovanje s projektantom"]
[null,"*  terminsko usklajevanje del z ostalimi izvajalci na objektu"]
[null,"* finalna obdelava elementov po opisu"]
[null,"* popravilo eventuelno povzročene škode ostalim izvajalcem na gradbišču"]
[null,"* čiščenje prostorov in odvoz odpadnega meteriala na stalno deponijo"]
[null,"* plačilo komunalnega prispevka za stalno deponijo odpadnega materiala"]
[null,"* vsa dela in ukrepe po določilih zakona o varstvu pri delu"]
[]
[null,"Enotna cena mora zajeti izdelavo  vseh potrebnih detajlov in dopolnilnih  del, katera  je potrebno  izvesti za dokončanje  posameznih del, tudi če potrebni detajli in zaključki niso podrobno navedeni in opisani v popisu del, in so ta dopolnila nujna za pravilno funkcioniranje posameznih sistemov in elementov objekta."]
[]
[null,"V c.e.m. je potrebno upoštevati notranje, premične in dvižne delovne odre in ploščadi, čiščenje po posameznih fazah dela, ter odvoz odpadkov na deponijo!"]
[]
[]
[null,"OPOMBA: \nNa večjih površinah je potrebno diletiranje v posameznih poljih.\nPovršine je predhodno potrebno impregnirati z emulzijo, kar je potrebno zajeti v c.e.m."]
[]
[null,"Splošne smernice za talno keramično oblogo trakt D:\n- Vsa vgrajena talna keramika ali gres ploščice mora biti brez vzorca in protizdrsnega razreda R11.  \n- Širina talnih fug je 3mm temno sive barve. \n- Keramični gres je predviden po kuhinji v pritličju ter stopnišču za kuhinjo trakta D. Format plošč je 30x30cm, razred protizdrsnosti R11, debelina 8mm. Širina fug 3mm v enakem tonu kot je izbran tip. Barva je siva, površina hrapava in brez vzorca. Izbran proizvod keramike je kot npr. Casalgrande Padana, Granito Evo, (Boston ali Tucson), R11 , lepljena na ustrezno podlago. Obstenski zaključek je iz iste serije kot talna obloga, do višine 10,00 cm.                                                                                     "]
[]
["1","Dobava in polaganje talnih nedrsečih keramičnih ploščic in stenskih ploščic istega tipa v mokrih prostorih, srednjega cenovnega razreda, 1. razred, barva in dimenzija ploščic po izboru projektanta. Vzorec ploščice dostavi izvajalec in potrdi projektant. Fugirna masa v skladu z EN 13 888, barva po izboru projektnata-siva. Postavka vključuje izvedbo zaokrožnic alu profilom na stiku tla - stena, vgradnja letve v isti ravnini kot keramika.\nDebelina keramike na lepilu 10 mm.\nGlej splošne smernice za talno keramično oblogo!  \nKuhinje,Sanitarije, prostor za čistila vse trakt D, stene kuhinja"]
[null,"a.) Talne Keramične obloge D",100,"m2",null,{"$f":"+E45*C45","v":0},{"$f":"+E45*MM","v":0},{"$f":"+G45*C45","v":0},{"$f":"+E45-G45","v":0},{"$f":"+I45*C45","v":0}]
[null,"b.) Stenske Keramične obloge kuhinja D",195,"m2",null,{"$f":"+E46*C46","v":0},{"$f":"+E46*MM","v":0},{"$f":"+G46*C46","v":0},{"$f":"+E46-G46","v":0},{"$f":"+I46*C46","v":0}]
[]
[null,"Splošne smernice za talno keramično oblogo trakt C:\n- Keramiči gres je predviden pri vhodnem delu, stopnišču ter sanitarijah  trakta C.\nFormat plošč je 60x60cm in 60x30 za nastopne ploskve v stopniščih. Debelina je 10 mm, vhodni zunanji del 20mm. Širina fug 3mm,  v enakem tonu kot je izbran tip.  Vse pravokotno polaganje. Drsnost notranje obloge R10 in zunanje obloge R11. Obstenski zaključek je iz iste serije kot talna obloga, do višine 8,00 cm. Rob nastopnih ploskev stopnic je opremljen s protidrsnim elementom v obliki zarez 3 x 5mm. Izbran tip gres ploščic je kot npr. Tip  Marazzi, Stone effect, Mystone ceppio di gre, gray ali enakovredno                                                                            "]
[]
[null,"Dobava in polaganje talnih nedrsečih keramičnih ploščic in stenskih ploščic istega tipa v mokrih prostorih, srednjega cenovnega razreda, 1. razred, barva in dimenzija ploščic po izboru projektanta. Vzorec ploščice dostavi izvajalec in potrdi projektant. Fugirna masa v skladu z EN 13 888, barva po izboru projektnata-siva. Postavka vključuje izvedbo zaokrožnic alu profilom na stiku tla - stena, vgradnja letve v isti ravnini kot keramika.\nDebelina keramike na lepilu 10 mm.\nGlej splošne smernice za talno keramično oblogo!  \nSanitarije komplet trakt C in Sanitarije samo stene trakt D"]
[null,"a.) Talne Keramične obloge C",165,null,null,{"$f":"+E51*C51","v":0},{"$f":"+E51*MM","v":0},{"$f":"+G51*C51","v":0},{"$f":"+E51-G51","v":0},{"$f":"+I51*C51","v":0}]
[null,"b.) Stenske Keramične obloge sanitarije trakt C",210,null,null,{"$f":"+E52*C52","v":0},{"$f":"+E52*MM","v":0},{"$f":"+G52*C52","v":0},{"$f":"+E52-G52","v":0},{"$f":"+I52*C52","v":0}]
[null,"c.) Stenske Keramične obloge sanitarije trakt D",83,null,null,{"$f":"+E53*C53","v":0},{"$f":"+E53*MM","v":0},{"$f":"+G53*C53","v":0},{"$f":"+E53-G53","v":0},{"$f":"+I53*C53","v":0}]
[]
[null,"B5. KERAMIČARSKA DELA",null,null,null,{"$f":"SUM(F5:F54)","v":0},null,{"$f":"SUM(H5:H54)","v":0},null,{"$f":"SUM(J5:J54)","v":0}]

{"sheet":"CDE-  B6 TLAKARSKA DELA","index":82,"n_rows":56,"n_cols":10,"rows_kept":56,"cut":false,"hidden":false,"merged":[]}
[null,"Objekt C, D in E,  B6. TLAKARSKA DELA"]
[]
["ZAP. ŠT.","OPIS","KOLIČUNA","ME","CENA/ENOTO","SKUPAJ","POPUST","POPUST SKUPAJ","CENA/ENOTO S POPUSTOM","SKUPAJ S POPUSTOM"]
[]
[null,"Splošni opis"]
[null,"Material in vgrajevanje na objektu mora po kvaliteti ustrezati veljavnim standardom."]
[null,"lzvajalec del mora dati na vpogled vzorce podov predvidenih za polaganje in jih vgraditi na objektu skupaj s stenskimi zakljucki. Polaganje se lahko začne po pisni potrditvi vzorcev."]
[null,"Lepilo mora biti take kvalitete, da se z njimi doseže čvrsta in trajna veza. Ne sme škodljivo vplivati na podlogo, na pod in na zdravje osebja, ki z njim dela. Proizvajalec lepila mora skupaj z lepilom dati deklaracijo, v kateri mora biti navedeno da je lepilo primerno in preizkušeno za to vrsto dela. Pri delu z lepili na osnovi organskih topil je strogo upoštevati navodila za uporabo, zaradi predpisanih zaščitnih mer pred pozarom."]
[null,"Tolerance galdkosti in enakomernosti površin morajo ustrezati standardu DIN 18202."]
[null,"Podloga na katero se pod polaga ne sme vsebovati več vlage kot je predpisana za posamezno vrsto poda."]
[null,"lzvajalec  mora pred pričetkom del pregledati vse površine, ki bodo oblagane in opozoriti gradbeno vodstvo oziroma nadzor na eventuelne pomanjkljivosti, ki bi utegnile kvarno vplivati na na brezhibno polaganje. Kasnejše reklamacije o pomanjkljivih površinah bodo smatrane za brezpredmetne."]
[]
[null,"Cena za enoto mora vsebovati tudi:"]
[null,"* vsa potrebna pripravljalna dela"]
[null,"* merjenje na objektu"]
[null,"* vse potrebne transporte do mesta vgrajevanja"]
[null,"* vse potrebno delo do končnega izdelka"]
[null,"* skladiščenje materiala na gradbišču"]
[null,"* atestiranje vseh materialov in dokazovanje kvalitete z atesti"]
[null,"* čiščenje in pripravo podloge"]
[null,"* ves potreben glavni, pomožni, pritrdilni in vezni material"]
[null,"* zaključne letve"]
[null,"* dajanje vzorcev in vgrajevanje vzorcev na objektu"]
[null,"* vsa potrebna pomožna sredstva za vgrajevanje na objektu kot so lestve, odri in podobno"]
[null,"* usklajevanje z osnovnim načrtom in posvetovanje s projektantom"]
[null,"*  terminsko usklajevanje del z ostalimi izvajalci na objektu"]
[null,"*  finalna obdelava po opisu"]
[null,"* popravilo eventuelno povzročene škode ostalim izvajalcem na gradbišču"]
[null,"* čiščenje prostorov in odvoz odpadnega meteriala na stalno deponijo"]
[null,"* plačilo komunalnega prispevka za stalno deponijo odpadnega materiala"]
[null,"* vsa dela in ukrepe po določilih zakona o varstvu pri delu"]
[]
[null,"Enotna cena  mora zajeti izdelavo vseh potrebnih detajlov in dopolnih del, katera je potrebno izvesti za dokoncanje posameznih del, tudi ce potrebni detajli in zakljucki niso podrobno navedeni in opisani v popisu del, in so ta dopolnila nujna za pravilno funkcioniranje posameznih sistemov in elementov objekta."]
[]
[null,"V c.e.m. je potrebno upoštevati notranje, premične in dvižne delovne odre in ploščadi, čiščenje po posameznih fazah dela, ter odvoz odpadkov na deponijo!"]
[]
[]
["1","Dobava in polaganje lesenih macesnovih oblog zunanjih teras v traktu C z podnicami lesa 10/3cm vključno s podkonstrukcijo postavljeno na Buzonske čepe nastavljive po višini od 2,8 do 8cm. Barva natur.\n"]
[null,null,77,"m2",null,{"$f":"+E39*C39","v":0},{"$f":"+E39*MM","v":0},{"$f":"+G39*C39","v":0},{"$f":"+E39-G39","v":0},{"$f":"+I39*C39","v":0}]
[]
["2","Dobava in obdelava betonskih tal samorazlivno teraco maso v glavnih komunikacijah, sanitarijah, ter jedilnici, vse trakt D.\nIzdelava teraco tlaka, na pripravljeno podlago estriha ali betona iz samorazlivne mase d min 2cm, barva in maksimalno vidno zrno in gostota matrike po izboru projektanta, obračun po m2\n"]
[null,null,460,"m2",null,{"$f":"+E42*C42","v":0},{"$f":"+E42*MM","v":0},{"$f":"+G42*C42","v":0},{"$f":"+E42-G42","v":0},{"$f":"+I42*C42","v":0}]
[]
["3","Dobava in obdelava betonskih tal z polimernim  premazom\nIzdelava polimernega tlaka na bazi epoksidne osnove, obračun po m2 kot npr. Epoksi premaz, tip npr. SIKAFLOR, dvokomponentni, nizko viskozni temeljni in finalni premaz (polnilo 1mm), barva svetlo siva, premaz se zaključi z 10cm obrobo na vse stene.\n\nElektro prostori, shrambe, pritlični prostori za kolesa ter shrambe, hodniki in stopnišča v kletni etaži objekta."]
[null,"a.) epoksi trakt E",73,"m2",null,{"$f":"+E45*C45","v":0},{"$f":"+E45*MM","v":0},{"$f":"+G45*C45","v":0},{"$f":"+E45-G45","v":0},{"$f":"+I45*C45","v":0}]
[null,"b.) epoksi trakt D",142,"m2",null,{"$f":"+E46*C46","v":0},{"$f":"+E46*MM","v":0},{"$f":"+G46*C46","v":0},{"$f":"+E46-G46","v":0},{"$f":"+I46*C46","v":0}]
[]
["4","Izvedba talne obloge iz visoko odporne industrijske gume v traktu C skupni prostor z garderobami, igralnice, učilnice, kabineti, gumene talne obloge (površinsko gladke) oz. guma v rolah  iz naravnega kavčuka,  lepljene na ustrezno podlago, deb. 3 mm kot npr. Artigo Plansystem, npr. KAYAR (K 49 ali K104) izvede se izravnava tal ter polaganje z vsemi obrobami in zaključki, ter pritrdilnim materialom po navodilih proizvajalca"]
[null,null,695,"m2",null,{"$f":"+E49*C49","v":0},{"$f":"+E49*MM","v":0},{"$f":"+G49*C49","v":0},{"$f":"+E49-G49","v":0},{"$f":"+I49*C49","v":0}]
[null,null,275,"m2",null,{"$f":"+E50*C50","v":0},{"$f":"+E50*MM","v":0},{"$f":"+G50*C50","v":0},{"$f":"+E50-G50","v":0},{"$f":"+I50*C50","v":0}]
[]
["5","Dobava in polaganje betonskih tlakovcev trakt E-kolesarnica, tipa Opeka d=20/30cm proizvajalca Oblak ali podobno, vključno s predpripravo nasutja 3-4cm iz pranega prodca v prostorih kolesarnice. Polaganje na zamik "]
[null,"a) nasutje debeline 3-4cm, d zrna max = 4cm: ",37,"m2",null,{"$f":"+E53*C53","v":0},{"$f":"+E53*MM","v":0},{"$f":"+G53*C53","v":0},{"$f":"+E53-G53","v":0},{"$f":"+I53*C53","v":0}]
[null,"b) Polaganje tlakovcev: ",37,"m2",null,{"$f":"+E54*C54","v":0},{"$f":"+E54*MM","v":0},{"$f":"+G54*C54","v":0},{"$f":"+E54-G54","v":0},{"$f":"+I54*C54","v":0}]
[]
[null,"B6. TLAKARSKA DELA",null,null,null,{"$f":"SUM(F5:F55)","v":0},null,{"$f":"SUM(H5:H55)","v":0},null,{"$f":"SUM(J5:J55)","v":0}]

{"sheet":"CDE-  B7 SUHOMONTAŽNA DELA","index":83,"n_rows":110,"n_cols":10,"rows_kept":110,"cut":false,"hidden":false,"merged":[]}
[null,"Objekt C, D in E,   B7. SUHOMONTAŽNA DELA"]
[]
["ZAP. ŠT.","OPIS","KOLIČUNA","ME","CENA/ENOTO","SKUPAJ","POPUST","POPUST SKUPAJ","CENA/ENOTO S POPUSTOM","SKUPAJ S POPUSTOM"]
[]
[null,"STENE IZ MAVČNIH PLOŠČ"]
[null,"Vsa dela je potrebno izvjati po določilih veljavnih tehničnih predpisov in normativov in skladno z obveznimi SIST-i!"]
[]
[null,"Nosilni vertikalni profili  sten morajo  biti postavljeni v takem  rastru in takih dimenzij, da prenesejo  vse statične in dinamične obremenitve in obremenitve opreme pritrjene na stene."]
[null,"Ev. potrebna podkonstrukcija za opremo bo predvidena v projektu opreme in ni predmet tega popisa. Način pritrjevanja opreme ne sme zmanjsati zvočne izolirnosti stene."]
[null,"Vertikalni profili na katere se pritrujejo vrata morajo biti sposobni prenesti obremenitev vrat."]
[null,"Dilatacije so predvidene na stikih predelnih sten z nosilno konstrukcijo. Namenjene  so premoščanju  gibanja"]
[null,"(premikov) na gradbenih spojih."]
[null,"Priključne fuge pri betonskih in zidanih stenah ter stropovih se zatesnijo z elasto-plastičnimi tesnilnimi masami. Po navodilih proizvajalca mora biti poskrbljeno za ustrezno oprijemljivost mase na podlago (s pomočjo pred-namazov). Širina fuge je odvisna od razteznosti izbrane fugirne mase (acryl, silikon...) in od gibanja konstrukcijskega  spoja. V načelu velja, da mora biti tesnilna masa sposobna prenesti  pomike najmanj 0,1% etažne višine."]
[null,"Priključne  fuge  pri suhomontažnih  stenah  se  lahko  izvedejo  tudi  s kontrolirano  lasasto  razpoko  (po navodilih proizvajalcev suhomontaznih sistemov)"]
[null,"Glede na položaj predelne stene in funkcionalne zahteve, se namesto mavčno kartonskih plosc pritrujejo specialne  plošče s posebnimi dodatki, za mokre prostore in požarno odporne stene. Vrsto plošč izbere izvajalec, zahtevano kvaliteto pa mora dokazati z atesti."]
[]
[null,"Vse stike med ploščami medsebojno  in stike z bet. konstrukcijo, s profili in ostalim, je potrebno brusiti in bandažirati oziroma izvesti na način da končni premaz na stiku dveh plošč ne poka. Način izvedbe določi izvajalec, ki tudi garantira za kvaliteto izvedbe. Na stenah iz vodoodpornih plošč se mora uporabiti tudi vodoodporni kit za bandažiranje."]
[]
[null,"Vsi vogali in robovi morajo biti zaščiteni z vogalnim zaščitnim profilom ali alu vogalnim zaščitnim trakom, po tehnologiji izbranega sistema. lzpostavljeni robovi mavčno kartonske obloge morajo biti zaščiteni z alu robnim profilom."]
[]
[null,"Prehodi inštalacij morajo biti izvedeni na način, da gradbeno fizikalne in požarne karakteristike ostanejo nespremenjene. Za  prehod   inštalacij  skozi  predelne   stene  se  v  stenah  izrezejo  odprtine,  stike  z inštalacijami je tesniti z ustreznim kitom, odvisno od zahtevanih zvočnih in požarnih zahtev za predelno steno."]
[]
[null,"Nosilni profili so sidrani v nosilno a.b.  talno in stropno bet. ploščo (prekinjen estrih), pod vsemi profili se tesni s samolepilnim tesnilnim trakom."]
[]
[null,"Cena za enoto mora vsebovati tudi:"]
[null,"* merjenje na objektu"]
[null,"*  izdelava tehnoloških risb za proizvodnjo, z detajli"]
[null,"*  izdelava  detajlov  in dopolnitev,  ki jih je potrebno  izvesti za končanje posameznih  del, tudi če niso podrobno navedeni in opisani v popisu in načrtih, so pa nujna za pravilno funkcioniranje posameznih sistemov in elemnotv. Potrditi jih mora odgovorni projektant arhitekture."]
[null,"*   izdelavo  vseh potrebnih zaključkov, spojev,  dilatacij,  prehodov,  še  posebej na stikih z ostalimi konstrukcijskimi elemneti"]
[null,"* ves potreben glavni, pomožni, nerjaveči pritrdilni in vezni material"]
[null,"* pripravljanje podlage"]
[null,"* preiskušnja posameznih elementov in dokazovanje kvalitete z atesti"]
[null,"* vse potrebno delo, od pripravljalnih del do finalnega izdelka"]
[null,"* vse potrebne transporte do mesta vgrajevanja"]
[null,"* skladiščenje materiala na gradbišču"]
[null,"* vsa potrebna pomozna sredstva za vgrajevanje na objektu kot so lestve, odri in podobno"]
[null,"* usklajevanje z osnožnim načrtom in posvetovanje s projektantom"]
[null,"* terminsko usklajevanje del z ostalimi izvajalci na objektu"]
[null,"* finalna obdelava elementov po opisu"]
[null,"* popravilo eventuelno povzročene škode ostalim izvajalcem na gradbišču"]
[null,"* čiščenje prostorov in odvoz odpadnega meteriala na stalno deponijo in plačilo takse"]
[null,"* ojačitvene profile za vrata in potrebne tipske ojačitve na vogalih"]
[null,"* izreze za prehod inštalacij in tesnenje."]
[null,"* vsa dela in ukrepe po določilih zakona 6 varstvu pri delu"]
[]
[null,"Enotna  cena  mora zajeti izdelavo vseh potrebnih detajlov in dopolnilnih  del, katera je potrebno  izvesti za dokončanje posameznih del, tudi če potrebni detajli in zaključki niso podrobno navedeni in opisani v popisu del, in so ta dopolnila nujna za pravilno funkeioniranje posameznih sistemov in elementov objekta."]
[]
[null,"V izračunu količine je upoštevana površina sten brez odbitka za vrata vel. do 2,50 m2."]
[null,"V c.e.m. je potrebno upoštevati čiščenje po posameznih fazah dela, ter odvoz odpadkov na deponijo!"]
[]
[]
[null,"STENE IN OBLOGE"]
["1","Dobava in montaža notranje montažne mavčno kartonske obloge (kot npr. sistem knauf  W623 ali enakovredno), (Stene označene kot F7 -Trakt C), F7 - fasadna stena, notranja stran panela se zapira z mavčnokartonsko oblogo po detajlu arhitekta. Sestava iz večih profilov za izenačitev ravnine med vertikalno nosilno konstrukcijo iz jekla. Plošče se obesi na stropne CD profile, ki so pritrjeni direktno na konstrukcijo z obešali.\nPodkonstrukcija: pocinkani kovinski CD profili 75 mm, z uporabo tesnilnega traku. Razmak vertikalnih CW profilov 625 mm, debeline pločevine 0,6 mm\nIzolacija: knauf insulation Naturboard Venti d=8cm \nObloga: enostransko dvojna 12,5 mm mavčno kartonska plošča\nFugiranje: fugirna masa in ojačitveni bandažni trak.\nVišina sten do max 5 m'"]
[null,null,310,"m2",null,{"$f":"+E54*C54","v":0},{"$f":"+E54*MM","v":0},{"$f":"+G54*C54","v":0},{"$f":"+E54-G54","v":0},{"$f":"+I54*C54","v":0}]
[]
["2","Dobava in montaža predelnih montažnih mavčno kartonskih sten (kot npr. sistem knauf  W115 ali enakovredno), (Stene označene kot MS2) - Predelne stene po sistemu Knauf W 115 skupne debeline 155 mm. Sestavljena iz dvojne podkonstrukcije CW50 in obojestransko dvoslojna obloga iz mavčno kartonskih plošč 2x12,5mm. Vmesni sloj toplotna izolacija Knauf insulation Knauf Insulation NaturBoard FIT-G debeline 2x50 mm.\nDebelina stene:155 mm\nPodkonstrukcija: pocinkani kovinski C profili 50 mm, z uporabo tesnilnega traku. Razmak vertikalnih CW profilov 625 mm, debeline pločevine 0,6 mm\nIzolacija: mineralna volna min. deb. 2x50 mm\nObloga: na obeh straneh 2x12,5 mm mavčno kartonska plošča\nFugiranje: fugirna masa in ojačitveni bandažni trak.\nVišina sten do max 4,60 m"]
[null,"a.) stene MS2",380,"m2",null,{"$f":"+E57*C57","v":0},{"$f":"+E57*MM","v":0},{"$f":"+G57*C57","v":0},{"$f":"+E57-G57","v":0},{"$f":"+I57*C57","v":0}]
[null,"doplačilo za enoslojno oblaganje z GKF ploščo",380,"m2",null,{"$f":"+E58*C58","v":0},{"$f":"+E58*MM","v":0},{"$f":"+G58*C58","v":0},{"$f":"+E58-G58","v":0},{"$f":"+I58*C58","v":0}]
[]
[]
["3","Dobava in montaža predelnih montažnih mavčno kartonskih sten (kot npr. sistem knauf  W115W ali enakovredno), (Stene označene kot MS3) - Predelne stene po sistemu Knauf W 115W skupne debeline 290 mm. Sestavljena iz dvojne podkonstrukcije CW50 z vmesno predelno oblogo in obojestransko dvoslojna obloga iz mavčno kartonskih plošč 2x12,5mm. Vmesni sloj toplotna izolacija Knauf insulation Knauf Insulation NaturBoard FIT-G debeline 2x50 mm.\nDebelina stene: 290mm\nPodkonstrukcija: pocinkani kovinski C profili 50 mm, z uporabo tesnilnega traku. Razmak vertikalnih CW profilov 625 mm, debeline pločevine 0,6 mm\nIzolacija: mineralna volna min. deb. 2x50 mm\nObloga: na obeh straneh 2x12,5 mm mavčno kartonska plošča\nFugiranje: fugirna masa in ojačitveni bandažni trak.\nVišina sten do max 4,0 m"]
[null,"b.) stene MS3",90,"m2",null,{"$f":"+E62*C62","v":0},{"$f":"+E62*MM","v":0},{"$f":"+G62*C62","v":0},{"$f":"+E62-G62","v":0},{"$f":"+I62*C62","v":0}]
[null,"doplačilo za podlaganje konstrukcije z Knauf Insulation Akustik Board d=2cm - podložni pasovi kjer se C profil stakne z Jekleno primarno konstrukcijo (količina ocenjena)(Trakt C-2nadstropje)",90,"m2",null,{"$f":"+E63*C63","v":0},{"$f":"+E63*MM","v":0},{"$f":"+G63*C63","v":0},{"$f":"+E63-G63","v":0},{"$f":"+I63*C63","v":0}]
[]
["4","Dobava in montaža predelnih montažnih mavčno kartonskih sten (kot npr. sistem knauf  W112 ali enakovredno), (Stene označene kot MS1), MS1 - Predelne stene po sistemu Knauf W 112 skupne debeline 100mm do 150 mm. Sestavljena iz enojne podkonstrukcije in obojestransko dvoslojna obloga iz mavčno kartonskih plošč 2x12,5mm. Vmesni sloj toplotna izolacija Knauf insulation Knauf Insulation NaturBoard FIT-G debeline 50-100 mm.\nDebelina stene:100-150 mm\nPodkonstrukcija: pocinkani kovinski C profili 50-100 mm, z uporabo tesnilnega traku. Razmak vertikalnih CW profilov 625 mm, debeline pločevine 0,6 mm\nIzolacija: mineralna volna min. deb. 50-100 mm\nObloga: na obeh straneh 2x12,5 mm mavčno kartonska plošča\nFugiranje: fugirna masa in ojačitveni bandažni trak.\nVišina sten do 4,60 m"]
[null,"a.) stene MS1 d=100mm",65,"m2",null,{"$f":"+E66*C66","v":0},{"$f":"+E66*MM","v":0},{"$f":"+G66*C66","v":0},{"$f":"+E66-G66","v":0},{"$f":"+I66*C66","v":0}]
[null,"a.) stene MS1 d=150mm",200,"m2",null,{"$f":"+E67*C67","v":0},{"$f":"+E67*MM","v":0},{"$f":"+G67*C67","v":0},{"$f":"+E67-G67","v":0},{"$f":"+I67*C67","v":0}]
[null,"a.) stene MS1 d=200mm",36,"m2",null,{"$f":"+E68*C68","v":0},{"$f":"+E68*MM","v":0},{"$f":"+G68*C68","v":0},{"$f":"+E68-G68","v":0},{"$f":"+I68*C68","v":0}]
[]
["5","Dobava in izvedba mavčne enostranske obloge na AB in opečne stene kot instalacijsko ravnino, stene označene kot MKV , deb. cca 7,5 cm, z mavčno kartonskimi ploščami na kovinski podkonstrukciji, pravilno in strokovno izvedena, vključno s fugiranjem stikov.\nSestava:\nPodkonstrukcija: pocinkani kovinski C profili 50 mm, z uporabo tesnilnega traku. Razmak vertikalnih CW profilov 625 mm, debeline pločevine 0,6 mm.\nIzolacija: mineralna volna deb. 50 mm (kamena volna, min30kg/m3)\nObloga: enostransko 1x12,5 mm mavčno kartonska plošča (obloga sten v elektro prostorih je iz RF mavčne plošče).\nFugiranje: fugirna masa in ojačitveni bandažni trak.\nVišina sten do 4,0 m"]
[null,null,92,"m2",null,{"$f":"+E71*C71","v":0},{"$f":"+E71*MM","v":0},{"$f":"+G71*C71","v":0},{"$f":"+E71-G71","v":0},{"$f":"+I71*C71","v":0}]
[]
["6","Dobava in montaža, ter obdelava zapiranja WC kotličkov v objektu. Izdelava dvojne podkonstrukcije, ter oblaganje geberitov kotličkov z dvojno MK oblogo. Obračun po komadu. (Načrt MKK ravnine do višine cca. 150cm)",18,"kom",null,{"$f":"+E73*C73","v":0},{"$f":"+E73*MM","v":0},{"$f":"+G73*C73","v":0},{"$f":"+E73-G73","v":0},{"$f":"+I73*C73","v":0}]
[]
["7","Dobava in montaža, ter obdelava zapiranja Jaškov v objektu po sistemu knauf 628B ali podobno. Izdelava podkonstrukcije, ter oblaganje geberitov jaška z dvojno MK oblogo.",64,"m2",null,{"$f":"+E75*C75","v":0},{"$f":"+E75*MM","v":0},{"$f":"+G75*C75","v":0},{"$f":"+E75-G75","v":0},{"$f":"+I75*C75","v":0}]
[null,"Doplačilo za izvedbo GKF plošč. ",64,"m2",null,{"$f":"+E76*C76","v":0},{"$f":"+E76*MM","v":0},{"$f":"+G76*C76","v":0},{"$f":"+E76-G76","v":0},{"$f":"+I76*C76","v":0}]
[]
["8","Doplačilo za izvedbo ojačitvenega UA vratnega profila"]
[null,null,250,"m1",null,{"$f":"+E79*C79","v":0},{"$f":"+E79*MM","v":0},{"$f":"+G79*C79","v":0},{"$f":"+E79-G79","v":0},{"$f":"+I79*C79","v":0}]
[]
["9","Dobava in izvedba mavčne enostranske obloge iz Perforiranih MK plošč kot npr.Knauf Cleaneo Akustik 6/18R na AB in opečne stene dvorane, stene označene kot MKO1 , deb. cca 6,25 cm, z mavčno kartonskimi ploščami na kovinski podkonstrukciji, pravilno in strokovno izvedena, vključno s fugiranjem stikov.\nSestava:\nPodkonstrukcija: pocinkani kovinski C profili 50 mm, z uporabo tesnilnega traku. Razmak vertikalnih CW profilov 625 mm, debeline pločevine 0,6 mm.\nIzolacija: mineralna volna deb. 50 mm (kamena volna npr.NaturBoard FIT-G)\nObloga: perforirana enostranska 1x12,5 mm mavčno kartonska plošča\nFugiranje: fugirna masa in ojačitveni bandažni trak.\nVišina sten do 4,60 m"]
[null,null,45,"m2",null,{"$f":"+E82*C82","v":0},{"$f":"+E82*MM","v":0},{"$f":"+G82*C82","v":0},{"$f":"+E82-G82","v":0},{"$f":"+I82*C82","v":0}]
[]
["10","Dobava in izvedba mavčne enostranske obloge iz MK plošč na AB in opečne stene dvorane, stene označene kot MKO2 , deb. cca 6,25 cm, z mavčno kartonskimi ploščami na kovinski podkonstrukciji, pravilno in strokovno izvedena, vključno s fugiranjem stikov.\nSestava:\nPodkonstrukcija: pocinkani kovinski C profili 50 mm, z uporabo tesnilnega traku. Razmak vertikalnih CW profilov 625 mm, debeline pločevine 0,6 mm.\nIzolacija: mineralna volna deb. 50 mm (kamena volna npr.NaturBoard FIT-G)\nObloga: perforirana enostranska 1x12,5 mm mavčno kartonska plošča\nFugiranje: fugirna masa in ojačitveni bandažni trak.\nVišina sten do 4,60 m"]
[null,null,48,"m2",null,{"$f":"+E85*C85","v":0},{"$f":"+E85*MM","v":0},{"$f":"+G85*C85","v":0},{"$f":"+E85-G85","v":0},{"$f":"+I85*C85","v":0}]
[]
[null,"STROPOVI"]
[]
["11","Dobava in montaža polnega mavčnega stropu, poz.MS1 \npo sistamu Knauf  D112.si. predviden na območju robnih delov pisarn in delno po hodnikih. Mavčne plošče se privijačijo na podkonstrukcijo iz jeklenih profilov CD 60/27 ali klobučnih profilov. Podkonstrukcija sestoji iz nosilnih in montažnih profilov (dvonivojska podkonstrukcija). Dvonivojska podkonstrukcija se na stropno ploščo pritrdi s sistemskimi obešali, klobučni profili se pritrdijo direktno. Obloga je enoslojna iz GKB plošč. Stiki med ploščami so kitani in bandažirani. Cena zajema izreze odprtin različnih oblik in velikosti za svetila, vključno z vsemi potrebnimi odri in prenosi ter transporti, RAL9010"]
[null,null,593,"m2",null,{"$f":"+E90*C90","v":0},{"$f":"+E90*MM","v":0},{"$f":"+G90*C90","v":0},{"$f":"+E90-G90","v":0},{"$f":"+I90*C90","v":0}]
[]
["12","Dobava in montaža absorbcijskega spuščenega stropa, poz.MS2 Ecophon Hygiene Performance PlusA, izgrajenega iz enonivojske kovinske konstrukcije iz glavnih ter prečnih nosilcev širine 15 mm – obešenih v primarni strop z obešali za spuščanje do 0,5 m. V konstrukcijo so vložene snemljive mineralne plošče dimenzije 600/600mm , RAL9010"]
[null,null,77,"m2",null,{"$f":"+E93*C93","v":0},{"$f":"+E93*MM","v":0},{"$f":"+G93*C93","v":0},{"$f":"+E93-G93","v":0},{"$f":"+I93*C93","v":0}]
[]
["13","Dobava in montaža absorbcijskega spuščenega stropa, poz.MS3 Knauf Cleaneo Akustik 8/18, izgrajenega iz enonivojske kovinske konstrukcije iz glavnih ter prečnih nosilcev širine 15 mm –  obešenih v primarni strop z obešali za spuščanje do 0,5 m. V konstrukcijo so vložene snemljive mineralne plošče v rastru dimenzije 600/600mm , RAL9010"]
[null,null,350.8,"m2",null,{"$f":"+E96*C96","v":0},{"$f":"+E96*MM","v":0},{"$f":"+G96*C96","v":0},{"$f":"+E96-G96","v":0},{"$f":"+I96*C96","v":0}]
[]
["14","Dobava in montaža absorbcijskega spuščenega stropa, poz.MS4 Knauf Cleaneo Akustik 8/18, izgrajenega iz enonivojske kovinske konstrukcije iz glavnih ter prečnih nosilcev širine 15 mm –  obešenih v primarni strop z obešali za spuščanje do 0,5 m. V konstrukcijo so vložene snemljive mineralne plošče v rastru dimenzije  , RAL9010"]
[null,null,62.5,"m2",null,{"$f":"+E99*C99","v":0},{"$f":"+E99*MM","v":0},{"$f":"+G99*C99","v":0},{"$f":"+E99-G99","v":0},{"$f":"+I99*C99","v":0}]
[]
["15","Dobava in montaža kovinskih lamelnih stropov, poz.MS5 \nPredviden je v avli in sejni dvorani,Akustični spuščen kovinski lamelni strop,(npr. akustični paneli Metal Buffeles, širina baffla 30mm, višina baffla 200 mm, po sistemu npr. Atena, osni raster lamel 15 cm, Polnilo je iz mineralne volne (25kg/m3) z črnim filcem na obeh straneh), v videzu lesa - L04- light maple. – Marjan spremeni v popisu!!\nNad lamelnim stropom so položeni sloji mineralne volne, debeline 10 cm, gostote 40-70 kg/m3 (npr. Knauf NaturBoard VENTI). Plošče naj so obojekstransko kaširane z voalom (barva črna) oz. melaminska pena v ploščah. Podlaga kot je AB strop. "]
[null,null,95,"m2",null,{"$f":"+E102*C102","v":0},{"$f":"+E102*MM","v":0},{"$f":"+G102*C102","v":0},{"$f":"+E102-G102","v":0},{"$f":"+I102*C102","v":0}]
[]
["16","Dobava in montaža akustičnih stropnih jader, poz.MS6, kot npr.AMF Thermatex (Sonic-Element), okrogle izvedbe, obešenih na jeklenice, sidrane v primarno stropno betonsko ali jekleno konstrukcijo, z vsem potrebnim veznim in pritrdilnim materialom po navodilih proizvajalca, fi max 1200mm (količina ocenjena), RAL9010"]
[null,null,14,"m2",null,{"$f":"+E105*C105","v":0},{"$f":"+E105*MM","v":0},{"$f":"+G105*C105","v":0},{"$f":"+E105-G105","v":0},{"$f":"+I105*C105","v":0}]
[]
["17","Dobava in montaža akustičnih stropnih jader, poz.MS7, kot npr.AMF Thermatex (Sonic-Modern), pravokotne izvedbe, obešenih na jeklenice, sidrane v primarno stropno betonsko ali jekleno konstrukcijo, z vsem potrebnim veznim in pritrdilnim materialom po navodilih proizvajalca, dim max 2400/1800mm, RAL9010"]
[null,null,52,"m2",null,{"$f":"+E108*C108","v":0},{"$f":"+E108*MM","v":0},{"$f":"+G108*C108","v":0},{"$f":"+E108-G108","v":0},{"$f":"+I108*C108","v":0}]
[]
[null," B7. SUHOMONTAŽNA DELA",null,null,null,{"$f":"SUM(F5:F109)","v":0},null,{"$f":"SUM(H5:H109)","v":0},null,{"$f":"SUM(J5:J109)","v":0}]

{"sheet":"CDE-  B8 SLIKOPLESKARSKA DELA","index":84,"n_rows":58,"n_cols":10,"rows_kept":58,"cut":false,"hidden":false,"merged":[]}
[null,"Objekt C, D in E,  B8. SLIKOPLESKARSKA DELA"]
[]
["ZAP. ŠT.","OPIS","KOLIČUNA","ME","CENA/ENOTO","SKUPAJ","POPUST","POPUST SKUPAJ","CENA/ENOTO S POPUSTOM","SKUPAJ S POPUSTOM"]
[]
[null,"Splošno:"]
[null,"V slikopleskarskih  delih so zajeta slikanja notranjih  sten in stropov."]
[null,"lzvajanje del in vsi uporabljeni materiali morajo po kvaliteti ustrezati veljavnim SIST -om. Material mora biti kvaliteten, pravilno pakiran in pravilno shranjen."]
[null,"Tolerance gladkosti in enakomernosti površin morajo ustrezati standardu DIN 18202."]
[]
[null,"lzvajalec  slikarskih  del mora pred pričetkom dela pregledati vse površine, ki bodo slikane  in opozoriti izvajalca gradbenih del,  da se odstranijo eventuelne pomanjkljivosti, ki jih je opazil in katere bi utegnile kvarno vplivati na brezhibno izvršitev in kvaliteto slikarskih del."]
[null,"Kvaliteta izvršenega dela mora biti brezhibna."]
[null,"Vse slikane površine morajo biti enakomerne,  brez temnih ali svetlih lis, madezev, sledov po čopicu ali podobnih pomanjkljivosti."]
[null,"Barve  oziroma  barvne  odtenke  odobri  projektant. lzvajalec mora na zahtevo projektanta napraviti brezplačne vzorce."]
[null,"lzvajalec slikarskih del mora strogo paziti na to, da s svojim delom ne poškoduje ali onesnaži izdelkov drugih izvajalcev, po potrebi mora le-te ustrezno zaščititi. lzlivanje  barv, beleža  in drugega  slikarskega materiala v vodovodne ali straniščne školjke ni dovoljeno, za škodo odgovarja izvajalec slikarskih del, prav tako odgovarja za škodo, ki bi nastala zaradi nepazljivosti ali malomarnega dela."]
[]
[null,"ENOTNA CENA MORA VSEBOVATI:"]
[null,"* vsa potrebna pripravljalna dela in čiščenje podlog"]
[null,"* merjenje na objektu"]
[null,"* vse potrebne transporte do mesta vgrajevanja"]
[null,"* skladiščenje materiala na gradbišču"]
[null,"* preizkušanje kvalitete za vse materiale, ki se vgrajujejo in dokazovanje kvalitete z atesti"]
[null,"* usklajevanje z osnovnim načrtom in posvetovanje s projektantom"]
[null,"* ves potreben glavni in pomožni material"]
[null,"* vsa potrebna pomožna sredstva za delo na objektu kot so lestve, odri in podobno"]
[null,"* terminsko usklajevanje del z ostalimi izvajalci na objektu"]
[null,"* popravilo eventuelno povzročene škode ostalim izvajalcem na gradbišču"]
[null,"* popravilo eventuelno povzročene škode ostalih že vgrajenih erementov na objektu"]
[null,"* čiščenje prostorov in odvoz odpadnega meteriala na stalno deponijo in plačilo takse"]
[null,"* zaščita izdelekov pred poškodbami do predaje naročnikli del"]
[null,"* vsa dela in ukrepe po določilih zakona o varstvu pri delu"]
[]
[null,"OBRAČUN KOLIČINE"]
[null,"Obračun  se vrši v merskih  enotah  v postavkah,  izmere količin  se obračunavajo  v skladu  z veljavnimi normativi."]
[null,"Odprtine do 3,00 m2 niso odštete zaradi obdelave špalet. Pri večjih odprtinah od 3,00 m2 je odšteta razlika nad 3,00m2. Upoštevano je beljenje sten do 10 cm nad spuscenim stropom."]
[null,"Količine  je potrebno preveriti z ozirom  na vgrajeno opremo,  v izračunu količin v popisu oprema ni upostevana (beljenje tudi pod opremo)!"]
[]
[null,"Enotna  cena  mora zajeti izdelavo  vseh potrebnih  detajlov in dopolnilnih  del, katera je potrebno izvesti za dokončanje  posameznih del, tudi če potrebni detajli in zaključki niso podrobno navedeni in opisani v popisu del, in so ta dopolnila nujna za pravilno funkcioniranje posameznih sistemov in elementov objekta."]
[]
[null,"V c.e.m. je potrebno upoštevati notranje, premične in dvižne delovne odre in ploščadi, čiščenje po posameznih fazah dela, ter odvoz odpadkov na deponijo!"]
[]
["1","2x slikanje betonskih površin z disperzijsko barvo, s predhodnim kitanjem s plastičnim kitom in brušenjem. Površina mora biti ravna, gladka in enakomerno pobarvana. Barva RAL 9010 \nV količinah so zajete vse vidne betonske površine stene, ter stropovi in spodnje stranice stopnišča.\nOPOMBA:\nBrušenje stikov AB površin in evtl. izravnava sta zajeti v postavki zidarskih del.\n"]
[null,"a.) AB stene: ",4105,"m2",null,{"$f":"+E42*C42","v":0},{"$f":"+E42*MM","v":0},{"$f":"+G42*C42","v":0},{"$f":"+E42-G42","v":0},{"$f":"+I42*C42","v":0}]
[null,"b.) AB Stropovi: ",1495,"m2",null,{"$f":"+E43*C43","v":0},{"$f":"+E43*MM","v":0},{"$f":"+G43*C43","v":0},{"$f":"+E43-G43","v":0},{"$f":"+I43*C43","v":0}]
[]
["2","2x slikanje ometanih površin s disperzijsko barvo, s predhodnim kitanjem s plastičnim kitom in brušenjem. Površina mora biti ravna, gladka in enakomerno pobarvana. Barva RAL9010\n"]
[null,"a.) Stene: ",325,"m2",null,{"$f":"+E46*C46","v":0},{"$f":"+E46*MM","v":0},{"$f":"+G46*C46","v":0},{"$f":"+E46-G46","v":0},{"$f":"+I46*C46","v":0}]
[]
["3","2x slikanje mavčnih sten in stropov s disperzijsko barvo, s predhodnim kitanjem in pripravo površine. Površina mora biti ravna, gladka in enakomerno pobarvana. Barva RAL 9010"]
[null,null,3656,"m2",null,{"$f":"+E49*C49","v":0},{"$f":"+E49*MM","v":0},{"$f":"+G49*C49","v":0},{"$f":"+E49-G49","v":0},{"$f":"+I49*C49","v":0}]
[]
["4","Doplačilo za slikanje sten s pralno mat barvo. \nVključno s predhodno pripravo površine (evtl kitanje in brušenje), čiščenje in impregniranje z razredčeno poldisperzijsko barvo.  Količina ocenjena."]
[null,null,1000,"m2",null,{"$f":"+E52*C52","v":0},{"$f":"+E52*MM","v":0},{"$f":"+G52*C52","v":0},{"$f":"+E52-G52","v":0},{"$f":"+I52*C52","v":0}]
[]
["5","2x slikanje betonskih sten in stropov s črno disperzijsko barvo, brez  kitanja in pripravo površine. Območje spuščenega montažnega stropa v dvorani. Strop in zaokrožitev do nivoja spuščenega stropa cca 50 cm rob stene."]
[null,null,150,"m2",null,{"$f":"+E55*C55","v":0},{"$f":"+E55*MM","v":0},{"$f":"+G55*C55","v":0},{"$f":"+E55-G55","v":0},{"$f":"+I55*C55","v":0}]
[]
[]
[null,"B8. SLIKOPLESKARSKA DELA",null,null,null,{"$f":"SUM(F5:F57)","v":0},null,{"$f":"SUM(H5:H57)","v":0},null,{"$f":"SUM(J5:J57)","v":0}]

{"sheet":"CDE-  B9 FASADA","index":85,"n_rows":64,"n_cols":10,"rows_kept":64,"cut":false,"hidden":false,"merged":[]}
[null,"Objekt C, D in E,  B9. FASADA"]
[]
["ZAP. ŠT.","OPIS","KOLIČUNA","ME","CENA/ENOTO","SKUPAJ","POPUST","POPUST SKUPAJ","CENA/ENOTO S POPUSTOM","SKUPAJ S POPUSTOM"]
[]
[null,"Splošna določila:"]
[null,"V kolikor v posameznih pozicijah ni drugače podano, veljajo v nadaljevanju navedena določila:"]
[null,"Etaže:"]
[null,"Vse pozicije veljajo neglede na različnost etaž."]
[null,"Dopustna odstopanja:"]
[null,"Kot mejna dopustna odstopanja za pravokotnost, površinsko ravnost in dimenzije gradbenih elementov veljajo določila"]
[null,"DIN 18202, Toleranzen im Hochbau"]
[null,"Obračun:"]
[null,"Kompletno fasado izdelati po navodilu proizvajalca fasade. V ceni je upoštevati obdelavo okenskih in vratnih špalet pri odprtinah velikosti do 3,00 m2. Odprtine do 3,00 m2 se ne odštevajo."]
[null,"Pri večjih odprtinah od 3,00 do 5,00 m2 se razlika nad 3,00m2  odšteva, pri odprtinah večjih od 5,00 m2 se razlika nad 3,00m2 odšteva in se količini doda obdelava špalet."]
[null,"Stik stena-strop :"]
[null,"V kolikor v posameznih pozicijah ni drugače podano, se stik stena-strop izvaja pod kotom 90° z ostrim robom brez utora."]
[null,"Čiščenje :"]
[null,"Priprava površine za nanos fasadnih slojev zajema tudi čiščenje površine zaradi prahu in ostalih gradbenih nečistoč in"]
[null,"se ne zaračunava posebej ampak je zajeto v ceni na  enoto mere."]
[null,"Zaščita:"]
[null,"Zaščito oken, vrat, polic in podobnega pred onesnaženjem je vkalkulirati v c.e.m.."]
[null,"Alu fasadni profili :"]
[null,"Samo profili za prekrivanje dilatacij in profili vgrajeni na izrecno željo investitorja se obračunavajo posebej"]
[null,"vsi ostali vogalni in drugi zaščitni profili so zajeti v ceni po  enoti mere ( m2 ) in se ne obračunavajo posebej."]
[null,"Kvaliteta termo-izolacijskega materiala :"]
[null,"negorljivost v razredu  A1 po DIN 4102  T.1"]
[null,"Mehansko pritrjevanje fasadnih plošč s stališča požarne varnosti:"]
[null,"Proizvajalec sistema kontaktne tankoslojne fasade mora za svoj sistem predložiti dokazilo o ustreznosti"]
[null,"glede protipožarnih zahtev za fasado po DIN -normah."]
[null,"V c.e.m. zajeti vse stroške za dilatacije, delovne stike, dilatacije objekta, dilatacije ob zaključkih fasade."]
[]
[null,"Enotna  cena  mora zajeti izdelavo  vseh potrebnih  detajlov in dopolnilnih  del, katera je potrebno izvesti za dokončanje  posameznih del, tudi če potrebni detajli in zaključki niso podrobno navedeni in opisani v popisu del, in so ta dopolnila nujna za pravilno funkcioniranje posameznih sistemov in elementov objekta."]
[]
[null,"Opomba:\nFasada bo izvedena kot celota in mora zajemati izvedbo vseh zaključkov, obrob, tesnilni in pritrdilni material. V kolikor v posameznih postavkah skriti detajli niso opisani in zajeti, je izvajalec dolžan pri oddaji ponudbe predvideti izvedbo fasade kot zaključeno celoto in k temu podati izvedbene detajle in delovne risbe (ki jih potrdi arhitekt). Dodatna dela ne bodo posebej priznana. v c.e.m. je potrebno upoštevati tudi postavitev vseh potrebnih dodatnih odrov, razen fasadnega odra (ki je zajet v postavki A5.1)."]
[]
["1","Dobava in montaža obešene prezračevane fasade iz velikoformatnih fasadnih plošč ESAL swisspearl Linearis ali enakovredno, Sestava F1 - Trakt C,sestava iz:\n'-Izdelava, dobava ter montaža alu podkonstrukcije sestavljena iz konzol s termostopom ter vetrikalnih Alu letev (napr. Hilti Eurofox ali enakovredno). Odmik vertikalnih profilov od betonske podlage je 20-25 cm. Upoštevajo se T vertikalni profili širine 120 mm in L vertikalni profili širine 45 mm. Pri montaži Alu podkonstrukcije  moramo zagotoviti fiksna in drsna mesta pritrditve profilov. Na podkonstrukcijo se montira in nabavi toplotno izolacijo kaširana s steklenim ovalom v skupni debelini 16 cm (napr. Knauf insulation NATURBOARD VENTI ali enakovredno) in paropropustno folijo 200 g (kot npr. Tayvek)."]
[null,"-Dobava in montaža vlaknocementnih fasadnih plošč barvanih v masi debeline 8 mm (enakovredno Swisspearl LARGO, ZENOR 15015). Plošče imajo požarno klasifikacijo A2-s1, d0 in gostoto večjo od 1,7g/cm3.  Plošče so  horizontalno usmerjene in so položene skladno s sistemom montaže Linearis, ena barva, zamik fuge na 75cm, dolžina pasov 150 cm, širina pasov 15 cm. Na Alu podkonstrukcijo se pritrjujejo s kovicami AlMg3 4,0x18 – K15 v barvi plošč. Odprte fuge - 5mm. Pri pritrjevanju plošč je potrebno upoštevati fiksne in pomične točke pritrjevanja skladno z navodili dobavitelja. Na zgornjem in spodnjem robu fasade se izvede reža za zajem oz. izpust zraka, ki se zaščiti z Alu perforiranim profilom 30x50 mm.  "]
[null,"- maloformatne fasadne plošče Swisspearl,\n  npr.Largo-Zenor 15015","0","m2"]
[]
["2","Dobava in izvedba kontaktne fasade na stenah objekta, v sledeči sestavi: \n- Toplotna izolacija iz kamene volne deb. 16 cm (npr.Knauf Insolation FKL ali enakovredno),  lepljena in sidrana v steno po navodilih proizvajalca sistema fasade. \n- Zaključni sloj - tankoslojna kontaktna fasada (silikatni omet 0.2cm,  kot npr. Baumit ali enakovredno).  Zaključni silikatni sloj je barvan v masi, RAL 9002 – ubito bela, vključno s predhodnim nanosom armiranega sloja z gradbenim lepilom (2x1,5 mm) in vmesnim armirnim slojem s PVC mrežico. Kompletna izvedba, vključno z obdelavo vseh vencov in zaključkov, ter evtl izvedbo odkapov,...\nGlej splošne opombe za izvedbo fasade.\nSestava F2 -Trakt D, Sestava F1 - Trakt E"]
[null,"a) Kontaktna fasada deb. 16 cm:  ","0","m2"]
[null,"b) PVC odkapni profili:  ","0","m1"]
[null,"c) Ločilni profili med izolacijo iz XPS (cokl) in kameno volno:  ","0","m1"]
[]
["3","Dobava in izvedba kontaktne fasade - kletnega dela stavbe, na spodnjem delu obodnih sten, do višine 0,0 v sledeči sestavi: \n- Toplotna izolacija XPS deb. 16 cm (FragmatXPS 300 NI ali enakovredno), lepljena in sidrana v AB steno. Toplotna izolacija je lepljena na hidroizolacijo s kompatibilnim lepilom (Bitufix ali enakovredno). Mehansko se lahko TI plošče pritrdijo 15cm nad terenom.\n- Zaključni sloj - klasični omet, vključno s predhodnim nanosom armiranega sloja s PVC mrežico in gradbenim lepilom deb. cca 3 mm, vključno z oblaganjem z gumbasto membrano kot zaščito ob zasutju\n\nGlej splošne opombe za izvedbo fasade!\nSestava F3a.Trakt D"]
[null,null,"0","m2"]
[]
["4","Dobava in izvedba kontaktne fasade - cokla, na spodnjem delu obodnih sten, do višine cca 30 cm nad terenom v sledeči sestavi: \n- Toplotna izolacija XPS deb. 16 cm (FragmatXPS 300 NI ali enakovredno), lepljena in sidrana v AB steno. Toplotna izolacija je lepljena na hidroizolacijo s kompatibilnim lepilom (Bitufix ali enakovredno). Mehansko se lahko TI plošče pritrdijo 15cm nad terenom.\n- Zaključni sloj - tankoslojna kontaktna fasada (mozaik omet), vključno s predhodnim nanosom armiranega sloja s PVC mrežico in gradbenim lepilom deb. cca 3 mm, vključno z obdelavo vseh vencov in zaključkov, ter evtl izvedbo odkapov,...\n\nGlej splošne opombe za izvedbo fasade!\nSestava F4-Trakt D, Sestava F4 - Trakt C, Sestava F3 - Trakt E"]
[null,null,"0","m2"]
[]
["5","Dobava in izvedba kontaktne fasade na stenah objekta, v sledeči sestavi: \n- Toplotna izolacija iz kamene volne deb. 16 cm (npr.Knauf Insolation FKL ali enakovredno),  lepljena in sidrana v steno po navodilih proizvajalca sistema fasade. \n- Zaključni sloj - tankoslojna kontaktna fasada (silikatni omet 0.2cm,  kot npr. Baumit ali enakovredno).  Zaključni silikatni sloj je barvan v masi, RAL 9002 – ubito bela, vključno s predhodnim nanosom armiranega sloja z gradbenim lepilom (2x1,5 mm) in vmesnim armirnim slojem s PVC mrežico. Kompletna izvedba, vključno z obdelavo vseh vencov in zaključkov, ter evtl izvedbo odkapov,...\nGlej splošne opombe za izvedbo fasade.\nSestava F6, Trakt C"]
[null,"a) Kontaktna fasada deb. 16 cm:  ","0","m2"]
[null,"b) PVC odkapni profili:  ","0","m1"]
[null,"c) Ločilni profili med izolacijo iz XPS (cokl) in kameno volno:  ","0","m1"]
[]
["6","Dobava in izvedba kontaktne fasade na stenah objekta, v sledeči sestavi:                                                                                 - OSB/3 plošča d=1,5cm impregnirana proti vlagi, vijačena na obstoječo jekleno podkonstukcijo\n- Toplotna izolacija iz kamene volne deb. 16 cm (npr.Knauf Insolation FKL ali enakovredno), lepljena in sidrana v steno po navodilih proizvajalca sistema fasade.                                                                                  \n- Zaključni sloj - tankoslojna kontaktna fasada (silikatni omet 0.2cm,  kot npr. Baumit ali enakovredno).  Zaključni silikatni sloj je barvan v masi, RAL 9002 – ubito bela, vključno s predhodnim nanosom armiranega sloja z gradbenim lepilom (2x1,5 mm) in vmesnim armirnim slojem s PVC mrežico. Kompletna izvedba, vključno z obdelavo vseh vencov in zaključkov, ter evtl izvedbo odkapov,...\nGlej splošne opombe za izvedbo fasade.\nSestava F7 -Trakt C - 2 nadstropje"]
[null,"a) Kontaktna fasada deb. 16 cm:  ","0","m2"]
[null,"b) PVC odkapni profili:  ","0","m1"]
[]
[]
["7","Dobava in montaža obrob oken in vrat iz 2mm debele prašno barvane Alu\n pločevine r.š. do 28 cm, na Z fasadi v prostoru N1D_02 pa do 63 cm. Pločevine v barvi katero potrdi projektant na osnovi dostavljenega vzorca. Komplet  z vsemi pripravljalnimi ter pomožnimi deli, količina ocenjena"]
[null,null,"0","m1"]
[]
[null,"B9. FASADA",null,null,null,{"$f":"SUM(F4:F63)","v":0},null,{"$f":"SUM(H4:H63)","v":0},null,{"$f":"SUM(J4:J63)","v":0}]

{"sheet":"CDE-  B10 DVIGALO","index":86,"n_rows":14,"n_cols":10,"rows_kept":14,"cut":false,"hidden":false,"merged":[]}
[null,"Objekt C, D in E,  B10. DVIGALO"]
[]
["ZAP. ŠT.","OPIS","KOLIČUNA","ME","CENA/ENOTO","SKUPAJ","POPUST","POPUST SKUPAJ","CENA/ENOTO S POPUSTOM","SKUPAJ S POPUSTOM"]
[]
["1","Dobava in montaža osebnega dvigala (kot npr. OTIS), dvigalo z naslednjimi karakteristikami:\nnazivna nosilnost in hitrost; 630 kg ali 8 oseb; 1,0 m/s\nvišina dviga 4,0 m\nštevilo postaj in dostopov 2/2, neprehodna kabina\n\nkrmilje; mikroprocesorsko, simplex, zbirno navzdol (DCL), požarna evakuacijska vožnja, avtomatsko reševanje v primeru izpada omrežne napetosti. Krmilna omara je nameščena v najvišji postaji poleg vrat.\n\npogon; digitalno frekvenčno regulirani sinhroni brezreduktorski motor s permanentnimi magneti ter brezazbestno zavoro, regenerativni pogonski sistem,  nosilna sredstva so patentirani ploščati POLIURETANSKI TRAKOVI z do trikrat daljšo življenjsko dobo kot jeklene vrvi, opremljeni so s stalnim elektronskim nadzorom izrabljenosti, priključna moč dvigala P=5,4kW, moč motorja Pm=3,9kW\n\ndimenzije kabine (š x g x v)1100 x 1400 x 2200 mm\n\nvrata kabine avtomatska;, dvodelna teleskopska, 900 x 2100 mm frekvenčno regulirani pogon, krila iz brušene inox pločevine, zaščita potnikov pred ukleščenjem z infrardečo svetlobno zaveso. \n \nvrata jaška; avtomatska, dvodelna teleskopska, 900 x 2100 mm, krila in okvir (MRF150) iz brušene inox  pločevine, brez povečane požarne odpornosti\n\n"]
[null,"oprema kabine; raven inox strop z LED razsvetljavo, stene iz brušene inox pločevine, na eni stranski steni je okrogel ročaj s premerom 33 mm (držalo brušeno nerjaveče jeklo, zaobljeni nosilci so zrcalno polirani), na zadnji steni nad višino ročaja ogledalo po celi širini kabine, tla kamen ali keramika – obveza naročnika, na eni bočni steni je nameščeno inox  kabinsko tipkalo (LCD pokazatelj položaja kabine, okrogle tipke z Braillovo pisavo, tipka za odpiranje vrat, tipka za zapiranje vrat, tipka za alarm, stikalo na ključ za prednostno vožnjo  prostoročna telefonska povezava s klicnim centrom vključno z GSM modulom), avtomatski ventilator\n\nzunanja tipkala in pokazatelji; v vsaki postaji stikalo na ključ za poziv in kazalnik položaja kabine in smeri nadaljnje vožnje, signalizacija nameščena na okvir vrat\n\nvrsta in dimenzije jaška (š x g); samostojni betonski jašek (obveza naročnika); 1900 x 1800 mm, montaža vrat v jašek\n\nvišina vrha jaška;\t3400 mm (merjeno od gotovega poda do vrha jaška)\n\nglobina jame jaška; 1000 mm (merjeno od gotovega poda do dna jaška)\n\npohodni prostori pod jaškom; ne \n\ndodatna oprema;\trazsvetljava jaška, lestev za dostop v jamo jaška in vtičnica na strehi kabine"]
[]
[null,null,1,"kpl",null,{"$f":"+E8*C8","v":0},{"$f":"+E8*MM","v":0},{"$f":"+G8*C8","v":0},{"$f":"+E8-G8","v":0},{"$f":"+I8*C8","v":0}]
[]
["2","Dobava in montaža kuhinjskega tovornega dvigala (kot npr.Otis)\nnazivna nosilnost in hitrost 630 kg ali 8 oseb; 1,0 m/s\nvišina dviga 2,90 m\n\nštevilo postaj in dostopov; 2/3, prehodna kabina ( v pritličju dostop spredaj in zadaj)\n\nkrmilje; mikroprocesorsko, simplex, zbirno navzdol (DCL), požarna evakuacijska vožnja, avtomatsko reševanje v primeru izpada omrežne napetosti. Krmilna omara je nameščena v najvišji postaji poleg vrat.\n\npogon;\tdigitalno frekvenčno regulirani sinhroni brezreduktorski motor s permanentnimi magneti ter brezazbestno zavoro, regenerativni pogonski sistem,  nosilna sredstva so patentirani ploščati POLIURETANSKI TRAKOVI z do trikrat daljšo življenjsko dobo kot jeklene vrvi, opremljeni so s stalnim elektronskim nadzorom izrabljenosti, priključna moč dvigala P=5,4kW, moč motorja Pm=3,9kW\n\ndimenzije kabine; (š x g x v) 1100 x 1400 x 2200 mm\n\nvrata kabine; avtomatska, dvodelna teleskopska, 900 x 2100 mm frekvenčno regulirani pogon, krila iz brušene inox pločevine, zaščita potnikov pred ukleščenjem z infrardečo svetlobno zaveso. \n \nvrata jaška; avtomatska, dvodelna teleskopska, 900 x 2100 mm, krila in okvir (MRF150) iz brušene inox  pločevine, brez povečane požarne odpornosti\n\n"]
[null,"oprema kabine; raven inox strop z LED razsvetljavo, stene iz brušene inox pločevine, na eni stranski steni je okrogel ročaj s premerom 33 mm (držalo brušeno nerjaveče jeklo, zaobljeni nosilci so zrcalno polirani), brez ogledala, tla kamen ali keramika – obveza naročnika, na eni bočni steni je nameščeno inox  kabinsko tipkalo (LCD pokazatelj položaja kabine, okrogle tipke z Braillovo pisavo, tipka za odpiranje vrat, tipka za zapiranje vrat, tipka za alarm, stikalo na ključ za prednostno vožnjo  prostoročna telefonska povezava s klicnim centrom vključno z GSM modulom), avtomatski ventilator\n\nzunanja tipkala in pokazatelji; v vsaki postaji pozivna tipka in kazalnik položaja kabine in smeri nadaljnje vožnje, signalizacija nameščena na okvir vrat\n\nvrsta in dimenzije jaška (š x g); samostojni betonski jašek (obveza naročnika); 1600 x 1890 mm, montaža vrat v jašek\n\nvišina vrha jaška; 3400 mm (merjeno od gotovega poda do vrha jaška)\n\nglobina jame jaška; 1000 mm (merjeno od gotovega poda do dna jaška)\n\npohodni prostori pod jaškom;\tne \n\ndodatna oprema; razsvetljava jaška, lestev za dostop v jamo jaška in vtičnica na strehi kabine"]
[null,null,1,"kpl",null,{"$f":"+E12*C12","v":0},{"$f":"+E12*MM","v":0},{"$f":"+G12*C12","v":0},{"$f":"+E12-G12","v":0},{"$f":"+I12*C12","v":0}]
[]
[null,"B10. DVIGALO",null,null,null,{"$f":"SUM(F4:F13)","v":0},null,{"$f":"SUM(H4:H13)","v":0},null,{"$f":"SUM(J4:J13)","v":0}]

{"sheet":"CDE-G. REKAP. ZUNANJA UREDITEV","index":87,"n_rows":25,"n_cols":5,"rows_kept":25,"cut":false,"hidden":false,"merged":[]}
["Investitor:   ","Mestna občina Ljubljana"]
[null,"Konzorcij družb Petrol d. d. in Resalta d. o. o. "]
["Objekt:      ","OŠ Savsko naselje, Matjaževa ulica 4, Ljubljana"]
[null," - Celovita prenova objekta s statično, požarno in energetsko sanacijo."]
["Štev. proj.:     "]
["Datum:      ","April 2022"]
[]
[]
[]
[]
[null,"REKAPITULACIJA"]
[null,"ZUNANJA UREDITEV  objekta C, D in E"]
[]
[]
[null,"Ponudbena vrednost - skupna rekapitulacija","Vrednost  brez popusta","Popust","Vrednost s popustom"]
[{"$f":"'CDE-  ZUNANJA UREDITEV'!$A$5","v":"1."},{"$f":"'CDE-  ZUNANJA UREDITEV'!$B$5","v":"PREDDELA"},{"$f":"'CDE-  ZUNANJA UREDITEV'!$F$83","v":0},{"$f":"'CDE-  ZUNANJA UREDITEV'!$H$83","v":0},{"$f":"'CDE-  ZUNANJA UREDITEV'!$J$83","v":0}]
[{"$f":"'CDE-  ZUNANJA UREDITEV'!$A$87","v":"2."},{"$f":"'CDE-  ZUNANJA UREDITEV'!$B$87","v":"ZEMELJSKA DELA"},{"$f":"'CDE-  ZUNANJA UREDITEV'!$F$152","v":0},{"$f":"'CDE-  ZUNANJA UREDITEV'!$H$152","v":0},{"$f":"'CDE-  ZUNANJA UREDITEV'!$J$152","v":0}]
[{"$f":"'CDE-  ZUNANJA UREDITEV'!$A$156","v":3},{"$f":"'CDE-  ZUNANJA UREDITEV'!$B$156","v":"VOZIŠČNE KONSTRUKCIJE"},{"$f":"'CDE-  ZUNANJA UREDITEV'!$F$237","v":0},{"$f":"'CDE-  ZUNANJA UREDITEV'!$H$237","v":0},{"$f":"'CDE-  ZUNANJA UREDITEV'!$J$237","v":0}]
[{"$f":"'CDE-  ZUNANJA UREDITEV'!$A$241","v":4},{"$f":"'CDE-  ZUNANJA UREDITEV'!$B$241","v":"ODVODNJAVANJE"},{"$f":"'CDE-  ZUNANJA UREDITEV'!$F$401","v":0},{"$f":"'CDE-  ZUNANJA UREDITEV'!$H$401","v":0},{"$f":"'CDE-  ZUNANJA UREDITEV'!$J$401","v":0}]
[{"$f":"'CDE-  ZUNANJA UREDITEV'!$A$405","v":5},{"$f":"'CDE-  ZUNANJA UREDITEV'!$B$405","v":"GRADBENO OBRTNIŠKA DELA"},{"$f":"'CDE-  ZUNANJA UREDITEV'!$F$465","v":0},{"$f":"'CDE-  ZUNANJA UREDITEV'!$H$465","v":0},{"$f":"'CDE-  ZUNANJA UREDITEV'!$J$465","v":0}]
[{"$f":"'CDE-  ZUNANJA UREDITEV'!$A$469","v":6},{"$f":"'CDE-  ZUNANJA UREDITEV'!$B$469","v":"OPREMA"},{"$f":"'CDE-  ZUNANJA UREDITEV'!$F$508","v":0},{"$f":"'CDE-  ZUNANJA UREDITEV'!$H$508","v":0},{"$f":"'CDE-  ZUNANJA UREDITEV'!$J$508","v":0}]
[{"$f":"'CDE-  ZUNANJA UREDITEV'!$A$512","v":7},{"$f":"'CDE-  ZUNANJA UREDITEV'!$B$512","v":"TUJE STORITVE"},{"$f":"'CDE-  ZUNANJA UREDITEV'!$F$520","v":0},{"$f":"'CDE-  ZUNANJA UREDITEV'!$H$520","v":0},{"$f":"'CDE-  ZUNANJA UREDITEV'!$J$520","v":0}]
[null,"SKUPAJ",{"$f":"SUM(C16:C22)","v":0},{"$f":"SUM(D16:D22)","v":0},{"$f":"SUM(E16:E22)","v":0}]
[null,"22% DDV",null,null,{"$f":"+E23*0.22","v":0}]
[null,"C + D + E  ZUNANJA UREDITEV  SKUPAJ Z DDV",null,null,{"$f":"+E23+E24","v":0}]

{"sheet":"CDE-  ZUNANJA UREDITEV","index":88,"n_rows":520,"n_cols":10,"rows_kept":520,"cut":false,"hidden":false,"merged":[]}
[null,"Objekt C, D in E,  ZUNANJA UREDITEV"]
[]
["ZAP. ŠT.","OPIS","     ME","KOLIČUNA","CENA/ENOTO","SKUPAJ","POPUST","POPUST SKUPAJ","CENA/ENOTO S POPUSTOM","SKUPAJ S POPUSTOM"]
[]
["1.","PREDDELA"]
[]
["11 131","Zakoličba in zavarovanje vseh obstoječih podzemnih"]
[null,"inštalacij v skladu z navodili upravljalca, vključno"]
[null,"z vsemi ukrepi za zavarovanje med gradnjo, kot"]
[null,"so poglobitve, prestavitve in razne zaščite."]
[null,"Obračun po dejanskih količinah vpisanih v "]
[null,"režijski dnevnik in računu upravljalca komunalnih "]
[null,"vodov."]
[null,"(ocena)","ur",25,null,{"$f":"+E14*D14","v":0},{"$f":"+E14*MM","v":0},{"$f":"+G14*D14","v":0},{"$f":"+E14-G14","v":0},{"$f":"+I14*D14","v":0}]
[]
["11 231","Zakoličba osi kanalizacije z lesenimi količki"]
[null,"in obveznim dvojnim zavarovanjem točk"]
[null,"(padavinska in odpadna kanalizacija)"]
[null,null,"m",280,null,{"$f":"+E19*D19","v":0},{"$f":"+E19*MM","v":0},{"$f":"+G19*D19","v":0},{"$f":"+E19-G19","v":0},{"$f":"+I19*D19","v":0}]
[]
["11 631","Posnetek višine in položaja točke na terenu/objektu"]
[null,"(količbene točke zunanje ureditve)"]
[null,null,"kos",17,null,{"$f":"+E23*D23","v":0},{"$f":"+E23*MM","v":0},{"$f":"+G23*D23","v":0},{"$f":"+E23-G23","v":0},{"$f":"+I23*D23","v":0}]
[]
["12 121","Odstranitev  grmovja na gosto porasli površini"]
[null,"(nad  50 % pokritega tlorisa) - ročno."]
[null,null,"m2",30,null,{"$f":"+E27*D27","v":0},{"$f":"+E27*MM","v":0},{"$f":"+G27*D27","v":0},{"$f":"+E27-G27","v":0},{"$f":"+I27*D27","v":0}]
[]
["12 151","Posek in odstranitev drevesa z deblom premera "]
[null,"11 do 30 cm ter odstranitev vej "]
[null,null,"kos",15,null,{"$f":"+E31*D31","v":0},{"$f":"+E31*MM","v":0},{"$f":"+G31*D31","v":0},{"$f":"+E31-G31","v":0},{"$f":"+I31*D31","v":0}]
[]
["12 161","Odstranitev panja s premerom 11 do 30 cm"]
[null,"z odvozom na deponijo na razdaljo nad 1km"]
[null,null,"kos",15,null,{"$f":"+E35*D35","v":0},{"$f":"+E35*MM","v":0},{"$f":"+G35*D35","v":0},{"$f":"+E35-G35","v":0},{"$f":"+I35*D35","v":0}]
[]
["12 292","Porušitev in odstranitev ograje iz lesenih letev"]
[null,null,"m",60,null,{"$f":"+E38*D38","v":0},{"$f":"+E38*MM","v":0},{"$f":"+G38*D38","v":0},{"$f":"+E38-G38","v":0},{"$f":"+I38*D38","v":0}]
[]
["12 254","Demontaža zaščitne ograje (H=4m)"]
[null,null,"m",28,null,{"$f":"+E41*D41","v":0},{"$f":"+E41*MM","v":0},{"$f":"+G41*D41","v":0},{"$f":"+E41-G41","v":0},{"$f":"+I41*D41","v":0}]
[]
["12 322","Porušitev in odstranitev asfaltne plasti v "]
[null,"debelini 6 do 10 cm"]
[null,null,"m2",1261,null,{"$f":"+E45*D45","v":0},{"$f":"+E45*MM","v":0},{"$f":"+G45*D45","v":0},{"$f":"+E45-G45","v":0},{"$f":"+I45*D45","v":0}]
[]
["12 382","Rezanje asfaltne plasti s talno diamantno žago"]
[null," debele 6 do 10 cm"]
[null,null,"m",80,null,{"$f":"+E49*D49","v":0},{"$f":"+E49*MM","v":0},{"$f":"+G49*D49","v":0},{"$f":"+E49-G49","v":0},{"$f":"+I49*D49","v":0}]
[]
["12 391","Porušitev in odstranitev robnika iz cementnega"]
[null,"betona (vključno z odvozom v trajno deponijo)"]
[null,null,"m",400,null,{"$f":"+E53*D53","v":0},{"$f":"+E53*MM","v":0},{"$f":"+G53*D53","v":0},{"$f":"+E53-G53","v":0},{"$f":"+I53*D53","v":0}]
[]
["12 344","Porušitev in odstranitev tlakovanega pločnika"]
[null,"(vključno z odvozom v trajno deponijo)"]
[null,null,"m2",330,null,{"$f":"+E57*D57","v":0},{"$f":"+E57*MM","v":0},{"$f":"+G57*D57","v":0},{"$f":"+E57-G57","v":0},{"$f":"+I57*D57","v":0}]
[]
["12 421","Porušitev in odstranitev kanalizacije iz cevi"]
[null,"s premerom do 40 cm."]
[null,"(vključno z odvozom v trajno deponijo)"]
[null,null,"m",150,null,{"$f":"+E62*D62","v":0},{"$f":"+E62*MM","v":0},{"$f":"+G62*D62","v":0},{"$f":"+E62-G62","v":0},{"$f":"+I62*D62","v":0}]
[]
["12 432","Porušitev in odstranitev jaška z notranjo"]
[null,"sranico/premerom od 60 do 100 cm."]
[null,"(vključno z odvozom v trajno deponijo)"]
[null,null,"kom",20,null,{"$f":"+E67*D67","v":0},{"$f":"+E67*MM","v":0},{"$f":"+G67*D67","v":0},{"$f":"+E67-G67","v":0},{"$f":"+I67*D67","v":0}]
[]
["12 497","Porušitev in odstranitev elementa (temelj, stena,"]
[null,"plošča) iz cementnega betona (armirani)."]
[null,"ocena"]
[null,null,"m3",26,null,{"$f":"+E72*D72","v":0},{"$f":"+E72*MM","v":0},{"$f":"+G72*D72","v":0},{"$f":"+E72-G72","v":0},{"$f":"+I72*D72","v":0}]
[]
["12 344","Porušitev in odstranitev tlakovanih površin"]
[null,"(dim 40/40cm) - ocenjeno"]
[null,"(vključno z odvozom v trajno deponijo)"]
[null,null,"m2",150,null,{"$f":"+E77*D77","v":0},{"$f":"+E77*MM","v":0},{"$f":"+G77*D77","v":0},{"$f":"+E77-G77","v":0},{"$f":"+I77*D77","v":0}]
[]
["12 359","Čiščenje bet. tlakovcev za ponovno uporabo "]
[null,"(dim 40/40 cm) – ocenjeno"]
[null,null,"m2",150,null,{"$f":"+E81*D81","v":0},{"$f":"+E81*MM","v":0},{"$f":"+G81*D81","v":0},{"$f":"+E81-G81","v":0},{"$f":"+I81*D81","v":0}]
[]
[null,"SKUPAJ PREDDELA",null,null,null,{"$f":"SUM(F6:F82)","v":0},null,{"$f":"SUM(H6:H82)","v":0},null,{"$f":"SUM(J6:J82)","v":0}]
[]
[]
[]
["2.","ZEMELJSKA DELA"]
[]
["21 114","Površinski izkop plodne zemljine – 1. kategorije"]
[null,"strojno z nakladanjem (cca 20 cm)"]
[null,null,"m3",96,null,{"$f":"+E91*D91","v":0},{"$f":"+E91*MM","v":0},{"$f":"+G91*D91","v":0},{"$f":"+E91-G91","v":0},{"$f":"+I91*D91","v":0}]
[]
["21 224","Široki izkop vezljive zemljine – 3. kategorije"]
[null,"strojno z nakladanjem"]
[null,"Izkope vršiti v razmerju 80:20%(strojno-ročni)"]
[null,"Skupna količina izkopa:770m3"]
["a)","strojni izkop 80% =770 x 0,8 =616 m3","m3",616,null,{"$f":"+E97*D97","v":0},{"$f":"+E97*MM","v":0},{"$f":"+G97*D97","v":0},{"$f":"+E97-G97","v":0},{"$f":"+I97*D97","v":0}]
["b)","ročni izkop 20% = 770 x 0,2 = 154 m3","m3",154,null,{"$f":"+E98*D98","v":0},{"$f":"+E98*MM","v":0},{"$f":"+G98*D98","v":0},{"$f":"+E98-G98","v":0},{"$f":"+I98*D98","v":0}]
[]
["21 314","Izkop vezljive zemljine/zrnate kamnine"]
[null,"3. kategorije za temelje, kanalske rove, "]
[null," prepuste, jaške in drenaže, širine do 1,0 m in"]
[null,"globine do 1,0 m – strojno, planiranje dna ročno"]
[null,null,"m3",443,null,{"$f":"+E104*D104","v":0},{"$f":"+E104*MM","v":0},{"$f":"+G104*D104","v":0},{"$f":"+E104-G104","v":0},{"$f":"+I104*D104","v":0}]
[]
["22 112","Ureditev planuma temeljnih tal vezljive zemljine"]
[null,"3. kategorije"]
[null,null,"m2",2115,null,{"$f":"+E108*D108","v":0},{"$f":"+E108*MM","v":0},{"$f":"+G108*D108","v":0},{"$f":"+E108-G108","v":0},{"$f":"+I108*D108","v":0}]
[]
["23 311","Dobava in vgraditev geotekstilije za ločilno plast"]
[null,"300 g/m2"]
[null,null,"m2",2115,null,{"$f":"+E112*D112","v":0},{"$f":"+E112*MM","v":0},{"$f":"+G112*D112","v":0},{"$f":"+E112-G112","v":0},{"$f":"+I112*D112","v":0}]
[]
["24 212","Zasip z vezljivo zemljino 3 kat. - strojno"]
[null,"(zasip kanalizacije z izkopnim materialom;"]
[null,"ustreznot potrdi geomehanik)"]
[null,null,"m3",111,null,{"$f":"+E117*D117","v":0},{"$f":"+E117*MM","v":0},{"$f":"+G117*D117","v":0},{"$f":"+E117-G117","v":0},{"$f":"+I117*D117","v":0}]
[]
["24 229","Zasip kanalizacijskih cevi s peskom (po detajlu)"]
[null,null,"m3",105,null,{"$f":"+E120*D120","v":0},{"$f":"+E120*MM","v":0},{"$f":"+G120*D120","v":0},{"$f":"+E120-G120","v":0},{"$f":"+I120*D120","v":0}]
[]
["24 441","Izdelava posteljice v debelini plasti do 40cm"]
[null,"iz zrnate kamnine - 3 kategorije; Ev2>80MPa"]
[null,null,"m3",218,null,{"$f":"+E124*D124","v":0},{"$f":"+E124*MM","v":0},{"$f":"+G124*D124","v":0},{"$f":"+E124-G124","v":0},{"$f":"+I124*D124","v":0}]
[]
["25 146","Humuziranje zelenice z valjanjem, v debelini"]
[null," nad 15 cm - ročno (humusa iz deponije)"]
[null,null,"m2",184,null,{"$f":"+E128*D128","v":0},{"$f":"+E128*MM","v":0},{"$f":"+G128*D128","v":0},{"$f":"+E128-G128","v":0},{"$f":"+I128*D128","v":0}]
[]
["25 147","Humuziranje zelenice z valjanjem, v debelini"]
[null," nad 15 cm - strojno (humus iz deponije)"]
[null,null,"m2",276,null,{"$f":"+E132*D132","v":0},{"$f":"+E132*MM","v":0},{"$f":"+G132*D132","v":0},{"$f":"+E132-G132","v":0},{"$f":"+I132*D132","v":0}]
[]
["25 151","Doplačilo za zatravitev s semenom"]
[null,null,"m2",460,null,{"$f":"+E135*D135","v":0},{"$f":"+E135*MM","v":0},{"$f":"+G135*D135","v":0},{"$f":"+E135-G135","v":0},{"$f":"+I135*D135","v":0}]
[]
["25 189","Zasaditev raznih drevesnih in grmovnih vrst na"]
[null,"zelenici, visokih nad 120 cm (obseg 8 cm)"]
[null,"(drevo KROGLASTI OSTRO LISTNI JAVOR"]
[null,"  Acer Platanoides - Globosum)"]
[null,null,"kos",5,null,{"$f":"+E141*D141","v":0},{"$f":"+E141*MM","v":0},{"$f":"+G141*D141","v":0},{"$f":"+E141-G141","v":0},{"$f":"+I141*D141","v":0}]
[]
["29 118","Prevoz materiala na razdaljo nad 7000 do 10000m "]
[null,null,"m3",1102,null,{"$f":"+E144*D144","v":0},{"$f":"+E144*MM","v":0},{"$f":"+G144*D144","v":0},{"$f":"+E144-G144","v":0},{"$f":"+I144*D144","v":0}]
[]
["29 152","Odlaganje odpadne zmesi zemljine in kamnine"]
[null,null,"m3",1102,null,{"$f":"+E147*D147","v":0},{"$f":"+E147*MM","v":0},{"$f":"+G147*D147","v":0},{"$f":"+E147-G147","v":0},{"$f":"+I147*D147","v":0}]
[]
["29 153","Odlaganje odpadnega asfalta na kom. deponijo"]
[null,null,"t",315,null,{"$f":"+E150*D150","v":0},{"$f":"+E150*MM","v":0},{"$f":"+G150*D150","v":0},{"$f":"+E150-G150","v":0},{"$f":"+I150*D150","v":0}]
[]
[null,"SKUPAJ ZEMELJSKA DELA",null,null,null,{"$f":"SUM(F88:F151)","v":0},null,{"$f":"SUM(H88:H151)","v":0},null,{"$f":"SUM(J88:J151)","v":0}]
[]
[]
[]
[3,"VOZIŠČNE KONSTRUKCIJE"]
[]
["31 131","Izdelava nevezane nosilne plasti enakomerno "]
[null,"zrnatega drobljenca iz kamnine v debelini"]
[null,"do 20cm; Ev2>100MPa"]
[null,null,"m3",134,null,{"$f":"+E161*D161","v":0},{"$f":"+E161*MM","v":0},{"$f":"+G161*D161","v":0},{"$f":"+E161-G161","v":0},{"$f":"+I161*D161","v":0}]
[]
["31 132","Izdelava nevezane nosilne plasti enakomerno "]
[null,"zrnatega drobljenca iz kamnine v debelini"]
[null,"30cm; Ev2>60MPa"]
[null,null,"m3",430,null,{"$f":"+E166*D166","v":0},{"$f":"+E166*MM","v":0},{"$f":"+G166*D166","v":0},{"$f":"+E166-G166","v":0},{"$f":"+I166*D166","v":0}]
[]
["31 20D","Strojno valjanje in planiranje v natančnosti +-1cm"]
[null,"vključno s komprimacijo planuma zgornjega ustroja."]
[null,null,"m2",2116,null,{"$f":"+E170*D170","v":0},{"$f":"+E170*MM","v":0},{"$f":"+G170*D170","v":0},{"$f":"+E170-G170","v":0},{"$f":"+I170*D170","v":0}]
[]
["31 344","Izdelava zgornje nosilne plasti bituminiziranega"]
[null,"drobljenca AC 22 base B 70/100 A3 v deb.8 cm"]
[null,null,"m2",610,null,{"$f":"+E174*D174","v":0},{"$f":"+E174*MM","v":0},{"$f":"+G174*D174","v":0},{"$f":"+E174-G174","v":0},{"$f":"+I174*D174","v":0}]
[]
["32 283","Izdelava obrabne in zaporne plasti bitumenskega"]
[null,"betona AC 8 surf B70/100 A3 v deb. 4 cm"]
[null,null,"m2",610,null,{"$f":"+E178*D178","v":0},{"$f":"+E178*MM","v":0},{"$f":"+G178*D178","v":0},{"$f":"+E178-G178","v":0},{"$f":"+I178*D178","v":0}]
[]
["31 332","Izdelava zgornje nosilne plasti bituminiziranega"]
[null,"drobljenca AC 16 surf B 50/70 A4 v deb.5 cm"]
[null,"(igrišče)"]
[null,null,"m2",132,null,{"$f":"+E183*D183","v":0},{"$f":"+E183*MM","v":0},{"$f":"+G183*D183","v":0},{"$f":"+E183-G183","v":0},{"$f":"+I183*D183","v":0}]
[]
["32 492","Pobrizg z nestabilno kationsko bitumensko "]
[null,"emulzijo 0,31 do 0,50 kg/m2"]
[null,null,"m2",610,null,{"$f":"+E187*D187","v":0},{"$f":"+E187*MM","v":0},{"$f":"+G187*D187","v":0},{"$f":"+E187-G187","v":0},{"$f":"+I187*D187","v":0}]
[]
["34 822","Izdelava obrabne plasti iz plošč iz cementnega"]
[null,"betona velikosti 30/20/6 cm (siva) stiki"]
[null,"zapolnjeni s cementno malto"]
[null,"(po izboru arhitekta)"]
[null,null,"m2",1180,null,{"$f":"+E193*D193","v":0},{"$f":"+E193*MM","v":0},{"$f":"+G193*D193","v":0},{"$f":"+E193-G193","v":0},{"$f":"+I193*D193","v":0}]
[]
["34 914","Izdelava podložne plasti za tlakovano obrabno"]
[null,"plast iz cementnega estriha v deb 15cm"]
[null,null,"m2",1180,null,{"$f":"+E197*D197","v":0},{"$f":"+E197*MM","v":0},{"$f":"+G197*D197","v":0},{"$f":"+E197-G197","v":0},{"$f":"+I197*D197","v":0}]
[]
["34 821","Izdelava obrabne plasti iz plošč iz cementnega"]
[null,"betona - uporabijo se obstoječi bet. tlaki; "]
[null,"stiki zapolnjeni s peskom – ocenjeno"]
[null,null,"m2",150,null,{"$f":"+E202*D202","v":0},{"$f":"+E202*MM","v":0},{"$f":"+G202*D202","v":0},{"$f":"+E202-G202","v":0},{"$f":"+I202*D202","v":0}]
[]
["34 911","Izdelava podložne plasti za tlakovano obrabno"]
[null,"plast iz nevezane zmesi zrn (peska) v deb  15cm"]
[null,"- ocenjeno"]
[null,null,"m3",22,null,{"$f":"+E207*D207","v":0},{"$f":"+E207*MM","v":0},{"$f":"+G207*D207","v":0},{"$f":"+E207-G207","v":0},{"$f":"+I207*D207","v":0}]
[]
["35 214","Dobava in vgraditev dvignjenega robnika iz "]
[null,"cementnega betona s prerezom 15/25 cm"]
[null,"vključno z dobavo in vgradnjo betona za pripravo"]
[null,"podlage."]
[null,null,"m",113,null,{"$f":"+E213*D213","v":0},{"$f":"+E213*MM","v":0},{"$f":"+G213*D213","v":0},{"$f":"+E213-G213","v":0},{"$f":"+I213*D213","v":0}]
[]
["35 236","Dobava in vgraditev predfrabriciranega pogreznjenega"]
[null,"robnika iz cementnega betona s perezom 8/20 cm"]
[null,"vključno z dobavo in vgradnjo betona za pripravo"]
[null,"podlage.","m",9,null,{"$f":"+E218*D218","v":0},{"$f":"+E218*MM","v":0},{"$f":"+G218*D218","v":0},{"$f":"+E218-G218","v":0},{"$f":"+I218*D218","v":0}]
[]
[]
["35 231","Dobava in vgraditev robnika iz "]
[null,"cementnega betona s prerezom 5/20 cm"]
[null,"(ob peš poteh in zelenicah)"]
[null,null,"m",375,null,{"$f":"+E224*D224","v":0},{"$f":"+E224*MM","v":0},{"$f":"+G224*D224","v":0},{"$f":"+E224-G224","v":0},{"$f":"+I224*D224","v":0}]
[]
["35 244","Dobava in vgraditev pogreznjenega robnika iz "]
[null,"cementnega betona s prerezom 15/25 cm"]
[null,"vključno z dobavo in vgradnjo betona za pripravo"]
[null,"podlage (spuščeni robniki na obm. klančin)"]
[null,null,"m",2,null,{"$f":"+E230*D230","v":0},{"$f":"+E230*MM","v":0},{"$f":"+G230*D230","v":0},{"$f":"+E230-G230","v":0},{"$f":"+I230*D230","v":0}]
[]
["37 01D","Izdelava nasutja ob objektu v debelini 20 cm "]
[null," frakcije fi 9cm"]
[null,null,"m3",19,null,{"$f":"+E234*D234","v":0},{"$f":"+E234*MM","v":0},{"$f":"+G234*D234","v":0},{"$f":"+E234-G234","v":0},{"$f":"+I234*D234","v":0}]
[]
[]
[null,"SKUPAJ VOZIŠČNE KONSTRUKCIJE",null,null,null,{"$f":"SUM(F157:F236)","v":0},null,{"$f":"SUM(H157:H236)","v":0},null,{"$f":"SUM(J157:J236)","v":0}]
[]
[]
[]
[4,"ODVODNJAVANJE"]
[]
["42 115","Izdelava vzdolžne in prečne drenaže, globoke"]
[null,"do 1,0m na planomu izkopa z gibljivimi "]
[null,"plastičnimi cevmi premera 10 cm ovite z "]
[null,"geostintetikom. (parkirišče)"]
[null,null,"m",35,null,{"$f":"+E247*D247","v":0},{"$f":"+E247*MM","v":0},{"$f":"+G247*D247","v":0},{"$f":"+E247-G247","v":0},{"$f":"+I247*D247","v":0}]
[]
["41 321","Izdelava asfaltne mulde širine 0,5m"]
[null,"na prej pripravljeno podlago."]
[null,null,"m",34,null,{"$f":"+E251*D251","v":0},{"$f":"+E251*MM","v":0},{"$f":"+G251*D251","v":0},{"$f":"+E251-G251","v":0},{"$f":"+I251*D251","v":0}]
[]
["43 211","Izdelava kanalizacije iz cevi iz polivinilklorida, "]
[null,"vgrajenih na planumu izkopa, premera         "]
[null,"16 cm, v globini do 1,0 m"]
[null,"(PVC DN 160 SN8)"]
[null,null,"m",117,null,{"$f":"+E257*D257","v":0},{"$f":"+E257*MM","v":0},{"$f":"+G257*D257","v":0},{"$f":"+E257-G257","v":0},{"$f":"+I257*D257","v":0}]
[]
["43 212","Izdelava kanalizacije iz cevi iz polivinilklorida, "]
[null,"vgrajenih na planumu izkopa, premera         "]
[null,"20 cm, v globini do 1,0 m"]
[null,"(PVC DN 200 SN8)"]
[null,null,"m",163,null,{"$f":"+E263*D263","v":0},{"$f":"+E263*MM","v":0},{"$f":"+G263*D263","v":0},{"$f":"+E263-G263","v":0},{"$f":"+I263*D263","v":0}]
[]
["43 291","Obbetoniranje cevi za kanalizacijo s cementnim "]
[null,"betonom C 16/20, premera 16 cm."]
[null,null,"m",5,null,{"$f":"+E267*D267","v":0},{"$f":"+E267*MM","v":0},{"$f":"+G267*D267","v":0},{"$f":"+E267-G267","v":0},{"$f":"+I267*D267","v":0}]
[]
["43 292","Obbetoniranje cevi za kanalizacijo s cementnim "]
[null,"betonom C 16/20, premera 20 cm."]
[null,null,"m",35,null,{"$f":"+E271*D271","v":0},{"$f":"+E271*MM","v":0},{"$f":"+G271*D271","v":0},{"$f":"+E271-G271","v":0},{"$f":"+I271*D271","v":0}]
[]
["43 521","Doplačilo za izdelavo kanalizacije v globini 2,1"]
[null,"do 4,0m s cevmi premera do 30cm."]
[null,null,"m",15,null,{"$f":"+E275*D275","v":0},{"$f":"+E275*MM","v":0},{"$f":"+G275*D275","v":0},{"$f":"+E275-G275","v":0},{"$f":"+I275*D275","v":0}]
[]
["43 824","Dobava in vgradnja tipskega linijskega požiralnika"]
[null,"notranje širine 20 cm z LTŽ rešetko nosilnosti"]
[null,"C250 vgrajen v bet. temelj C12/15"]
[null,null,"m",19.5,null,{"$f":"+E280*D280","v":0},{"$f":"+E280*MM","v":0},{"$f":"+G280*D280","v":0},{"$f":"+E280-G280","v":0},{"$f":"+I280*D280","v":0}]
[]
["43 831","Preizkus vodotesnosti kanalizacije"]
[null,"vključno s cevmi in jaški po SIST EN 1610"]
[null," z zrakom -preizkus po metodi LC 100mbar"]
[null," nadtlaka. Preizkus mora izvesti akreditiran "]
[null,"(registriran in od izvajalca neodvisen)"]
[null," preizkusni laboratorij. Izvajalec preizkusov"]
[null,"mora poročilu priložiti veljavno akreditacijsko listino "]
[null,"(potrdilo o usposobljenosti laboratorija) ter veljavno"]
[null,"dokazilo o umerjenosti merilnih instrumentov"]
[null,"(kalibracijski certifikat)."]
[null,null,"m",95,null,{"$f":"+E292*D292","v":0},{"$f":"+E292*MM","v":0},{"$f":"+G292*D292","v":0},{"$f":"+E292-G292","v":0},{"$f":"+I292*D292","v":0}]
[]
["43 841","Snemanje notranjosti kanalizacije"]
[null," s specialno video kamero."]
[null,null,"m",95,null,{"$f":"+E296*D296","v":0},{"$f":"+E296*MM","v":0},{"$f":"+G296*D296","v":0},{"$f":"+E296-G296","v":0},{"$f":"+I296*D296","v":0}]
[]
["44 322","Izdelava jaška iz polietilena, krožnega prereza "]
[null,"s premerom 40 cm, globokega 1,0 do 1,5 m"]
[null,"(peskolovi), vključno s pokrovom"]
[null,null,"kos",5,null,{"$f":"+E301*D301","v":0},{"$f":"+E301*MM","v":0},{"$f":"+G301*D301","v":0},{"$f":"+E301-G301","v":0},{"$f":"+I301*D301","v":0}]
[]
["44 332","Izdelava jaška iz polietilena, krožnega prereza "]
[null,"s premerom 50 cm, globokega 1,0 do 1,5 m"]
[null,"(CP_cestni požiralnik  H=1,5m)"]
[null,null,"kos",9,null,{"$f":"+E306*D306","v":0},{"$f":"+E306*MM","v":0},{"$f":"+G306*D306","v":0},{"$f":"+E306-G306","v":0},{"$f":"+I306*D306","v":0}]
[]
["44 341","Izdelava jaška iz polietilena, krožnega prereza "]
[null,"s premerom 60 cm, globokega do 1,0m"]
[null,"(MJ1, MJ2, MJ3, MJ6)"]
[null,null,"kos",4,null,{"$f":"+E311*D311","v":0},{"$f":"+E311*MM","v":0},{"$f":"+G311*D311","v":0},{"$f":"+E311-G311","v":0},{"$f":"+I311*D311","v":0}]
[]
["44 361","Izdelava jaška iz polietilena, krožnega prereza "]
[null,"s premerom 80 cm, globokega do 1,0m"]
[null,"(MJ4, MJ11)"]
[null,null,"kos",2,null,{"$f":"+E316*D316","v":0},{"$f":"+E316*MM","v":0},{"$f":"+G316*D316","v":0},{"$f":"+E316-G316","v":0},{"$f":"+I316*D316","v":0}]
[]
["44 362.1","Izdelava jaška iz polietilena, krožnega prereza "]
[null,"s premerom 80 cm, globokega 1,5m"]
[null,"(P_peskolovi) vključno s pokrovom - Pluvia"]
[null,null,"kos",2,null,{"$f":"+E321*D321","v":0},{"$f":"+E321*MM","v":0},{"$f":"+G321*D321","v":0},{"$f":"+E321-G321","v":0},{"$f":"+I321*D321","v":0}]
[]
["44 362.2","Izdelava jaška iz polietilena, krožnega prereza "]
[null,"s premerom 80 cm, globokega 1,0 do 1,5 m"]
[null,"(MJ5, MJ7, MJ8, MJ9, FJ1, FJ2, FJ3, FJ4, FJ5,"]
[null,"FJ6)","kos",10,null,{"$f":"+E326*D326","v":0},{"$f":"+E326*MM","v":0},{"$f":"+G326*D326","v":0},{"$f":"+E326-G326","v":0},{"$f":"+I326*D326","v":0}]
[]
["44 363","Izdelava jaška iz polietilena, krožnega prereza "]
[null,"s premerom 80 cm, globokega 1,5 do 2,0 m"]
[null,"(MJ10)","kos",1,null,{"$f":"+E330*D330","v":0},{"$f":"+E330*MM","v":0},{"$f":"+G330*D330","v":0},{"$f":"+E330-G330","v":0},{"$f":"+I330*D330","v":0}]
[]
["44 365","Izdelava jaška iz polietilena, krožnega prereza "]
[null,"s premerom 80 cm, globokega nad 2,5 m"]
[null,"(FJ7  H=4,25m)","kos",1,null,{"$f":"+E334*D334","v":0},{"$f":"+E334*MM","v":0},{"$f":"+G334*D334","v":0},{"$f":"+E334-G334","v":0},{"$f":"+I334*D334","v":0}]
[]
["44 845","Dobava in vgraditev rešetke iz duktilne litine"]
[null,"z nosilnostjo 250 kN s prerezom 400/400 mm"]
[null,"vključno z vsem potrebnim pomožnim materialom"]
[null,"(LTŽ mreža za CP v muldi)"]
[null,null,"kos",9,null,{"$f":"+E340*D340","v":0},{"$f":"+E340*MM","v":0},{"$f":"+G340*D340","v":0},{"$f":"+E340-G340","v":0},{"$f":"+I340*D340","v":0}]
[]
["44 894","Dobava in vgraditev tipskega kolescenčnega lovilca"]
[null,"olj (ACO) ali podobni z enako kvaliteto proizvoda"]
[null,"vključno z vsemi potrebnimi deli, priključki, opremo"]
[null,"in podložno ploščo."]
[null,"LO NG 15l/s                                            ","kos",1,null,{"$f":"+E346*D346","v":0},{"$f":"+E346*MM","v":0},{"$f":"+G346*D346","v":0},{"$f":"+E346-G346","v":0},{"$f":"+I346*D346","v":0}]
[]
["44 962.1","Dobava in vgraditev pokrova iz duktilne litine"]
[null,"z nosilnostjo 125 kN krožnega prereza "]
[null," s premerom 60 cm - nepovozen pokrov"]
[null,"vključno z vsem potrebnim pomožnim materialom"]
[null,null,"kos",9,null,{"$f":"+E352*D352","v":0},{"$f":"+E352*MM","v":0},{"$f":"+G352*D352","v":0},{"$f":"+E352-G352","v":0},{"$f":"+I352*D352","v":0}]
[]
["44 962.2","Dobava in vgraditev pokrova iz duktilne litine"]
[null,"z nosilnostjo 250 kN krožnega prereza "]
[null," s premerom 60 cm - povozen pokrov"]
[null,"vključno z vsem potrebnim pomožnim materialom"]
[null,null,"kos",9,null,{"$f":"+E358*D358","v":0},{"$f":"+E358*MM","v":0},{"$f":"+G358*D358","v":0},{"$f":"+E358-G358","v":0},{"$f":"+I358*D358","v":0}]
[]
["44 993","Dvig obstoječega pokrova jaška vseh vrst na "]
[null,"koto nove nivelete vključno z vsemi potrebnimi"]
[null,"deli in materialom za izvedbo."]
[null,null,"kos",3,null,{"$f":"+E363*D363","v":0},{"$f":"+E363*MM","v":0},{"$f":"+G363*D363","v":0},{"$f":"+E363-G363","v":0},{"$f":"+I363*D363","v":0}]
[]
["46 353","Dobava in vgraditev tipskih ponikalnic Ø 100cm,"]
[null,"iz perforiranih betonski cevi, vključno z vsemi "]
[null,"potrebnimi deli, transporti, priključki in polnilnim"]
[null,"materialom, izkopom in zasipom z gramoznimi"]
[null,"kroglami. Globina ponikalnic H = 3,00m."]
[null,"Dobavitelj Stavbar Maribor ali podobni."]
[null,"LŽ pokrov fi 60, po standardu SIST-EN 124 razred "]
[null,"B 125. "]
[null,null,"kos",3,null,{"$f":"+E373*D373","v":0},{"$f":"+E373*MM","v":0},{"$f":"+G373*D373","v":0},{"$f":"+E373-G373","v":0},{"$f":"+I373*D373","v":0}]
[]
["46 354","Dobava in vgraditev tipskih ponikalnic Ø 100cm,"]
[null,"iz perforiranih betonski cevi, vključno z vsemi "]
[null,"potrebnimi deli, transporti, priključki in polnilnim"]
[null,"materialom, izkopom in zasipom z gramoznimi"]
[null,"kroglami. Globina ponikalnic H = 4,00m."]
[null,"Dobavitelj Stavbar Maribor ali podobni."]
[null,"LŽ pokrov fi 60, po standardu SIST-EN 124 razred "]
[null,"B 125. "]
[null,null,"kos",2,null,{"$f":"+E383*D383","v":0},{"$f":"+E383*MM","v":0},{"$f":"+G383*D383","v":0},{"$f":"+E383-G383","v":0},{"$f":"+I383*D383","v":0}]
[]
["47 01D","Dobava in vgraditev rezervoarja za vodo 7000 l"]
[null,"vključno z vsemi potrebnimi deli."]
[null,"Rezervoar ima vgrajena dva izpusta in sicer "]
[null,"DN200 (vrh) in na dnu DN50 v ponikalnico."]
[null,"Zadrževalnik ","kos ",1,null,{"$f":"+E389*D389","v":0},{"$f":"+E389*MM","v":0},{"$f":"+G389*D389","v":0},{"$f":"+E389-G389","v":0},{"$f":"+I389*D389","v":0}]
[null,"izkop","m3",28.5,null,0,0,0,0,0]
[null,"zasip z gramozno frakcijo 4-16mm","m3",15.5,null,0,0,0,0,0]
[null,"peščena posteljica deb 15cm","m3",1.5,null,0,0,0,0,0]
[null,"geotekstil 200g/m2","m2",12,null,0,0,0,0,0]
[null,"zasip z izkopno zemljino v deb 25cm","m3",2.5,null,0,0,0,0,0]
[]
["47 02D","Izdelava priključka kanalizacije na obstoječo"]
[null,"kanalizacijo, na jašek."]
[null,null,"kos",4,null,{"$f":"+E398*D398","v":0},{"$f":"+E398*MM","v":0},{"$f":"+G398*D398","v":0},{"$f":"+E398-G398","v":0},{"$f":"+I398*D398","v":0}]
[]
[]
[null,"SKUPAJ ODVODNJAVANJE",null,null,null,{"$f":"SUM(F242:F400)","v":0},null,{"$f":"SUM(H242:H400)","v":0},null,{"$f":"SUM(J242:J400)","v":0}]
[]
[]
[]
[5,"GRADBENO OBRTNIŠKA DELA"]
[]
["51 771","Opaženje in razpiranje bočnih strani gradbenega"]
[null,"jarka za položitev kanalizacijskih cevi."]
[null,"Ocena","m2",200,null,{"$f":"+E409*D409","v":0},{"$f":"+E409*MM","v":0},{"$f":"+G409*D409","v":0},{"$f":"+E409-G409","v":0},{"$f":"+I409*D409","v":0}]
[]
["58 01D","Dobava in postavitev panelne ograje višine 2m"]
[null,"širina panela 2,5m. Ograja se postavi  v raščen teren "]
[null,"točkovni temelji. Ograja je sestavljena iz stebrov"]
[null,"in mrežnih panelov 2D 6/5/6. Sistem ravnih"]
[null,"dvo dimezionalnih (2D) panelnih ograj horizontalnih"]
[null,"žic (deb 6mm), ki iz obeh strani objemajo vertikalne"]
[null,"žice (deb 5mm) - ograje Kočevar ali enakovredno."]
[null,"Vključno z vsemi"]
[null,"potrebnimi deli in materialom za njeno "]
[null,"postavitev, torej vključno z izvedbo točkovnih"]
[null,"temeljev ter vgradnjo vrat za osebni prehod."]
[null,null,"m",41,null,{"$f":"+E422*D422","v":0},{"$f":"+E422*MM","v":0},{"$f":"+G422*D422","v":0},{"$f":"+E422-G422","v":0},{"$f":"+I422*D422","v":0}]
[]
["58 02D","Postavitev zaščitne ograje višine 4,0m ob "]
[null,"obstoječem košarkarskem igrišču. Vključno"]
[null,"s temelji ter vsemi potrebnimi deli in materialom."]
[null,"(prestavitev obstoječe ograje)"]
[null,null,"m",26,null,{"$f":"+E428*D428","v":0},{"$f":"+E428*MM","v":0},{"$f":"+G428*D428","v":0},{"$f":"+E428-G428","v":0},{"$f":"+I428*D428","v":0}]
[]
["58 03D","Dobava in vgraditev drevesne rešetke Standard ,"]
[null,"dobavitelja ACO Šmarje pri Jelšah (ali podobni),"]
[null,"iz sive litine (EN-GLJ-250 DIN EN 1561) kvadratna"]
[null,"s kvadratno notranjo odprtino, vključno s pritrditvenim"]
[null,"materialom iz nerjavečega jekla sestavljena iz 4"]
[null,"segmentov, premaz cink fosforjev epoksidna osnova "]
[null,"in 2-komponenten-strukturni lak, RAL 9005, vključno"]
[null,"s spodnjo jekleno konstrukcijo, 2-delno, vroče "]
[null,"cinkano ter pritrdilnim materialom iz jekla."]
[null,"Višina rešetke 41mm, višina okvirja z vstavljeno"]
[null,"rešetko 80 - 140mm."]
[null,"Obremenitev: 50kN, radialen design, širina rež 16mm"]
[null,"Zunanja-/notranja mera : 150/70 cm"]
[null,null,"kom",2,null,{"$f":"+E443*D443","v":0},{"$f":"+E443*MM","v":0},{"$f":"+G443*D443","v":0},{"$f":"+E443-G443","v":0},{"$f":"+I443*D443","v":0}]
[]
["58 04D","Dobava in vgradnja košev za smeti s pepelnikom"]
[null,"vključno s stebričkom "]
[null,"(koš Diagonal ali podobno)"]
[null,null,"kos",3,null,{"$f":"+E448*D448","v":0},{"$f":"+E448*MM","v":0},{"$f":"+G448*D448","v":0},{"$f":"+E448-G448","v":0},{"$f":"+I448*D448","v":0}]
[]
["58 05D","Izdelava, dostava in montaža lesenih gred"]
[null,"iz letev impregniranega smrekovega lesa."]
[null,"visoga greda velikosti 3,5m x 1,6m h=0,6m"]
[null,null,"kos",10,null,{"$f":"+E453*D453","v":0},{"$f":"+E453*MM","v":0},{"$f":"+G453*D453","v":0},{"$f":"+E453-G453","v":0},{"$f":"+I453*D453","v":0}]
[]
["58 06D","Izvedba talne plošče deb 20 cm za zunanjo teraso iz betona C25/30, vključno z armaturo, izkopi, zasipi ter vsemi potrebnimi deli in transporti, z dodatki za vodotesen, zmrzlinsko in proti soli odporen beton, izvedba vseh potrebnih dilatacij."]
[null,"Beton vsebuje hidroizolacijski material z lastnostmi kristalizacije in penitracije, ter funkcijo samoceljenja razpok, por in kapilar v betonu     (kot npr.  XYPEX,PENETRON ali enakovredno)"]
[null,"izkop","m3",20,null,{"$f":"+E457*D457","v":0},{"$f":"+E457*MM","v":0},{"$f":"+G457*D457","v":0},{"$f":"+E457-G457","v":0},{"$f":"+I457*D457","v":0}]
[null,"planiranje, utrjevanje","m2",100,null,0,0,0,0,0]
[null,"geotekstil","m2",100,null,0,0,0,0,0]
[null,"čelni opaž plošče","m2",7,null,0,0,0,0,0]
[null,"beton C25/30                                                ","m3",19,null,0,0,0,0,0]
[null,"armatura ocenjeno 70kg/m3 betona                                                ","kg",1330,null,0,0,0,0,0]
[]
[]
[null,"SKUPAJ GRADBENO OBRTNIŠKA DELA",null,null,null,{"$f":"SUM(F406:F464)","v":0},null,{"$f":"SUM(H406:H464)","v":0},null,{"$f":"SUM(J406:J464)","v":0}]
[]
[]
[]
[6,"OPREMA"]
[]
["61 122","Izdelava temelja iz cementnega betona C 12/15, "]
[null,"globine 80 cm, premera 30 cm"]
[null,null,"kos",2,null,{"$f":"+E473*D473","v":0},{"$f":"+E473*MM","v":0},{"$f":"+G473*D473","v":0},{"$f":"+E473-G473","v":0},{"$f":"+I473*D473","v":0}]
[]
["61 217","Dobava in vgraditev stebrička za prometni znak"]
[null," iz vroče cinkane jeklene cevi s premerom "]
[null,"64 mm, dolge 3500 mm"]
[null,null,"kos",2,null,{"$f":"+E478*D478","v":0},{"$f":"+E478*MM","v":0},{"$f":"+G478*D478","v":0},{"$f":"+E478-G478","v":0},{"$f":"+I478*D478","v":0}]
[]
["61 541","Dobava in pritrditev prometnega "]
[null,"znaka, podloga iz vroče cinkane jeklene "]
[null,"pločevine, znak z odsevno "]
[null,"folijo 1. vrste, velikosti 600/600 mm"]
[null,"2441 - parkirno mesto za vozila invalidov"]
[null,null,"kos",2,null,{"$f":"+E485*D485","v":0},{"$f":"+E485*MM","v":0},{"$f":"+G485*D485","v":0},{"$f":"+E485-G485","v":0},{"$f":"+I485*D485","v":0}]
[]
["62 111","Izdelava tankoslojne vzdolžne označbe na "]
[null," vozišču z enokomponentno belo barvo, vključno "]
[null,"250 g/m2 posipa z drobci / kroglicami stekla,"]
[null,"strojno, debelina plasti suhe snovi 200 mm, "]
[null,"širina črte 10 cm "]
[null,"(5355-1 - parkirišča pravokotno parkiranje)"]
[null,null,"m",99,null,{"$f":"+E493*D493","v":0},{"$f":"+E493*MM","v":0},{"$f":"+G493*D493","v":0},{"$f":"+E493-G493","v":0},{"$f":"+I493*D493","v":0}]
[]
["62 223","Izdelava tankoslojne prečne in ostalih označb "]
[null,"na vozišču z enokomponentno rumeno,"]
[null," vključno 250 g/m2 posipa z drobci / kroglicami "]
[null,"stekla, strojno, debelina plasti suhe snovi 300 mm, "]
[null,"površina označbe 1,1 do 1,5m2"]
[null,"(5352 - parkirno mesto za invalida)"]
[null,null,"m2",6,null,{"$f":"+E501*D501","v":0},{"$f":"+E501*MM","v":0},{"$f":"+G501*D501","v":0},{"$f":"+E501-G501","v":0},{"$f":"+I501*D501","v":0}]
[]
["67 01D","Dobava in postavitev stojal za parkiranje koles."]
[null,"št. za parkiranje koles 6; dim. 2480x410x450mm"]
[null,null,"kos",8,null,{"$f":"+E505*D505","v":0},{"$f":"+E505*MM","v":0},{"$f":"+G505*D505","v":0},{"$f":"+E505-G505","v":0},{"$f":"+I505*D505","v":0}]
[]
[]
[null,"SKUPAJ OPREMA",null,null,null,{"$f":"SUM(F470:F507)","v":0},null,{"$f":"SUM(H470:H507)","v":0},null,{"$f":"SUM(J470:J507)","v":0}]
[]
[]
[]
[7,"TUJE STORITVE"]
[]
["79 351","Geotehnični nadzor ","ur",20,null,{"$f":"+E514*D514","v":0},{"$f":"+E514*MM","v":0},{"$f":"+G514*D514","v":0},{"$f":"+E514-G514","v":0},{"$f":"+I514*D514","v":0}]
[]
["79 514","Izdelava projektne dokumentacije za projekt "]
[null,"izvedenih del - načrt zunanje ureditve"]
[null,null,"kos",1,null,{"$f":"+E518*D518","v":0},{"$f":"+E518*MM","v":0},{"$f":"+G518*D518","v":0},{"$f":"+E518-G518","v":0},{"$f":"+I518*D518","v":0}]
[]
[null,"SKUPAJ TUJE STORITVE",null,null,null,{"$f":"SUM(F513:F519)","v":0},null,{"$f":"SUM(H513:H519)","v":0},null,{"$f":"SUM(J513:J519)","v":0}]

{"sheet":"CDE-REKAP. STROJNE INST.","index":89,"n_rows":38,"n_cols":5,"rows_kept":38,"cut":false,"hidden":false,"merged":[]}
["Investitor:   ","Mestna občina Ljubljana"]
[null,"Konzorcij družb Petrol d. d. in Resalta d. o. o. "]
["Objekt:      ","OŠ Savsko naselje, Matjaževa ulica 4, Ljubljana"]
[null," - Celovita prenova objekta s statično, požarno in energetsko sanacijo."]
["Štev. proj.:     "]
["Datum:      ","April 2022"]
[]
[]
[]
[]
[null,"REKAPITULACIJA"]
[null,"STROJNE INSTALACIJE  objekta C, D in E"]
[]
[]
[null,"Ponudbena vrednost - skupna rekapitulacija","Vrednost  brez popusta","Popust","Vrednost s popustom"]
["A","VODA + KANALIZACIJA"]
[{"$f":"'CDE- VODA+KANALIZACIJA'!$A$8","v":".2.1.  "},{"$f":"'CDE- VODA+KANALIZACIJA'!$B$8","v":"VODOVODNA INSTALACIJA"},{"$f":"'CDE- VODA+KANALIZACIJA'!$F$129","v":0},{"$f":"'CDE- VODA+KANALIZACIJA'!$H$129","v":0},{"$f":"'CDE- VODA+KANALIZACIJA'!$J$129","v":0}]
[{"$f":"'CDE- VODA+KANALIZACIJA'!$A$132","v":".2.2. "},{"$f":"'CDE- VODA+KANALIZACIJA'!$B$132","v":"ODTOČNA KANALIZACIJA"},{"$f":"'CDE- VODA+KANALIZACIJA'!$F$223","v":0},{"$f":"'CDE- VODA+KANALIZACIJA'!$H$223","v":0},{"$f":"'CDE- VODA+KANALIZACIJA'!$J$223","v":0}]
[{"$f":"'CDE- VODA+KANALIZACIJA'!$A$226","v":".2.3. "},{"$f":"'CDE- VODA+KANALIZACIJA'!$B$226","v":" SANITARNA OPREMA"},{"$f":"'CDE- VODA+KANALIZACIJA'!$F$419","v":0},{"$f":"'CDE- VODA+KANALIZACIJA'!$H$419","v":0},{"$f":"'CDE- VODA+KANALIZACIJA'!$J$419","v":0}]
[{"$f":"'CDE- VODA+KANALIZACIJA'!$A$422","v":".2.4. "},{"$f":"'CDE- VODA+KANALIZACIJA'!$B$422","v":"SPLOŠNO"},{"$f":"'CDE- VODA+KANALIZACIJA'!$F$431","v":0},{"$f":"'CDE- VODA+KANALIZACIJA'!$H$431","v":0},{"$f":"'CDE- VODA+KANALIZACIJA'!$J$431","v":0}]
[null,"SKUPAJ VODA + KANALIZACIJA",{"$f":"SUM(C17:C20)","v":0},{"$f":"SUM(D17:D20)","v":0},{"$f":"SUM(E17:E20)","v":0}]
[]
["B","OGREVANJE, PREZRAČEVANJE, OHLAJEVANJE, PLIN"]
["1.0","RADIATORSKO OGREVANJE Z  RAZVODI  DO  T.P.",{"$f":"'CDE- OGRE.PREZ.OHLA.PLIN'!$F$55","v":0},{"$f":"'CDE- OGRE.PREZ.OHLA.PLIN'!$H$55","v":0},{"$f":"'CDE- OGRE.PREZ.OHLA.PLIN'!$J$55","v":0}]
["2.0","TALNO OGREVANJE Z  RAZVODI DO ENERG. PROSTORA",{"$f":"'CDE- OGRE.PREZ.OHLA.PLIN'!$F$117","v":0},{"$f":"'CDE- OGRE.PREZ.OHLA.PLIN'!$H$117","v":0},{"$f":"'CDE- OGRE.PREZ.OHLA.PLIN'!$J$117","v":0}]
["3.0","REGULACIJSKE POSTAJE IN RAZVODI ZA KLIMATE OD ENERG. PROSTORA",{"$f":"'CDE- OGRE.PREZ.OHLA.PLIN'!$F$200","v":0},{"$f":"'CDE- OGRE.PREZ.OHLA.PLIN'!$H$200","v":0},{"$f":"'CDE- OGRE.PREZ.OHLA.PLIN'!$J$200","v":0}]
["4.0.","ENERGETSKE  POSTAJE",{"$f":"'CDE- OGRE.PREZ.OHLA.PLIN'!$F$417","v":0},{"$f":"'CDE- OGRE.PREZ.OHLA.PLIN'!$G$417","v":0},{"$f":"'CDE- OGRE.PREZ.OHLA.PLIN'!$H$417","v":0}]
["5.0","PREZRAČEVANJE  IN  HLAJENJE ŠOLSKIH  PROSTOROV",{"$f":"'CDE- OGRE.PREZ.OHLA.PLIN'!$F$1325","v":0},{"$f":"'CDE- OGRE.PREZ.OHLA.PLIN'!$H$1325","v":0},{"$f":"'CDE- OGRE.PREZ.OHLA.PLIN'!$J$1325","v":0}]
["6.0","KOMPRESORSKE-KONDENZATORSKE ENOTE  (toplotne črpalke)",{"$f":"'CDE- OGRE.PREZ.OHLA.PLIN'!$F$1398","v":0},{"$f":"'CDE- OGRE.PREZ.OHLA.PLIN'!$H$1398","v":0},{"$f":"'CDE- OGRE.PREZ.OHLA.PLIN'!$J$1398","v":0}]
["7.0","LOKALNO  HLAJENJE - VRV SISTEM",{"$f":"'CDE- OGRE.PREZ.OHLA.PLIN'!$F$1529","v":0},{"$f":"'CDE- OGRE.PREZ.OHLA.PLIN'!$H$1529","v":0},{"$f":"'CDE- OGRE.PREZ.OHLA.PLIN'!$J$1529","v":0}]
["8.0","PREZRAČEVANJE  IN  HLAJENJE  KUHINJE",{"$f":"'CDE- OGRE.PREZ.OHLA.PLIN'!$F$1811","v":0},{"$f":"'CDE- OGRE.PREZ.OHLA.PLIN'!$H$1811","v":0},{"$f":"'CDE- OGRE.PREZ.OHLA.PLIN'!$J$1811","v":0}]
["9.0","GASILNI SISTEM ANSUL (kuhinja)",{"$f":"'CDE- OGRE.PREZ.OHLA.PLIN'!$F$1833","v":0},{"$f":"'CDE- OGRE.PREZ.OHLA.PLIN'!$H$1833","v":0},{"$f":"'CDE- OGRE.PREZ.OHLA.PLIN'!$J$1833","v":0}]
["10.0","PLINSKA  NAPELJAVA",{"$f":"'CDE- OGRE.PREZ.OHLA.PLIN'!$F$1886","v":0},{"$f":"'CDE- OGRE.PREZ.OHLA.PLIN'!$H$1886","v":0},{"$f":"'CDE- OGRE.PREZ.OHLA.PLIN'!$J$1886","v":0}]
[null,"SKUPAJ OGREVANJE, PREZRAČEVANJE, OHLAJEVANJE, PLIN",{"$f":"SUM(C24:C33)","v":0},{"$f":"SUM(D24:D33)","v":0},{"$f":"SUM(E24:E33)","v":0}]
[]
[null,"SKUPAJ A+B",null,null,{"$f":"+E21+E34","v":0}]
[null,"22% DDV",null,null,{"$f":"+E36*0.22","v":0}]
[null,"C + D + E  STROJNE INSTALACIJE  SKUPAJ Z DDV",null,null,{"$f":"+E36+E37","v":0}]

{"sheet":"CDE- VODA+KANALIZACIJA","index":90,"n_rows":453,"n_cols":10,"rows_kept":453,"cut":false,"hidden":false,"merged":[[3,0,3,1],[5,0,5,1],[378,1,378,2],[394,1,394,2]]}
[null,"Objekt C, D in E,  STROJNE INSTALACIJE  "]
[]
["ZAP. ŠT.","OPIS","     ME","KOLIČUNA","CENA/ENOTO","SKUPAJ","POPUST","POPUST SKUPAJ","CENA/ENOTO S POPUSTOM","SKUPAJ S POPUSTOM"]
[".2. POPIS MATERIALA IN DEL"]
[null," "]
["Dobava in montaža !"]
[]
[".2.1.  ","VODOVODNA INSTALACIJA"]
[]
[null,"OPOMBA:"]
["-","Vsa potrebna gradbena dela razen vrtanja prebojev morajo biti zajeta v gradbeno-arhitekturnih načrtih !"]
[]
["1.","Polietilenske cevi za vodovode po SIST ISO 4427 in SIST EN 12201-1/2, spoji z elektrodifuzijskimi spojkami, cevi uvlečene v zaščitno cev ter položene v izkopanem jarku na pripravljeno podlago, vključno ves potreben pom. material"]
[null,"  vod. cev: PE80-d32x3,0/SDR11.0-12,5bar\n  zašč. cev:  PE črna rebrasta cev d75/6","m",30,null,{"$f":"+E14*D14","v":0},{"$f":"+E14*MM","v":0},{"$f":"+G14*D14","v":0},{"$f":"+E14-G14","v":0},{"$f":"+I14*D14","v":0}]
[]
["2.","Polietilenske cevi za vodovode po SIST ISO 4427 in SIST EN 12201-1/2, spoji z elektrofuzijskimi spojkami, cevi položene v izkopanem jarku na pripravljeno podlago, vključno ves potreben pom. material"]
[null,"PE80RCPLUS-d32x3,0/SDR11.0-12,5bar","m",8,null,{"$f":"+E17*D17","v":0},{"$f":"+E17*MM","v":0},{"$f":"+G17*D17","v":0},{"$f":"+E17-G17","v":0},{"$f":"+I17*D17","v":0}]
[]
["3.","Termoskrčna spojka za zatesnitev ustja zaščitne cevi, skupaj z dvema Niro objemkama"]
[null,"d75/d32","kpl",6,null,{"$f":"+E20*D20","v":0},{"$f":"+E20*MM","v":0},{"$f":"+G20*D20","v":0},{"$f":"+E20-G20","v":0},{"$f":"+I20*D20","v":0}]
[]
["4.","PVC opozorilni trak z kovinskim vložkom ter ponavljajaočim se napisom #VODOVOD#","m",30,null,{"$f":"+E22*D22","v":0},{"$f":"+E22*MM","v":0},{"$f":"+G22*D22","v":0},{"$f":"+E22-G22","v":0},{"$f":"+I22*D22","v":0}]
[]
["5.","Elektrofuzjske spojke za PE-cevi SDR17"]
[]
["-","ravna spojka, notr. navoj"]
[null,"d32xR1","kos",4,null,{"$f":"+E27*D27","v":0},{"$f":"+E27*MM","v":0},{"$f":"+G27*D27","v":0},{"$f":"+E27-G27","v":0},{"$f":"+I27*D27","v":0}]
[]
["6.","Izvedba vodotesnega prehoda skozi zunanjo steno debeline 40cm (klet), vključno:"]
["-","Izvedba preboja 125mm (prevrtanje) AB stene ","kpl",4,null,{"$f":"+E30*D30","v":0},{"$f":"+E30*MM","v":0},{"$f":"+G30*D30","v":0},{"$f":"+E30-G30","v":0},{"$f":"+I30*D30","v":0}]
["-","Izvedba vodotesne zatesnitve prehoda zaščitne vodovodne cevi (PE-d75) z ekspanzijsko malto ali gum. tesnilnim obročem z Niro potisno ploščo ter vijaki (npr. sistem UGA)","kpl",4,null,{"$f":"+E31*D31","v":0},{"$f":"+E31*MM","v":0},{"$f":"+G31*D31","v":0},{"$f":"+E31-G31","v":0},{"$f":"+I31*D31","v":0}]
[]
["7.","PVC kompaktna kanalizacijska odtočna cev z gladko notranjo površino za zunanja kanalizacijska omrežja vključno potrebni fazonski elementi, izdelane v skladu z EN 1401, spajanje z mufami z vloženimi EPDM-tesnili (po EN 681), položene v skladu z navodili EN 1610 ter na izravnano dno izkopanega jarka"]
[null,"d200, SN8","m",6,null,{"$f":"+E34*D34","v":0},{"$f":"+E34*MM","v":0},{"$f":"+G34*D34","v":0},{"$f":"+E34-G34","v":0},{"$f":"+I34*D34","v":0}]
[]
["8.","Izdelava geodetskega posnetka položenih cevovodov ter vnos v podzemni kataster","m",6,null,{"$f":"+E36*D36","v":0},{"$f":"+E36*MM","v":0},{"$f":"+G36*D36","v":0},{"$f":"+E36-G36","v":0},{"$f":"+I36*D36","v":0}]
[]
["9.","Oprema, potrebna za zbiranje padavinske odpadne vode (npr. ARMEX-GRAF), vključno:"]
[null,"- 1 kpl PE povozni rezervoar za zbiranje padavinske vode; V=7.500l; dim 2,25x3,6x1,56m; z vstopno odprtino Ф60cm s povoznim pokrovom kl. B (125kN), potrebni priključki po projektu skupaj s potrebnimi tesnili; globina vgradnje2,6m; položen na pripravljeno dno v skladu z navodili proizvajalca (npr. tip PLATIN)"]
[null,"- 1 kpl filtrirni jašek Ф60cm s povoznim pokrovom kl. B (125kN); dovodom DN200 ter 2x odvodom DN200; globina vgradnje 1,3m (npr. tip OPTIMAX)"]
[null,"- 1 kos PE umirjavalni dotok DN150"]
[null,"- 1 kos PE prelivni lijak s sifonom DN150 z zaščito pred vdorom glodalcev"]
[null,"- 1 kpl digitalni pokazatelj nivoja vode v rezervoarju, oddaljenost ca 15m"]
[null,"- 1 kpl notranjih cevnih povezav ter tesnil"]
[null,"skupaj","kpl",1,null,{"$f":"+E45*D45","v":0},{"$f":"+E45*MM","v":0},{"$f":"+G45*D45","v":0},{"$f":"+E45-G45","v":0},{"$f":"+I45*D45","v":0}]
[]
["10.","Samodejna naprava za oskrbo s poadavinsko (sivo) potrošno vodo z dplnjevanje z vodo iz vodovodnega omrežja, izdelana v sladu z DIN 1988 ter EN 1717, sestavljena iz črpalke, prelivnega rezervoarčka, tropotnega ventila ter vseh potrebnih cevnih povezav in digitalnega pokazatelja nivoja vode, oddaljenostod rezervoarja ca 15m"]
[null,"Qnaz = 1,0l/s; pkonst = 3,5bar; NPSH 3mVS; N = 0,8kW 230V (npr. Armax-GRAF tip Aqua-Center Silentio)"]
[null,"skupaj","kpl",1,null,{"$f":"+E49*D49","v":0},{"$f":"+E49*MM","v":0},{"$f":"+G49*D49","v":0},{"$f":"+E49-G49","v":0},{"$f":"+I49*D49","v":0}]
[]
["11.","Izvedba priključka na obstoječi hišni vodovodni instalaciji za vodomerom, vključno zapora, delna izpraznitev ter ponovno polnjenje po končanih delih, izvedba odcepa DN40 z razrezom (obstoječa cev predvidoma p.c. DN80) ter potrebni material"]
[null,"skupaj","kpl",1,null,{"$f":"+E52*D52","v":0},{"$f":"+E52*MM","v":0},{"$f":"+G52*D52","v":0},{"$f":"+E52-G52","v":0},{"$f":"+I52*D52","v":0}]
[]
["12.","Cevi iz nerjavnega jekla W.Nr 1.4401, primerne za vodovodne instalacije po DIN EN 10088-2 (npr. GEBERIT-MAPRESS), skupaj z ustreznimi tesnili ter fitingi za stiskanje, vsem potrebnim montažnim in pritrdilnim materialom, toplotno zaščitene s felksibilnimi izolacijskimi cevaki, izdelanimi iz zaprtocelične elastomerne pene "]
[null,"iz sintetičnega kavčuka z lepljenimi spoji s požarno odpornostjo B-s3-d0 ter toplotno prevodnostjo λ=0,04 W/mK- npr. ARMACELL ACE, vključno toplotno izolirani cevni nosilci - npr. ARMACELL Armafix X; pri prehodih skozi požarne stene oz. stropove se uporabi požarno odporne cevake kot npr Armaflex protect,  (razvodi hladne in tople vode ter cirkulacije v dvojnem stropu, instalacijskih jaških ali vidno)"]
[null,"15x1,0 (deb. izolacije 9mm)","m",30,null,{"$f":"+E56*D56","v":0},{"$f":"+E56*MM","v":0},{"$f":"+G56*D56","v":0},{"$f":"+E56-G56","v":0},{"$f":"+I56*D56","v":0}]
[null,"18x1,0 (deb. izolacije 9mm)","m",490,null,0,0,0,0,0]
[null,"22x1,2 (deb. izolacije 13mm)","m",130,null,0,0,0,0,0]
[null,"28x1,2 (deb. izolacije 13mm)","m",150,null,0,0,0,0,0]
[null,"35x1,5 (deb. izolacije 19mm)","m",20,null,0,0,0,0,0]
[null,"42x1,5 (deb. izolacije 19mm)","m",55,null,0,0,0,0,0]
[]
["13.","Kompozitne plast. vodovodne cevi po  DIN 16892/93, (PE-X/Al/PE, npr. UPONOR,   GEBERIT-MEPLA ali REHAU-STABIL), skupaj z Ms ali PE fitingi za stiskanje in vsem potrebnim montažnim materialom, toplotno zaščitene s"]
[null,"PE penasto gumo z lepljenimi spoji s požarno odpornostjo B-s3-d0 ter toplotno prevodnostjo λ=0,04 W/mK - npr. ARMACELL ACE (razvodi hladne in tople vode v tleh ali stenskih utorih)"]
[null,"   15 (d20x2,5; izolacija deb. 9mm)","m",210,null,{"$f":"+E65*D65","v":0},{"$f":"+E65*MM","v":0},{"$f":"+G65*D65","v":0},{"$f":"+E65-G65","v":0},{"$f":"+I65*D65","v":0}]
[null,"   20 (d26x3,0; izolacija deb. 9mm)","m",50,null,{"$f":"+E66*D66","v":0},{"$f":"+E66*MM","v":0},{"$f":"+G66*D66","v":0},{"$f":"+E66-G66","v":0},{"$f":"+I66*D66","v":0}]
[]
["14.","Ms krogelni ventil za pitno vodo z ročico ter navojnim priključkom"]
[null,"   R ½ ","kos",23,null,{"$f":"+E69*D69","v":0},{"$f":"+E69*MM","v":0},{"$f":"+G69*D69","v":0},{"$f":"+E69-G69","v":0},{"$f":"+I69*D69","v":0}]
[null,"   R ¾","kos",9,null,{"$f":"+E70*D70","v":0},{"$f":"+E70*MM","v":0},{"$f":"+G70*D70","v":0},{"$f":"+E70-G70","v":0},{"$f":"+I70*D70","v":0}]
[null,"   R 1","kos",8,null,{"$f":"+E71*D71","v":0},{"$f":"+E71*MM","v":0},{"$f":"+G71*D71","v":0},{"$f":"+E71-G71","v":0},{"$f":"+I71*D71","v":0}]
[null,"   R 1¼","kos",2,null,{"$f":"+E72*D72","v":0},{"$f":"+E72*MM","v":0},{"$f":"+G72*D72","v":0},{"$f":"+E72-G72","v":0},{"$f":"+I72*D72","v":0}]
[null,"   R 1½ ","kos",3,null,{"$f":"+E73*D73","v":0},{"$f":"+E73*MM","v":0},{"$f":"+G73*D73","v":0},{"$f":"+E73-G73","v":0},{"$f":"+I73*D73","v":0}]
[]
["15.","Ms podometni krogelni ventil za pitno vodo s pokromano kapo in rozeto"]
[null,"   R ½ ","kos",7,null,{"$f":"+E76*D76","v":0},{"$f":"+E76*MM","v":0},{"$f":"+G76*D76","v":0},{"$f":"+E76-G76","v":0},{"$f":"+I76*D76","v":0}]
[]
["16. ","Ms povratni ventil za pitno vodo z navojnim priključkom, R1"]
[null,"   R ½ ","kos",7,null,{"$f":"+E79*D79","v":0},{"$f":"+E79*MM","v":0},{"$f":"+G79*D79","v":0},{"$f":"+E79-G79","v":0},{"$f":"+I79*D79","v":0}]
[]
["17.","Ms pokrom. kotni priključni ventil s pokrom rozeto ter matico"]
[null,"   R ½ ","kos",20,null,{"$f":"+E82*D82","v":0},{"$f":"+E82*MM","v":0},{"$f":"+G82*D82","v":0},{"$f":"+E82-G82","v":0},{"$f":"+I82*D82","v":0}]
[]
["19.","Avtomatski zaščitni povratno-izpiralni filter z avtomatiko za proženja izpiranja ob povečanju tlačne razlike za 0,2bar, vključno posrebren filterski vložek 0,10mm"]
[null,"Qnaz=6m3/h; Δpnaz=0,2bar; DN32\n(npr. npr. HONEYWELL tip F76S-f + Z11AS)","kpl",1,null,{"$f":"+E85*D85","v":0},{"$f":"+E85*MM","v":0},{"$f":"+G85*D85","v":0},{"$f":"+E85-G85","v":0},{"$f":"+I85*D85","v":0}]
[]
["20.","Okrogli manometer 0-10bar","kpl",2,null,{"$f":"+E87*D87","v":0},{"$f":"+E87*MM","v":0},{"$f":"+G87*D87","v":0},{"$f":"+E87-G87","v":0},{"$f":"+I87*D87","v":0}]
[]
["21.","Oprema za regulacijo pretokov v cirk. omrežju sanitarna vode, vključno:"]
[null,"- 7 kos modularni obtočni ventil skupaj s temp. tipalom Pt1000 ter modulom za daljinsko programsko vodeno termično dezinfekcijo, vključno el. krmilni kabel povprečne dolžine 20m (max 60m) - R ½  \n(npr. DANFOSS, tip MTCV model C)"]
[null,"- 1 kpl elektronski regulator za termično dezinfekcijo san. tople vode za do 16 enot, skupaj s komunikacijskim modulom za povezavo z reg. toplovodnih kotlov, napravo za izpis uspešnosti izvedbe termodezinfekcije, LED-diodami za signalizacijo ter vsemi potrebnimi kabelskimi povezavami v energ. prostoru in dovodom el. energije iz razdelilca\n(npr. DANFOSS tip CCR)"]
[null,"- potrebna regulacija ter spuščanje naprave v pogon z vsemi potrebnimi deli s strani proizvajalca"]
[null,"skupaj","kpl",1,null,{"$f":"+E93*D93","v":0},{"$f":"+E93*MM","v":0},{"$f":"+G93*D93","v":0},{"$f":"+E93-G93","v":0},{"$f":"+I93*D93","v":0}]
[]
["22.","Naprava za pripravo san. tople vode, vključno:"]
[null,"- 1 kos stoječi grelnik/akumulator san. tople vode, izdelan iz jeklene pločevine, antikorozijsko zaščiten znotraj z emajliranjem po DIN4753 in zunaj z epoksi premazom, vključno Mg-anoda, potrebni priključki po projektu ter izolacijski plašč iz PU deb. 10cm z polistirolskim zaščitnim plaščem, z atestom za uporabo v prehrani, z dodatnim el. grelcem N=9kW 400V; V = 1.000 l; h/d = 2,35/0,99m \n(kot. npr. AUSTRIA EMAIL, tip LDS)"]
[null,"- 1 kos stoječi grelnik/akumulator san. tople vode, izdelan iz jeklene pločevine, antikorozijsko zaščiten znotraj z emajliranjem po DIN4753 in zunaj z epoksi premazom, vključno Mg-anoda, potrebni priključki po projektu ter izolacijski plašč iz PU deb. 10cm z polistirolskim zaščitnim plaščem, z atestom za uporabo v prehrani,  \nV = 1.000 l; h/d = 2,35/0,99m \n(kot. npr. AUSTRIA EMAIL, tip LDS)"]
[null,"- 2kos Ms krogelni ventil za pitno vodo z ročico ter navojnim priključkom R 1¼"]
[null,"- 5kos Ms krogelni ventil za pitno vodo z ročico ter navojnim priključkom R ¾"]
[null,"- 3kos Ms krogelni ventil za pitno vodo z ročico ter navojnim priključkom R ½"]
[null,"- 1kos Ms povratni ventil za pitno vodo z navojnim priključkom R ½"]
[null,"- 1kos Ms povratni ventil za pitno vodo z navojnim priključkom R ¾"]
[null,"- 2 kos Ms testna izpustna pipica za odvzem vzorcev R ⅜"]
[null,"- 1kpl dozirna naprava polifosfata za mehčanje tople vode; Qnaz=2,5m3/h; Qmax=5,0m3/h; Vrez=200L; Nel=20W 230V\n(npr MAK-CMC, tip PRODOS 2)"]
[null,"- 8 kos okrogli termometer 0-100°C"]
[null,"- 1 regulator pretoka za toplo san. vodo; Q=0,17l/s; R¾ (npr. TACO tip AV23 SETTERbypassSD/223.2362.000; nast. B)"]
[null,"- 1 kos pretočna membranska raztezna posoda za sanitarno vodo po DIN 4807/5 skupaj z nastavitvenim ventilom, V=200L; h/d = 1,37/0,5m; R1¼ NP10 (npr. PNEUMATEX AQUAPRESSO AUF )"]
[null,"- 2 kos obtočna črpalka za sanitarno toplo vodo; V=0,17l/S; p=30kPa; N=71W 230V 0,31A (kot. npr. WILO, tip STRATOS STAR-Z 20/4-3 PN10)"]
[null,"- pritrdilni in tesnilni material"]
[null,"skupaj","kpl",1,null,{"$f":"+E110*D110","v":0},{"$f":"+E110*MM","v":0},{"$f":"+G110*D110","v":0},{"$f":"+E110-G110","v":0},{"$f":"+I110*D110","v":0}]
[]
["23.","Požarni sistem za tesnenje cevnega prehoda kompozitnih ali NiRo cevi skozi AB-stropno ploščo ali steno deb. do 300mm, klasifikacije najmanj EI 30, klasificiran po EN 13501-2, testiran po EN 1366 –3 za horizontalno AB ploščo, dobavljen in strokovno montiran, skupaj s potrebnimi dokazili o ustreznosti ter označevalnimi nalepkami \n(npr. PROMAT, sistem 704)"]
[null,"DN 15","kpl",6,null,{"$f":"+E113*D113","v":0},{"$f":"+E113*MM","v":0},{"$f":"+G113*D113","v":0},{"$f":"+E113-G113","v":0},{"$f":"+I113*D113","v":0}]
[null,"DN 20","kpl",9,null,{"$f":"+E114*D114","v":0},{"$f":"+E114*MM","v":0},{"$f":"+G114*D114","v":0},{"$f":"+E114-G114","v":0},{"$f":"+I114*D114","v":0}]
[null,"DN 25","kpl",2,null,{"$f":"+E115*D115","v":0},{"$f":"+E115*MM","v":0},{"$f":"+G115*D115","v":0},{"$f":"+E115-G115","v":0},{"$f":"+I115*D115","v":0}]
[null,"DN 40","kpl",2,null,{"$f":"+E116*D116","v":0},{"$f":"+E116*MM","v":0},{"$f":"+G116*D116","v":0},{"$f":"+E116-G116","v":0},{"$f":"+I116*D116","v":0}]
[]
["24.","Prof. železo za izdelavo podpor, konzol in obešal, vse  poc., vključno vijaki in matice ter zidni vložki (npr. sistem HILTI, SIKLA ali VALRAWEN)","kg",1250,null,{"$f":"+E118*D118","v":0},{"$f":"+E118*MM","v":0},{"$f":"+G118*D118","v":0},{"$f":"+E118-G118","v":0},{"$f":"+I118*D118","v":0}]
[]
["25.","Dezinfekcija vod. omrežja, vključno dezinfekcijsko sredstvo ter izdaja potrdila o kakovosti vode na osnovi kem. analize","kpl",1,null,{"$f":"+E120*D120","v":0},{"$f":"+E120*MM","v":0},{"$f":"+G120*D120","v":0},{"$f":"+E120-G120","v":0},{"$f":"+I120*D120","v":0}]
[]
["26.","Izvedba priključka na obstoječi vodovodni instalaciji (1x v traktu E), vključno razrez obstoječih cevovodov, vgradnja novih odcepo ter potrebni material"]
[null,"ocena","ur",10,null,{"$f":"+E123*D123","v":0},{"$f":"+E123*MM","v":0},{"$f":"+G123*D123","v":0},{"$f":"+E123-G123","v":0},{"$f":"+I123*D123","v":0}]
[]
["27.","Prevrtanje AB stopne plošče ali stene debeline do 30cm za polaganje instalacij, točno pozicijo preboja mora označiti izvajalec instalacijskih del"]
["- ","preboj 30mm (za prehod cevi do DN20)","kos",50,null,{"$f":"+E126*D126","v":0},{"$f":"+E126*MM","v":0},{"$f":"+G126*D126","v":0},{"$f":"+E126-G126","v":0},{"$f":"+I126*D126","v":0}]
["- ","preboj 40mm (za prehod cevi do DN32)","kos",3,null,{"$f":"+E127*D127","v":0},{"$f":"+E127*MM","v":0},{"$f":"+G127*D127","v":0},{"$f":"+E127-G127","v":0},{"$f":"+I127*D127","v":0}]
["- ","preboj 30mm (za prehod cevi do DN40)","kos",4,null,{"$f":"+E128*D128","v":0},{"$f":"+E128*MM","v":0},{"$f":"+G128*D128","v":0},{"$f":"+E128-G128","v":0},{"$f":"+I128*D128","v":0}]
[null,"skupaj",null,null,null,{"$f":"SUM(F14:F128)","v":0},null,{"$f":"SUM(H14:H128)","v":0},null,{"$f":"SUM(J14:J128)","v":0}]
[]
[]
[".2.2. ","ODTOČNA KANALIZACIJA"]
[]
[null,"OPOMBA:"]
["-","Vsa potrebna gradbena dela razen vrtanja prebojev morajo biti zajeta v gradbeno-arhitekturnih načrtih !"]
[]
["1.","Lž odtočne cevi, vključno vsi potrebni fazonski ter čistilni kosi, spoji z NiRo objemkami ter gum. tesnili, izdelano v skladu z  EN877, vključno potrebni mont. material, položene pod AB-talno ploščo v izkopanem jarku na pripravljeno in izravanano posteljico"]
[null,"   DN   70","m",15,null,{"$f":"+E138*D138","v":0},{"$f":"+E138*MM","v":0},{"$f":"+G138*D138","v":0},{"$f":"+E138-G138","v":0},{"$f":"+I138*D138","v":0}]
[null,"   DN 100","m",100,null,{"$f":"+E139*D139","v":0},{"$f":"+E139*MM","v":0},{"$f":"+G139*D139","v":0},{"$f":"+E139-G139","v":0},{"$f":"+I139*D139","v":0}]
[null,"   DN 150","m",3,null,{"$f":"+E140*D140","v":0},{"$f":"+E140*MM","v":0},{"$f":"+G140*D140","v":0},{"$f":"+E140-G140","v":0},{"$f":"+I140*D140","v":0}]
[]
["2.","Lž odtočne cevi, vključno vsi potrebni fazonski ter čistilni kosi, spoji z NiRo objemkami ter gum. tesnili, izdelano v skladu z  EN877, vključno potrebni mont. material, položene v stenskih utorih, montažnih stenah ali v dvojnem stropu"]
[null,"   DN   50","m",10,null,{"$f":"+E143*D143","v":0},{"$f":"+E143*MM","v":0},{"$f":"+G143*D143","v":0},{"$f":"+E143-G143","v":0},{"$f":"+I143*D143","v":0}]
[null,"   DN   70","m",60,null,{"$f":"+E144*D144","v":0},{"$f":"+E144*MM","v":0},{"$f":"+G144*D144","v":0},{"$f":"+E144-G144","v":0},{"$f":"+I144*D144","v":0}]
[null,"   DN 100","m",145,null,{"$f":"+E145*D145","v":0},{"$f":"+E145*MM","v":0},{"$f":"+G145*D145","v":0},{"$f":"+E145-G145","v":0},{"$f":"+I145*D145","v":0}]
[null,"   DN 125","m",5,null,{"$f":"+E146*D146","v":0},{"$f":"+E146*MM","v":0},{"$f":"+G146*D146","v":0},{"$f":"+E146-G146","v":0},{"$f":"+I146*D146","v":0}]
[null,"   DN 150","m",12,null,{"$f":"+E147*D147","v":0},{"$f":"+E147*MM","v":0},{"$f":"+G147*D147","v":0},{"$f":"+E147-G147","v":0},{"$f":"+I147*D147","v":0}]
[]
["3.","PP odtočne cevi, vključno vsi potrebni fazonski ter čistilni kosi, spoji z mufami z vloženimi gum. tesnili, vključno potrebna tesnila in mont. material, položene v stenskih utorih, montažnih stenah ali v tleh"]
[null,"   DN   50","m",70,null,{"$f":"+E150*D150","v":0},{"$f":"+E150*MM","v":0},{"$f":"+G150*D150","v":0},{"$f":"+E150-G150","v":0},{"$f":"+I150*D150","v":0}]
[null,"   DN   70","m",95,null,{"$f":"+E151*D151","v":0},{"$f":"+E151*MM","v":0},{"$f":"+G151*D151","v":0},{"$f":"+E151-G151","v":0},{"$f":"+I151*D151","v":0}]
[null,"   DN 100","m",15,null,{"$f":"+E152*D152","v":0},{"$f":"+E152*MM","v":0},{"$f":"+G152*D152","v":0},{"$f":"+E152-G152","v":0},{"$f":"+I152*D152","v":0}]
[]
["4.","PP odtočne cevi, vključno vsi potrebni fazonski ter čistilni kosi, spoji z mufami z vloženimi gum. tesnili, vključno potrebna tesnila in mont. material, položene v dvojnem stropu"]
[null,"   DN   30","m",50,null,{"$f":"+E155*D155","v":0},{"$f":"+E155*MM","v":0},{"$f":"+G155*D155","v":0},{"$f":"+E155-G155","v":0},{"$f":"+I155*D155","v":0}]
[null,"   DN   70","m",15,null,{"$f":"+E156*D156","v":0},{"$f":"+E156*MM","v":0},{"$f":"+G156*D156","v":0},{"$f":"+E156-G156","v":0},{"$f":"+I156*D156","v":0}]
[null,"   DN 100","m",18,null,{"$f":"+E157*D157","v":0},{"$f":"+E157*MM","v":0},{"$f":"+G157*D157","v":0},{"$f":"+E157-G157","v":0},{"$f":"+I157*D157","v":0}]
[]
["5.","PP kondenčni sifon DN30/40 z vodno zaporo ter mehansko zaporo s kroglico (npr. HL, tip 136) - odvod stropnih konvektorjev","kpl",5,null,{"$f":"+E159*D159","v":0},{"$f":"+E159*MM","v":0},{"$f":"+G159*D159","v":0},{"$f":"+E159-G159","v":0},{"$f":"+I159*D159","v":0}]
[]
["6.","PE talni sifon z vodno zaporo višine 50mm  s pokrom. rešetko 115/115mm, hor. dovodom ter hor./vert. odvodom "]
[null," - hor. odvod DN50","kpl",12,null,{"$f":"+E162*D162","v":0},{"$f":"+E162*MM","v":0},{"$f":"+G162*D162","v":0},{"$f":"+E162-G162","v":0},{"$f":"+I162*D162","v":0}]
[]
["7.","Lž talni sifon z vodno zaporo višine 60mm z rešetko 200/200mm kl. K3 ter vert.  odvodom DN100","kpl",2,null,{"$f":"+E164*D164","v":0},{"$f":"+E164*MM","v":0},{"$f":"+G164*D164","v":0},{"$f":"+E164-G164","v":0},{"$f":"+I164*D164","v":0}]
[]
["8.","NiRo talni odtok, izdelan v skladu s SIST EN 1253, 1672 in EHDG 8, 13 in 44, vključno:"]
[null,"- 1 kpl NiRo enodelni talni odtok (material W.Nr 1.4301), z vgrajenim padcem min. 1% z iztokom na sredini, za naz. pretok 1,6 l/s; vsi notranji robovi zaokroženi (R>3mm), z vedrom za grobe nečistoče; z nastavitvenimi nogicami, stabilizacijskimi trakovi ter gum. robnimi tesnili - tla keramika povozno, \n(npr. ACO, tip 157)"]
[null,"- 1 kpl elektropolirana mrežasta (25x25mm) protidrsna rešetka (material W.Nr 1.4301), obrem. razred M125 kN"]
[null,"- 1 kpl NiRo vedro za grobe nečistoče"]
[null,"- pritrdilni in tesnilni material"]
[null,"   dim. 20x20cm; DN70, vert.","kpl",1,null,{"$f":"+E171*D171","v":0},{"$f":"+E171*MM","v":0},{"$f":"+G171*D171","v":0},{"$f":"+E171-G171","v":0},{"$f":"+I171*D171","v":0}]
[null,"   dim. 20x20cm; DN70, hor.","kpl",8,null,{"$f":"+E172*D172","v":0},{"$f":"+E172*MM","v":0},{"$f":"+G172*D172","v":0},{"$f":"+E172-G172","v":0},{"$f":"+I172*D172","v":0}]
[null,"   dim. 20x20cm; DN100, vert.","kpl",1,null,{"$f":"+E173*D173","v":0},{"$f":"+E173*MM","v":0},{"$f":"+G173*D173","v":0},{"$f":"+E173-G173","v":0},{"$f":"+I173*D173","v":0}]
[]
["9.","NiRo talna rešetka, izdelana v skladu s SIST EN 1253, 1672 in EHDG 8, 13 in 44, vključno:"]
[null,"- 1 kpl NiRo kanaleta višine 60mm (material W.Nr 1.4301), z vgrajenim padcem min. 1% z iztokom na sredini; z vedrom za grobe nečistoče;  vsi notranji robovi zaokroženi (R>3mm), nastavitvenimi nogicami, stabilizacijskimi trakovi ter gum. robnimi tesnili - tla keramika povozno, \n(npr. ACO, tip 157)"]
[null,"- 1 kpl elektropolirana mrežasta (25x25mm) protidrsna rešetka (material W.Nr 1.4301), obrem. razred M125 kN"]
[null,"- 1 kpl NiRo sistemski talni odtok s sifonom za vgradnjo v talno kanaleto, vert. iztok DN100, predv. pretok 3,5 l/s"]
[null,"- 1 kpl NiRo vedro za grobe nečistoče"]
[null,"- pritrdilni in tesnilni material"]
[null,"   dim. 60x40cm","kpl",1,null,{"$f":"+E181*D181","v":0},{"$f":"+E181*MM","v":0},{"$f":"+G181*D181","v":0},{"$f":"+E181-G181","v":0},{"$f":"+I181*D181","v":0}]
[null,"   dim. 80x40cm","kpl",4,null,{"$f":"+E182*D182","v":0},{"$f":"+E182*MM","v":0},{"$f":"+G182*D182","v":0},{"$f":"+E182-G182","v":0},{"$f":"+I182*D182","v":0}]
["10.","Odzračna strešna kapa (vodotesni prehod skozi streho dobavi in izvede krovec) - namesti se samo odzračna cev v namenski prehod)"]
[null,"   DN   70","kpl",2,null,{"$f":"+E184*D184","v":0},{"$f":"+E184*MM","v":0},{"$f":"+G184*D184","v":0},{"$f":"+E184-G184","v":0},{"$f":"+I184*D184","v":0}]
[null,"   DN 100","kpl",4,null,{"$f":"+E185*D185","v":0},{"$f":"+E185*MM","v":0},{"$f":"+G185*D185","v":0},{"$f":"+E185-G185","v":0},{"$f":"+I185*D185","v":0}]
[]
["11.","Čistilni jašek-odprtina DN300x300mm, skupaj s potopnim pokrovom iz rebraste pločevine za vdelavo tlaka - keramika (npr. ACO, tip AluCover), izdelano iz nerjaveče pločevine ter zaščitne PP cevi DN300 dolžine 30cm (po detajlu)"]
[null,"PP odtočna cev DN100","kpl",1,null,{"$f":"+E188*D188","v":0},{"$f":"+E188*MM","v":0},{"$f":"+G188*D188","v":0},{"$f":"+E188-G188","v":0},{"$f":"+I188*D188","v":0}]
[]
["12.","Požarna zapora RS90 (S90, R90, EI90) za PE/PP odtočne cevi, skupaj z označevalno ploščo ter pritrdilnim materialom"]
[null,"DN   70","kpl",4,null,{"$f":"+E191*D191","v":0},{"$f":"+E191*MM","v":0},{"$f":"+G191*D191","v":0},{"$f":"+E191-G191","v":0},{"$f":"+I191*D191","v":0}]
[null,"DN 100","kpl",6,null,{"$f":"+E192*D192","v":0},{"$f":"+E192*MM","v":0},{"$f":"+G192*D192","v":0},{"$f":"+E192-G192","v":0},{"$f":"+I192*D192","v":0}]
[]
["13.","Stenska vratca, izdelana iz nerjaveče ali jeklene obarvane pločevine, skupaj s protiokvirjem ter jezično zaporo, za vgradnjo v montažno steno"]
[null,"30x30cm","kpl",4,null,{"$f":"+E195*D195","v":0},{"$f":"+E195*MM","v":0},{"$f":"+G195*D195","v":0},{"$f":"+E195-G195","v":0},{"$f":"+I195*D195","v":0}]
[]
["14.","Ločevalnik maščob s prigrajenim vsedalnikom (izdelan v skladu z DIN4040 ter EN1825), vključno povozni pokrov kl.D ter protizmrzovalni nastavek, PE izvedba, predviden za vkop v zemljo, vključno dodatni priključki za odsesovanje nečistoč in maščob ter pripravo za odvzem vzorca  \n(npr. ACO tip Lipumax P-D)"]
[null,"Q = 5,5 l/s (NW5.5); H=2,55m; D=1,32m;  \nVcel = 1.465L; Vmašč=270L; Vvsed=570L; G=1.560kg","kpl",1,null,{"$f":"+E198*D198","v":0},{"$f":"+E198*MM","v":0},{"$f":"+G198*D198","v":0},{"$f":"+E198-G198","v":0},{"$f":"+I198*D198","v":0}]
[]
["15.","ABS kanalizacijska zapora hor. povratnega toka, sestavljena iz ročne in elektronsko krmiljene povratne zaporne lopute, vključno potrebna elektronska krmilna enota (optični prikaz stanja ter okvare, akustična indikacoija motnje ter vmesnik za povezavo z CNS objekta, izdelano v skladu z  EN 13564, tip 3 (npr. HL, art. 710.2EPC)"]
[null,"DN100","kpl",1,null,{"$f":"+E201*D201","v":0},{"$f":"+E201*MM","v":0},{"$f":"+G201*D201","v":0},{"$f":"+E201-G201","v":0},{"$f":"+I201*D201","v":0}]
[]
["16.","Izvedba vodotesnega prehoda skozi zunanjo steno debeline 40cm (klet), vključno:"]
["-","Izvedba preboja 200mm (prevrtanje) AB stene ","kpl",2,null,{"$f":"+E204*D204","v":0},{"$f":"+E204*MM","v":0},{"$f":"+G204*D204","v":0},{"$f":"+E204-G204","v":0},{"$f":"+I204*D204","v":0}]
["-","Izvedba vodotesne zatesnitve prehoda Lž odtočne cevi (Lž DN100, 150) z ekspanzijsko malto ali gum. tesnilnim obročem z Niro potisno ploščo ter vijaki (npr. sistem UGA)","kpl",2,null,{"$f":"+E205*D205","v":0},{"$f":"+E205*MM","v":0},{"$f":"+G205*D205","v":0},{"$f":"+E205-G205","v":0},{"$f":"+I205*D205","v":0}]
[]
["17.","Prevrtanje AB stopne plošče ali stene debeline do 30cm za polaganje instalacij, točno pozicijo preboja mora označiti izvajalec instalacijskih del"]
["- ","preboj 100mm (za prehod cevi do DN70)","kos",20,null,{"$f":"+E208*D208","v":0},{"$f":"+E208*MM","v":0},{"$f":"+G208*D208","v":0},{"$f":"+E208-G208","v":0},{"$f":"+I208*D208","v":0}]
["- ","preboj 150mm (za prehod cevi do DN100)","kos",19,null,{"$f":"+E209*D209","v":0},{"$f":"+E209*MM","v":0},{"$f":"+G209*D209","v":0},{"$f":"+E209-G209","v":0},{"$f":"+I209*D209","v":0}]
[]
["18.","PE vakuumske odtočne cevi, vključno vsi potrebni fazonski kosi, spoji s čelnim varjenjem (vakuumska meteorna kanalizacija), obešalni in montažni material, cevi položene pod stropom ali ob stenah ter delno v tleh \n(npr. GEBERIT-PLUVIA ali enakovredno) "]
[null,"   d   50; m 2"]
[null,"   d   56; m 15"]
[null,"   d   63; m 17"]
[null,"   d   75; m 36"]
[null,"   d 125; m 4"]
[null,"skupaj","kpl",1,null,{"$f":"+E217*D217","v":0},{"$f":"+E217*MM","v":0},{"$f":"+G217*D217","v":0},{"$f":"+E217-G217","v":0},{"$f":"+I217*D217","v":0}]
[]
["19.","Vakuumski strešni vtočni element d56 s hor. odtokom ter zaščitno rešetko - funkcijsko ploščo, vključno tesnilni obroč s tesnilno folijo ter priključkom za parno zaporo, z el. grelcem 8W 230V; (npr. GEBERIT, tip PLUVIA ali enakovredno)"]
[null,"d56, q=12 l/s","kpl",4,null,{"$f":"+E220*D220","v":0},{"$f":"+E220*MM","v":0},{"$f":"+G220*D220","v":0},{"$f":"+E220-G220","v":0},{"$f":"+I220*D220","v":0}]
[]
["20.","Prof. železo za izdelavo podpor, konzol in obešal, vse  poc., vključno vijaki in matice ter zidni vložki (npr. sistem HILTI, SIKLA ali VALRAWEN)","kg",350,null,{"$f":"+E222*D222","v":0},{"$f":"+E222*MM","v":0},{"$f":"+G222*D222","v":0},{"$f":"+E222-G222","v":0},{"$f":"+I222*D222","v":0}]
[null,"skupaj",null,null,null,{"$f":"SUM(F138:F222)","v":0},null,{"$f":"SUM(H138:H222)","v":0},null,{"$f":"SUM(J138:J222)","v":0}]
[]
[]
[".2.3. "," SANITARNA OPREMA"]
[]
[null,"OPOMBA:"]
["-","pred nabavo celotne sanitarne opreme ter dodatne galanterije je potrebno pridobiti pisno soglasje investitorja oz. nadzora ter projektanta notranje opreme in sicer na podlagi priloženih vzorcev ali druge dokumentacije !"]
["-","del potrebne dodatne sanitarne galanterije (koši, ščetke . . . ), ki se ne pritrjuje, je zajeta v načrtu opreme "]
["-","za kuhinjo so predvideni le potrebni stenski kanalizacijski in vodovodni priključki, vse ostalo se dobavi v sklopu tehnološke opreme objekta"]
[]
["1.","Stranišče (norm. izvedba), vključno:"]
[null,"- 1 kos keramična stenska WC-školjka z zadnjim iztokom brez notranjega roba, vključno sedežna deska s pokrovom, bele barve (npr. GEBERIT-KOLO NOVA-PRO)"]
[null,"- 1 kpl plast. podometni vodokotliček z dodatno toplotno izolacijo, plovnim in odlivnim ventilom, spojno cevjo z vodovodno instalacijo ter WC-školjko pritrdilni in tesnilni material, vključno nosilni okvir za vgradnjo v montažno steno max. debeline 17cm s potrebnimi distančniki \n(npr. GEBERIT DUOFIX)"]
[null,"- 1 kpl plast. pokrivni okvir bele barve z dvema sprožilnima tipkama za dvokoličinsko izpiranje, sprožilna sila <20N (npr. GEBERIT SIGMA 20)"]
[null,"- 1 kos gumi manšeta"]
[null,"- 1 kos Ms pokromani kotni reg. ventil R1/2x3/8 z rozeto (npr. UNITAS art. 13104)"]
[null,"- pritrdilni in tesnilni material"]
[null,"skupaj ","kpl",11,null,{"$f":"+E240*D240","v":0},{"$f":"+E240*MM","v":0},{"$f":"+G240*D240","v":0},{"$f":"+E240-G240","v":0},{"$f":"+I240*D240","v":0}]
[]
["2.","Stranišče (otroška izvedba srednja višina), vključno:"]
[null,"- 1 kos keramična otroška stenska WC-školjka z zadnjim iztokom bele barve (dim. 53x33x35cm), vključno sedežna deska brez pokrova s stranskimi držali rdeče barve \n(npr. GEBERIT BAMBINI art 201700000"]
[null,"- 1 kpl plast. podometni vodokotliček z dodatno toplotno izolacijo, plovnim in odlivnim ventilom, spojno cevjo z vodovodno instalacijo ter WC-školjko pritrdilni in tesnilni material, vključno nosilni okvir za vgradnjo v montažno steno max. debeline 17cm s potrebnimi distančniki \n(npr. GEBERIT DUOFIX)"]
[null,"- 1 kpl plast. pokrivni okvir bele barve z dvema sprožilnima tipkama za dvokoličinsko izpiranje, sprožilna sila <20N (npr. GEBERIT SIGMA 20)"]
[null,"- 1 kos gumi manšeta"]
[null,"- 1 kos Ms pokromani kotni reg. ventil R1/2x3/8 z rozeto (npr. UNITAS art. 13104)"]
[null,"- pritrdilni in tesnilni material"]
[null,"skupaj ","kpl",3,null,{"$f":"+E249*D249","v":0},{"$f":"+E249*MM","v":0},{"$f":"+G249*D249","v":0},{"$f":"+E249-G249","v":0},{"$f":"+I249*D249","v":0}]
[]
["3.","Stranišče (otroška izvedba najmanjše otroke), vključno:"]
[null,"- 1 kos keramična otroška stoječa WC-školjka z zadnjim iztokom bele barve (dim. 37x28x25cm), vključno sedežna deska brez pokrova z oprijemali rdeče barve (npr. GEBERIT BAMBINI, art. 211650000)"]
[null,"- 1 kpl plast. podometni vodokotliček z dodatno toplotno izolacijo, plovnim in odlivnim ventilom, spojno cevjo z vodovodno instalacijo ter WC-školjko pritrdilni in tesnilni material, vključno nosilni okvir za vgradnjo v montažno steno max. debeline 17cm s potrebnimi distančniki \n(npr. GEBERIT DUOFIX)"]
[null,"- 1 kpl plast. pokrivni okvir bele barve z dvema sprožilnima tipkama za dvokoličinsko izpiranje, sprožilna sila <20N (npr. GEBERIT SIGMA 20)"]
[null,"- 1 kos gumi manšeta"]
[null,"- 1 kos Ms pokromani kotni reg. ventil R1/2x3/8 z rozeto (npr. UNITAS art. 13104)"]
[null,"- pritrdilni in tesnilni material"]
[null,"skupaj ","kpl",2,null,{"$f":"+E258*D258","v":0},{"$f":"+E258*MM","v":0},{"$f":"+G258*D258","v":0},{"$f":"+E258-G258","v":0},{"$f":"+I258*D258","v":0}]
[]
["4.","Dodatna sanitarna galanterija pokrom. izvedbe (npr. KOIN tip SIMPLE)"]
[null,"- 1 kos držalo za papir v roli"]
[null,"- 1 kos metlica za stranišče"]
[null,"- 1 kos kljukica za obešanje"]
[null,"skupaj ","kpl",16,null,{"$f":"+E264*D264","v":0},{"$f":"+E264*MM","v":0},{"$f":"+G264*D264","v":0},{"$f":"+E264-G264","v":0},{"$f":"+I264*D264","v":0}]
[]
["5.","Stranišče (invalidska izvedba), vključno:"]
[null,"- 1 kos keramična invalidska stenska WC-školjka z zadnjim iztokom, vključno sedežna deska s pokrovom, bele barve (npr. LAUFEN PRO LIBERTY)"]
[null,"- 1 kpl plast. podometni vodokotliček z dodatno toplotno izolacijo, plovnim in odlivnim ventilom, spojno cevjo z vodovodno instalacijo ter WC-školjko pritrdilni in tesnilni material, vključno nosilni okvir za vgradnjo v montažno steno max. debeline 17cm za invlaidske WC-školjke s potrebnimi distančniki (npr. GEBERIT DUOFIX)"]
[null,"- 1 kpl plast. pokrivni okvir bele barve z dvema sprožilnima tipkama za dvokoličinsko izpiranje, sprožilna sila <20N (npr. GEBERIT SIGMA 20)"]
[null,"- 1 kos gumi manšeta"]
[null,"- 1 kos Ms pokromani kotni reg. ventil R1/2x3/8 z rozeto (npr. UNITAS art. 13104)"]
[null,"- pritrdilni in tesnilni material"]
[null,"skupaj ","kpl",1,null,{"$f":"+E273*D273","v":0},{"$f":"+E273*MM","v":0},{"$f":"+G273*D273","v":0},{"$f":"+E273-G273","v":0},{"$f":"+I273*D273","v":0}]
[]
["6.","Dodatna sanitarna galanterija pokrom. izvedbe za inv. stranišča (npr. KOIN)"]
[null,"- 1 kos stransko držalo 130°"]
[null,"- 1 kos stransko preklopno držalo"]
[null,"- 1 kos držalo za papir v roli"]
[null,"- 1 kos metlica za stranišče"]
[null,"- 2 kos kljukica za obešanje"]
[null,"skupaj ","kpl",1,null,{"$f":"+E281*D281","v":0},{"$f":"+E281*MM","v":0},{"$f":"+G281*D281","v":0},{"$f":"+E281-G281","v":0},{"$f":"+I281*D281","v":0}]
[]
["7.","Stenski pisoar, vključno:"]
[null,"- 1 kos keram. stenski pisoar brez pokrova, z notranjim izpiranjem, integriranim sifonom ter termalnim proženjem\n(npr. GEBERIT-KOLO NOVA-PRO)"]
[null,"- 1 kpl kovinske konzole za pritrditev pisoarja na montažno steno - prilagodljiva višina, vključno potrebni vijaki, matice in distančniki, vse antikorozijsko zaščiteno, pritrdilni in tesnilni material (npr. GEBERIT DUOFIX)"]
[null,"- pritrdilni in tesnilni material"]
[null,"skupaj ","kpl",7,null,{"$f":"+E287*D287","v":0},{"$f":"+E287*MM","v":0},{"$f":"+G287*D287","v":0},{"$f":"+E287-G287","v":0},{"$f":"+I287*D287","v":0}]
[]
["8.","Umivalnik (učilnice), vključno:"]
[null,"- 1 kos keram. umivalnik za šolske učilnice dim. 60x48cm z zaščitno polmasko (npr. LAUFEN)"]
[null,"- 1kpl Ms pokrom. stoječa enoročna mešalna baterija za umivalnik s fiksnim izlivom s perlatorjem za umivalnik, omejevalom iztočne količine (5,0 l/min,3bar), skupaj z gibljivimi priključnimi cevmi, \n(UNITAS, tip Simpaty )"]
[null,"- 1 kpl pritdilnih vijakov ter stenskih vložkov z aobešanje umivalnika na opečno steno"]
[null,"- 2 kos Ms pokrom. kotni regulirni ventil za priključitev gibljivih cevi umivalnika \n(npr. UNITAS, tip 13109)"]
[null,"- 1 kos PVC S-sifon s pokrom. odlivnim ventilom DN40 brez zamaška (npr. LIV)"]
[null,"- pritrdilni in tesnilni material"]
[null,"   skupaj","kpl",6,null,{"$f":"+E296*D296","v":0},{"$f":"+E296*MM","v":0},{"$f":"+G296*D296","v":0},{"$f":"+E296-G296","v":0},{"$f":"+I296*D296","v":0}]
[]
["9.","Umivalnik (sanitarje otroci), vključno:"]
[null,"- 2 kos nadpultni ovalni keram. umivalnik, dim. 58x45cm (npr. GEBERIT VARIFORM)"]
[null,"- 1 kpl nosilna plošča za umivalnike s potrebnimi izrezi, s sprednjo zaščito višine 10cm ter stensko zaščito višine 12cm, zaokroženi robovi, širine 60cm (npr. KERROCK), bava po izbiri arhitekta"]
[null,"- 1 kpl NiRo nosilna podkonstrukcija z aobešanje nosilne plošče na steno, vključno pritrdilni vijaki"]
[null,"- 1kpl Ms pokrom. stoječa enoročna mešalna baterija za umivalnik s fiksnim izlivom s perlatorjem za umivalnik, omejevalom iztočne količine (5,0 l/min,3bar), skupaj z gibljivimi priključnimi cevmi, \n(UNITAS, tip Simpaty )"]
[null,"- 2 kos Ms pokrom. kotni regulirni ventil za priključitev gibljivih cevi umivalnika \n(npr. UNITAS, tip 13109)"]
[null,"- 2 kos PVC S-sifon s pokrom. odlivnim ventilom DN40 brez zamaška (npr. LIV)"]
[null,"- pritrdilni in tesnilni material"]
[null,"nosilna plošča, dolžina 160cm","kpl",3,null,{"$f":"+E306*D306","v":0},{"$f":"+E306*MM","v":0},{"$f":"+G306*D306","v":0},{"$f":"+E306-G306","v":0},{"$f":"+I306*D306","v":0}]
[null,"nosilna plošča, dolžina 170cm","kpl",3,null,{"$f":"+E307*D307","v":0},{"$f":"+E307*MM","v":0},{"$f":"+G307*D307","v":0},{"$f":"+E307-G307","v":0},{"$f":"+I307*D307","v":0}]
[null,"nosilna plošča, dolžina 235cm, zaokroženo","kpl",2,null,{"$f":"+E308*D308","v":0},{"$f":"+E308*MM","v":0},{"$f":"+G308*D308","v":0},{"$f":"+E308-G308","v":0},{"$f":"+I308*D308","v":0}]
[]
["10.","Umivalnik (sanitarije osebje, jedilnica), vključno:"]
[null,"- 1 kos keram. umivalnik s prelivom terz zaščitno polnogo(npr. GEBERIT SELNOVA)"]
[null,"- 1 kpl kovinske konzole za pritrditev umivalnika na montažno steno - prilagodljiva višina, vključno potrebni vijaki, matice in distančniki, vse antikorozijsko zaščiteno, pritrdilni in tesnilni material (npr. GEBERIT DUOFIX)"]
[null,"- 1kpl Ms pokrom. stoječa enoročna mešalna baterija za umivalnik s fiksnim izlivom s perlatorjem za umivalnik, omejevalom iztočne količine (5,0 l/min,3bar), skupaj z gibljivimi priključnimi cevmi, \n(UNITAS, tip Simpaty )"]
[null,"- 2 kos Ms pokrom. kotni regulirni ventil za priključitev gibljivih cevi umivalnika \n(npr. UNITAS, tip 13109)"]
[null,"- 1 kos PVC S-sifon s pokrom. odlivnim ventilom DN40 brez zamaška (npr. LIV)"]
[null,"- pritrdilni in tesnilni material"]
[null,"   dim. 40x25cm","kpl",1,null,{"$f":"+E317*D317","v":0},{"$f":"+E317*MM","v":0},{"$f":"+G317*D317","v":0},{"$f":"+E317-G317","v":0},{"$f":"+I317*D317","v":0}]
[null,"   dim. 54x37cm","kpl",2,null,{"$f":"+E318*D318","v":0},{"$f":"+E318*MM","v":0},{"$f":"+G318*D318","v":0},{"$f":"+E318-G318","v":0},{"$f":"+I318*D318","v":0}]
[null,"   dim. 55x44cm","kpl",4,null,{"$f":"+E319*D319","v":0},{"$f":"+E319*MM","v":0},{"$f":"+G319*D319","v":0},{"$f":"+E319-G319","v":0},{"$f":"+I319*D319","v":0}]
[null,"   dim. 60x48cm","kpl",3,null,{"$f":"+E320*D320","v":0},{"$f":"+E320*MM","v":0},{"$f":"+G320*D320","v":0},{"$f":"+E320-G320","v":0},{"$f":"+I320*D320","v":0}]
[]
["11.","Umivalnik (hišnik), vključno:"]
[null,"- 1 kos keram. umivalnik s prelivom terz zaščitno polnogo(npr. GEBERIT SELNOVA)"]
[null,"- 1 kpl poc. vijaki s stenskimi vložki za pritrditev umivalnika na bet. steno"]
[null,"- 1kpl Ms pokrom. stoječa enoročna mešalna baterija za umivalnik s fiksnim izlivom s perlatorjem za umivalnik, primerna za nizkotlačni el. grelnik vode, skupaj z gibljivimi priključnimi cevmi, \n(UNITAS, tip Simpaty )"]
[null,"- 1 kos Ms pokrom. kotni regulirni ventil za priključitev gibljivih cevi umivalnika \n(npr. UNITAS, tip 13109)"]
[null,"- 1 kos PVC S-sifon s pokrom. odlivnim ventilom DN40 brez zamaška (npr. LIV)"]
[null,"- 1 kpl el. nizkotlačni grelnik vode za spodnjo montažo, sestavljen iz plast. kotlička s toplotno izolacijo, del. ter varnostnega termostata s kontrolno lučko ter materialom za obešanje na steno; V=5l; N=2kW 230V"]
[null,"- pritrdilni in tesnilni material"]
[null,"   dim. 60x48cm","kpl",1,null,{"$f":"+E330*D330","v":0},{"$f":"+E330*MM","v":0},{"$f":"+G330*D330","v":0},{"$f":"+E330-G330","v":0},{"$f":"+I330*D330","v":0}]
[]
["12.","Dodatna sanitarna galanterija za umivalnike pokrom. izvedbe (npr. KOIN tip SIMPLE)"]
[null,"- 1 kos držalo za papirne brisače v roli"]
[null,"- 1 kos ogledalo dim. 60x80cm, z brušenimi robovi, lepljeno na steno"]
[null,"- 1 kos držalo za tekoče milo"]
[null,"- 1 kos držalo za dezinfekcijsko sredstvo"]
[null,"- 1 kos kljukica za obešanje"]
[null,"skupaj ","kpl",33,null,{"$f":"+E338*D338","v":0},{"$f":"+E338*MM","v":0},{"$f":"+G338*D338","v":0},{"$f":"+E338-G338","v":0},{"$f":"+I338*D338","v":0}]
[]
["13.","Umivalnik (sanitarije invalidi), vključno:"]
[null,"- 1 kos keram. umivalnik brez zaščitne polnoge, s prelivom dim. 55x44cm(npr. GEBERIT SELNOVA)"]
[null,"- 1 kpl kovinske konzole za pritrditev umivalnika na montažno steno - prilagodljiva višina, vključno potrebni vijaki, matice in distančniki, vse antikorozijsko zaščiteno, pritrdilni in tesnilni material (npr. GEBERIT DUOFIX)"]
[null,"- 1kpl Ms pokrom. stoječa enoročna mešalna baterija za umivalnik s fiksnim izlivom s perlatorjem za umivalnik ter podaljšano ročico, omejevalom iztočne količine (5,0 l/min,3bar), skupaj z gibljivimi priključnimi cevmi (UNITAS, tip Simpaty )"]
[null,"- 2 kos Ms pokrom. kotni regulirni ventil za priključitev gibljivih cevi umivalnika \n(npr. UNITAS, tip 13109)"]
[null,"- 1 kpl podometni sifon s pokrovom z gibljivim priključkom ter pokrom. odlivni ventil DN40 brez zamaška, izvedba za inv. umivalnik (npr. LIV"]
[null,"- pritrdilni in tesnilni material"]
[null,"   dim. 55x44cm","kpl",1,null,{"$f":"+E347*D347","v":0},{"$f":"+E347*MM","v":0},{"$f":"+G347*D347","v":0},{"$f":"+E347-G347","v":0},{"$f":"+I347*D347","v":0}]
[]
["14.","Dodatna sanitarna galanterija za inv. umivalnike pokrom. izvedbe (npr. KOIN tip SIMPLE)"]
[null,"- 1 kos držalo za papirne brisače v roli"]
[null,"- 1 kos nagibno ogledalo dim. 60x60cm, z brušenimi robovi"]
[null,"- 1 kos držalo za tekoče milo"]
[null,"- 1 kos držalo za dezinfekcijsko sredstvo"]
[null,"- 1 kos kljukica za obešanje"]
[null,"- 2 kos stransko držalo za umivalnike"]
[null,"skupaj ","kpl",1,null,{"$f":"+E356*D356","v":0},{"$f":"+E356*MM","v":0},{"$f":"+G356*D356","v":0},{"$f":"+E356-G356","v":0},{"$f":"+I356*D356","v":0}]
[]
["15.","Dodatna oprema kadice za kopanje otrok (kadica sama po načrtu opreme), vključno:"]
[null,"- 1kpl Ms pokrom. stoječa enoročna mešalna baterija za korito z gibljivom izvlečnim izlivom s perlatorjem, z omejevalom iztočne količine (5,0 l/min, 3 bar) ter skrito nastavitvijo max. iztočne temperature,\n(GROHE, tip EUORDISC COSMOPOLITAN)"]
[null,"- 1 kos PVC S-sifon s pokrom. odlivnim ventilom DN40 z zamaškom (npr. LIV)"]
[null,"- pritrdilni in tesnilni material"]
[null,"   skupaj","kpl",2,null,{"$f":"+E362*D362","v":0},{"$f":"+E362*MM","v":0},{"$f":"+G362*D362","v":0},{"$f":"+E362-G362","v":0},{"$f":"+I362*D362","v":0}]
[]
["16.","Pršna kabina, vključno:"]
[null,"- 1 kpl akrilna pršna kad skupaj s protiokvirjem za vgradnjo, vključno potrebni odlivni ventil s sifonom ter potrebnim montažnim materialom (npr. KOLPASAN tip TRIN )"]
[null,"- 1 kpl zaščitna vrata enostranska iz kaljenega stekla deb. 6mm, Al-okvir s potrebnimi tesnili, vodotesnost F1"]
[null,"- 1 kpl Ms pokrom. nadometna termostatska mešalna baterija za pršne kadi (npr. UNITAS tip HARMONY))"]
[null,"- 1 kpl pršna ročka (s silikonsko glavo), gibljivo priključno cevjo ter stensko palico z držalom za ročko in milo (npr. UNITAS, tip Infinity)) "]
[null,"- pritrdilni in tesnilni material"]
[null,"   dim. 80x80cm","kpl",1,null,{"$f":"+E370*D370","v":0},{"$f":"+E370*MM","v":0},{"$f":"+G370*D370","v":0},{"$f":"+E370-G370","v":0},{"$f":"+I370*D370","v":0}]
[]
["17.","Dodatna oprema pršne kabine (npr. KOIN, tip Simple), vključno"]
[null,"- 1 kom držalo za milo"]
[null,"- 1kom kljukica za obešanje"]
[null,"- pritrdilni in tesnilni material"]
[null,"skupaj","kpl",1,null,{"$f":"+E376*D376","v":0},{"$f":"+E376*MM","v":0},{"$f":"+G376*D376","v":0},{"$f":"+E376-G376","v":0},{"$f":"+I376*D376","v":0}]
[]
["18.","Keram. trokadero, vključno:"]
[null,"- 1 kos keram. stenski trokadero z zadnjim iztokom z dvižno pokrom. rešetko, dim. 40x48cm \n(npr. LAUFEN) "]
[null,"- 1 kpl plast. podometni vodokotliček z dodatno toplotno izolacijo, plovnim in odlivnim ventilom, spojno cevjo z vodovodno instalacijo ter WC-školjko pritrdilni in tesnilni material, dvodelna čelna tipka, vključno nosilni okvir za vgradnjo v montažno steno max. debeline 17cm s potrebnimi distančniki (npr. GEBERIT DUOFIX)"]
[null,"- 1 kpl plast. pokrivni okvir bele barve z dvema sprožilnima tipkama za dvokoličinsko izpiranje, sprožilna sila <20N (npr. GEBERIT SIGMA 20)"]
[null,"- 1 kos gumi manšeta"]
[null,"- 1 kos Ms pokrom. stenska mešalna baterija z dolgim gibljivim izlivom dolžine 250mm s perlatorjem, omejitvijo iztočne temeprature ter ročno prho s silikonskim vložkom ter s stenskim držalom (npr. UNITAS, art. Simpaty 00383 )"]
[null,"- pritrdilni in tesnilni material"]
[null,"   skupaj","kpl",1,null,{"$f":"+E385*D385","v":0},{"$f":"+E385*MM","v":0},{"$f":"+G385*D385","v":0},{"$f":"+E385-G385","v":0},{"$f":"+I385*D385","v":0}]
[]
["19.","Dodatna oprema korit v šolski učilnici (korito samo po načrtu opreme), vključno:"]
[null,"- 1kpl Ms pokrom. stoječa enoročna mešalna baterija za pomivalno korito z gibljivim izvlečnim izlivom s perlatorjem, z omejevalom iztočne količine (5,0 l/min, 3 bar) ter skrito nastavitvijo max. iztočne temeperature, vključno trde priključne cevi (UNITAS tip FRESH)"]
[null,"- 1kpl PVC S-sifon za enojno pomivalno korito, vključn potrebna tesnila ter odlivni ventil"]
[null,"- pritrdilni in tesnilni material"]
[null,"   skupaj","kpl",3,null,{"$f":"+E391*D391","v":0},{"$f":"+E391*MM","v":0},{"$f":"+G391*D391","v":0},{"$f":"+E391-G391","v":0},{"$f":"+I391*D391","v":0}]
[]
["18.","Dodatna oprema korita v čajni kuhinji - vrtec (korito samo po načrtu opreme), vključno:"]
[null,"- 1kpl Ms pokrom. stoječa enoročna mešalna baterija za pomivalno korito z gibljivim s perlatorjem, z omejevalom iztočne količine (5,0 l/min, 3 bar) ter skrito nastavitvijo max. iztočne temeperature, vključno trde priključne cevi (UNITAS tip Simpaty)"]
[null,"- 2 kos Ms pokrom. kotni reg. ventil s holandsko matico"]
[null,"- 1kpl PVC S-sifon za enojno pomivalno korito, vključno potrebna tesnila ter odlivni ventil"]
[null,"- pritrdilni in tesnilni material"]
[null,"   skupaj","kpl",1,null,{"$f":"+E398*D398","v":0},{"$f":"+E398*MM","v":0},{"$f":"+G398*D398","v":0},{"$f":"+E398-G398","v":0},{"$f":"+I398*D398","v":0}]
[]
["19.","Dodatna oprema za kuhinjo (tehnološka oprema po posebnem načrtu), vključno:"]
[null,"- 1 kpl Ms pokrom. stenska mešalna baterija za velike kuhinje z dolgim gibljivim izlivom ter pregibno ročno prho"]
[null,"- 7 kpl Ms pokrom. stoječa mešalna baterija za pomivalno korito z dolgim gibljivim izlivom, vključno trde priključne cevi"]
[null,"- 14 kos Ms pokrom. kotni reg. ventil s holandsko matico"]
[null,"- 11x montaža sifona, priolženega koritu na odtočno kanalizacijo"]
[null,"- 7 kos Ms pokorm. stenski izpustni ventil z ročico ter nastavkom za priključitev gum. cevi, DN15"]
[null,"   skupaj","kpl",1,null,{"$f":"+E406*D406","v":0},{"$f":"+E406*MM","v":0},{"$f":"+G406*D406","v":0},{"$f":"+E406-G406","v":0},{"$f":"+I406*D406","v":0}]
[]
["20.","Stenski izlivnik, vključno:"]
[null,"- 1 kos NiRo stenski izlivnik s hrbtno zaščito ter\nrešetko, dim 60/46cm, zaokroženi robovi, satinirana površina, s priloženim sifonom z odlivnim ventilom in prelivom ter nosilnimi konzolami\n(npr. FRANKE  tip SIRIUS SIRX355 )"]
[null,"- 1 kpl Ms pokrom. stenski izpustni ventil z nastavkom za priključitev gum. cevi"]
[null,"- 1 kos PVC S-sifon s pokrom. odlivnim ventilom DN 40"]
[null,"- pritrdilni in tesnilni material"]
[null,"   skupaj","kpl",2,null,{"$f":"+E413*D413","v":0},{"$f":"+E413*MM","v":0},{"$f":"+G413*D413","v":0},{"$f":"+E413-G413","v":0},{"$f":"+I413*D413","v":0}]
[]
["21.","Ročni gasilni aparat, skupaj s kljukico za obešanje in pritrdilnim materialom \n(razpored ter število po pož. elaboratu)"]
[null," S-6kg (prah, 6EG, ABC)","kos",10,null,{"$f":"+E416*D416","v":0},{"$f":"+E416*MM","v":0},{"$f":"+G416*D416","v":0},{"$f":"+E416-G416","v":0},{"$f":"+I416*D416","v":0}]
[null," FB-6kg (pena, F)","kos",1,null,{"$f":"+E417*D417","v":0},{"$f":"+E417*MM","v":0},{"$f":"+G417*D417","v":0},{"$f":"+E417-G417","v":0},{"$f":"+I417*D417","v":0}]
[null,"   CO2-5kg (CO2, B)","kos",1,null,{"$f":"+E418*D418","v":0},{"$f":"+E418*MM","v":0},{"$f":"+G418*D418","v":0},{"$f":"+E418-G418","v":0},{"$f":"+I418*D418","v":0}]
[null,"skupaj",null,null,null,{"$f":"SUM(F240:F418)","v":0},null,{"$f":"SUM(H240:H418)","v":0},null,{"$f":"SUM(J240:J418)","v":0}]
[]
[]
[".2.4. ","SPLOŠNO"]
[]
["1.","Tlačni preizkus, izpiranje cevovoda in preizkusni pogon, prvi zagon vseh elektro-naprav s priključitvijo na el. omrežje, predaja vse potrebne dokumentacije "]
[null,"(garantni listi, navodila za uporabo in vzdrževanje posameznih elementov in naprav s spiski rezervnih delov, atesti, zapisniki o preizkusih in preizkusnih pogonih…)","kpl",1,null,{"$f":"+E425*D425","v":0},{"$f":"+E425*MM","v":0},{"$f":"+G425*D425","v":0},{"$f":"+E425-G425","v":0},{"$f":"+I425*D425","v":0}]
[]
["2.","Demontaža obstoječe sanitarne in kuhinjske opreme (skupaj ca 35 enot) ter odvoz na deponijo v oddaljenosti do 15km)","kpl",1,null,{"$f":"+E427*D427","v":0},{"$f":"+E427*MM","v":0},{"$f":"+G427*D427","v":0},{"$f":"+E427-G427","v":0},{"$f":"+I427*D427","v":0}]
[]
["3.","Izdelava samolepilnih nalepk ali ploščic z neizbrisnimi napisi ter namestitev na predvidena mesta (vratca, gasilniki, oprema, medij . . . )","kpl",1,null,{"$f":"+E429*D429","v":0},{"$f":"+E429*MM","v":0},{"$f":"+G429*D429","v":0},{"$f":"+E429-G429","v":0},{"$f":"+I429*D429","v":0}]
[]
[null,"skupaj",null,null,null,{"$f":"SUM(F425:F430)","v":0},null,{"$f":"SUM(H425:H430)","v":0},null,{"$f":"SUM(J425:J430)","v":0}]
[]
[]
[null,"OPOMBA:"]
["-","V popisu niso zajeta zidarska oz. gradbena  ter električarska dela potrebna za izvedbo instalacij razen vrtanja prebojev "]
["-","Ves material mora biti visoke kakovosti, ustrezati DIN ali SIST. Za material, ki ni po teh predpisih, mora izvajalec predložiti ateste od proizvajalca."]
["-","V oceni stroškov niso upoštevani morebitni komunalni prispevki"]
["-","Enota cene mora vsebovati:"]
[null,"vsa potrebna pripravljalna dela"]
[null,"vsa potrebna merjenja na objektu"]
[null,"vse potrebne transporte do mesta vgrajevanja"]
[null,"skladiščenje materiala na gradbišču"]
[null,"atestiranje materialov in dokazovanje kvalitete z atesti"]
[null,"vso potrebno delo za dokončanje izdelka"]
[null,"vsa potrebna pomožna sredstva na objektu kot so lestve, odri ..."]
[null,"usklajevanje z osnovnim načrtom in posvetovanje s projektantom "]
[null,"terminsko usklajevanje del z ostalimi izvajalci na objektu"]
[null,"popravilo eventuelne škode povzročene ostalim izvajalcem na gradbišču"]
[null,"čiščenje in odvoz odvečnega materiala v stalno deponijo"]
[null,"plačilo komunalnega prispevka za stalno deponijo odpadnega materiala"]
[]
[]
[null,"Maribor, november 2021"]

{"sheet":"CDE- OGRE.PREZ.OHLA.PLIN","index":91,"n_rows":1906,"n_cols":10,"rows_kept":1906,"cut":false,"hidden":false,"merged":[[1217,1,1219,1],[1224,1,1226,1]]}
["3.1.0."," Objekt C, D in E,  POPIS  MATERIALA  IN  DEL – STROJNE INSTALACIJE  "]
[null,"(ogrevanje, prezračevanje, hlajenje, plin)"]
[null,"Dobava in montaža"]
[]
["ZAP. ŠT.","OPIS","     ME","KOLIČUNA","CENA/ENOTO","SKUPAJ","POPUST","POPUST SKUPAJ","CENA/ENOTO S POPUSTOM","SKUPAJ S POPUSTOM"]
[]
[1,"RADIATORSKO OGREVANJE Z  RAZVODI  DO  T.P."]
[]
[1,"Radiatorji  kot VOGEL-NOOT tip T-6, izvedbe  s stranskimi priključki za dvocevni sistem ogrevanja, z odzračno pipico, fitingi, hitromontažnimi konzolami , zaključnimi  čepi (ali podobno):"]
[null," 11 K / 500 - 1000","kos      ",6,null,{"$f":"+E10*D10","v":0},{"$f":"+E10*MM","v":0},{"$f":"+G10*D10","v":0},{"$f":"+E10-G10","v":0},{"$f":"+I10*D10","v":0}]
[null," 11 K / 500 - 1200","kos      ",17,null,0,0,0,0,0]
[null," 11 K / 500 - 1320","kos      ",6,null,0,0,0,0,0]
[null," 21 K / 500 -   400","kos      ",3,null,0,0,0,0,0]
[null," 21 K / 500 -   600","kos      ",10,null,0,0,0,0,0]
[null," 21 K / 500 -   720","kos      ",2,null,0,0,0,0,0]
[null," 21 K / 500 -   800","kos      ",3,null,0,0,0,0,0]
[null," 21 K / 500 - 1000","kos      ",2,null,0,0,0,0,0]
[null," 21 K / 500 - 1200","kos      ",11,null,0,0,0,0,0]
[null," 22 K / 500 - 1000","kos      ",3,null,0,0,0,0,0]
[null," 22 K / 500 - 1200","kos      ",1,null,0,0,0,0,0]
[]
[2,"Radiatorski termostatski  ventil  kot Danfoss za, robustne izvedbe za javne prostore, vključno spojni mat."]
[null,"DN 15","kos ","0"]
[]
[3,"Radiatorsko  zapiralo na povratku, vključno pomožni spojni material, "]
[null,"DN 15","kos","0"]
[]
[4,"Pomožni pritrdilni in spojni material za cevni razvod, talni , zaščitne objemke, dvojne rozete in ostali drobni material"]
[null,"komplet","kos",1,null,{"$f":"+E29*D29","v":0},{"$f":"+E29*MM","v":0},{"$f":"+G29*D29","v":0},{"$f":"+E29-G29","v":0},{"$f":"+I29*D29","v":0}]
[]
[5,"Jeklene brezšivne cevi po din 2448, vključno loki in dodatek za razrez, antikorozijska zaščita in montažni material"]
[null," DN 15","m ",384,null,{"$f":"+E32*D32","v":0},{"$f":"+E32*MM","v":0},{"$f":"+G32*D32","v":0},{"$f":"+E32-G32","v":0},{"$f":"+I32*D32","v":0}]
[null," DN 20","m ",92,null,{"$f":"+E33*D33","v":0},{"$f":"+E33*MM","v":0},{"$f":"+G33*D33","v":0},{"$f":"+E33-G33","v":0},{"$f":"+I33*D33","v":0}]
[null," DN 25","m ",58,null,{"$f":"+E34*D34","v":0},{"$f":"+E34*MM","v":0},{"$f":"+G34*D34","v":0},{"$f":"+E34-G34","v":0},{"$f":"+I34*D34","v":0}]
[null," DN 32","m ",52,null,{"$f":"+E35*D35","v":0},{"$f":"+E35*MM","v":0},{"$f":"+G35*D35","v":0},{"$f":"+E35-G35","v":0},{"$f":"+I35*D35","v":0}]
[null," DN 40","m ",12,null,{"$f":"+E36*D36","v":0},{"$f":"+E36*MM","v":0},{"$f":"+G36*D36","v":0},{"$f":"+E36-G36","v":0},{"$f":"+I36*D36","v":0}]
[]
["6","Toplotna izolacija razvodov po objektu iz cevakov s topl. prevodnostjo  0,035 W/mK, oplaščene z kaširano alu folijo, za izolacijo jeklenih cevi naslednjih dimenzij in debeline enake polovičnemu premeru cevi (PURES); za cevi:"]
[null," DN 32","m ",52,null,{"$f":"+E39*D39","v":0},{"$f":"+E39*MM","v":0},{"$f":"+G39*D39","v":0},{"$f":"+E39-G39","v":0},{"$f":"+I39*D39","v":0}]
[null," DN 40","m ",12,null,{"$f":"+E40*D40","v":0},{"$f":"+E40*MM","v":0},{"$f":"+G40*D40","v":0},{"$f":"+E40-G40","v":0},{"$f":"+I40*D40","v":0}]
[]
[7,"Zaporni kroglični ventil za priklop veje v TP"]
[null,"DN 40","kos",2,null,{"$f":"+E43*D43","v":0},{"$f":"+E43*MM","v":0},{"$f":"+G43*D43","v":0},{"$f":"+E43-G43","v":0},{"$f":"+I43*D43","v":0}]
[]
[8,"Jekleni pocinkani profili za izdelavo konzol, podpor, obešal in podobno; vključno montažna dokumentacija (kot Sikla)"]
[null,"komplet","kg",280,null,{"$f":"+E46*D46","v":0},{"$f":"+E46*MM","v":0},{"$f":"+G46*D46","v":0},{"$f":"+E46-G46","v":0},{"$f":"+I46*D46","v":0}]
[]
[9,"Pripravljalna dela,  vregulacija sistemov ogrevanja, atesti, zaključna dela, tlačna preizkušnja, zagon naprav"]
[null,"komplet","kos",1,null,{"$f":"+E49*D49","v":0},{"$f":"+E49*MM","v":0},{"$f":"+G49*D49","v":0},{"$f":"+E49-G49","v":0},{"$f":"+I49*D49","v":0}]
[]
[10,"Demontaža obstoječih elementov ogrevanja (radiatorji, cevi, izolacije ventili in podobno) ter odvoz na deponijo"]
[null,"komplet","kos",1,null,{"$f":"+E52*D52","v":0},{"$f":"+E52*MM","v":0},{"$f":"+G52*D52","v":0},{"$f":"+E52-G52","v":0},{"$f":"+I52*D52","v":0}]
[]
[10,"Transportni in splošni stroški","kpl",1,null,{"$f":"+E54*D54","v":0},{"$f":"+E54*MM","v":0},{"$f":"+G54*D54","v":0},{"$f":"+E54-G54","v":0},{"$f":"+I54*D54","v":0}]
[null,"SKUPAJ:",null,null,null,{"$f":"SUM(F10:F54)","v":0},null,{"$f":"SUM(H10:H54)","v":0},null,{"$f":"SUM(J10:J54)","v":0}]
[]
[]
[2,"TALNO OGREVANJE Z  RAZVODI DO ENERG. PROSTORA"]
[]
["1.","Uponor modularni razdelilec iz poliamida za cev 16×2mm, z merilci pretoka, s priključki za ogrevalne zanke 3/4ZN - eurokonus, z integriranim odzračnikom, nastavki za zaporne ventile, termometrom na predtoku in povratku, polnilni-izpustna pipa, nosilci in priborom za montažo"]
[null,"V kompletu (set) je dovodni in povratni razdelilec"]
[null,"za 8  ogrevalnih zank; ","kpl",2,null,{"$f":"+E62*D62","v":0},{"$f":"+E62*MM","v":0},{"$f":"+G62*D62","v":0},{"$f":"+E62-G62","v":0},{"$f":"+I62*D62","v":0}]
[null,"za 6  ogrevalnih zank; ","kpl",2,null,{"$f":"+E63*D63","v":0},{"$f":"+E63*MM","v":0},{"$f":"+G63*D63","v":0},{"$f":"+E63-G63","v":0},{"$f":"+I63*D63","v":0}]
[]
["2.","Podometna razdelilna omarica iz pocinkane pločevine z vratci; nastavljiva po višini in globini;  v = 820-1200 mm; g = 120-150 mm; dolžine v odvisnosti od štev. zank"]
[null,"za 8  ogrevalnih zank; ","kpl",2,null,{"$f":"+E66*D66","v":0},{"$f":"+E66*MM","v":0},{"$f":"+G66*D66","v":0},{"$f":"+E66-G66","v":0},{"$f":"+I66*D66","v":0}]
[null,"za 6 ogrevalnih zank; ","kpl",2,null,{"$f":"+E67*D67","v":0},{"$f":"+E67*MM","v":0},{"$f":"+G67*D67","v":0},{"$f":"+E67-G67","v":0},{"$f":"+I67*D67","v":0}]
[]
["3.","Uponor medeninasti krogelni ventil navojne izvedbe za priklop razdelilnika; za tlak 10 barov (v setu sta 2 kosa);   "]
[null,"DN 25","kos",4,null,{"$f":"+E70*D70","v":0},{"$f":"+E70*MM","v":0},{"$f":"+G70*D70","v":0},{"$f":"+E70-G70","v":0},{"$f":"+I70*D70","v":0}]
[]
["4.","Uponor vijačna spojka iz medenine za pritrditev cevi na kompaktni ali euro razdelilec za cev 16×2 mm"]
[null,"komplet","kos",28,null,{"$f":"+E73*D73","v":0},{"$f":"+E73*MM","v":0},{"$f":"+G73*D73","v":0},{"$f":"+E73-G73","v":0},{"$f":"+I73*D73","v":0}]
[]
["5.","Uponor toplotne izolacijske plošče višine 30 mm za polaganje razvodov talnega ogrevanja; rastra 5,5... cm, debelina izolacije 11 mm, vključno spojni material in dodatek za razrez"]
[null,"komplet","m2",724,null,{"$f":"+E76*D76","v":0},{"$f":"+E76*MM","v":0},{"$f":"+G76*D76","v":0},{"$f":"+E76-G76","v":0},{"$f":"+I76*D76","v":0}]
[]
["6.","Uponor PE-LD negorljivi obrobni izolacijski trak s samolepljivo folijo; 130×10 mm "]
[null,"komplet","m",620,null,{"$f":"+E79*D79","v":0},{"$f":"+E79*MM","v":0},{"$f":"+G79*D79","v":0},{"$f":"+E79-G79","v":0},{"$f":"+I79*D79","v":0}]
[]
["7.","Uponor komponenta za estrih VD 450; čas sušenja 21 dni; poraba cca. 0,2 l/m2; "]
[null,"komplet","l",150,null,{"$f":"+E82*D82","v":0},{"$f":"+E82*MM","v":0},{"$f":"+G82*D82","v":0},{"$f":"+E82-G82","v":0},{"$f":"+I82*D82","v":0}]
[]
["8.","Uponor polietilenska cev PE-Xa,ustrezna standardu prEN ISO 15875, zamrežena po postopku Engel s 5 kratno difuzijsko zaporo po DIN 4726, ustreza standardu prEN ISO 15875, vključno pomožni spojni material"]
[null,"Maks. obratovalna temp.: 95°C, maks.obratovalni tlak 6 barov."]
[null,"dim. 16 x 2 mm"]
[null,"komplet","m",3040,null,{"$f":"+E87*D87","v":0},{"$f":"+E87*MM","v":0},{"$f":"+G87*D87","v":0},{"$f":"+E87-G87","v":0},{"$f":"+I87*D87","v":0}]
[]
["9.","Uponor tlačna cevna spojka 17-17 za cev 17×2 mm","kos",28,null,{"$f":"+E89*D89","v":0},{"$f":"+E89*MM","v":0},{"$f":"+G89*D89","v":0},{"$f":"+E89-G89","v":0},{"$f":"+I89*D89","v":0}]
[]
["10.","Uponor samolepljiva zaščitna dilatacijska cev iz polietilena; za cev do f 20mm; L=300 mm","kos",54,null,{"$f":"+E91*D91","v":0},{"$f":"+E91*MM","v":0},{"$f":"+G91*D91","v":0},{"$f":"+E91-G91","v":0},{"$f":"+I91*D91","v":0}]
[]
["11.","Jeklene brezšivne cevi po din 2448, vključno loki in dodatek za razrez, antikorozijska zaščita in montažni material"]
[null," DN 25","m ",54,null,{"$f":"+E94*D94","v":0},{"$f":"+E94*MM","v":0},{"$f":"+G94*D94","v":0},{"$f":"+E94-G94","v":0},{"$f":"+I94*D94","v":0}]
[null," DN 40","m ",22,null,{"$f":"+E95*D95","v":0},{"$f":"+E95*MM","v":0},{"$f":"+G95*D95","v":0},{"$f":"+E95-G95","v":0},{"$f":"+I95*D95","v":0}]
[null," DN 50","m ",8,null,{"$f":"+E96*D96","v":0},{"$f":"+E96*MM","v":0},{"$f":"+G96*D96","v":0},{"$f":"+E96-G96","v":0},{"$f":"+I96*D96","v":0}]
[]
["12","Toplotna izolacija razvodov po objektu iz cevakov s topl. prevodnostjo  0,035 W/mK, oplaščene z kaširano alu folijo, za izolacijo jeklenih cevi naslednjih dimenzij in debeline enake polovičnemu premeru cevi (PURES); za cevi:"]
[null," DN 25","m ",54,null,{"$f":"+E99*D99","v":0},{"$f":"+E99*MM","v":0},{"$f":"+G99*D99","v":0},{"$f":"+E99-G99","v":0},{"$f":"+I99*D99","v":0}]
[null," DN 40","m ",22,null,{"$f":"+E100*D100","v":0},{"$f":"+E100*MM","v":0},{"$f":"+G100*D100","v":0},{"$f":"+E100-G100","v":0},{"$f":"+I100*D100","v":0}]
[null," DN 50","m ",8,null,{"$f":"+E101*D101","v":0},{"$f":"+E101*MM","v":0},{"$f":"+G101*D101","v":0},{"$f":"+E101-G101","v":0},{"$f":"+I101*D101","v":0}]
[]
[13,"Regulacijski (balansirni) ventili pretoka kot Danfos za vgradnjo v etažne omarice ogrevanja"]
[null,"DN 25","kos",4,null,{"$f":"+E104*D104","v":0},{"$f":"+E104*MM","v":0},{"$f":"+G104*D104","v":0},{"$f":"+E104-G104","v":0},{"$f":"+I104*D104","v":0}]
[]
[14,"Zaporni kroglični ventil za priklop veje v TP"]
[null,"DN 50","kos",2,null,{"$f":"+E107*D107","v":0},{"$f":"+E107*MM","v":0},{"$f":"+G107*D107","v":0},{"$f":"+E107-G107","v":0},{"$f":"+I107*D107","v":0}]
[]
[15,"Jekleni pocinkani profili za izdelavo konzol, podpor, obešal in podobno "]
[null,"komplet","kg",120,null,{"$f":"+E110*D110","v":0},{"$f":"+E110*MM","v":0},{"$f":"+G110*D110","v":0},{"$f":"+E110-G110","v":0},{"$f":"+I110*D110","v":0}]
[]
[16,"Pripravljalna in zaključna dela, tlačna preizkušnja, "]
[null,"pomožni material, primopredajna dokumentacija"]
[null,"komplet","kos",1,null,{"$f":"+E114*D114","v":0},{"$f":"+E114*MM","v":0},{"$f":"+G114*D114","v":0},{"$f":"+E114-G114","v":0},{"$f":"+I114*D114","v":0}]
[]
[17,"Transportni in pomožni stroški","kpl",1,null,{"$f":"+E116*D116","v":0},{"$f":"+E116*MM","v":0},{"$f":"+G116*D116","v":0},{"$f":"+E116-G116","v":0},{"$f":"+I116*D116","v":0}]
[null,"SKUPAJ :",null,null,null,{"$f":"SUM(F61:F116)","v":0},null,{"$f":"SUM(H61:H116)","v":0},null,{"$f":"SUM(J61:J116)","v":0}]
[]
[]
[3,"REGULACIJSKE POSTAJE IN RAZVODI ZA KLIMATE OD ENERG. PROSTORA"]
[]
[1,"Jeklene brezšivne cevi po din 2448, vključno loki in dodatek za razrez, antikorozijska zaščita in montažni material"]
[null,"DN 25","m ",26,null,{"$f":"+E123*D123","v":0},{"$f":"+E123*MM","v":0},{"$f":"+G123*D123","v":0},{"$f":"+E123-G123","v":0},{"$f":"+I123*D123","v":0}]
[null,"DN32","m ",134,null,{"$f":"+E124*D124","v":0},{"$f":"+E124*MM","v":0},{"$f":"+G124*D124","v":0},{"$f":"+E124-G124","v":0},{"$f":"+I124*D124","v":0}]
[null,"DN 40","m ",30,null,{"$f":"+E125*D125","v":0},{"$f":"+E125*MM","v":0},{"$f":"+G125*D125","v":0},{"$f":"+E125-G125","v":0},{"$f":"+I125*D125","v":0}]
[null,"DN 50","m ",8,null,{"$f":"+E126*D126","v":0},{"$f":"+E126*MM","v":0},{"$f":"+G126*D126","v":0},{"$f":"+E126-G126","v":0},{"$f":"+I126*D126","v":0}]
[]
["2","Toplotna izolacija razvodov po objektu iz cevakov s topl. prevodnostjo  0,035 W/mK, oplaščene z kaširano alu folijo, za izolacijo jeklenih cevi naslednjih dimenzij in debeline enake polovičnemu premeru cevi (PURES); za cevi:"]
[null,"DN32","m ",96,null,{"$f":"+E129*D129","v":0},{"$f":"+E129*MM","v":0},{"$f":"+G129*D129","v":0},{"$f":"+E129-G129","v":0},{"$f":"+I129*D129","v":0}]
[null,"DN 40","m ",30,null,{"$f":"+E130*D130","v":0},{"$f":"+E130*MM","v":0},{"$f":"+G130*D130","v":0},{"$f":"+E130-G130","v":0},{"$f":"+I130*D130","v":0}]
[null,"DN 50","m ",8,null,{"$f":"+E131*D131","v":0},{"$f":"+E131*MM","v":0},{"$f":"+G131*D131","v":0},{"$f":"+E131-G131","v":0},{"$f":"+I131*D131","v":0}]
[]
["3","Toplotna izolacija razvodov na strehi iz cevakov s topl. prevodnostjo  0,035 W/mK, oplaščene z kaširano alu folijo, za izolacijo jeklenih cevi naslednjih dimenzij in debeline enake  premeru cevi (PURES); za cevi:"]
[null,"DN 25","m ",26,null,{"$f":"+E134*D134","v":0},{"$f":"+E134*MM","v":0},{"$f":"+G134*D134","v":0},{"$f":"+E134-G134","v":0},{"$f":"+I134*D134","v":0}]
[null,"DN32","m ",38,null,{"$f":"+E135*D135","v":0},{"$f":"+E135*MM","v":0},{"$f":"+G135*D135","v":0},{"$f":"+E135-G135","v":0},{"$f":"+I135*D135","v":0}]
[]
[4,"Obtočna črpalka za vodo do 80°C s protiprirobnico, skupaj s tesnilnim in pritrdilnim materialom s parametri (KN-1)"]
[null,"V = 2,2 m3/h"]
[null,"dp = 35,0 kPa"]
[null,"P = 75W (230 V)"]
[null,"DN 25 PN 6"]
[null,"kot WILO, tip YONOS-PICO 25/1-8 "]
[null,"komplet","kos",1,null,{"$f":"+E143*D143","v":0},{"$f":"+E143*MM","v":0},{"$f":"+G143*D143","v":0},{"$f":"+E143-G143","v":0},{"$f":"+I143*D143","v":0}]
[]
[5,"Obtočna črpalka za vodo do 80°C s protiprirobnico, skupaj s tesnilnim in pritrdilnim materialom s parametri (KN-2, KN-3))"]
[null,"V = 0,8 m3/h"]
[null,"dp = 35,0 kPa"]
[null,"P = 40W (230 V)"]
[null,"DN 15 PN 6"]
[null,"kot WILO, tip YONOS-PICO 15/1-6 "]
[null,"komplet","kos",2,null,{"$f":"+E151*D151","v":0},{"$f":"+E151*MM","v":0},{"$f":"+G151*D151","v":0},{"$f":"+E151-G151","v":0},{"$f":"+I151*D151","v":0}]
[]
[6,"Tripotni navojni mešalni ventil z elektromotornim pogonom (KN-1)"]
[null,"V=2,2 m3/h"]
[null,"kvs= 6,3 m3/h"]
[null,"dp=14,0 kPa"]
[null,"DN 20 PN 16"]
[null,"kot DANFOSS, tip VRG-20/AME 435  (24V)"]
[null,"komplet","kos",1,null,{"$f":"+E159*D159","v":0},{"$f":"+E159*MM","v":0},{"$f":"+G159*D159","v":0},{"$f":"+E159-G159","v":0},{"$f":"+I159*D159","v":0}]
[]
[7,"Tripotni navojni mešalni ventil z elektromotornim pogonom (KN-2 in KN-3)"]
[null,"V=0,8 m3/h"]
[null,"kvs= 2,5 m3/h"]
[null,"dp=11,0 kPa"]
[null,"DN 15 PN 16"]
[null,"kot DANFOSS, tip VRG-15/AME 435  (24V)"]
[null,"komplet","kos",2,null,{"$f":"+E167*D167","v":0},{"$f":"+E167*MM","v":0},{"$f":"+G167*D167","v":0},{"$f":"+E167-G167","v":0},{"$f":"+I167*D167","v":0}]
[]
[8,"Regulacijski (balansirni) ventili pretoka kot Danfos za vgradnjo v etažne omarice ogrevanja"]
[null,"DN 20","kos",2,null,{"$f":"+E170*D170","v":0},{"$f":"+E170*MM","v":0},{"$f":"+G170*D170","v":0},{"$f":"+E170-G170","v":0},{"$f":"+I170*D170","v":0}]
[null,"DN 32","kos",2,null,{"$f":"+E171*D171","v":0},{"$f":"+E171*MM","v":0},{"$f":"+G171*D171","v":0},{"$f":"+E171-G171","v":0},{"$f":"+I171*D171","v":0}]
[]
["9","Zaporni kroglični ventili z navojnimii priključki za PN 6, vklj.  tesnilni in montažni material "]
[null,"DN 20","kos",8,null,{"$f":"+E174*D174","v":0},{"$f":"+E174*MM","v":0},{"$f":"+G174*D174","v":0},{"$f":"+E174-G174","v":0},{"$f":"+I174*D174","v":0}]
[null,"DN 32","kos",8,null,{"$f":"+E175*D175","v":0},{"$f":"+E175*MM","v":0},{"$f":"+G175*D175","v":0},{"$f":"+E175-G175","v":0},{"$f":"+I175*D175","v":0}]
[null,"DN 50","kos",2,null,{"$f":"+E176*D176","v":0},{"$f":"+E176*MM","v":0},{"$f":"+G176*D176","v":0},{"$f":"+E176-G176","v":0},{"$f":"+I176*D176","v":0}]
[]
["10","Lovilec nesnage z navojnimii priključki za PN 6, vklj. tesnilni in montažni material "]
[null,"DN 20","kos",2,null,{"$f":"+E179*D179","v":0},{"$f":"+E179*MM","v":0},{"$f":"+G179*D179","v":0},{"$f":"+E179-G179","v":0},{"$f":"+I179*D179","v":0}]
[null,"DN 32","kos",2,null,{"$f":"+E180*D180","v":0},{"$f":"+E180*MM","v":0},{"$f":"+G180*D180","v":0},{"$f":"+E180-G180","v":0},{"$f":"+I180*D180","v":0}]
[]
["11","Protipovratna loputa s prirobničnimi priključki (NP 6), vklj. Tesnilni in montažni material"]
[null,"DN 20","kos",2,null,{"$f":"+E183*D183","v":0},{"$f":"+E183*MM","v":0},{"$f":"+G183*D183","v":0},{"$f":"+E183-G183","v":0},{"$f":"+I183*D183","v":0}]
[null,"DN 32","kos",1,null,{"$f":"+E184*D184","v":0},{"$f":"+E184*MM","v":0},{"$f":"+G184*D184","v":0},{"$f":"+E184-G184","v":0},{"$f":"+I184*D184","v":0}]
[]
["12","Navojni kroglični ventil za izpuste in odzračevanja, R 1/2”","kos",6,null,{"$f":"+E186*D186","v":0},{"$f":"+E186*MM","v":0},{"$f":"+G186*D186","v":0},{"$f":"+E186-G186","v":0},{"$f":"+I186*D186","v":0}]
[]
["13","Termometer  v okroglem ohišju 100 mm z območjem 0-120 °C","kos",6,null,{"$f":"+E188*D188","v":0},{"$f":"+E188*MM","v":0},{"$f":"+G188*D188","v":0},{"$f":"+E188-G188","v":0},{"$f":"+I188*D188","v":0}]
[]
["14","Manometer  v okroglem ohišju 100 mm, pipico in z območjem 0-4 bar","kos",6,null,{"$f":"+E190*D190","v":0},{"$f":"+E190*MM","v":0},{"$f":"+G190*D190","v":0},{"$f":"+E190-G190","v":0},{"$f":"+I190*D190","v":0}]
[]
[15,"Jekleni pocinkani profili za izdelavo konzol, podpor, obešal in podobno "]
[null,"komplet","kg",120,null,{"$f":"+E193*D193","v":0},{"$f":"+E193*MM","v":0},{"$f":"+G193*D193","v":0},{"$f":"+E193-G193","v":0},{"$f":"+I193*D193","v":0}]
[]
[16,"Pripravljalna in zaključna dela, tlačna preizkušnja, "]
[null,"pomožni material, primopredajna dokumentacija"]
[null,"komplet","kos",1,null,{"$f":"+E197*D197","v":0},{"$f":"+E197*MM","v":0},{"$f":"+G197*D197","v":0},{"$f":"+E197-G197","v":0},{"$f":"+I197*D197","v":0}]
[]
[17,"Transportni in pomožni stroški","kpl",1,null,{"$f":"+E199*D199","v":0},{"$f":"+E199*MM","v":0},{"$f":"+G199*D199","v":0},{"$f":"+E199-G199","v":0},{"$f":"+I199*D199","v":0}]
[null,"SKUPAJ:",null,null,null,{"$f":"SUM(F123:F199)","v":0},null,{"$f":"SUM(H123:H199)","v":0},null,{"$f":"SUM(J123:J199)","v":0}]
[]
[]
[4,"ENERGETSKE  POSTAJE"]
[]
[" 4.1","Toplotna postaja za ogrevanje in prezračevanje"]
[null,"Toplotna postaja se priključi na razdelilnik v kleti objekta B (Toplotna postaja SIMON d.o.o. tov. št. 77-2015), veja DN50 za radiatorsko ogrevanje kuhinje in vrtca"]
[]
["1.","Obtočna črpalka za vodo do 80°C s protiprirobnico, skupaj s tesnilnim in pritrdilnim materialom s parametri"]
[null,"V = 2,2 m3/h"]
[null,"dp = 40,0 kPa"]
[null,"P = 135 W (230 V)"]
[null,"DN 32 PN 6"]
[null,"kot WILO, tip STRATOS 30/0,5-6"]
[null,"komplet","kos",1,null,{"$f":"+E214*D214","v":0},{"$f":"+E214*MM","v":0},{"$f":"+G214*D214","v":0},{"$f":"+E214-G214","v":0},{"$f":"+I214*D214","v":0}]
[]
["2.","Obtočna črpalka za vodo do 80°C s protiprirobnico, skupaj s tesnilnim in pritrdilnim materialom s parametri"]
[null,"V = 3,54 m3/h"]
[null,"dp = 55,0 kPa"]
[null,"P =160 W (230 V)"]
[null,"DN 32 PN 6"]
[null,"kot WILO, tip STRATOS 30/0,5-8"]
[null,"Komplet","kos ",1,null,{"$f":"+E222*D222","v":0},{"$f":"+E222*MM","v":0},{"$f":"+G222*D222","v":0},{"$f":"+E222-G222","v":0},{"$f":"+I222*D222","v":0}]
[]
["3.","Tripotni navojni mešalni ventil z elektromotornim pogonom."]
[null,"V=1,1 m3/h"]
[null,"kvs=4,0 m3/h"]
[null,"dp=7,0 kPa"]
[null,"DN 20 PN 16"]
[null,"kot DANFOSS, tip VMV 20/4,  s pogonom AMV 130 (230V)"]
[null,"komplet","kos",1,null,{"$f":"+E230*D230","v":0},{"$f":"+E230*MM","v":0},{"$f":"+G230*D230","v":0},{"$f":"+E230-G230","v":0},{"$f":"+I230*D230","v":0}]
[]
["4.","Prehodni navojni regulacijski ventil z elektromotornim pogonom."]
[null,"V=0,89 m3/h"]
[null,"kvs=2,5 m3/h"]
[null,"dp=15,0 kPa"]
[null,"DN 15 PN 16"]
[null,"kot DANFOSS, tip VRB 2 15/2,5,  s pogonom AMV 435 (230V)"]
[null,"Komplet","kos ",1,null,{"$f":"+E238*D238","v":0},{"$f":"+E238*MM","v":0},{"$f":"+G238*D238","v":0},{"$f":"+E238-G238","v":0},{"$f":"+I238*D238","v":0}]
[]
["5.","Krogelna pipa za vodo 80°C s protiprirobnico, tesnili in vijaki."]
[null,"DN 50; NP 6","kos",6,null,{"$f":"+E241*D241","v":0},{"$f":"+E241*MM","v":0},{"$f":"+G241*D241","v":0},{"$f":"+E241-G241","v":0},{"$f":"+I241*D241","v":0}]
[null,"DN 40; NP 6","kos",4,null,{"$f":"+E242*D242","v":0},{"$f":"+E242*MM","v":0},{"$f":"+G242*D242","v":0},{"$f":"+E242-G242","v":0},{"$f":"+I242*D242","v":0}]
[null,"DN 32; NP 6","kos",2,null,{"$f":"+E243*D243","v":0},{"$f":"+E243*MM","v":0},{"$f":"+G243*D243","v":0},{"$f":"+E243-G243","v":0},{"$f":"+I243*D243","v":0}]
[null,"DN 25; NP 6","kos",2,null,{"$f":"+E244*D244","v":0},{"$f":"+E244*MM","v":0},{"$f":"+G244*D244","v":0},{"$f":"+E244-G244","v":0},{"$f":"+I244*D244","v":0}]
[]
["6.","Filter za vodo 80oC in tlak 6 bar, s fino mrežo s protiprirobnicami, tesnili in vijaki "]
[null,"DN 50; NP 6","kos",2,null,{"$f":"+E247*D247","v":0},{"$f":"+E247*MM","v":0},{"$f":"+G247*D247","v":0},{"$f":"+E247-G247","v":0},{"$f":"+I247*D247","v":0}]
[null,"DN 40; NP 6","kos",1,null,{"$f":"+E248*D248","v":0},{"$f":"+E248*MM","v":0},{"$f":"+G248*D248","v":0},{"$f":"+E248-G248","v":0},{"$f":"+I248*D248","v":0}]
[]
["7.","Nepovratni ventil za vodo 80°C s tesnili in pritrdilnim materialom."]
[null,"DN 50; NP 6","kos",1,null,{"$f":"+E251*D251","v":0},{"$f":"+E251*MM","v":0},{"$f":"+G251*D251","v":0},{"$f":"+E251-G251","v":0},{"$f":"+I251*D251","v":0}]
[null,"DN 40; NP 6","kos",1,null,{"$f":"+E252*D252","v":0},{"$f":"+E252*MM","v":0},{"$f":"+G252*D252","v":0},{"$f":"+E252-G252","v":0},{"$f":"+I252*D252","v":0}]
[null,"DN 32; NP 6","kos",1,null,{"$f":"+E253*D253","v":0},{"$f":"+E253*MM","v":0},{"$f":"+G253*D253","v":0},{"$f":"+E253-G253","v":0},{"$f":"+I253*D253","v":0}]
[null,"DN 25; NP 6","kos",1,null,{"$f":"+E254*D254","v":0},{"$f":"+E254*MM","v":0},{"$f":"+G254*D254","v":0},{"$f":"+E254-G254","v":0},{"$f":"+I254*D254","v":0}]
[]
["8.","Ms ročni regulator pretoka kot TACO SETTER z navojnim priključkom"]
[null,"R 5/4''  (37 l/min; 59 l/min)","kos",2,null,{"$f":"+E257*D257","v":0},{"$f":"+E257*MM","v":0},{"$f":"+G257*D257","v":0},{"$f":"+E257-G257","v":0},{"$f":"+I257*D257","v":0}]
[null,"R 6/4\" (108 l/min)","kos",1,null,{"$f":"+E258*D258","v":0},{"$f":"+E258*MM","v":0},{"$f":"+G258*D258","v":0},{"$f":"+E258-G258","v":0},{"$f":"+I258*D258","v":0}]
[]
["9.","Cevni razdelilnik dimenzij DN 65 x2000 mm s prirobničnimi priključki za NP 6:"]
[null,"DN 50 (1x), DN 40 (1x),  DN 32 (1x), DN 25 (1x), R1\" (1x), R1/2\" (2x)"]
[null,"komplet","kos ",2,null,{"$f":"+E262*D262","v":0},{"$f":"+E262*MM","v":0},{"$f":"+G262*D262","v":0},{"$f":"+E262-G262","v":0},{"$f":"+I262*D262","v":0}]
[]
["10.","Manometer v okroglem ohišju 100 mm, za vodo 80°C, pritrdilnim in tesnilnim materialom, območje merjenja 0-6 bar, vključno kontrolna pipa.","kos",8,null,{"$f":"+E264*D264","v":0},{"$f":"+E264*MM","v":0},{"$f":"+G264*D264","v":0},{"$f":"+E264-G264","v":0},{"$f":"+I264*D264","v":0}]
[]
["11.","Termometer v okroglem ohišju 100 mm, za tlak 6 bar, s pritrdilnim in tesnilnim materialom, območje merjenja 0÷120°C","kos",8,null,{"$f":"+E266*D266","v":0},{"$f":"+E266*MM","v":0},{"$f":"+G266*D266","v":0},{"$f":"+E266-G266","v":0},{"$f":"+I266*D266","v":0}]
[]
["12.","Polnilno - praznilna pipica  z navojem za vodo 80°C, s pritrdilnim in tesnilnim materialom."]
[null,"R1\"","kos",2,null,{"$f":"+E269*D269","v":0},{"$f":"+E269*MM","v":0},{"$f":"+G269*D269","v":0},{"$f":"+E269-G269","v":0},{"$f":"+I269*D269","v":0}]
[null,"R1/2\"","kos",6,null,{"$f":"+E270*D270","v":0},{"$f":"+E270*MM","v":0},{"$f":"+G270*D270","v":0},{"$f":"+E270-G270","v":0},{"$f":"+I270*D270","v":0}]
[]
["13.","Odzračni lonček, vključno z navojno krogelno pipo R1/2\" NP 6 in 3 m cevi DN15, ter pritrdilnim in tesnilnim materialom.","kpl",8,null,{"$f":"+E272*D272","v":0},{"$f":"+E272*MM","v":0},{"$f":"+G272*D272","v":0},{"$f":"+E272-G272","v":0},{"$f":"+I272*D272","v":0}]
[]
["14.","Jeklene srednjetežke navojne cevi po DIN 2440 iz jekla St33 za razvod ogrevalne vode, kompletno z varilnimi loki in drugimi oblikovnimi kosi ter obešali z izolirnim vložkom. "]
[null,"DN 50","m",114,null,{"$f":"+E275*D275","v":0},{"$f":"+E275*MM","v":0},{"$f":"+G275*D275","v":0},{"$f":"+E275-G275","v":0},{"$f":"+I275*D275","v":0}]
[null,"DN 40","m",12,null,{"$f":"+E276*D276","v":0},{"$f":"+E276*MM","v":0},{"$f":"+G276*D276","v":0},{"$f":"+E276-G276","v":0},{"$f":"+I276*D276","v":0}]
[null,"DN 32","m",6,null,{"$f":"+E277*D277","v":0},{"$f":"+E277*MM","v":0},{"$f":"+G277*D277","v":0},{"$f":"+E277-G277","v":0},{"$f":"+I277*D277","v":0}]
[null,"DN 25","m",6,null,{"$f":"+E278*D278","v":0},{"$f":"+E278*MM","v":0},{"$f":"+G278*D278","v":0},{"$f":"+E278-G278","v":0},{"$f":"+I278*D278","v":0}]
[null,"DN 15","m",6,null,{"$f":"+E279*D279","v":0},{"$f":"+E279*MM","v":0},{"$f":"+G279*D279","v":0},{"$f":"+E279-G279","v":0},{"$f":"+I279*D279","v":0}]
[]
["15.","Toplotna izolacija z materialom, koeficientom prehoda 0,034 W/m°K pri 0°C (po SIST ISO 8794), v Al-u oklepu, debeline:"]
[null,"d =6 cm","m2",3,null,{"$f":"+E282*D282","v":0},{"$f":"+E282*MM","v":0},{"$f":"+G282*D282","v":0},{"$f":"+E282-G282","v":0},{"$f":"+I282*D282","v":0}]
[null,"d =5 cm","m2",65,null,{"$f":"+E283*D283","v":0},{"$f":"+E283*MM","v":0},{"$f":"+G283*D283","v":0},{"$f":"+E283-G283","v":0},{"$f":"+I283*D283","v":0}]
[null,"d =4 cm","m2",8,null,{"$f":"+E284*D284","v":0},{"$f":"+E284*MM","v":0},{"$f":"+G284*D284","v":0},{"$f":"+E284-G284","v":0},{"$f":"+I284*D284","v":0}]
[]
["16.","Toplotna izolacija armature, izdelana iz steklene volne v Al-u oklepu ali podobno, ","kos",23,null,{"$f":"+E286*D286","v":0},{"$f":"+E286*MM","v":0},{"$f":"+G286*D286","v":0},{"$f":"+E286-G286","v":0},{"$f":"+I286*D286","v":0}]
[]
["17.","Pločevinasti lijak za odvod vode pri odzračevanju, dim. 500x100x300 mm, z odvodno cevjo DN 50 do odtoka, v dolžini 5 m.","kpl",1,null,{"$f":"+E288*D288","v":0},{"$f":"+E288*MM","v":0},{"$f":"+G288*D288","v":0},{"$f":"+E288-G288","v":0},{"$f":"+I288*D288","v":0}]
[]
[18,"Razširitev obstoječega elektronskega regulatorja za regulacijo temperature v obstoječi toplotni postaji v kleti objekta B (Toplotna postaja SIMON d.o.o. tov. št. 77-2015) za dva regulirana in en nereguliran ogrevni krog"]
[null,"komplet (ocena)","kos",1,null,{"$f":"+E291*D291","v":0},{"$f":"+E291*MM","v":0},{"$f":"+G291*D291","v":0},{"$f":"+E291-G291","v":0},{"$f":"+I291*D291","v":0}]
[]
["19.","Tipala za regulacijo temperature: "]
[null," - potopnega temperaturnega tipala za tipanje temperature ogrevalne vode od -30°C do 130°C na cevovodih ogrevalne vode Pt 1000; l=100 mm"]
[null,"kot Siemens, tip QAE2121.010","kos",6,null,{"$f":"+E295*D295","v":0},{"$f":"+E295*MM","v":0},{"$f":"+G295*D295","v":0},{"$f":"+E295-G295","v":0},{"$f":"+I295*D295","v":0}]
[null," - potopna tuljka dolžine 100 mm","kos",6,null,{"$f":"+E296*D296","v":0},{"$f":"+E296*MM","v":0},{"$f":"+G296*D296","v":0},{"$f":"+E296-G296","v":0},{"$f":"+I296*D296","v":0}]
[]
["20.","Prof. železo za izdelavo podpor, konzol in obešal, vse  NiRo, vključno vijaki in matice ter zidni vložki (npr. sistem  SIKLA)","kg",120,null,{"$f":"+E298*D298","v":0},{"$f":"+E298*MM","v":0},{"$f":"+G298*D298","v":0},{"$f":"+E298-G298","v":0},{"$f":"+I298*D298","v":0}]
[]
["21.","Gumijasta tlačna cev R 1/2”, dolžine 5 m vklj. holandski obojestranski priključki in stenskim nosilcem","kpl",1,null,{"$f":"+E300*D300","v":0},{"$f":"+E300*MM","v":0},{"$f":"+G300*D300","v":0},{"$f":"+E300-G300","v":0},{"$f":"+I300*D300","v":0}]
[]
["22.","Demontaža obstoječe cevne povezave radiatorskega ogrevanja DN50 med obstoječo toplotno postajo in objektoma C in D, vključno z izolacijo in obešali. Odvoz na trajno deponijo. Dolžina trase cca 50 m.","kpl",1,null,{"$f":"+E302*D302","v":0},{"$f":"+E302*MM","v":0},{"$f":"+G302*D302","v":0},{"$f":"+E302-G302","v":0},{"$f":"+I302*D302","v":0}]
[]
["23.","Izvedba priključka DN50 na obstoječem razdelilniku v kleti objekta B, veja za radiatorsko ogrevanje kuhinje in vrtca, vključno varilni material.","kpl",1,null,{"$f":"+E304*D304","v":0},{"$f":"+E304*MM","v":0},{"$f":"+G304*D304","v":0},{"$f":"+E304-G304","v":0},{"$f":"+I304*D304","v":0}]
[]
["24.","Pripravljalna in zaključna dela, tlačna preizkušnja in vregulacija sistema, označbe, napisi, zagon sistemov s pooblaščenim serviserjem, primopredajna dokumentacija","kpl",1,null,{"$f":"+E306*D306","v":0},{"$f":"+E306*MM","v":0},{"$f":"+G306*D306","v":0},{"$f":"+E306-G306","v":0},{"$f":"+I306*D306","v":0}]
[]
["25.","Izvedba funkcionalnega vreguliranja in zagona regulacijskega sistema:"]
[null," - Funkcionalni zagon sistema razdelilnika ogrevanja"]
[null," - Izvedba prvih meritev in kalibracije sistema."]
[null," - Izdelava navodil za obratovanje in vzdrževanje sistema"]
[null," - Sodelovanje z izvajalci elektro instalacij in programerjem avtomatike ogrevalnega sistema in drugih pomožnih sistemov v času izvajanja, funkcionalni zagon, poskusno obratovanje."]
[null,"komplet","kos",1,null,{"$f":"+E313*D313","v":0},{"$f":"+E313*MM","v":0},{"$f":"+G313*D313","v":0},{"$f":"+E313-G313","v":0},{"$f":"+I313*D313","v":0}]
[]
["26.","Transportni in ostali splošni  stroški","kpl",1,null,{"$f":"+E315*D315","v":0},{"$f":"+E315*MM","v":0},{"$f":"+G315*D315","v":0},{"$f":"+E315-G315","v":0},{"$f":"+I315*D315","v":0}]
[]
["27.","Distribucijski nadzor","kpl",1,null,{"$f":"+E317*D317","v":0},{"$f":"+E317*MM","v":0},{"$f":"+G317*D317","v":0},{"$f":"+E317-G317","v":0},{"$f":"+I317*D317","v":0}]
[]
[28,"Šolanje vzdrževalcev s strani pooblaščenih serviserjev in dobaviteljev naprav.","kpl",1,null,{"$f":"+E319*D319","v":0},{"$f":"+E319*MM","v":0},{"$f":"+G319*D319","v":0},{"$f":"+E319-G319","v":0},{"$f":"+I319*D319","v":0}]
[null,"SKUPAJ TP za ogrevanje in prezračevanje",null,null,null,{"$f":"SUM(F214:F319)","v":0},null,{"$f":"SUM(H214:H319)","v":0},null,{"$f":"SUM(J214:J319)","v":0}]
[]
["4.2.","Toplotna postaja za pripravo STV"]
[null,"Kompaktna toplotna postaja za pripravo tople sanitarne vode toplotne moči Q=35kW. Podpostaja je indirektne izvedbe s prenosnikom toplote in dvema akumulatorjema sanitarne tople vode po       V= 1000 l. Podpostaja mora v celoti ustrezati zahtevam distributerja Energetika Ljubljana! Pred izvedbo mora distributer potrditi vso predvideno opremo in regulacijo TOP!!"]
[]
["1.","Strokovna demontaža toplotne postaje in ponovna montaža primarnega dela toplotne postaje za kuhinjo, Simon d.o.o., št. 74-2013 za Q=35 kW. "]
[null,"Podatki:"]
[null,"Primar STV: 65/22°C, DN25, NP16"]
[null,"Sekundar: STV:10/60°C, DN20, NP 10"]
[null,"Glavni sestavni deli:"]
[null,"Prenosnik toplote SWEP, B25x40"]
[null,"Regulacijski ventil Danfoss VM2 15/04 (DN15, kvs=0,4m3/h)"]
[null,"Pogon regulacijskega ventila: Danfoss AMV 33/230V"]
[null,"Merilnik toplotne energije Allmes, DN15, Vn=1,5m3/h+Mbus+Everblue"]
[null,"Pretočna ekspanzijska posoda V=33 l"]
[null,"Cirkulacijska črpalka Wilo Star-Z 25/6"]
[null,"Varnostni ventila DN20, 6bar"]
[null,"Naprava za tekoči vodofos Mak CMC, Prodos 2"]
[null,"Elektronski krmilnik Danfoss ECL310+A217"]
[null,"Zaporni ventili, lovilnik nesnage, manometri, termometri, temperaturna tipala, varnostni termostat,  cevne povezave in toplotna izolacija."]
[null,"komplet","kos",1,null,{"$f":"+E340*D340","v":0},{"$f":"+E340*MM","v":0},{"$f":"+G340*D340","v":0},{"$f":"+E340-G340","v":0},{"$f":"+I340*D340","v":0}]
[]
["2.","Priključitev sekundarnega dela toplotne postaje (sanitarna voda) na prestavljen primarni del toplotne postaje za pripravo sanitarne tople vode. Kompletni sekundarni del z dvema 1000 l akumulatorjema, polnilno in cirkulacijsko črpalko, raztezno posodo, zapornimi armaturami in cevnimi povezavami je zajet v popisu vodovodne napeljave!"]
[null,"komplet","kos",1,null,{"$f":"+E343*D343","v":0},{"$f":"+E343*MM","v":0},{"$f":"+G343*D343","v":0},{"$f":"+E343-G343","v":0},{"$f":"+I343*D343","v":0}]
[]
[null,"Priključni vročevod"]
["3.","Demontaža obstoječega priključnega vročevoda DN25 od toplotne postaje v kleti objekta B do ukinjene toplotne postaje STV kuhinja, vključno s toplotno izolacijo in pritrdilnim materialom ter odvoz na trajno deponijo. Dolžina trase cca 50m."]
[null,"komplet","kos",1,null,{"$f":"+E347*D347","v":0},{"$f":"+E347*MM","v":0},{"$f":"+G347*D347","v":0},{"$f":"+E347-G347","v":0},{"$f":"+I347*D347","v":0}]
[]
["4.","Krogelna pipa za vodo 140°C s protiprirobnico, tesnili in vijaki."]
[null,"DN 25; NP 16","kos",2,null,{"$f":"+E350*D350","v":0},{"$f":"+E350*MM","v":0},{"$f":"+G350*D350","v":0},{"$f":"+E350-G350","v":0},{"$f":"+I350*D350","v":0}]
[]
["5.","Jeklena brezšivna cev po DIN 2448, za razvod ogrevalne vode, kompletno z varilnimi loki in drugimi fazoni, obešali z izolirnim vložkom. "]
[null,"DN 25","m",108,null,{"$f":"+E353*D353","v":0},{"$f":"+E353*MM","v":0},{"$f":"+G353*D353","v":0},{"$f":"+E353-G353","v":0},{"$f":"+I353*D353","v":0}]
[]
["6.","Toplotna izolacija z materialom, koeficientom prehoda 0,034 W/m°K pri 0°C (po SIST ISO 8794), v Al-u oklepu, debeline:"]
[null,"d = 4 cm","m2",35,null,{"$f":"+E356*D356","v":0},{"$f":"+E356*MM","v":0},{"$f":"+G356*D356","v":0},{"$f":"+E356-G356","v":0},{"$f":"+I356*D356","v":0}]
[]
["7.","Toplotna izolacija armature, izdelana iz steklene volne v Al-u oklepu ali podobno, za:"]
[null,"zaporna pipa DN 25","kos",2,null,{"$f":"+E359*D359","v":0},{"$f":"+E359*MM","v":0},{"$f":"+G359*D359","v":0},{"$f":"+E359-G359","v":0},{"$f":"+I359*D359","v":0}]
[]
["8.","Polnilno praznilni ventil z navojem za vodo 140°C, s pritrdilnim in tesnilnim materialom."]
[null,"DN 25 PN 16","kos",1,null,{"$f":"+E362*D362","v":0},{"$f":"+E362*MM","v":0},{"$f":"+G362*D362","v":0},{"$f":"+E362-G362","v":0},{"$f":"+I362*D362","v":0}]
[]
["9.","Ventil za odzračevanje in izpust za vodo 140°C, s pritrdilnim in tesnilnim materialom."]
[null,"DN 15 PN 16","kos",2,null,{"$f":"+E365*D365","v":0},{"$f":"+E365*MM","v":0},{"$f":"+G365*D365","v":0},{"$f":"+E365-G365","v":0},{"$f":"+I365*D365","v":0}]
[]
[null,"Priključna in hišna postaja"]
[null,"Prestavljen primarni del obstoječe toplotne postaje za kuhinjo, Simon d.o.o., št. 74-2013 za Q=35 kW"]
[]
["10.","Ponovno programiranje prestavljenega elektronskega regulatorja za regulacijo temperature sanitarne tople vode, Danfoss ECL310+A217, glede na novo zasnovo sekundarnega dela priprave sanitarne tople vode z akumulacijskim sistemom. Po potrebi razširitev."]
[null,"komplet","kos",1,null,{"$f":"+E371*D371","v":0},{"$f":"+E371*MM","v":0},{"$f":"+G371*D371","v":0},{"$f":"+E371-G371","v":0},{"$f":"+I371*D371","v":0}]
[]
["11.","Tipala za regulacijo temperature: "]
[null," - potopnega temperaturnega tipala za tipanje temperature  tople sanitarne vode od -30°C do 130°C na cevovodu cirkulacije TSV Pt 1000; l=100 mm"]
[null,"kot Siemens, tip QAE2121.010","kos",1,null,{"$f":"+E375*D375","v":0},{"$f":"+E375*MM","v":0},{"$f":"+G375*D375","v":0},{"$f":"+E375-G375","v":0},{"$f":"+I375*D375","v":0}]
[null," - potopna tuljka dolžine 100 mm","kos",1,null,{"$f":"+E376*D376","v":0},{"$f":"+E376*MM","v":0},{"$f":"+G376*D376","v":0},{"$f":"+E376-G376","v":0},{"$f":"+I376*D376","v":0}]
[null," - potopnega temperaturnega tipala za tipanje temperature sanitarne vode od -30°C do 130°C na akumulatorju STV toplote Pt 1000; l=150 mm. Zahteve za tipala: Tipala morajo biti hito odzivna:"]
[null,"kot Siemens, tip QAE2112.015","kos",2,null,{"$f":"+E378*D378","v":0},{"$f":"+E378*MM","v":0},{"$f":"+G378*D378","v":0},{"$f":"+E378-G378","v":0},{"$f":"+I378*D378","v":0}]
[null," - potopna tuljka dolžine 150 mm","kos",2,null,{"$f":"+E379*D379","v":0},{"$f":"+E379*MM","v":0},{"$f":"+G379*D379","v":0},{"$f":"+E379-G379","v":0},{"$f":"+I379*D379","v":0}]
[]
["12.","Nadomestni cevni nastavek za zamenjavo merilca pretoka, izdelan iz cevi in prirobnic PN 16"]
[null,"DN 20","kos",1,null,{"$f":"+E382*D382","v":0},{"$f":"+E382*MM","v":0},{"$f":"+G382*D382","v":0},{"$f":"+E382-G382","v":0},{"$f":"+I382*D382","v":0}]
[]
["13.","Prof. železo za izdelavo podpor, konzol in obešal, vse  NiRo, vključno vijaki in matice ter zidni vložki (npr. sistem  SIKLA)","kg",45,null,{"$f":"+E384*D384","v":0},{"$f":"+E384*MM","v":0},{"$f":"+G384*D384","v":0},{"$f":"+E384-G384","v":0},{"$f":"+I384*D384","v":0}]
[]
["14.","Pripravljalna in zaključna dela, tlačna preizkušnja in vregulacija sistema, označbe, napisi, zagon sistemov s pooblaščenim serviserjem, primopredajna dokumentacija"]
[null,"komplet","kos",1,null,{"$f":"+E387*D387","v":0},{"$f":"+E387*MM","v":0},{"$f":"+G387*D387","v":0},{"$f":"+E387-G387","v":0},{"$f":"+I387*D387","v":0}]
[]
["15.","Izvedba funkcionalnega vreguliranja in zagona regulacijskega sistema:"]
[null," - Funkcionalni zagon sistema priprave STV"]
[null," - Izvedba prvih meritev in kalibracije sistema."]
[null," - Izdelava navodil za obratovanje in vzdrževanje sistema"]
[null," - Sodelovanje z izvajalci elektro instalacij in programerjem avtomatike  v času izvajanja, funkcionalni zagon, poskusno obratovanje."]
[null,"komplet","kos",1,null,{"$f":"+E394*D394","v":0},{"$f":"+E394*MM","v":0},{"$f":"+G394*D394","v":0},{"$f":"+E394-G394","v":0},{"$f":"+I394*D394","v":0}]
[]
["16.","Transportni in ostali splošni  stroški","kpl",1,null,{"$f":"+E396*D396","v":0},{"$f":"+E396*MM","v":0},{"$f":"+G396*D396","v":0},{"$f":"+E396-G396","v":0},{"$f":"+I396*D396","v":0}]
[]
["17.","Distribucijski nadzor","kpl",1,null,{"$f":"+E398*D398","v":0},{"$f":"+E398*MM","v":0},{"$f":"+G398*D398","v":0},{"$f":"+E398-G398","v":0},{"$f":"+I398*D398","v":0}]
[]
[18,"Šolanje vzdrževalcev s strani pooblaščenih serviserjev in dobaviteljev naprav.","kpl",1,null,{"$f":"+E400*D400","v":0},{"$f":"+E400*MM","v":0},{"$f":"+G400*D400","v":0},{"$f":"+E400-G400","v":0},{"$f":"+I400*D400","v":0}]
[null,"SKUPAJ TP za pripravo TSV",null,null,null,{"$f":"SUM(F340:F400)","v":0},null,{"$f":"SUM(H340:H400)","v":0},null,{"$f":"SUM(J340:J400)","v":0}]
[]
[null,"OPOMBA: Sekundarna stran priprave sanitarne tople vode je zajeta v popisu vodovodne napeljave."]
[]
["4.3","Toplotna postaja za ogrevanje  v objektu \"E\""]
[]
[null,"Demontaža, prestavitev in ponovna montaža obstoječe priključne toplptne postaje v objektu \"E\" po shemi -načrt št. 630/17 (Proteus projekt, april 2017)."]
[null,"Prestavitev se izvrši v sosednji novi prostor. V obsegu pretavitve je toplotni menjalnik, obtočni črpalki, tropotna regulacijska ventila, zaporni ventili in ostala armatura, elementi za kontrolo parametrov in regulaciski elementi za kontrolo delovanja, regulator ter ostala obstoječa funkcionalna oprema. "]
[null,"Tehnološka predelava postaje ni predvidena, uredijo oziroma prilagodijo se vsi cevni priključki, vključno z izolacijami ter zamenjava tesnilnega materiala."]
[null,"Komplet"]
[null,"SKUPAJ TP v objektu \"E\"","kos",1,null,{"$f":"+E411*D411","v":0},{"$f":"+E411*MM","v":0},{"$f":"+G411*D411","v":0},{"$f":"+E411-G411","v":0},{"$f":"+I411*D411","v":0}]
[]
[null,"REKAPITULACIJA - ENERGETSKE POSTAJE"]
["4.1.","Toplptna postaja za ogrevanje in prezračevanje",null,null,null,{"$f":"$F$320","v":0},{"$f":"$H$320","v":0},{"$f":"$J$320","v":0}]
["4.2.","Toplotna postaja za pripravo STV",null,null,null,{"$f":"$F$401","v":0},{"$f":"$H$401","v":0},{"$f":"$J$401","v":0}]
["4.3.","Toplotna postaja za ogrevanje  v objektu \"E\"",null,null,null,{"$f":"$F$411","v":0},{"$f":"$H$411","v":0},{"$f":"$J$411","v":0}]
["4","SKUPAJ ",null,null,null,{"$f":"SUM(F414:F416)","v":0},{"$f":"SUM(G414:G416)","v":0},{"$f":"SUM(H414:H416)","v":0}]
[]
[]
["5","PREZRAČEVANJE  IN  HLAJENJE ŠOLSKIH  PROSTOROV"]
[]
[null,"Splošni opis naprav"]
[null,"Dvoetažne, dvojno-stenske, EUROVENT certificirane naprave za zunanjo (večje), ali notranjo podstropno (manjša naprava) iz ohišja modularne izvedbe."]
[null,"Vse naprave so grajene in projektirane skladno s higienskimi standardi VDI 6022."]
[null,"Postavitev komponent v napravi (ventilatorji, ipd.) naj so skladni z zadnjimi smernicami prezračevanja učilnic in šolskih prostorov IZS."]
[null,"Naprave naj imajo izdane ustrezne Eurovent, VDI6022 ter CE certifikate ter naj s tem ustrezajo vsem evropskim normam in standardom, izdelane pa naj so v tovarni z ustreznimi organizacijskimi in okoljskimi certifikati (ISO, ipd.)."]
[null,"Upoštevajoči standardi, gradnje naprav ali naprav kot takšne"]
[null,"EN 1886:2007 Prezračevanje stavb - Centralne enote - Mehanske lastnosti in merilni postopki\nEN 13053:2011 Prezračevanje stavb - Klimati - Ocenitev in lastnosti klimatov, sestavnih delov in sekcij"]
[null,"EN 308:1997 Prenosniki toplote - Preskusni postopki za ugotavljanje lastnosti naprav za prenos toplote zrak/zrak in dimni plini/zrak"]
[null,"Vse naprave so grajene še v skladu s standardi in smernicami CE deklaracij:\nEN 60204-1 Varnost strojev - Električna oprema strojev - 1. del: Splošne zahteve\n2006/42/EC direktiva o strojih\nEMC direktiva 2004/108/EC\nUredba Komisije (EU) št. 1253/2014 z dne 7. julija 2014 o izvajanju Direktive 2009/125/ES Evropskega parlamenta in Sveta glede zahtev za okoljsko primerno zasnovo prezračevalnih enot"]
[null,"Ohišje naprav"]
[null,"Minimalne zahteve po kvalieti ohišja"]
[null,"Klasifikacija mehanske stabilnosti ohišja po EN 1886: D1\nKlasifikacija prehoda toplote ohišja po EN 1886: T2\nKlasifikacija toplotnih mostov ohišja: TB2\nKlasifikacija materiala izolacije po EN 1886: A1\nKlasifikacija tesnosti ohišja pri negativnem tlaku -400 Pa: L1\nKlasifikacija tesnosti ohišja pri pozitivnem tlaku +700 Pa: L1"]
[null,"Vse enote stojijo na stabilnem podstavku iz aluminija, višine 100 mm. S podstavkom so standardno dobavljeni nosilci za dvig naprave z dvigalom."]
[null,"Dvojno stenski paneli naj bodo debeline minimalno 42 mm."]
[null,"Če ni drugače navedeno pri posamezni napravi, so vse naprave v izvedbi:\n- zunanji plašč: prašno barvano oz. poliestrski nanos, debelina min. 0,7mm\n- notranji plašč: pocinkana pločevina, AluZinc, debelina min. 0,7mm\n- dno naprave: enako notranjemu plašču\n- korita za odvod kondenzata: nerjavna pločevina (SS304)"]
[null,"Vsa vodila hladilnih izmenjevalnikov toplote naj so iz nerjavne pločevine!"]
[null,"Stena (panel) je polnjena z mineralno volno. Volna naj bo lepljena tako da preprečuje zdrsitev le-te po panelu navzdol in preprečuje njegovo deformacijo in povečuje mehansko stabilnost naprave. \nKarakteristike naj bodo sledeče:\n• Povprečna gostota: 120 kg/m3"]
[null,"• Toplotna prevodnost:  \n0.036 W/m*K (povprečna temperatura 10°C)\n0.037 W/m*K (povprečna temperatura 20°C)\n0.038 W/m*K (povprečna temperatura 50°C)\n• Razred 1 protipožarne varnosti"]
[null,"Vsi paneli naprave so popolnoma snemljivi. Če ni drugače definirano, morajo biti dostopna vrata sekcij, ki se pogosto odpirajo izvedena z robustnimi tečaji in kljukami. Snemljivi paneli niso dovoljeni!"]
[null,"Tesnilo med okvirjem in paneli naj bo neskončno, nanešeno na panele brez prekinitve. Med vrati in ohišjem naj bo nameščeno EPDM tesnilo."]
[null,"Čelne strani, priključki"]
[null,"Čelne strani naprave morajo biti opremljene z žaluzijami."]
[null,"Žaluzije naj bodo iz aluminija in z gumijastim tesnilom iz termoplastike. Če ni drugače navedeno pri opisu naprave, morajo žaluzije ustrezati vsaj zrakotesnosti razreda 2 po EN1751."]
[null,"Prazne sekcije"]
[null,"Prazne sekcije naprave, kjer so specificirane, naj bodo dobavljive kot vzdrževalna mesta, ali mesta za vgradnjo različnih komponent (npr. ekspanzijskih ventilov, hidravličnih elementov, komunikacijskih omaric, ipd.) z vrati na tečajih s kljuko."]
[null,"Filtri"]
[null,"Vsi filtri, če ni drugače definirano v popisu naprave, naj bodo vrečasti, z veliko lovilno površino in določeno minimalno učinkovitost filtracije, skladno z novim standardom ISO 16890."]
[null,"Vsi filtri naj bodo montirani na skupnem okvirju s tesnilom za maksimalno tesnost skladno z EN 1886. Komore naj bodo grajene za enostavno dostopnost in čišččenje. Filtri naj bodo ob zamenjavi enostavno izvlečljivi."]
[null,"Naprave morajo za odčitanje trenutnega tlačnega padca na filtru, dodatno k ustreznim tlačnim stikalom, ki je del avtomatike naprave, imeti montirane še analogne vizualne merilnike tlačne razlike, kot na primer magnehelic manometer."]
[null,"Rekuperatorji toplote"]
[null,"Visoko-učinkovite enote za vračanje odpadne toplote naj bodo v obliki, križnotočnega ploščnega izmenjevalnika toplote ali glikolnega rekuperativnega sistema (kjer je to navedeno)."]
[null,"Ploščni izmenjevalnik toplote so praviloma sestavljeni iz gmote aluminijastih plošč, posebej aerodinamično oblikovanih, za izvedbo z visoko tesnostjo in učinkovitostjo.\nIzmenjevalnik morajo ustrezati in biti testirani skladno z:\n• EN 308: 1997, Prenosniki toplote - Preskusni postopki za ugotavljanje lastnosti naprav za prenos toplote zrak/zrak in dimni plini/zrak\n• EN 306: 1997, Prenosniki toplote - Merilne metode in merilna točnost za ugotavljanje njihovih lastnosti"]
[null,"Izmenjevalniki za ogrevanje in hlajenje"]
[null,"Naprave so opremljene z grelnimi in hladilnimi (ali reverzibilnimi) izmenjevalniki toplote.Ogrevanje in hlajenje zraka se vrši z mešanico glikola in vode."]
[null,"Izmenjevalniki naj bodo izdelani iz vlečenih brezšivnih bakrenih cevi, razvlečenimi za popolno naleganje aluminijastih lamel, ki so navlečene na bakrene cevi."]
[null,"Sekcije naj bodo grajene tako, da omogočajo izvlečenje izmenjevalnikov na posluževalni strani naprave. Okvirji izmenjevalnikov kjer pride do kondenzacije zraka (hlajenje), morajo biti iz nerjavne pločevine (SS304), drugače naj bodo iz pocinkane pločevine."]
[null,"Odprtine za cevne priključke naj bodo zatesnjene in gumirane, za preprečevanje drgnejenja priključkov ob stene nosilnega okvirja ter minimalne izgube (toplotni mostovi)."]
[null,"Sekcije s hladilni izmenjevalniki toplote morajo imeti posodo za zbiranje kondenzata po celotni površini, ki mora biti nagnjena k priključku odvoda kondenzata. Posoda mora biti iz nerjavne pločevine (SS304)."]
[null,"Manjše naprave naj bodo opremljene s predgrelnimi izmenjevalniki toplote (predgrevanje, zaščita rekuperatorja), ter dogrelnika zraka (vpih v prostor) v obliki električnega pred- in dogrelnika zraka."]
[null,"Ventilatorji"]
[null,"Dovodni in odvodni ventilatorji so standardno visoko-učinkovite EC izvedbe."]
[null,"Uporabljeni EC ventilatorji naj bodo kovinske (aluminijaste) in higienik izvedbe (z dodatnim nanosom za čiščenje)."]
[null,"Če ni drugače navedeno, morajo vsi EC ventilatorji v vseh napravah dosegati razred energetske učinkovitosti IE5 (po EN 60034-30), skladno z minimalnim izkoristkom po EU 327/2011, ki je naveden ob vsaki sekciji."]
[null,"Dušilniki zvoka"]
[null,"Sekcija dušilnikov zvoka naj bo grajena skladno s specifikacijami preostale naprave.\nV ohišje naj bodo vgrajene akustične lamele, prevlečenim z materialom z visoko odpornostjo pred erozijo (odnašanje). Materiali naj bodo inerten, ne higroskopični, odporni proti plesnenju in naj onemogočajo bakterijske razvojne procese, skladno z higienskimi smernicami."]
[null,"Lamele naj imajo na lice standardno dograjene posebne aerodinamične vstopne in izstopne nastavke, za zmanjšanje padca tlaka in boljšega natoka zraka.  \nAkustični medij naj bo sestavljen iz stekleno vlaknenskih plošč, ustrezne gostote za dušenje zvoka skladno s podatki navedenimi ob sekcijah, zaščitenih z vlaknino iz steklenih vlaken, zaščitenih s končnim PVA slojem."]
[]
[]
["1.","NAPRAVA KN1 (objekt C)"]
[null,"Opis prezračevalne naprave v projektu"]
[null,"Tip naprave: modularna dovodno-odvodna naprava, za zunanjo postavitev"]
[null,"Izvedba ohišja kot opisano v splošnem opisu."]
[null,"Material panelov naprave:"]
[null,"- zunaj: pocinkana pločevina, prašno barvano, RAL 9002, C5 po EN ISO 12944"]
[null,"- znotraj: pocinkana pločevina, AluZinc, C4 po EN ISO 12944"]
[null,"- dno: enako notranjemu plašču"]
[null,"Karakteristike ohišja naprave:"]
[null,"- Debelina materiala pločevine sten notranja/zunanja min. 0.7/0.7 mm"]
[null,"- Debelina materiala pločevine dna min. 0.7 mm"]
[null,"- Debelina panela min. 42 mm"]
[null,"- Tip izolacije: mineralna volna"]
[null,"- Gostota izolacije min. 120 kg/m3"]
[null,"- Klasifikacija mehanske stabilnosti D1 (EN 1886)"]
[null,"- Klasifikacija tesnosti ohišja L1 (EN 1886)"]
[null,"- Klasifikacija prehoda toplote min. T2 (prEN 1886)"]
[null,"- Klasifikacija toplotnih mostov min. TB2 (prEN 1886)"]
[]
[null,"DOVODNI DEL"]
[]
[null,"Čelna stran"]
[null,"Čelna stran, kot opisana že v splošnem delu opisa naprave"]
[null,"Opremljena z žaluzijo (razred tesnosti 2), vgrajeno v ohišje naprave kot opisano v splošnem delu opisa naprave, z odprtino po celotnem prostem preseku naprave"]
[null,"Dodatki:"]
[null,"- vremenska zaščitna hauba na priključku naprave"]
[null,"- pogon žaluzije, ON/OFF z varnostno funkcijo (vzmetjo)"]
[]
[null,"Panelni filter"]
[null,"Panelni filter, kot opisan že v splošnem opisu naprave"]
[null,"Klasifikacija filtra: minimalno ePM10 60%"]
[null,"Filterna površina: min. 12 m2"]
[null,"Začetni padec tlaka: 70 Pa"]
[null,"Končni padec tlaka: 170 Pa"]
[null,"Dodatki:"]
[null,"- izvedena mesta za meritve razlike tlakov"]
[null,"- aktivno tlačno tipalo (senzor), montiran in ožičen"]
[null,"- vrata na robustnih težajih s kljuko"]
[]
[null,"Dušilnik zvoka"]
[null,"Dušilnik zvoka, s kulisami za pridušitev hrupa, kot opisan že v splošnem opisu naprave, z naslednjimi minimalnimi podatki:"]
[null,"Minimalna dolžina dušilnika zvoka: 600 mm"]
[null,"63 / 125 / 250 / 500 /1000 / 2000 / 4000 / 8000 Hz\n3 / 4 / 9 / 13 / 17 / 16 / 10 / 6 dB"]
[null,"Dodatki:"]
[null,"- /"]
[]
[null,"Direktno gnani \"EC\" ventilator"]
[null,"Sklop ventilatorja in motorja (ali več - \"fanwall\"), kot opisan že v splošnem opisu naprave."]
[null,"Pretok zraka - dovod: 8.200 m3/h"]
[null,"Zunanji statični tlak: 300 Pa"]
[null,"Absorbirana električna moč: 2.94 kW"]
[null,"Izkoristek ventilatorja po Reg. 327/2011 min: 70 %"]
[null,"Razred energetske učinkovitosti sistema: min. IE4"]
[null,"SFP vrednost in razred: 1.125 W/(m3/s), SFP3"]
[null,"Zaščita, razred in izvedba motorja: IP54, 3~, 400 V, 50 Hz"]
[null,"Nominalna moč: 3.5 kW"]
[null,"Nominalni električni tok: 5.6 A"]
[null,"Dodatki:"]
[null,"- vrata na robustnih težajih s kljuko"]
[null,"- priključki za kontrolo količine zraka"]
[null,"- aktivni tlačni senzor za kontrolo pretoka zraka ali tlaka, montiran in ožičen"]
[]
[null,"Dušilnik zvoka"]
[null,"Dušilnik zvoka, s kulisami za pridušitev hrupa, kot opisan že v splošnem opisu naprave, z naslednjimi minimalnimi podatki:"]
[null,"Minimalna dolžina dušilnika zvoka: 1.200 mm"]
[null,"63 / 125 / 250 / 500 /1000 / 2000 / 4000 / 8000 Hz\n4 / 7 / 18 / 26 / 35 / 32 / 18 / 11 dB"]
[null,"Dodatki:"]
[null,"- /"]
[]
[null,"Ploščni rekuperator"]
[null,"Ploščni rekuperator kot opisan že v splošnem opisu naprave, skupaj z obvodno \"by-pass\" žaluzijo in suhim izkoristkom (EN308) pozimi minimalno 76%."]
[null,"Zima:"]
[null,"Pretok zraka - dovod: 8.200 m3/h"]
[null,"Pretok zraka - odvod: 8.200 m3/h"]
[null,"Temperatura zunanjega zraka: -13 °C / 90 %"]
[null,"Temperatura notranjega zraka: 21 °C / 35 %"]
[null,"Maksimalni tlačni padec na dovodni strani: 200 Pa"]
[null,"Maksimalni tlačni padec na odvodni strani: 200 Pa"]
[null,"Izkoristek ploščnega rekuperatorja: minimalno 82 %"]
[null,"Izkoristek ploščnega rekuperatorja po EN308: minimalno 76 %"]
[null,"Minimalna temperatura za rekuperacijo: 15 °C"]
[null,"Minimalna vrnjena moč: 75 kW"]
[null,"Leto:"]
[null,"Pretok zraka - dovod: 8.200 m3/h"]
[null,"Pretok zraka - odvod: 8.200 m3/h"]
[null,"Temperatura zunanjega zraka: 35 °C / 40 %"]
[null,"Temperatura povratenga zraka: 26 °C / 55 %"]
[null,"Maksimalni tlačni padec na dovodni strani: 190 Pa"]
[null,"Maksimalni tlačni padec na odvodni strani: 190 Pa"]
[null,"Izkoristek ploščnega rekuperatorja temp.: minimalno 75 %"]
[null,"Minimalna temperatura za rekuperacijo: 28 °C / 59 %"]
[null,"Minimalna vrnjena moč: 18 kW"]
[null,"Dodatki:"]
[null,"- sistem žaluzij (min. 2 kos) za obvod zraka (bypass)"]
[null,"- snemljivi paneli"]
[]
[null,"Grelni izmenjevalnik toplote"]
[null,"Izmenjevalnik toplote kot opisan že v splošnem opisu naprave."]
[null,"Zima - ogrevanje:"]
[null,"Pretok zraka - dovod: 8.200 m3/h"]
[null,"Vstopni zrak: 15 °C"]
[null,"Izstopni zrak: 24 °C"]
[null,"Grelna moč: min. 24 kW"]
[null,"Maksimalni padec tlaka: 15 Pa"]
[null,"Ogrevalni medij: voda"]
[null,"Temperaturni režim grelnega medija: 55/45°C"]
[null,"Pretok medija: 0.6 l/s"]
[null,"Tlačni padec medija: maks. 10 kPa"]
[null,"Dodatki / opombe:"]
[null,"- izvlečljiv profil protizamrzovalne zaščite grelnika"]
[null,"- protizamrzovalni termostat na izvlačljivem profilu, montiran in ožičen"]
[]
[null,"Prazna komora/sekcija"]
[null,"Prazna komora, kot opisana že v splošnem opisu naprave."]
[null,"Vgradnja elemetov DX sistema"]
[null,"Komora, za vgradnjo vseh elementov DX sistema ogrevanja in hlajenja, kot so elektronski ekapanzijski ventil (EEV), krmilna omarica sistema, senzorika, ipd."]
[null,"Dolžina: min. 600mm"]
[null,"Dodatki / opombe:"]
[null,"- vrata na robustnih težajih s kljuko"]
[]
[null,"Hladilno-grelni izmenjevalnik toplote"]
[null,"Izmenjevalnik toplote kot opisan že v splošnem opisu naprave."]
[null,"Leto - hlajenje:"]
[null,"Pretok zraka - dovod: 8.200 m3/h"]
[null,"Vstopni zrak: 28 °C / 60%RV"]
[null,"Izstopni zrak: 17 °C / 87%RV (x=<11g/kg)"]
[null,"Hladilna moč (totalna): min. 57 kW"]
[null,"Maksimalni padec tlaka: maks. 65 Pa (mokro)"]
[null,"Hladilni medij: hladilno sredstvo R410a"]
[null,"Temperatura uparjanja hladilnega medija: 7°C"]
[null,"Število hladilnih krogov izmenjevalnika: 2"]
[null,"Zima - ogrevanje (simulirano, maksimalno):"]
[null,"Pretok zraka - dovod: 8.200 m3/h"]
[null,"Vstopni zrak: 15 °C"]
[null,"Izstopni zrak: 35 °C"]
[null,"Ogrevalna moč: min. 55 kW"]
[null,"Maksimalni padec tlaka: 49 Pa (suho)"]
[null,"Ogrevalni medij: hladilno sredstvo R410a"]
[null,"Temperatura kondenzacije hladilnega medija: 46°C"]
[null,"Dodatki / opombe:"]
[null,"- korito za odvod kondenzata iz nerjavne pločevine, po celotni dolžini sekcije"]
[null,"- okvir in vgradna vodila izmenjevalnika iz nerjavne pločevine"]
[]
[null,"Vrečasti filter"]
[null,"Vrečasti filter, kot opisan že v splošnem opisu naprave"]
[null,"Klasifikacija filtra: minimalno ePM1 50%"]
[null,"Filterna površina: min. 30 m2"]
[null,"Začetni padec tlaka: 55 Pa"]
[null,"Končni padec tlaka: 155 Pa"]
[null,"Dodatki:"]
[null,"- izvedena mesta za meritve razlike tlakov"]
[null,"- aktivno tlačno tipalo (senzor), montiran in ožičen"]
[null,"- vrata na robustnih težajih s kljuko"]
[]
[null,"Čelna stran"]
[null,"Čelna stran, kot opisana že v splošnem delu opisa naprave"]
[null,"Z odprtino po celotnem prostem preseku naprave"]
[null,"Dodatki:"]
[null,"- fleksibilni priključki, kot opisano v splošnem opisu naprave"]
[]
[null,"ODVODNI DEL"]
[]
[null,"Čelna stran"]
[null,"Čelna stran, kot opisana že v splošnem delu opisa naprave"]
[null,"Z odprtino po celotnem prostem preseku naprave"]
[null,"Dodatki:"]
[null,"- fleksibilni priključki, kot opisano v splošnem opisu naprave"]
[]
[null,"Panelni filter"]
[null,"Panelni filter, kot opisan že v splošnem opisu naprave"]
[null,"Klasifikacija filtra: minimalno ePM10 60%"]
[null,"Filterna površina: min. 12 m2"]
[null,"Začetni padec tlaka: 70 Pa"]
[null,"Končni padec tlaka: 170 Pa"]
[null,"- izvedena mesta za meritve razlike tlakov"]
[null,"- aktivno tlačno tipalo (senzor), montiran in ožičen"]
[null,"- vrata na robustnih težajih s kljuko"]
[]
[null,"Prazna komora/sekcija"]
[null,"Prazna komora, kot opisana že v splošnem opisu naprave."]
[null,"Vgradnja regulacije prezračevalne naprave"]
[null,"Komora, za vgradnjo elektro-krmilne omare (oz. opreme) prezračevalne naprave"]
[null,"Dolžina: min. 800mm"]
[null,"Dodatki / opombe:"]
[null,"- vrata na robustnih težajih s kljuko"]
[]
[null,"Ploščni rekuperator"]
[null,"Ploščni rekuperator kot opisan že v splošnem opisu naprave, skupaj z obvodno \"by-pass\" žaluzijo in suhim izkoristkom (EN308) pozimi minimalno 76%."]
[null,"Tehnični podatki rekuperatorja so navedeni pri dovodni sekciji naprave."]
[]
[null,"Dušilnik zvoka"]
[null,"Dušilnik zvoka, s kulisami za pridušitev hrupa, kot opisan že v splošnem opisu naprave, z naslednjimi minimalnimi podatki:"]
[null,"Minimalna dolžina dušilnika zvoka: 900 mm"]
[null,"63 / 125 / 250 / 500 /1000 / 2000 / 4000 / 8000 Hz\n4 / 5 / 14 / 20 / 27 / 24 / 14 / 9 dB"]
[null,"Dodatki:"]
[null,"- /"]
[]
[null,"Direktno gnani \"EC\" ventilator"]
[null,"Sklop ventilatorja in motorja (ali več - \"fanwall\"), kot opisan že v splošnem opisu naprave."]
[null,"Pretok zraka - odvod: 8.200 m3/h"]
[null,"Zunanji statični tlak: 300 Pa"]
[null,"Absorbirana električna moč: 2.46 kW"]
[null,"Izkoristek ventilatorja po Reg. 327/2011 min: 70 %"]
[null,"Razred energetske učinkovitosti sistema: min. IE4"]
[null,"SFP vrednost in razred: 1.008 W/(m3/s), SFP2"]
[null,"Zaščita, razred in izvedba motorja: IP54, 3~, 400 V, 50 Hz"]
[null,"Nominalna moč: 3.5 kW"]
[null,"Nominalni električni tok: 5.6 A"]
[null,"Dodatki:"]
[null,"- vrata na robustnih težajih s kljuko"]
[null,"- priključki za kontrolo količine zraka"]
[null,"- aktivni tlačni senzor za kontrolo pretoka zraka ali tlaka, montiran in ožičen"]
[]
[null,"Dušilnik zvoka"]
[null,"Dušilnik zvoka, s kulisami za pridušitev hrupa, kot opisan že v splošnem opisu naprave, z naslednjimi minimalnimi podatki:"]
[null,"Minimalna dolžina dušilnika zvoka: 900 mm"]
[null,"63 / 125 / 250 / 500 /1000 / 2000 / 4000 / 8000 Hz\n4 / 5 / 14 / 20 / 27 / 24 / 14 / 9 dB"]
[null,"Dodatki:"]
[null,"- /"]
[]
[null,"Čelna stran"]
[null,"Čelna stran, kot opisana že v splošnem delu opisa naprave"]
[null,"Opremljena z žaluzijo (razred tesnosti 2), vgrajeno v ohišje naprave kot opisano v splošnem delu opisa naprave, z odprtino po celotnem prostem preseku naprave"]
[null,"Dodatki:"]
[null,"- vremenska zaščitna hauba na priključku naprave, napram zajemni zasukana vsaj za 90° (na posluževalno stran naprave)"]
[null,"- pogon žaluzije, ON/OFF z varnostno funkcijo (vzmetjo)"]
[]
[]
[null,"Zvočni podatki naprave (zvočna moč, Lw)"]
[null,"Dovodni del - na zajemu svežega zraka: max. 63 dB(A)"]
[null,"Dovodni del - na vpihu zraka v prostor: max. 62 dB(A)"]
[null,"Odvodni del - na zajemu odvodnega zraka iz prostora: max. 58 dB(A)"]
[null,"Odvodni del - na izpihu odpadnega zraka v okolico: max. 66 dB(A)"]
[]
[null,"Krmilno-regulacijska oprema naprave"]
[null,"Prezračevalna naprava mora biti opremljena s tovarniško vgrajeno in kablirano elektro komandno omaro, montirano na napravi, z vso potrebno močnostno in krmilno periferijo za varno, stabilno, zanesljivo in uporabniku prijazno delovanje, kot opisano že v splošnem opisu regulacije in krmilja naprave!"]
[null,"Naprava mora omogočati priključitev na CNS preko ModBus RTU (pred naročilom uskladiti)."]
[null,"Glavne regulacijske funkcije"]
[null,"konstantni tlak v kanalski mreži, konstantna temperatura vpiha (DX hladilnik poleti, vodni grelnik+DX grelnik pozimi)"]
[]
[null,"Generalni dodatki k prezračevalni napravi"]
[null,"Prezračevalna naprave je opremljena z naslednjimi dodatki:"]
[null,"- podporni profil iz aluminija, višine 100 mm, kot opisan v splošnem opisu naprave"]
[null,"- streha, vodotesno, po celotni površini naprave, kot opisana v splošnem opisu naprave"]
[]
[null,"ErP skladnost (po EU 1253/2014)"]
[null,"Tip naprave: NRVU BVU"]
[null,"Tip krmilja motorjev: zvezno (EC - elektronika na motorju ventilatorja)"]
[null,"Tip rekuperacije: ploščni rekuperator"]
[null,"Izkoristek rekuperacije (EN308): 76%"]
[null,"SFP interni: 747 W/(m3/s)"]
[null,"Izkoristek (reg. 327/2011), dovod / odvod: 71% / 72%"]
[null,"Maksimalno puščanje ohišja naprave (zunanje, +400/-400Pa): 1.6% / 0.8%"]
[null,"Maksimalno puščanje ohišja naprave (interno): 1.5%"]
[]
[null,"Ustrezna prezračevalna naprava, na primer:"]
[null,"Proizvajalec: DAIKIN (Procool d.o.o.)"]
[null,"Tip naprave: D-AHU ADK07EDV1"]
[null,"Dimenzije (DxŠxV): maks. 8.200 x 1.810 x 1.820 mm"]
[null,"Teža naprave: maks. 2.660 kg"]
[null,"ali enakovredno","kpl",1,null,{"$f":"+E730*D730","v":0},{"$f":"+E730*MM","v":0},{"$f":"+G730*D730","v":0},{"$f":"+E730-G730","v":0},{"$f":"+I730*D730","v":0}]
[null,"Posluževanje naprave nujno uskladiti pred naročilom."]
[]
["2.","NAPRAVI  KN2 (jedilnica) in KN3 (dvorana)"]
[null,"Opis prezračevalne naprave v projektu"]
[null,"Tip naprave: modularna dovodno-odvodna naprava, za zunanjo postavitev"]
[null,"Izvedba ohišja kot opisano v splošnem opisu."]
[null,"Material panelov naprave:"]
[null,"- zunaj: pocinkana pločevina, prašno barvano, RAL 9002, C5 po EN ISO 12944"]
[null,"- znotraj: pocinkana pločevina, AluZinc, C4 po EN ISO 12944"]
[null,"- dno: enako notranjemu plašču"]
[null,"Karakteristike ohišja naprave:"]
[null,"- Debelina materiala pločevine sten notranja/zunanja min. 0.7/0.7 mm"]
[null,"- Debelina materiala pločevine dna min. 0.7 mm"]
[null,"- Debelina panela min. 42 mm"]
[null,"- Tip izolacije: mineralna volna"]
[null,"- Gostota izolacije min. 120 kg/m3"]
[null,"- Klasifikacija mehanske stabilnosti D1 (EN 1886)"]
[null,"- Klasifikacija tesnosti ohišja L1 (EN 1886)"]
[null,"- Klasifikacija prehoda toplote min. T2 (prEN 1886)"]
[null,"- Klasifikacija toplotnih mostov min. TB2 (prEN 1886)"]
[]
[null,"DOVODNI DEL"]
[]
[null,"Čelna stran"]
[null,"Čelna stran, kot opisana že v splošnem delu opisa naprave"]
[null,"Opremljena z žaluzijo (razred tesnosti 2), vgrajeno v ohišje naprave kot opisano v splošnem delu opisa naprave, z odprtino po celotnem prostem preseku naprave"]
[null,"Dodatki:"]
[null,"- vremenska zaščitna hauba na priključku naprave"]
[null,"- pogon žaluzije, ON/OFF z varnostno funkcijo (vzmetjo)"]
[]
[null,"Panelni filter"]
[null,"Panelni filter, kot opisan že v splošnem opisu naprave"]
[null,"Klasifikacija filtra: minimalno ePM10 60%"]
[null,"Filterna površina: min. 5 m2"]
[null,"Začetni padec tlaka: 70 Pa"]
[null,"Končni padec tlaka: 170 Pa"]
[null,"Dodatki:"]
[null,"- izvedena mesta za meritve razlike tlakov"]
[null,"- aktivno tlačno tipalo (senzor), montiran in ožičen"]
[null,"- vrata na robustnih težajih s kljuko"]
[]
[null,"Dušilnik zvoka"]
[null,"Dušilnik zvoka, s kulisami za pridušitev hrupa, kot opisan že v splošnem opisu naprave, z naslednjimi minimalnimi podatki:"]
[null,"Minimalna dolžina dušilnika zvoka: 600 mm"]
[null,"63 / 125 / 250 / 500 /1000 / 2000 / 4000 / 8000 Hz\n3 / 4 / 9 / 13 / 17 / 16 / 10 / 6 dB"]
[null,"Dodatki:"]
[null,"- /"]
[]
[null,"Direktno gnani \"EC\" ventilator"]
[null,"Sklop ventilatorja in motorja (ali več - \"fanwall\"), kot opisan že v splošnem opisu naprave."]
[null,"Pretok zraka - dovod: 3.000 m3/h"]
[null,"Zunanji statični tlak: 300 Pa"]
[null,"Absorbirana električna moč: 1.07 kW"]
[null,"Izkoristek ventilatorja po Reg. 327/2011 min: 65 %"]
[null,"Razred energetske učinkovitosti sistema: min. IE4"]
[null,"SFP vrednost in razred: 1.111 W/(m3/s), SFP3"]
[null,"Zaščita, razred in izvedba motorja: IP54, 3~, 400 V, 50 Hz"]
[null,"Nominalna moč: 2.5 kW"]
[null,"Nominalni električni tok: 3.8 A"]
[null,"Dodatki:"]
[null,"- vrata na robustnih težajih s kljuko"]
[null,"- priključki za kontrolo količine zraka"]
[null,"- aktivni tlačni senzor za kontrolo pretoka zraka ali tlaka, montiran in ožičen"]
[]
[null,"Dušilnik zvoka"]
[null,"Dušilnik zvoka, s kulisami za pridušitev hrupa, kot opisan že v splošnem opisu naprave, z naslednjimi minimalnimi podatki:"]
[null,"Minimalna dolžina dušilnika zvoka: 1.200 mm"]
[null,"63 / 125 / 250 / 500 /1000 / 2000 / 4000 / 8000 Hz\n4 / 6 / 18 / 26 / 34 / 31 / 18 / 10 dB"]
[null,"Dodatki:"]
[null,"- /"]
[]
[null,"Ploščni rekuperator"]
[null,"Ploščni rekuperator kot opisan že v splošnem opisu naprave, skupaj z obvodno \"by-pass\" žaluzijo in suhim izkoristkom (EN308) pozimi minimalno 76%."]
[null,"Zima:"]
[null,"Pretok zraka - dovod: 3.000 m3/h"]
[null,"Pretok zraka - odvod: 3.000 m3/h"]
[null,"Temperatura zunanjega zraka: -13 °C / 90 %"]
[null,"Temperatura notranjega zraka: 21 °C / 35 %"]
[null,"Maksimalni tlačni padec na dovodni strani: 160 Pa"]
[null,"Maksimalni tlačni padec na odvodni strani: 160 Pa"]
[null,"Izkoristek ploščnega rekuperatorja: minimalno 83 %"]
[null,"Izkoristek ploščnega rekuperatorja po EN308: minimalno 76 %"]
[null,"Minimalna temperatura za rekuperacijo: 15 °C"]
[null,"Minimalna vrnjena moč: 28 kW"]
[null,"Leto:"]
[null,"Pretok zraka - dovod: 3.000 m3/h"]
[null,"Pretok zraka - odvod: 3.000 m3/h"]
[null,"Temperatura zunanjega zraka: 35 °C / 40 %"]
[null,"Temperatura povratenga zraka: 26 °C / 55 %"]
[null,"Maksimalni tlačni padec na dovodni strani: 150 Pa"]
[null,"Maksimalni tlačni padec na odvodni strani: 150 Pa"]
[null,"Izkoristek ploščnega rekuperatorja temp.: minimalno 75 %"]
[null,"Minimalna temperatura za rekuperacijo: 28 °C / 59 %"]
[null,"Minimalna vrnjena moč: 6.5 kW"]
[null,"Dodatki:"]
[null,"- sistem žaluzij (min. 2 kos) za obvod zraka (bypass)"]
[null,"- snemljivi paneli"]
[]
[null,"Grelni izmenjevalnik toplote"]
[null,"Izmenjevalnik toplote kot opisan že v splošnem opisu naprave."]
[null,"Zima - ogrevanje:"]
[null,"Pretok zraka - dovod: 3.000 m3/h"]
[null,"Vstopni zrak: 15 °C"]
[null,"Izstopni zrak: 24 °C"]
[null,"Grelna moč: min. 9 kW"]
[null,"Maksimalni padec tlaka: 15 Pa"]
[null,"Ogrevalni medij: voda"]
[null,"Temperaturni režim grelnega medija: 55/45°C"]
[null,"Pretok medija: 0.22 l/s"]
[null,"Tlačni padec medija: maks. 10 kPa"]
[null,"Dodatki / opombe:"]
[null,"- izvlečljiv profil protizamrzovalne zaščite grelnika"]
[null,"- protizamrzovalni termostat na izvlačljivem profilu, montiran in ožičen"]
[]
[null,"Prazna komora/sekcija"]
[null,"Prazna komora, kot opisana že v splošnem opisu naprave."]
[null,"Vgradnja elemetov DX sistema"]
[null,"Komora, za vgradnjo vseh elementov DX sistema ogrevanja in hlajenja, kot so elektronski ekapanzijski ventil (EEV), krmilna omarica sistema, senzorika, ipd."]
[null,"Dolžina: min. 600mm"]
[null,"Dodatki / opombe:"]
[null,"- vrata na robustnih težajih s kljuko"]
[]
[null,"Hladilno-grelni izmenjevalnik toplote"]
[null,"Izmenjevalnik toplote kot opisan že v splošnem opisu naprave."]
[null,"Leto - hlajenje:"]
[null,"Pretok zraka - dovod: 3.000 m3/h"]
[null,"Vstopni zrak: 28 °C / 60%RV"]
[null,"Izstopni zrak: 20 °C / 80%RV (x=<12g/kg)"]
[null,"Hladilna moč (totalna): min. 14.5 kW"]
[null,"Maksimalni padec tlaka: maks. 45 Pa (mokro)"]
[null,"Hladilni medij: hladilno sredstvo R410a"]
[null,"Temperatura uparjanja hladilnega medija: 7°C"]
[null,"Število hladilnih krogov izmenjevalnika: 1"]
[null,"Zima - ogrevanje (simulirano, maksimalno):"]
[null,"Pretok zraka - dovod: 3.000 m3/h"]
[null,"Vstopni zrak: 15 °C"]
[null,"Izstopni zrak: 31 °C"]
[null,"Ogrevalna moč: min. 17 kW"]
[null,"Maksimalni padec tlaka: 35 Pa (suho)"]
[null,"Ogrevalni medij: hladilno sredstvo R410a"]
[null,"Temperatura kondenzacije hladilnega medija: 46°C"]
[null,"Dodatki / opombe:"]
[null,"- korito za odvod kondenzata iz nerjavne pločevine, po celotni dolžini sekcije"]
[null,"- okvir in vgradna vodila izmenjevalnika iz nerjavne pločevine"]
[]
[null,"Vrečasti filter"]
[null,"Vrečasti filter, kot opisan že v splošnem opisu naprave"]
[null,"Klasifikacija filtra: minimalno ePM1 50%"]
[null,"Filterna površina: min. 16 m2"]
[null,"Začetni padec tlaka: 55 Pa"]
[null,"Končni padec tlaka: 155 Pa"]
[null,"Dodatki:"]
[null,"- izvedena mesta za meritve razlike tlakov"]
[null,"- aktivno tlačno tipalo (senzor), montiran in ožičen"]
[null,"- vrata na robustnih težajih s kljuko"]
[]
[null,"Čelna stran"]
[null,"Čelna stran, kot opisana že v splošnem delu opisa naprave"]
[null,"Z odprtino po celotnem prostem preseku naprave"]
[null,"Dodatki:"]
[null,"- fleksibilni priključki, kot opisano v splošnem opisu naprave"]
[]
[null,"ODVODNI DEL"]
[]
[null,"Čelna stran"]
[null,"Čelna stran, kot opisana že v splošnem delu opisa naprave"]
[null,"Z odprtino po celotnem prostem preseku naprave"]
[null,"Dodatki:"]
[null,"- fleksibilni priključki, kot opisano v splošnem opisu naprave"]
[]
[null,"Panelni filter"]
[null,"Panelni filter, kot opisan že v splošnem opisu naprave"]
[null,"Klasifikacija filtra: minimalno ePM10 60%"]
[null,"Filterna površina: min. 6 m2"]
[null,"Začetni padec tlaka: 70 Pa"]
[null,"Končni padec tlaka: 170 Pa"]
[null,"- izvedena mesta za meritve razlike tlakov"]
[null,"- aktivno tlačno tipalo (senzor), montiran in ožičen"]
[null,"- vrata na robustnih težajih s kljuko"]
[]
[null,"Prazna komora/sekcija"]
[null,"Prazna komora, kot opisana že v splošnem opisu naprave."]
[null,"Vgradnja regulacije prezračevalne naprave"]
[null,"Komora, za vgradnjo elektro-krmilne omare (oz. opreme) prezračevalne naprave"]
[null,"Dolžina: min. 800mm"]
[null,"Dodatki / opombe:"]
[null,"- vrata na robustnih težajih s kljuko"]
[]
[null,"Ploščni rekuperator"]
[null,"Ploščni rekuperator kot opisan že v splošnem opisu naprave, skupaj z obvodno \"by-pass\" žaluzijo in suhim izkoristkom (EN308) pozimi minimalno 76%."]
[null,"Tehnični podatki rekuperatorja so navedeni pri dovodni sekciji naprave."]
[]
[null,"Dušilnik zvoka"]
[null,"Dušilnik zvoka, s kulisami za pridušitev hrupa, kot opisan že v splošnem opisu naprave, z naslednjimi minimalnimi podatki:"]
[null,"Minimalna dolžina dušilnika zvoka: 1.200 mm"]
[null,"63 / 125 / 250 / 500 /1000 / 2000 / 4000 / 8000 Hz\n4 / 6 / 18 / 26 / 34 / 31 / 18 / 10 dB"]
[null,"Dodatki:"]
[null,"- /"]
[]
[null,"Direktno gnani \"EC\" ventilator"]
[null,"Sklop ventilatorja in motorja (ali več - \"fanwall\"), kot opisan že v splošnem opisu naprave."]
[null,"Pretok zraka - odvod: 3.000 m3/h"]
[null,"Zunanji statični tlak: 300 Pa"]
[null,"Absorbirana električna moč: 0.86 kW"]
[null,"Izkoristek ventilatorja po Reg. 327/2011 min: 65 %"]
[null,"Razred energetske učinkovitosti sistema: min. IE4"]
[null,"SFP vrednost in razred: 959 W/(m3/s), SFP2"]
[null,"Zaščita, razred in izvedba motorja: IP54, 3~, 400 V, 50 Hz"]
[null,"Nominalna moč: 2.4 kW"]
[null,"Nominalni električni tok: 3.8 A"]
[null,"Dodatki:"]
[null,"- vrata na robustnih težajih s kljuko"]
[null,"- priključki za kontrolo količine zraka"]
[null,"- aktivni tlačni senzor za kontrolo pretoka zraka ali tlaka, montiran in ožičen"]
[]
[null,"Dušilnik zvoka"]
[null,"Dušilnik zvoka, s kulisami za pridušitev hrupa, kot opisan že v splošnem opisu naprave, z naslednjimi minimalnimi podatki:"]
[null,"Minimalna dolžina dušilnika zvoka: 900 mm"]
[null,"63 / 125 / 250 / 500 /1000 / 2000 / 4000 / 8000 Hz\n4 / 5 / 14 / 20 / 27 / 24 / 14 / 9 dB"]
[null,"Dodatki:"]
[null,"- /"]
[]
[null,"Čelna stran"]
[null,"Čelna stran, kot opisana že v splošnem delu opisa naprave"]
[null,"Opremljena z žaluzijo (razred tesnosti 2), vgrajeno v ohišje naprave kot opisano v splošnem delu opisa naprave, z odprtino po celotnem prostem preseku naprave"]
[null,"Dodatki:"]
[null,"- vremenska zaščitna hauba na priključku naprave, napram zajemni zasukana vsaj za 90° (na posluževalno stran naprave)"]
[null,"- pogon žaluzije, ON/OFF z varnostno funkcijo (vzmetjo)"]
[]
[null,"Zvočni podatki naprave (zvočna moč, Lw)"]
[null,"Dovodni del - na zajemu svežega zraka: max. 59 dB(A)"]
[null,"Dovodni del - na vpihu zraka v prostor: max. 54 dB(A)"]
[null,"Odvodni del - na zajemu odvodnega zraka iz prostora: max. 47 dB(A)"]
[null,"Odvodni del - na izpihu odpadnega zraka v okolico: max. 61 dB(A)"]
[]
[null,"Krmilno-regulacijska oprema naprave"]
[null,"Prezračevalna naprava mora biti opremljena s tovarniško vgrajeno in kablirano elektro komandno omaro, montirano na napravi, z vso potrebno močnostno in krmilno periferijo za varno, stabilno, zanesljivo in uporabniku prijazno delovanje, kot opisano že v splošnem opisu regulacije in krmilja naprave!"]
[null,"Naprava mora omogočati priključitev na CNS preko ModBus RTU (pred naročilom uskladiti)."]
[null,"Glavne regulacijske funkcije"]
[null,"Pretok zraka v odvisnosti od CO2 koncentracije v povratnem zraku, konstantna temperatura vpiha (DX hladilnik poleti, vodni grelnik+DX grelnik pozimi)"]
[]
[null,"Generalni dodatki k prezračevalni napravi"]
[null,"Prezračevalna naprave je opremljena z naslednjimi dodatki:"]
[null,"- podporni profil iz aluminija, višine 100 mm, kot opisan v splošnem opisu naprave"]
[null,"- streha, vodotesno, po celotni površini naprave, kot opisana v splošnem opisu naprave"]
[]
[null,"ErP skladnost (po EU 1253/2014)"]
[null,"Tip naprave: NRVU BVU"]
[null,"Tip krmilja motorjev: zvezno (EC - elektronika na motorju ventilatorja)"]
[null,"Tip rekuperacije: ploščni rekuperator"]
[null,"Izkoristek rekuperacije (EN308): 76.6%"]
[null,"SFP interni: 668 W/(m3/s)"]
[null,"Izkoristek (reg. 327/2011), dovod / odvod: 67% / 67%"]
[null,"Maksimalno puščanje ohišja naprave (zunanje, +400/-400Pa): 2.5% / 1.25%"]
[null,"Maksimalno puščanje ohišja naprave (interno): 1.5%"]
[]
[null,"Ustrezna prezračevalna naprava, na primer:"]
[null,"Proizvajalec: DAIKIN (Procool d.o.o.)"]
[null,"Tip naprave: D-AHU ADK02EDV1"]
[null,"Dimenzije (DxŠxV): maks. 7.800 x 850 x 1.820 mm"]
[null,"Teža naprave: maks. 1.550 kg"]
[null,"ali enakovredno","kpl",2,null,{"$f":"+E992*D992","v":0},{"$f":"+E992*MM","v":0},{"$f":"+G992*D992","v":0},{"$f":"+E992-G992","v":0},{"$f":"+I992*D992","v":0}]
[null,"Posluževanje naprave nujno uskladiti pred naročilom."]
[]
["3.","NAPRAVA  KN4 (gospodinjska učilnica)"]
[null,"Opis prezračevalne naprave v projektu"]
[null,"Tip naprave: modularna dovodno-odvodna naprava, za notranjo podstropno postavitev"]
[null,"Izvedba ohišja kot opisano v splošnem opisu."]
[null,"Material panelov naprave:"]
[null,"- zunaj: pocinkana pločevina, prašno barvano, RAL 9002, C5 po EN ISO 12944"]
[null,"- znotraj: pocinkana pločevina, AluZinc, C4 po EN ISO 12944"]
[null,"- dno: enako notranjemu plašču"]
[null,"Karakteristike ohišja naprave:"]
[null,"- Debelina materiala pločevine sten notranja/zunanja min. 0.5/0.7 mm"]
[null,"- Debelina materiala pločevine dna min. 0.7 mm"]
[null,"- Debelina panela min. 42 mm"]
[null,"- Tip izolacije: mineralna volna"]
[null,"- Gostota izolacije min. 120 kg/m3"]
[null,"- Klasifikacija mehanske stabilnosti D1 (EN 1886)"]
[null,"- Klasifikacija tesnosti ohišja L1 (EN 1886)"]
[null,"- Klasifikacija prehoda toplote min. T2 (prEN 1886)"]
[null,"- Klasifikacija toplotnih mostov min. TB2 (prEN 1886)"]
[]
[null,"DOVODNI DEL"]
[]
[null,"Čelna stran"]
[null,"Čelna stran, kot opisana že v splošnem delu opisa naprave"]
[null,"Z odprtino po celotnem prostem preseku naprave"]
[null,"Dodatki:"]
[null,"- /"]
[]
[null,"Grelni izmenjevalnik toplote"]
[null,"Električni predgrelnik zraka, kot ločena sekcija, opisana v splošnem opisu naprave, v ohišju enakih karakteristik, popolnoma opremljena z vsemi potrebnimi krmilnimi elementi (plug&play) za popolnoma avtonomno zvezno delovanje predgrevanja zraka v zimskih mesecih (proženje delovanja iz klimatske naprave)"]
[null,"Zima - predgrevanje:"]
[null,"Količina zraka - dovod: 800 m3/h"]
[null,"Vstopni zrak: -13°C"]
[null,"Izstopni zrak: min. -5°C"]
[null,"Minimalna potrebna ogrevalna moč: 2.5kW"]
[null,"Moč grelnika: 3kW"]
[null,"Izvedba grelnika: 1~, 230V/50Hz"]
[null,"Dodatki:"]
[null,"- /"]
[]
[null,"Panelni filter"]
[null,"Panelni filter, kot opisan že v splošnem opisu naprave"]
[null,"Klasifikacija filtra: minimalno ePM10 50%"]
[null,"Začetni padec tlaka: 100 Pa"]
[null,"Končni padec tlaka: 200 Pa"]
[null,"Dodatki:"]
[null,"- izvedena mesta za meritve razlike tlakov"]
[null,"- tlačno stikalo (presostat), montiran in ožičen"]
[]
[null,"Ploščni rekuperator"]
[null,"Ploščni rekuperator kot opisan že v splošnem opisu naprave, skupaj z obvodno \"by-pass\" žaluzijo in suhim izkoristkom (EN308) pozimi minimalno 76%."]
[null,"Zima:"]
[null,"Pretok zraka - dovod: 800 m3/h"]
[null,"Pretok zraka - odvod: 800 m3/h"]
[null,"Temperatura zunanjega zraka: -5 °C / 90 %"]
[null,"Temperatura notranjega zraka: 21 °C / 35 %"]
[null,"Maksimalni tlačni padec na dovodni strani: 150 Pa"]
[null,"Maksimalni tlačni padec na odvodni strani: 150 Pa"]
[null,"Izkoristek ploščnega rekuperatorja: minimalno 79 %"]
[null,"Izkoristek ploščnega rekuperatorja po EN308: minimalno 79 %"]
[null,"Minimalna temperatura za rekuperacijo: 15 °C"]
[null,"Minimalna vrnjena moč: 5.5 kW"]
[null,"Leto:"]
[null,"Pretok zraka - dovod: 800 m3/h"]
[null,"Pretok zraka - odvod: 800 m3/h"]
[null,"Temperatura zunanjega zraka: 35 °C / 40 %"]
[null,"Temperatura povratenga zraka: 26 °C / 55 %"]
[null,"Maksimalni tlačni padec na dovodni strani: 140 Pa"]
[null,"Maksimalni tlačni padec na odvodni strani: 140 Pa"]
[null,"Izkoristek ploščnega rekuperatorja temp.: minimalno 75 %"]
[null,"Minimalna temperatura za rekuperacijo: 28 °C / 60 %"]
[null,"Minimalna vrnjena moč: 2 kW"]
[null,"Dodatki:"]
[null,"- sistem žaluzij (min. 2 kos) za obvod zraka (bypass)"]
[]
[null,"Direktno gnani \"EC\" ventilator"]
[null,"Sklop ventilatorja in motorja (ali več - \"fanwall\"), kot opisan že v splošnem opisu naprave."]
[null,"Pretok zraka - dovod: 800 m3/h"]
[null,"Zunanji statični tlak: 250 Pa"]
[null,"Absorbirana električna moč: 0.31 kW"]
[null,"Izkoristek ventilatorja po Reg. 327/2011 min: 60 %"]
[null,"Razred energetske učinkovitosti sistema: min. IE4"]
[null,"SFP vrednost in razred: 1.297 W/(m3/s), SFP3"]
[null,"Zaščita, razred in izvedba motorja: IP54, 1~, 230 V, 50 Hz"]
[null,"Nominalna moč: 0.5 kW"]
[null,"Nominalni električni tok: 2.2 A"]
[null,"Dodatki:"]
[null,"- priključki za kontrolo količine zraka"]
[null,"- aktivni tlačni senzor za kontrolo pretoka zraka ali tlaka, montiran in ožičen"]
[]
[null,"Grelni izmenjevalnik toplote"]
[null,"Električni predgrelnik zraka, kot ločena sekcija, opisana v splošnem opisu naprave, v ohišju enakih karakteristik, popolnoma opremljena z vsemi potrebnimi krmilnimi elementi (plug&play) za popolnoma avtonomno zvezno delovanje predgrevanja zraka v zimskih mesecih (proženje delovanja iz klimatske naprave)"]
[null,"Zima - dogrevanje:"]
[null,"Količina zraka - dovod: 800 m3/h"]
[null,"Vstopni zrak: 15°C"]
[null,"Izstopni zrak: min. 24°C"]
[null,"Minimalna potrebna ogrevalna moč: 3kW"]
[null,"Moč grelnika: 3kW"]
[null,"Izvedba grelnika: 1~, 230V/50Hz"]
[null,"Dodatki:"]
[null,"- /"]
[]
[null,"Dušilnik zvoka"]
[null,"Dušilnik zvoka, s kulisami za pridušitev hrupa, kot opisan že v splošnem opisu naprave, z naslednjimi minimalnimi podatki:"]
[null,"Minimalna dolžina dušilnika zvoka: 900 mm"]
[null,"63 / 125 / 250 / 500 /1000 / 2000 / 4000 / 8000 Hz\n5 / 9 / 16 / 30 / 39 / 39 / 31 / 26 dB"]
[null,"Dodatki:"]
[null,"- /"]
[]
[null,"Čelna stran"]
[null,"Čelna stran, kot opisana že v splošnem delu opisa naprave"]
[null,"Z odprtino po celotnem prostem preseku naprave"]
[null,"Dodatki:"]
[null,"- /"]
[]
[null,"ODVODNI DEL"]
[]
[null,"Čelna stran"]
[null,"Čelna stran, kot opisana že v splošnem delu opisa naprave"]
[null,"Z odprtino po celotnem prostem preseku naprave"]
[null,"Dodatki:"]
[null,"- /"]
[]
[null,"Dušilnik zvoka"]
[null,"Dušilnik zvoka, s kulisami za pridušitev hrupa, kot opisan že v splošnem opisu naprave, z naslednjimi minimalnimi podatki:"]
[null,"Minimalna dolžina dušilnika zvoka: 900 mm"]
[null,"63 / 125 / 250 / 500 /1000 / 2000 / 4000 / 8000 Hz\n5 / 9 / 16 / 30 / 39 / 39 / 31 / 26 dB"]
[null,"Dodatki:"]
[null,"- /"]
[]
[null,"Panelni filter"]
[null,"Panelni filter, kot opisan že v splošnem opisu naprave"]
[null,"Klasifikacija filtra: minimalno ePM10 60%"]
[null,"Začetni padec tlaka: 70 Pa"]
[null,"Končni padec tlaka: 170 Pa"]
[null,"- izvedena mesta za meritve razlike tlakov"]
[null,"- tlačno stikalo (presostat), montiran in ožičen"]
[]
[null,"Ploščni rekuperator"]
[null,"Ploščni rekuperator kot opisan že v splošnem opisu naprave, skupaj z obvodno \"by-pass\" žaluzijo in suhim izkoristkom (EN308) pozimi minimalno 79%."]
[null,"Tehnični podatki rekuperatorja so navedeni pri dovodni sekciji naprave."]
[]
[null,"Direktno gnani \"EC\" ventilator"]
[null,"Sklop ventilatorja in motorja (ali več - \"fanwall\"), kot opisan že v splošnem opisu naprave."]
[null,"Pretok zraka - odvod: 800 m3/h"]
[null,"Zunanji statični tlak: 200 Pa"]
[null,"Absorbirana električna moč: 0.28 kW"]
[null,"Izkoristek ventilatorja po Reg. 327/2011 min: 60 %"]
[null,"Razred energetske učinkovitosti sistema: min. IE4"]
[null,"SFP vrednost in razred: 1.144 W/(m3/s), SFP3"]
[null,"Zaščita, razred in izvedba motorja: IP54, 1~, 230 V, 50 Hz"]
[null,"Nominalna moč: 0.5 kW"]
[null,"Nominalni električni tok: 2.2 A"]
[null,"Dodatki:"]
[null,"- priključki za kontrolo količine zraka"]
[null,"- aktivni tlačni senzor za kontrolo pretoka zraka ali tlaka, montiran in ožičen"]
[]
[null,"Čelna stran"]
[null,"Čelna stran, kot opisana že v splošnem delu opisa naprave"]
[null,"Z odprtino po celotnem prostem preseku naprave"]
[null,"Dodatki:"]
[null,"- /"]
[]
[null,"Zvočni podatki naprave (zvočna moč, Lw)"]
[null,"Dovodni del - na zajemu svežega zraka: max. 64 dB(A)"]
[null,"Dovodni del - na vpihu zraka v prostor: max. 60 dB(A)"]
[null,"Odvodni del - na zajemu odvodnega zraka iz prostora: max. 48 dB(A)"]
[null,"Odvodni del - na izpihu odpadnega zraka v okolico: max. 79 dB(A)"]
[]
[null,"Krmilno-regulacijska oprema naprave"]
[null,"Prezračevalna naprava mora biti opremljena s tovarniško vgrajeno in kablirano elektro komandno omaro, montirano na napravi, z vso potrebno močnostno in krmilno periferijo za varno, stabilno, zanesljivo in uporabniku prijazno delovanje, kot opisano že v splošnem opisu regulacije in krmilja naprave!"]
[null,"Naprava mora omogočati priključitev na CNS preko ModBus RTU (pred naročilom uskladiti)."]
[null,"Glavne regulacijske funkcije"]
[null,"Pretok zraka v odvisnosti od CO2 koncentracije v povratnem zraku, konstantna temperatura vpiha (el. dogrelnik pozimi)."]
[]
[null,"Generalni dodatki k prezračevalni napravi"]
[null,"Prezračevalna naprave je opremljena z naslednjimi dodatki:"]
[null,"- dvoje vrat pod napravo za dostop do vseh sekcij naprave"]
[]
[null,"ErP skladnost (po EU 1253/2014)"]
[null,"Tip naprave: NRVU BVU"]
[null,"Tip krmilja motorjev: zvezno (EC - elektronika na motorju ventilatorja)"]
[null,"Tip rekuperacije: ploščni rekuperator"]
[null,"Izkoristek rekuperacije (EN308): 79%"]
[null,"SFP interni: 928 W/(m3/s)"]
[null,"Izkoristek (reg. 327/2011), dovod / odvod: 60% / 60%"]
[null,"Maksimalno puščanje ohišja naprave (zunanje, +400/-400Pa): 3.5% / 1.8%"]
[null,"Maksimalno puščanje ohišja naprave (interno): 1.5%"]
[]
[null,"Ustrezna prezračevalna naprava, na primer:"]
[null,"Proizvajalec: DAIKIN (Procool d.o.o.)"]
[null,"Tip naprave: D-AHU ALB03RB"]
[null,"Dimenzije (DxŠxV - brez grelnikov in dušilnikov): maks. 1.800 x 1.100 x 350 mm"]
[null,"Teža naprave: maks. 340 kg"]
[null,"ali enakovredno","kpl",1,null,{"$f":"+E1188*D1188","v":0},{"$f":"+E1188*MM","v":0},{"$f":"+G1188*D1188","v":0},{"$f":"+E1188-G1188","v":0},{"$f":"+I1188*D1188","v":0}]
[null,"Posluževanje naprave nujno uskladiti pred naročilom."]
[]
[4,"Zrakotesna loputa za vgradnjo v kanal, za napravo KN4, grajena iz pocinkane pločevine ali aluminija, s tesnili na notranjem delu lopute, primerna za prigradnjo motornega pogona, motorni pogon 230V/50Hz, delovanje ON/OFF, z varnostno funkcijo (vzmetjo). Krmiljenje pogona (odpiranje lopute) iz prezračevalne naprave KN4."]
[null,"Količina zraka - odvod/odvod: 800 m3/h"]
[null,"Premer lopute: fi 250 mm"]
[null,"ali enakovredno","kpl",2,null,{"$f":"+E1194*D1194","v":0},{"$f":"+E1194*MM","v":0},{"$f":"+G1194*D1194","v":0},{"$f":"+E1194-G1194","v":0},{"$f":"+I1194*D1194","v":0}]
[]
[5,"Cevni dušilec zvoka za dovod in izpuh za klimat KN-4, vključno z montažnim materialom"]
[null,"fi 250/350 mm, L = 0,9 m","kos",2,null,{"$f":"+E1197*D1197","v":0},{"$f":"+E1197*MM","v":0},{"$f":"+G1197*D1197","v":0},{"$f":"+E1197-G1197","v":0},{"$f":"+I1197*D1197","v":0}]
[]
[6,"Cevni ventilator kot MIXVENT , vključno z:"]
[null,"elastičnimi priključki"]
[null,"objemkami in obešalni material"]
[null,"regulator, stikalo"]
[null,"rele za zakasnitev izklopa"]
[]
[null,"tip TD – 250 / 125 ","kpl",2,null,{"$f":"+E1205*D1205","v":0},{"$f":"+E1205*MM","v":0},{"$f":"+G1205*D1205","v":0},{"$f":"+E1205-G1205","v":0},{"$f":"+I1205*D1205","v":0}]
[null," V =do 120 m3/h, Hst= 60 Pa, N = 40 W"]
[]
[null,"tip TD – 350 / 125 ","kpl",2,null,{"$f":"+E1208*D1208","v":0},{"$f":"+E1208*MM","v":0},{"$f":"+G1208*D1208","v":0},{"$f":"+E1208-G1208","v":0},{"$f":"+I1208*D1208","v":0}]
[null," V = 150 m3/h, Hst= 60 Pa, N = 60 W"]
[]
[null,"tip TD – 350 / 125 ","kpl",1,null,{"$f":"+E1211*D1211","v":0},{"$f":"+E1211*MM","v":0},{"$f":"+G1211*D1211","v":0},{"$f":"+E1211-G1211","v":0},{"$f":"+I1211*D1211","v":0}]
[null," V = 230 m3/h, Hst= 60 Pa, N = 60 W"]
[]
[7,"Lokalni odvodni  ventilator za vgradnjo v steno ali strop, vključno zaščitna mrežica, samodvižna žaluzija,\nkot O.ERRE - Silente"]
[null,"V =   60 m3/h, N = 30 W","kos",2,null,{"$f":"+E1215*D1215","v":0},{"$f":"+E1215*MM","v":0},{"$f":"+G1215*D1215","v":0},{"$f":"+E1215-G1215","v":0},{"$f":"+I1215*D1215","v":0}]
[null,null,"\n\n\n\n"]
[8,"Indukcijski  linijski  difuzor  za dovod zraka v prostor"]
[null,"za energijsko varčno distribucijo zraka vključno priključna povišana komora (H=450 mm) ali podaljšan vrat, stranski priključek z regulacijsko loputo, vpihovalna maska, montažni material "]
[]
[]
[null,"tip LD 14/1, dolžina 2,0 m (V=375 n3/h)","kos",8,null,{"$f":"+E1221*D1221","v":0},{"$f":"+E1221*MM","v":0},{"$f":"+G1221*D1221","v":0},{"$f":"+E1221-G1221","v":0},{"$f":"+I1221*D1221","v":0}]
[null,"Opomba: pred izvedbo preveriti oz. uskladiti višino komore z dobavljenim lamelnim stropom"]
[]
[9,"Indukcijski  linijski  difuzor  za dovod zraka v prostor"]
[null,"za energijsko varčno distribucijo zraka za direktno vgradnjo v kanal, vpihovalna maska, montažni material "]
[]
[null,null,null,null,null,{"$f":"D1227*E1227","v":0}]
[null,"tip LD 14/1, dolžina 2,0 m (V=360 n3/h)","kos",12,null,{"$f":"+E1228*D1228","v":0},{"$f":"+E1228*MM","v":0},{"$f":"+G1228*D1228","v":0},{"$f":"+E1228-G1228","v":0},{"$f":"+I1228*D1228","v":0}]
[]
[10,"Dovodno-odvodni difuzor Indulclip ZA"]
[null,"za energijsko varčno distribucijo zraka z minimalnim kratkim stikom med dovedenim in odvedenim zrakom. Zaradi visoke indukcije je možno doseganje visokega udobja bivanja pri vpihovanju zraka s temperaturno razliko med temperaturo prostora in vpihanim zrak"]
[null,"Tip INDULCLIP 600 ZA"]
[null,"Dimenzija čelne plošče 598 mm x 598 mm"]
[null,"Višina komore 335 mm"]
[null,"Tlorisna dimenzija komore 570 mm x 570 mm"]
[null,"Zakrivljen spodnji rob komore navzven širine 12 mm"]
[null,"Kanalska priključka premera 198 mm"]
[null,"Hitrost zraka v bivalni coni pod 0,17 m/s"]
[null,"Zvočni tlak v bivalni coni pod 35 dB(A)"]
[null,"Vd /Vo = 360 / 300-360 m3/h"]
[null,"komplet","kos",14,null,{"$f":"+E1241*D1241","v":0},{"$f":"+E1241*MM","v":0},{"$f":"+G1241*D1241","v":0},{"$f":"+E1241-G1241","v":0},{"$f":"+I1241*D1241","v":0}]
[]
[11,"Stropni vrtinčni difuzor za dovod zraka, vključno priključna komora, vpihovalna maska, stranski priključek z regulacijsko loputo ter montažnim materialom "]
[null,"OD-8/S/K-vel.600/24 (V=400 m3/h)","kos",2,null,{"$f":"+E1244*D1244","v":0},{"$f":"+E1244*MM","v":0},{"$f":"+G1244*D1244","v":0},{"$f":"+E1244-G1244","v":0},{"$f":"+I1244*D1244","v":0}]
[]
[12,"Distribucijski elementi za zrak, vključno protiokvirji in montažni material:"]
[null,"AR – 1/F, B x H = 325 x 75","kos ",1,null,{"$f":"+E1247*D1247","v":0},{"$f":"+E1247*MM","v":0},{"$f":"+G1247*D1247","v":0},{"$f":"+E1247-G1247","v":0},{"$f":"+I1247*D1247","v":0}]
[null,"AR – 1/F, B x H = 825 x 75","kos ",18,null,0,0,0,0,0]
[null,"AR – 1/F, B x H = 1025 x 75","kos ",2,null,0,0,0,0,0]
[null,"AR – 1/F, B x H = 325 x 125","kos",1,null,0,0,0,0,0]
[null,"AR – 1/F, B x H = 325 x 225","kos",1,null,0,0,0,0,0]
[null,"AR – 1/F, B x H = 525 x 225","kos",3,null,0,0,0,0,0]
[null,"PV – 1/100","kos",31,null,0,0,0,0,0]
[null,"PV – 1/125","kos",4,null,0,0,0,0,0]
[null,"PV – 2/100","kos",2,null,0,0,0,0,0]
[null,"PV – 2/125","kos",4,null,0,0,0,0,0]
[null,"AR – 4/P, B x H = 625 x 125 (izrnačevalone rešetke)","kos",9,null,0,0,0,0,0]
[null,"AR – 4/P, B x H = 625 x 225","kos",7,null,0,0,0,0,0]
[]
[13,"Distribucijski elementi za zrak, vključno protiokvirji in montažni material ter priključna komora s stranskim priključkom"]
[null,"AR – 1/F, B x H = 425 x 225","kos ",8,null,{"$f":"+E1261*D1261","v":0},{"$f":"+E1261*MM","v":0},{"$f":"+G1261*D1261","v":0},{"$f":"+E1261-G1261","v":0},{"$f":"+I1261*D1261","v":0}]
[]
[14,"Zaporne lopute z vzmetnim EM pogonom 230 V in povezavo na CNS, stikalom ON-OFF; za vgradnjo v kanal "]
[null," ZL - 600 x 200 mm","kos",6,null,{"$f":"+E1264*D1264","v":0},{"$f":"+E1264*MM","v":0},{"$f":"+G1264*D1264","v":0},{"$f":"+E1264-G1264","v":0},{"$f":"+I1264*D1264","v":0}]
[]
[15,"Požarne lopute za vgradnjo v kanal s požarno odpornostjo 90 min, z motornim pogonom 230 V, za odpiranje/zapiranje in termičnim prožilom 72stC, mejnim stikalom zaprto/odprto ter povezavo na požarno centralo. Požarna loputa mora ustrezati EN SIST 1366-2. Vključno montažni material in predpisani ognjevarni tesnilni material za vgradnjo v steno ali strop."]
[null,"kot  PL–20–K90 / E6 /  dim. fi 250","kos",2,null,{"$f":"+E1267*D1267","v":0},{"$f":"+E1267*MM","v":0},{"$f":"+G1267*D1267","v":0},{"$f":"+E1267-G1267","v":0},{"$f":"+I1267*D1267","v":0}]
[]
[16,"Pravokotni kanali iz pocinkane pločevine po SIST-EN, vključno s fazonskimi komadi, prirobnicami, tesnilnim, pritrdilnim  materialom za tlake do 1000 Pa, z zahtevano tesnostjo razreda A po SIST EN 1507 za pravokotne kanale. Kanali so vzdolžno zarobljeni, spajajo se s prirobnicami, opremljeni so z vodilnimi usmerniki v lokih, regulacijskimi loputami na odcepih ter so diagonalno bočno izbočeni pri večjih dimenzijah. Debelina pločevine po DIN 24190 / F10.   Vključno spojni in vezni material ter tesnilni material na prehodih skozi stene."]
[null,"Min. debelina pločevine glede na nazivno dimenzijo:"]
[null,"100 - 500 mm = 0,6 mm"]
[null,"501 - 1000 mm = 0,8 mm"]
[null,"1001 - 2000 mm = 1,0 mm"]
[null,"skupaj","kg",2830,null,{"$f":"+E1274*D1274","v":0},{"$f":"+E1274*MM","v":0},{"$f":"+G1274*D1274","v":0},{"$f":"+E1274-G1274","v":0},{"$f":"+I1274*D1274","v":0}]
[]
[17,"Okrogli kanali iz pocinkane pločevine po SIST-EN (kot spiro), vključno s fazonskimi komadi,  tesnilnim, pritrdilnim  materialom za tlake do 1000 Pa, z zahtevano tesnostjo razreda A po SIST EN 12237 za okrogle kanale. Debelina pločevine po DIN 24190 / F10.  Vključno spojni in vezni material ter tesnilni materila na prehodih skozi stene."]
[null,"f 100 mm","m ",55,null,{"$f":"+E1277*D1277","v":0},{"$f":"+E1277*MM","v":0},{"$f":"+G1277*D1277","v":0},{"$f":"+E1277-G1277","v":0},{"$f":"+I1277*D1277","v":0}]
[null,"f 125 mm","m ",48,null,0,0,0,0,0]
[null,"f 160 mm","m ",8,null,0,0,0,0,0]
[null,"f 180 mm","m ",22,null,0,0,0,0,0]
[null,"f 200 mm","m ",30,null,0,0,0,0,0]
[null,"f 250 mm","m ",46,null,0,0,0,0,0]
[null,"f 355 mm","m ",14,null,0,0,0,0,0]
[null,"f 500 mm","m ",22,null,0,0,0,0,0]
[]
[18,"Fleksibilni kanali s toplotno in zvočno izolacijo debeline 25 mm. Toplotna izolacija mora biti  z zaprto celično strukturo, vključno spojni in montažni material; kot SONODEC"]
[null,"f 100 mm","m ",8,null,{"$f":"+E1287*D1287","v":0},{"$f":"+E1287*MM","v":0},{"$f":"+G1287*D1287","v":0},{"$f":"+E1287-G1287","v":0},{"$f":"+I1287*D1287","v":0}]
[null,"f 125 mm","m ",6,null,0,0,0,0,0]
[null,"f 150 mm","m ",16,null,0,0,0,0,0]
[null,"f 160 mm","m ",6,null,0,0,0,0,0]
[null,"f 200 mm","m ",42,null,0,0,0,0,0]
[null,"f 250 mm","m ",18,null,0,0,0,0,0]
[]
[19,"Toplotno izolacijske samolepilne plošče, z zaprto celično strukturo, difuzijsko odpornostjo µ > 5000, toplotno pevodnostjo λ <  0,038 W/mK (pri 20 ºC) in kvaliteto požarne odpornosti najmanj B1, vključno spojni in montažni material"]
[null,"debeline 19 mm (dovod sistema v ogrevanih prostorih)","m2 ",196,null,{"$f":"+E1295*D1295","v":0},{"$f":"+E1295*MM","v":0},{"$f":"+G1295*D1295","v":0},{"$f":"+E1295-G1295","v":0},{"$f":"+I1295*D1295","v":0}]
[null,"debeline 9 mm (odvod sistema v ogrevanih prostorih)","m2 ",178,null,{"$f":"+E1296*D1296","v":0},{"$f":"+E1296*MM","v":0},{"$f":"+G1296*D1296","v":0},{"$f":"+E1296-G1296","v":0},{"$f":"+I1296*D1296","v":0}]
[]
[20,"Toplotno izolacijske samolepilne plošče, z zaprto celično strukturo, difuzijsko odpornostjo µ > 5000, toplotno pevodnostjo λ <  0,038 W/mK (pri 20 ºC) in kvaliteto požarne odpornosti najmanj B1, vključno spojni in montažni material ter plašč iz Al-pločevine"]
[null,"debeline 50 mm (na strehi)","m2 ",32,null,{"$f":"+E1299*D1299","v":0},{"$f":"+E1299*MM","v":0},{"$f":"+G1299*D1299","v":0},{"$f":"+E1299-G1299","v":0},{"$f":"+I1299*D1299","v":0}]
[]
[21,"Regulacijske lopute (RL) za nastavitev pretokov zraka, z ročico za nastavitev lege, za vgradnjo v glavne odcepe v etažah (pravokotne ali okrogle)"]
[null,"250 x 200 mm","kos",1,null,{"$f":"+E1302*D1302","v":0},{"$f":"+E1302*MM","v":0},{"$f":"+G1302*D1302","v":0},{"$f":"+E1302-G1302","v":0},{"$f":"+I1302*D1302","v":0}]
[null,"350 x 200 mm","kos",1,null,{"$f":"+E1303*D1303","v":0},{"$f":"+E1303*MM","v":0},{"$f":"+G1303*D1303","v":0},{"$f":"+E1303-G1303","v":0},{"$f":"+I1303*D1303","v":0}]
[null,"450 x 200 mm","kos",2,null,{"$f":"+E1304*D1304","v":0},{"$f":"+E1304*MM","v":0},{"$f":"+G1304*D1304","v":0},{"$f":"+E1304-G1304","v":0},{"$f":"+I1304*D1304","v":0}]
[null,"600 x 200 mm","kos",6,null,{"$f":"+E1305*D1305","v":0},{"$f":"+E1305*MM","v":0},{"$f":"+G1305*D1305","v":0},{"$f":"+E1305-G1305","v":0},{"$f":"+I1305*D1305","v":0}]
[null,"fi 355 mm","kos",2,null,{"$f":"+E1306*D1306","v":0},{"$f":"+E1306*MM","v":0},{"$f":"+G1306*D1306","v":0},{"$f":"+E1306-G1306","v":0},{"$f":"+I1306*D1306","v":0}]
[]
[22,"Strešna kapa za odvode prezračevanja, vključno zaščitne rešetke pri pravokotnih izpuhih, pomožni in spojni material ter barva po izbiri arhitekta"]
[null,"dim. cca 400 x 150 mm; višina 0,8 m","kpl",1,null,{"$f":"+E1309*D1309","v":0},{"$f":"+E1309*MM","v":0},{"$f":"+G1309*D1309","v":0},{"$f":"+E1309-G1309","v":0},{"$f":"+I1309*D1309","v":0}]
[]
[23,"Aluminijaste zaščitne rešetke za zrak  kot:"]
[null,"AZR- 4, B1 x H1 = 500 x 100","kos",1,null,{"$f":"+E1312*D1312","v":0},{"$f":"+E1312*MM","v":0},{"$f":"+G1312*D1312","v":0},{"$f":"+E1312-G1312","v":0},{"$f":"+I1312*D1312","v":0}]
[null,"OZR, fi 400 mm","kos",2,null,{"$f":"+E1313*D1313","v":0},{"$f":"+E1313*MM","v":0},{"$f":"+G1313*D1313","v":0},{"$f":"+E1313-G1313","v":0},{"$f":"+I1313*D1313","v":0}]
[]
[24,"Pokrovi za revizijske odprtine za pravokotne in okrogle kanale iz pocinkane pločevine, v skladu z EN 13779"]
[null,"cca 200 x 100   ","kos",24,null,{"$f":"+E1316*D1316","v":0},{"$f":"+E1316*MM","v":0},{"$f":"+G1316*D1316","v":0},{"$f":"+E1316-G1316","v":0},{"$f":"+I1316*D1316","v":0}]
[]
[25,"Pomožni jekleni material, protikorozijsko zaščiten, vključno montažni material"]
[null,"komplet","kg",850,null,{"$f":"+E1319*D1319","v":0},{"$f":"+E1319*MM","v":0},{"$f":"+G1319*D1319","v":0},{"$f":"+E1319-G1319","v":0},{"$f":"+I1319*D1319","v":0}]
[]
[26,"Pripravljalna dela, zarisovanje, vregulacija in nastavitev sistemov, atesti, zaključna dela, funkcionalna preizkušnja, zaključna poročila, zagon naprav, meritev količin (pretoki) in hrupa v prostorih"]
[null,"Komplet","kos",1,null,{"$f":"+E1322*D1322","v":0},{"$f":"+E1322*MM","v":0},{"$f":"+G1322*D1322","v":0},{"$f":"+E1322-G1322","v":0},{"$f":"+I1322*D1322","v":0}]
[]
[27,"Transportni in splošni stroški","kpl",1,null,{"$f":"+E1324*D1324","v":0},{"$f":"+E1324*MM","v":0},{"$f":"+G1324*D1324","v":0},{"$f":"+E1324-G1324","v":0},{"$f":"+I1324*D1324","v":0}]
[null,"SKUPAJ:",null,null,null,{"$f":"SUM(F730:F1324)","v":0},null,{"$f":"SUM(H730:H1324)","v":0},null,{"$f":"SUM(J730:J1324)","v":0}]
[]
[]
["6","KOMPRESORSKE-KONDENZATORSKE ENOTE  (toplotne črpalke)"]
[]
[1,"Zunanja kompresorsko-kondenzatorska enota, toplotna črpalka z variabilno količino hladiva (VRF) tipa ERQ, predvidena za ogrevanje in hlajenje zraka v prezračevalni napravi, z okolju prijaznim hladilnim sredstvom R410A:"]
[null,"Naprava, ter proizvajalec naprave, sta certificirana po glavnih in priznanih standardih in smernicah in s tem zagotavljata ustrezen nivo kvalitete in skladnost z EU zakonodajo (CE, Eurovent, ISO9001, ISO14001, ipd.)"]
[null,"Naprava je primerna za zunanjo postavitev, grajena iz ohišja iz pocinkane pločevine, dodatno prašno barvanega (poliestersko termalno, debelina nanosa min. 70μ)."]
[null,"Enota je zračno hlajenja, sestavljena iz izmenjevalnika iz aluminijastih lamel, navlečenih na bakrene cevi. Aluminijaste lamele so dodatno prevlečene s plastjo posebnega akrilnega in hidrofilskega premaza, ki zagotavlja dolgo življensko dobo ob visoki odpornosti na atmosfersko korozijo (kisli dež, sol)."]
[null,"Naprava kot celota je opremljena z večimi spiralnimi hermetičnimi kompresorji (1 ali 2, odvisno od tipa naprave), od katerih je vsaj eden popolnoma brezkoračno krmiljen (INVERTER motor), za zagotavljanje natančnega prilagajanja potrebam po hladilni ali ogrevni moči. Preostali kompresorji so stopenjski (ON/OFF). Naprava omogoča obratovanje tudi v primeru, če je kateri od kompresorjev v okvari (ti, \"emergency operation\"). Vsi kompresorji so zvočno izolirani in opremljeni z električnimi grelniki karterja olja."]
[null,"Za odvod kondenzacijske toplote je predviden visokoučinkoviti aksialni ventilator z DC INVERTER motorjem (brezkoračna regulacija), ki se prilagaja dejanskim potrebam kondenzatorja oz. uparjalnika. Naprava je v komplet sestavljena še z vsemi potrebnimi cevnimi in električnimi povezavami, mikroprocesorskim krmiljem, oljnim separatorjem, sesalnim akumulatorjem, tipala za visoki in nizki tlak, zaščitni termostati, varovalke, fazne zaščite, zaščite proti preobremenitvi kompresorjev, termične zaščite, tekočinske in plinske zaporne ventile, magnetne ventile in vso potrebno senzoriko in krmije za varno, neprekinjeno in zanesljivo delovanje."]
[null,"Freonskemu sistemu naprave je prigrajen hidro modul za pripravo tople ali hladne vode."]
[null,"Območja delovanja:"]
[null,"- Hlajenje: \nzunanja temperatura od -5°C do +46°C\ntemperatura pred izmenjevalcem od 15°C do +30°C"]
[null,"- Ogrevanje: \nzunanja temperatura od -20°C do +25°C\ntemperatura pred izmenjevalcem od 10°C do +25°C"]
[]
["1.1.","KKE za naprave KN2 in KN3"]
[null,"NOMINALNI TEHNIČNI PODATKI:"]
[null,"- hladilna zmogljivost Qh = 14,0 kW"]
[null,"- grelna zmogljivost Qg = 16,0 kW"]
[null,"- priključna električna moč - hlajenje Pel = 3,52 kW"]
[null,"- priključna električna moč - ogrevanje Pel = 4,00 kW"]
[null,"- faktor učinkovitosti - hlajenje EER: > 3.98"]
[null,"- faktor učinkovitosti - ogrevanje COP: > 4.00"]
[null,"- maksimalni električni tok (MCA) = 11,9 A, 3~, 400V/50Hz"]
[null,"- zvočni tlak 1m od naprave in 1,5m od tal = 54 dB(A)"]
[null,"- teža = 159 kg"]
[null,"- dimenzije (ŠxVšG) 635 x 1.680 x 765 mm     "]
[null,"Ustreza npr.:"]
[null,"Proizvajalec: DAIKIN (Procool d.o.o.)"]
[null,"Tip: ERQ125AW1","kpl",2,null,{"$f":"+E1355*D1355","v":0},{"$f":"+E1355*MM","v":0},{"$f":"+G1355*D1355","v":0},{"$f":"+E1355-G1355","v":0},{"$f":"+I1355*D1355","v":0}]
[]
["1.2.","KKE za napravo KN1"]
[null,"NOMINALNI TEHNIČNI PODATKI:"]
[null,"- hladilna zmogljivost Qh = 28,0 kW"]
[null,"- grelna zmogljivost Qg = 31,5 kW"]
[null,"- priključna električna moč - hlajenje Pel = 7,42 kW"]
[null,"- priključna električna moč - ogrevanje Pel = 7,70 kW"]
[null,"- faktor učinkovitosti - hlajenje EER: > 3.77"]
[null,"- faktor učinkovitosti - ogrevanje COP: > 4.09"]
[null,"- maksimalni električni tok (MCA) = 21,3 A, 3~, 400V/50Hz"]
[null,"- zvočni tlak 1m od naprave in 1,5m od tal = 58 dB(A)"]
[null,"- teža = 240 kg"]
[null,"- dimenzije (ŠxVšG) 930 x 1.680 x 765 mm     "]
[null,"Ustreza npr.:"]
[null,"Proizvajalec: DAIKIN (Procool d.o.o.)"]
[null,"Tip: ERQ250AW1","kpl",2,null,{"$f":"+E1371*D1371","v":0},{"$f":"+E1371*MM","v":0},{"$f":"+G1371*D1371","v":0},{"$f":"+E1371-G1371","v":0},{"$f":"+I1371*D1371","v":0}]
[]
[null,"OPOMBA: v primeru predvidene projektne rešitve so potrebni DX kompleti (EEV, krmilje, ipd.) za vzpostavitev funkcije zajeti v popisu prezračevalnih naprav (tudi fizično tovarniško vgrajeni in ožičeni). V primeru dobave tretje enakovredne naprave je potrebno pozicije nuditi posebej, upoštevati montažo, kabliranje, ipd."]
[]
[2,"Cevovodi iz bakrenih cevi za povezavo hladilnih naprav po navodilih proizvajalca, s tovarniško (manjše dimenzije) ali dodatno izolacijo (večje dimenzije), po EN 12735-1, trdo spojeni v atmosferi z uporabo zaščitnega plina (dušik - N2), vključno s fitingi, tesnilnim in dodajnim materialom, zunaj objekta z dodatno UV in fizično zaščito (proti direktnemu sončnemu obsevanju in fizičnim poškodbam izolacije), ustreznih dimenzij:"]
[null,"*bakrene povezave in izvedba le-teh med zunanjo in notranjimi enotami morajo biti v skladu z navodili in shemami proizvajalca oz. dobavitelja opreme. Ustrezati morajo vsem dolžinskim omejitvam in po končani montaži ustrezno preverjena, očiščena in zvakuumirana.."]
[null,"zunanji premer R 3/8 (9,52 mm)","m",54,null,{"$f":"+E1377*D1377","v":0},{"$f":"+E1377*MM","v":0},{"$f":"+G1377*D1377","v":0},{"$f":"+E1377-G1377","v":0},{"$f":"+I1377*D1377","v":0}]
[null,"zunanji premer R 5/8 (15,88 mm)","m",18,null,{"$f":"+E1378*D1378","v":0},{"$f":"+E1378*MM","v":0},{"$f":"+G1378*D1378","v":0},{"$f":"+E1378-G1378","v":0},{"$f":"+I1378*D1378","v":0}]
[null,"zunanji premer R 1 (22,22 mm)","m",38,null,{"$f":"+E1379*D1379","v":0},{"$f":"+E1379*MM","v":0},{"$f":"+G1379*D1379","v":0},{"$f":"+E1379-G1379","v":0},{"$f":"+I1379*D1379","v":0}]
[]
[3,"Zaščita bakrenih cevovodov (par bakrenih cevi s tovarniško izolacijo) izven objekta, oplaščeno z aluminijastim (Alu) oklepom, za zaščito instalacije pred fizičnimi poškodbami in direktnim sončnim sevanjem (UV zaščita)"]
[null,"ali podobno","kpl",2,null,{"$f":"+E1382*D1382","v":0},{"$f":"+E1382*MM","v":0},{"$f":"+G1382*D1382","v":0},{"$f":"+E1382-G1382","v":0},{"$f":"+I1382*D1382","v":0}]
[]
[4,"Pritrdilni material za montažo sistema ogrevanja in hlajenja, vključno s pritrdilnimi trakovi, profili, navojnimi palicami, podložkami, maticami, ipd. potrebnimi za montažo enot in bakrene instalacije sistema"]
[null,"ali podobno","kg",40,null,{"$f":"+E1385*D1385","v":0},{"$f":"+E1385*MM","v":0},{"$f":"+G1385*D1385","v":0},{"$f":"+E1385-G1385","v":0},{"$f":"+I1385*D1385","v":0}]
[]
[5,"Dobava in montaža signalnih kablov v zaščitnem opletu (pogojno brez, z zagotovitvijo minimalnih razdalj do bližnjih energetskih kablov) za povezavo med zunanjimi in notranjimi enotami"]
[null,"- 2 x 0,75mm2 oklopljen kabel za signal oz. komunikacijo","m",52,null,{"$f":"+E1388*D1388","v":0},{"$f":"+E1388*MM","v":0},{"$f":"+G1388*D1388","v":0},{"$f":"+E1388-G1388","v":0},{"$f":"+I1388*D1388","v":0}]
[null,"- 2 x 0,75mm2 oklopljen kabel za preklop OGR/HL","m",52,null,{"$f":"+E1389*D1389","v":0},{"$f":"+E1389*MM","v":0},{"$f":"+G1389*D1389","v":0},{"$f":"+E1389-G1389","v":0},{"$f":"+I1389*D1389","v":0}]
[]
[6,"Po končani montaži tlačni preizkus instalacije (dušik, N2 - 24ur, 40bar), izdaja zapisnika, vakuumiranje instalacije, ter morebitno dodatno polnjenje sistema s hladilnim sredstvom (R410a, predvideno cca. 2kg)"]
[null,"skladno z navodili proizvajalca","kpl",2,null,{"$f":"+E1392*D1392","v":0},{"$f":"+E1392*MM","v":0},{"$f":"+G1392*D1392","v":0},{"$f":"+E1392-G1392","v":0},{"$f":"+I1392*D1392","v":0}]
[]
[7,"Zagon pooblaščenega izvajalca, poizkusno obratovanje sistema, poučevanje uporabnika, predaja dokumentacije in zapisnikov VRF sistema"]
[null,"skladno z navodili proizvajalca","kpl",2,null,{"$f":"+E1395*D1395","v":0},{"$f":"+E1395*MM","v":0},{"$f":"+G1395*D1395","v":0},{"$f":"+E1395-G1395","v":0},{"$f":"+I1395*D1395","v":0}]
[]
["8","Transportni in ostali splošni  stroški","kpl",1,null,{"$f":"+E1397*D1397","v":0},{"$f":"+E1397*MM","v":0},{"$f":"+G1397*D1397","v":0},{"$f":"+E1397-G1397","v":0},{"$f":"+I1397*D1397","v":0}]
[null,"SKUPAJ",null,null,null,{"$f":"SUM(F1355:F1397)","v":0},null,{"$f":"SUM(H1355:H1397)","v":0},null,{"$f":"SUM(J1355:J1397)","v":0}]
[]
[]
["7","LOKALNO  HLAJENJE - VRV SISTEM"]
[]
[1,"Sistem zunanje (ali več zunanjih) in večih notranjih enot, v ti. \"VRV\" izvedbi, za ogrevanje in hlajenje prostor."]
[null,"Sistem deluje z ekološkim hladilnim sredstvom R410a."]
[null,"Sistem je toplotna črpalka, ki deluje na principu spremenljive količine hladilnega sredstva, z modulacijo vrtljajev brezstopenjsko vodenih kompresorjev in se s tem popolnoma prilagaja potrebam objekta (notranje enote sistema). Omogoča ogrevanje ali hlajenje sistema kot celote."]
[null,"Sistem, ter proizvajalec sistema, sta certificirana po glavnih in priznanih standardih in smernicah in s tem zagotavljata ustrezen nivo kvalitete in skladnost z EU zakonodajo (CE, Eurovent, ISO9001, ISO14001, ipd.)"]
[null,"Oprema je v tovarni pred odpremo popolnoma testirana skladno z njeno uporabo ter zakoni in smernicami v EU (tlačna trdnost >38bar, elektronski test morebitnega puščanja hladiva, vakuumski test do 2 torr, električni \"šok\" testi, ipd.)."]
[null,"Zunanja enota je primerna za zunanjo postavitev, grajena iz ohišja iz nerjavne pločevine, dodatno prašno barvanega (poliestersko termalno, debelina nanosa min. 70μ)."]
[null,"Enota je zračno hlajenja, sestavljena iz izmenjevalnika iz aluminijastih lamel, navlečenih na bakrene cevi. Aluminijaste lamele so dodatno prevlečene s plastjo posebnega akrilnega in hidrofilskega premaza, ki zagotavlja dolgo življensko dobo ob visoki odpornosti na atmosfersko korozijo (kisli dež, sol)."]
[null,"Sistem kot celota je lahko sestavljen iz ene ali več zunanjih enot, vsaka pa je opremljena z večimi spiralnimi hermetičnimi kompresorji, vsi popolnoma brezkoračno krmiljeni (INVERTER motor), za zagotavljanje natančnega prilagajanja potrebam po hladilni ali ogrevni moči. Naprava omogoča obratovanje tudi v primeru, če je kateri od kompresorjev v okvari (ti, \"emergency operation\"). Vsi kompresorji so zvočno izolirani."]
[null,"Za odvod kondenzacijske toplote so predvideni (eden ali več) visokoučinkoviti aksialni ventilatorji z DC INVERTER motorjem (brezkoračna regulacija), ki se prilagajajo dejanskim potrebam kondenzatorja oz. uparjalnika."]
[null,"Ventilatorji imajo možnost povišanega zunanjega statičnega tlaka, z ustreznimi nastavitvami vse do 80Pa. Vsak ventilator je lahko nastavljen posebej."]
[null,"Izpih zraka je lahko, odvisno od izvedbe naprave, vertikalni ali horizontalni."]
[null,"Naprava je v komplet sestavljena še z vsemi potrebnimi cevnimi in električnimi povezavami, mikroprocesorskim krmiljem, elektronskim ekspanzijskim ventilom, oljnim separatorjem, sesalnim akumulatorjem, tipala za visoki in nizki tlak, zaščitni termostati, varovalke, fazne zaščite, zaščite proti preobremenitvi kompresorjev, termične zaščite, tekočinske in plinske zaporne ventile, magnetne ventile in vso potrebno senzoriko in krmije za varno, neprekinjeno in zanesljivo delovanje."]
[null,"Glavne varnostne funkcije sistema so predvsem nemoteno in zanesljivo odtaljevanje ter vračanje olja kompresorja."]
[null,"Notranje enote so z zunanjimi enotami povezana z ustreznimi bakrenimi cevmi ustreznih dimenzij. Cevi morajo biti primerne za uporabo v hladilništvu, vsi lotani spoji morajo biti izvedeni v atmosferi zaščitnega plina (dušik - N2), po končani montaži očiščene, razmaščene in zvakuumirane, skladno z navodili proizvajalca."]
[null,"Med notranjimi in zunanjimi enotami je izvedena še ustrezna komunikacijska povezava, s kablom skladno z navodili proizvajalca, z opletom ali brez, ustreznimi odmiki od morebitnih energetskih in ostalih vodnikov v objektu, ter zaporedno priključena na posamezne enote sistema."]
[null,"Regulacija temperatur je standardno vremensko in obremenitveno vodena (kombinacija zunanjih in notranjih pogojev)."]
[null,"Sistem mora standardno omogočati ti. VRT ali \"Variabile Refrigerant Temperature\" regulacijo temperature hladilnega sredstva. Sistem na podlagi obremenitev objekta in notranjih pogojev samodejno uravnava (dviga ali spušča) temperaturo uparjanja ali kondenzacije sistema in s tem še dodatno poviša sezonsko učinkovitost sistema, vse skladno z zadnjimi evropskimi ErP direktivami."]
[null,"Obenem sistem omogoča (v kolikor aplikacija to zahteva) fiksne temperature uparjanja in kondenzacije."]
[null,"Opisana regulacija sistema istočasno omogoča različne načine obratovanja ob hladnih ali vročih zagonih sistema - npr.: hitro ogretje prostora, ter nato znižanje temperature za najvišjo možno sezonsko učinkovitost, ali obratno, počasno začetno ogrevanje ali hlajenje in zelo visoko sezonsko učinkovitost že v začetni fazi obratovanja."]
[null,"Vsi parametri so enostavno dosegljivi in nastavljivi pooblaščenemu serviserju na zunanji enoti sistema, preko LCD posluževalnega tabloja ali PC orodja."]
[null,"Nominalni tehnični podatki:"]
[null,"Hladilna moč: 22.4kW (Tin=27°CDB/19°CWB @ Tz=+35°C, Linst=7,5m)"]
[null,"SEER: 6.3"]
[null,"Faktor sezonske učinkovitosti hlajenja ηs,c: 247.3%"]
[null,"Ogrevalna moč: 25.0kW (Tin=20°CDB @ Tz=7°CDB/6°CWB, Linst=7,5m)"]
[null,"SCOP: 4.2"]
[null,"Faktor sezonske učinkovitosti ogrevanja ηs,h: 165.8% (povprečna klima)"]
[null,"Dejanski projektni podatki (upoštevajoč notranje temp., dolžine instalacije, višinsko razliko, ipd.):"]
[null,"Hladilna moč: min. 21.5kW (Tin=25°CDB/55%RH @ Tz=+35°C, Linst=po dejanski shemi sistema)"]
[null,"Fizični podatki:"]
[null,"Št. kompresorjev: 1"]
[null,"Nominalni obratovalni tok: 9.6A"]
[null,"Maksimalni obratovalni tok (MCA): 18.5A"]
[null,"Priporočeno varovanje enote: 25A"]
[null,"Električno napajanje sistema: 3~, 400V/50Hz"]
[null,"Območje delovanja - ogrevanje: od -20°C do +15.5°C"]
[null,"Območje delovanja - hlajenje: od -5°C do +52°C"]
[null,"Hladilno sredstvo: R410a"]
[null,"Količina hladilnega sredstva v zunanji enoti: 5.5 kg"]
[null,"Dimenzije (V x Š x G): 1.430 x 940 x 320 mm"]
[null,"Teža: 144 kg"]
[null,"Zvočna moč: 73.0 dB(A) (po ISO 3744)"]
[null,"Zvočni tlak (@1m od enote, @1,5m od tal): 55 dB(A)"]
[null,"Freonski priključki: Cu 9.52/19.1 mm"]
[null,"Ustreza na primer:"]
[null,"Proizvajalec: DAIKIN"]
[null,"Tip: RXYSQ8TY1","kpl",1,null,{"$f":"+E1449*D1449","v":0},{"$f":"+E1449*MM","v":0},{"$f":"+G1449*D1449","v":0},{"$f":"+E1449-G1449","v":0},{"$f":"+I1449*D1449","v":0}]
[]
[2,"Notranja kasetna enota, za vgradnjo v spuščeni strop (ali vidno pod strop), s stilsko dekorativno masko, z zajemom zraka iz spodnje strani ter vpihom v vseh smereh (okroglo, v vse smeri - 360°). Lopute za izpih zraka so avtomatizirane in jih je dovoljeno tudi zapreti."]
[null,"Ohišje enote (skriti del) je iz panelov iz pocinkane pločevine, ustrezno protikondenčno in toplotno izolirano. Je \"slim\" izvedbe, z višino ohišja od 204 mm do maksimalno 288 mm (odvisno od kapacitete enote)."]
[null,"Dekorativni panel iz toge ABS plastike, stilske izvedbe, ustrezno protikondenčno in toplotno izolirano, zunanji, vidni del, pa je dodatno prašno barvano, v beli barvi z opcijo sive barve lamel (po izbiri arhitekta)."]
[null,"Izmenjevalnik toplote je iz bakrenih cevi in nanje navlečenih aluminijastih lamel. Izmenjevalnik je standardno opremljen z elektronskim ekspanzijskim ventilom (EEV), ki preko ustrezne PID krmilne logike krmilnika, kontrolira pretok hladilnega sredstva čez izmenjevalnik."]
[null,"Ventilator je ti. \"Multi Blade\" centrifugalni, z več lopaticami, z dvojnim sesanjem, statično in dinamično balansiran za nizki hrup in maksimalni izkoristek. Motor ventilatorja je brezkrtačni DC brezstopenjski (inverter)."]
[null,"Na zajemu zraka je nameščen pralni sintetični \"long-life\" filter (filter za dolgo življensko dobo)."]
[null,"Pod enoto je nameščeno korito za zbiranje kondenzata z odprtino za namestitev kondenzne cevi. V enoti je standardno vgrajena črpalka za odvod kondenzata, s tlačno višino min. 850mm."]
[null,"Enota lahko deluje z žičnim ali brezžičnim daljinskim upravljalnikom, na razpolago pa so mnoge druge opcije krmilja in kontrole (oddaljena tipala, CNS vmesniki, lokalni krmilniki, ipd.)"]
[]
[null,"Nominalni tehnični podatki:"]
[null,"Hladilna moč: 5.6kW"]
[null,"Ogrevalna moč: 6.3kW"]
[null,"Električna priključna moč: 53W"]
[null,"Maksimalni obratovalni tok (MCA): 0.4A"]
[null,"Električno napajanje sistema: 1~, 230V/50Hz"]
[null,"Pretok zraka ventilatorja (min/med/maks): 10.5 / 12.8 / 15 m3/min"]
[null,"Primerna za hladilno sredstvo: R410a"]
[null,"Dimenzije enote (V x Š x G): 204 x 840 x 840 mm"]
[null,"Dimenzije dekorativnega panela (V x Š x G): 50 x 950 x 950 mm"]
[null,"Teža enote: 21 kg"]
[null,"Teža dekorativnega panela: 5.4 kg"]
[null,"Zvočna moč: 51 dB(A) (po ISO 3744)"]
[null,"Zvočni tlak (min/med/maks)**: 29 / 31 / 33 dB(A)"]
[null,"** 1,5m od enote in 1,5m od tal"]
[null,"Freonski priključki: Cu 6.35/12.70 mm"]
[null,"Ustreza na primer:"]
[null,"Proizvajalec: DAIKIN"]
[null,"Tip: FXFQ50B","kpl",5,null,{"$f":"+E1478*D1478","v":0},{"$f":"+E1478*MM","v":0},{"$f":"+G1478*D1478","v":0},{"$f":"+E1478-G1478","v":0},{"$f":"+I1478*D1478","v":0}]
[]
[3,"Lokalni, brezžični daljinski upravljalnik, z LCD displejem. Krmilnik lahko krmili več notranjih enot."]
[null,"Na krmilniku naj so na razpolago glavne informacije nastavitev sistema (temp., venti., ipd.)."]
[null,"Osnovne funkcije krmilnika so vklop in izklop enote, nastavitev želene temperature v prostoru, režim obratovanja sistema ali enote, nastavitve izpiha zraka (kontrola loput enot, kjer je to možno). Napredne funkcije, kot so urniki, različni dnevni in nočni režimi obratovanja, varčevanje z energijo, ipd., so na razpolago preko aplikacije na pametnih napravah in Bluetooth povezave."]
[null,"Ustreza na primer:"]
[null,"Proizvajalec: DAIKIN"]
[null,"Tip: BRC7FA532F","kpl",2,null,{"$f":"+E1485*D1485","v":0},{"$f":"+E1485*MM","v":0},{"$f":"+G1485*D1485","v":0},{"$f":"+E1485-G1485","v":0},{"$f":"+I1485*D1485","v":0}]
[]
[4,"Vmesniki za povezavo notranjih enot VRF sistema na centralno nadzorni sistem (CNS) objekta"]
[null,"Vmesniki naj omogočajo kontrolo in krmiljenje enot sistema, s popolnoma enakimi (vsemi) funkcijami, kot je to možno z žičnimi in brezžžičnimi krmilniki predvidenega VRF sistema"]
[null,"Vmesnik je predviden za integracijo po ModBus RTU (RS485) protokolu."]
[null,"Zraven standardne komunikacije naj vmesnik omogoča tudi manipulacijo z enotami preko digitalnih vhodov, ter relejnimi izhodi (informacije, alarmiranje, ipd.)"]
[null,"Ustreza na primer:"]
[null,"Proizvajalec: DAIKIN"]
[null,"Tip: RTD-10","kpl",5,null,{"$f":"+E1493*D1493","v":0},{"$f":"+E1493*MM","v":0},{"$f":"+G1493*D1493","v":0},{"$f":"+E1493-G1493","v":0},{"$f":"+I1493*D1493","v":0}]
[]
[5,"Originalni, tovarniško sestavljeni in lotani, izolirani, razmaščeni in očiščeni odcepni kos bakrene instalacije hladilnega sredstva, za razvejanje instalacije do priključkov posameznih notranjih enot."]
[null,"Ustreza na primer:"]
[null,"Proizvajalec: DAIKIN"]
[null,"Tip: KHRQ22M20T","kpl",3,null,{"$f":"+E1498*D1498","v":0},{"$f":"+E1498*MM","v":0},{"$f":"+G1498*D1498","v":0},{"$f":"+E1498-G1498","v":0},{"$f":"+I1498*D1498","v":0}]
[null,"Tip: KHRQ22M29T9","kpl",1,null,{"$f":"+E1499*D1499","v":0},{"$f":"+E1499*MM","v":0},{"$f":"+G1499*D1499","v":0},{"$f":"+E1499-G1499","v":0},{"$f":"+I1499*D1499","v":0}]
[]
[6,"Cevovodi iz bakrenih cevi za povezavo hladilnih naprav po navodilih proizvajalca, s tovarniško (manjše dimenzije) ali dodatno izolacijo (večje dimenzije), po EN 12735-1, trdo spojeni v atmosferi z uporabo zaščitnega plina (dušik - N2), vključno s fitingi, tesnilnim in dodajnim materialom, zunaj objekta z dodatno UV in fizično zaščito (proti direktnemu sončnemu obsevanju in fizičnim poškodbam izolacije), ustreznih dimenzij:"]
[null,"*bakrene povezave in izvedba le-teh med zunanjo in notranjimi enotami morajo biti v skladu z navodili in shemami proizvajalca oz. dobavitelja opreme. Ustrezati morajo vsem dolžinskim omejitvam in po končani montaži ustrezno preverjena, očiščena in zvakuumirana.."]
[null,"zunanji premer R 1/4 (6,35 mm)","m",30,null,{"$f":"+E1503*D1503","v":0},{"$f":"+E1503*MM","v":0},{"$f":"+G1503*D1503","v":0},{"$f":"+E1503-G1503","v":0},{"$f":"+I1503*D1503","v":0}]
[null,"zunanji premer R 3/8 (9,52 mm)","m",32,null,{"$f":"+E1504*D1504","v":0},{"$f":"+E1504*MM","v":0},{"$f":"+G1504*D1504","v":0},{"$f":"+E1504-G1504","v":0},{"$f":"+I1504*D1504","v":0}]
[null,"zunanji premer R 1/2 (12,70 mm)","m",16,null,{"$f":"+E1505*D1505","v":0},{"$f":"+E1505*MM","v":0},{"$f":"+G1505*D1505","v":0},{"$f":"+E1505-G1505","v":0},{"$f":"+I1505*D1505","v":0}]
[null,"zunanji premer R 5/8 (15,88 mm)","m",37,null,{"$f":"+E1506*D1506","v":0},{"$f":"+E1506*MM","v":0},{"$f":"+G1506*D1506","v":0},{"$f":"+E1506-G1506","v":0},{"$f":"+I1506*D1506","v":0}]
[null,"zunanji premer R 3/4 (19,05 mm)","m",10,null,{"$f":"+E1507*D1507","v":0},{"$f":"+E1507*MM","v":0},{"$f":"+G1507*D1507","v":0},{"$f":"+E1507-G1507","v":0},{"$f":"+I1507*D1507","v":0}]
[]
[7,"Zaščita bakrenih cevovodov (par bakrenih cevi s tovarniško izolacijo) izven objekta, oplaščeno z aluminijastim (Alu) oklepom, za zaščito instalacije pred fizičnimi poškodbami in direktnim sončnim sevanjem (UV zaščita)"]
[null,"ali podobno","kpl",1,null,{"$f":"+E1510*D1510","v":0},{"$f":"+E1510*MM","v":0},{"$f":"+G1510*D1510","v":0},{"$f":"+E1510-G1510","v":0},{"$f":"+I1510*D1510","v":0}]
[]
[8,"Pocinkana kabelska polica, brez pokrova, za polaganje instalacij znotraj objekta, različnih dimenzij (glede na debelino Cu instalacije in izolacije), za montažo na steno ali strop, vključno s potrebnimi spojnimi in prehodnimi kosi, ter pritrdilnim materialom in profili"]
[null,"ali podobno","m",50,null,{"$f":"+E1513*D1513","v":0},{"$f":"+E1513*MM","v":0},{"$f":"+G1513*D1513","v":0},{"$f":"+E1513-G1513","v":0},{"$f":"+I1513*D1513","v":0}]
[]
[9,"Pritrdilni material za montažo sistema ogrevanja in hlajenja, vključno s pritrdilnimi trakovi, profili, navojnimi palicami, podložkami, maticami, ipd. potrebnimi za montažo notranjih enot in bakrene instalacije sistema"]
[null,"ali podobno","kg",90,null,{"$f":"+E1516*D1516","v":0},{"$f":"+E1516*MM","v":0},{"$f":"+G1516*D1516","v":0},{"$f":"+E1516-G1516","v":0},{"$f":"+I1516*D1516","v":0}]
[]
[10,"Dobava in montaža signalnih kablov v zaščitnem opletu (pogojno brez, z zagotovitvijo minimalnih razdalj do bližnjih energetskih kablov) za povezavo med zunanjimi in notranjimi enotami, ter morebitno povezavo do žičnih daljinskih upravljalnikov"]
[null,"*komunikacijska povezava se izvede od zunanje do zanje notranje enote zaporedno! Vzporedna vezava (prekinjanje komunikacijeske povezave, zvezda, ipd.) ni dovoljena."]
[null,"- 2 x 0,75mm2 oklopljen kabel za signal oz. komunikacijo","m",290,null,{"$f":"+E1520*D1520","v":0},{"$f":"+E1520*MM","v":0},{"$f":"+G1520*D1520","v":0},{"$f":"+E1520-G1520","v":0},{"$f":"+I1520*D1520","v":0}]
[]
[11,"Po končani montaži tlačni preizkus instalacije (dušik, N2 - 24ur, 40bar), izdaja zapisnika, vakuumiranje instalacije, ter morebitno dodatno polnjenje sistema s hladilnim sredstvom (R410a, predvideno cca. 3kg)"]
[null,"skladno z navodili proizvajalca","kpl",1,null,{"$f":"+E1523*D1523","v":0},{"$f":"+E1523*MM","v":0},{"$f":"+G1523*D1523","v":0},{"$f":"+E1523-G1523","v":0},{"$f":"+I1523*D1523","v":0}]
[]
[12,"Zagon pooblaščenega izvajalca, poizkusno obratovanje sistema, poučevanje uporabnika, predaja dokumentacije in zapisnikov VRF sistema"]
[null,"skladno z navodili proizvajalca","kpl",1,null,{"$f":"+E1526*D1526","v":0},{"$f":"+E1526*MM","v":0},{"$f":"+G1526*D1526","v":0},{"$f":"+E1526-G1526","v":0},{"$f":"+I1526*D1526","v":0}]
[]
["13","Transportni in ostali splošni  stroški","kpl",1,null,{"$f":"+E1528*D1528","v":0},{"$f":"+E1528*MM","v":0},{"$f":"+G1528*D1528","v":0},{"$f":"+E1528-G1528","v":0},{"$f":"+I1528*D1528","v":0}]
[null,"SKUPAJ",null,null,null,{"$f":"SUM(F1449:F1528)","v":0},null,{"$f":"SUM(H1449:H1528)","v":0},null,{"$f":"SUM(J1449:J1528)","v":0}]
[]
[]
["8","PREZRAČEVANJE  IN  HLAJENJE  KUHINJE"]
[]
[null,"MONTAŽA ELEMENTOV  PREZRAČEVALNEGA SISTEMA KUHINJE"]
[null,"Ponudba izvajalca prezračevanja kuhinje mora zajemati montažo kuhinjskih nap in vseh ostalih elementov po popisu."]
[]
[null,"Celovit energetsko varčen sistem prezračevanja profesionalne kuhinje:"]
[null,"Prezračevalni sistem kuhinje sestavljajo:\n• visoko učinkovite varčne kuhinjske nape kot glavne nape z najvišjimi pretoki zraka in za podrejene namene lahko tudi klasične odvodne kuhinjske nape,\n• sistem vračanja toplote zraka, ki zagotavlja trajnostno rešitev delovanja ne glede na nasičenost zraka z maščobami,\n• visoko učinkovite ventilatorske naprave za odvod in dovod zraka,\n• centralen regulacijski sistem, ki stalno optimizira porabo energije in zagotavlja optimalno prezračenost prostorov kuhinje glede na trenutne aktivnosti v kuhinji.\n\n"]
[]
["1.1","REGULACIJSKI SISTEM PREZRAČEVANJA KUHINJE"]
[null,"Vključuje regulacijsko omaro,upravljalni panel z zaslonom na dotik in vse regulacijske elemente potrebne za delovanje prezračevalnega sistema skladno s shemo sistema - temperaturni senzorji, tlačni senzorji, servopogoni … Regulacijska omara nadometne izvedbe mora biti izdelana v zaščiti najmanj IP20. V omaro so vgrajeni PLC krmilnik za vodenje celotnega sistema prezračevanja kuhinje,  elementi stikalne tehnike, zaščita, sponke, glavno električno stikalo. Regulacijski sistem omogoča funkcije značilne za splošne prezračevalne sisteme in tudi posebne funkcije, ki omogočajo visoko optimizacijo delovanja prezračevalnega sistema v profesionalnih kuhinjah kot sledi v nadaljevanju."]
[]
[" 1. 1","Regulacijski del s funkcijami značilnimi za splošne prezračevalne sisteme"]
[null,"• Upravljanje pretokov različnih dovodov in odvodov zrak."]
[null,"• Vodenje EC ventilatorjev s funkcijo vzdrževanja konstantnega tlaka."]
[null,"• Vodenje frekvenčnih regulatorjev za ventilatorje s funkcijo vzdrževanja konstantnega tlaka."]
[null,"• Regulacija ventilatorja za dovod svežega zraka iz glavne visoko učinkovite varčne nape v druge prostore, kjer ni dovoda svežega zraka iz visoko učinkovite varčne nape."]
[null,"• Vodenje hidravličnega modula v glavni varčni nape za dogrevanje zraka."]
[null,"• Regulacija hlajenja z direktno ekspanzijo z analognim izhodom \n0-10 V. 0 V - ni hlajenja, 10 V - max. hladilna moč."]
[null,"• Samodejno vklapljanje in izklapljanje prezračevalnega sistema po nastavljenem tedenskem urniku."]
[null,"• Ročno stopenjsko upravljanje  pretokov zraka posameznih kuhinjskih nap."]
[null,"• Samodejno opozarjanje uporabnika na vzdrževalne in servisne posege."]
[null,"• Izvajanje varnostnih in zaščitnih funkcij."]
[null,"• Alarmiranje motenj in izpadov."]
[null,"• Zgodovina motenj in izpadov."]
[null,"Servisno vzdrževalni modul za zagotovitev daljinskega vpogleda v zgodovino delovanja sistema prezračevanja kuhinje, na podlagi katerega se stranki omogoči lažja in hitrejša diagnostika in odprava napak med obratovanjem ter svetovanje pri ukrepih za dosego maksimalne energetske učinkovitosti in dobrih pogojev za delo v kuhinji."]
[null,"komplet","kos",1,null,{"$f":"+E1557*D1557","v":0},{"$f":"+E1557*MM","v":0},{"$f":"+G1557*D1557","v":0},{"$f":"+E1557-G1557","v":0},{"$f":"+I1557*D1557","v":0}]
[]
["1.2","Regulacijska del s posebnimi funkcijami za optimizacijo delovanja prezračevalnega sistema profesionalen kuhinje"]
[null,"• Avtomatična regulacija pretoka zraka glede na termično obremenitev pod napo za vse kuhinjske nape zagotavlja visoke prihranke toplotne in električne energije skupaj z dobrimi pogoji za delo v kuhinji.\n• Kompenzacija zraka za odvodne nape z dovodom svežega zraka iz glavne varčne nape, da se dosega kontroliran podtlak v prostorih kuhinje. \n• Stalno zagotavljanje potrebne količine zraka posameznega odvoda in dovoda zraka ne glede na spremembe pretokov drugih porabnikov zraka, ki so priključeni na isti ventilator.\n• Avtomatično prilagajanje razpoložljivega tlaka skupnega dovodnega in odvodnega ventilatorja glavni varčni kuhinjski napi. "]
[null,"komplet","kos",1,null,{"$f":"+E1561*D1561","v":0},{"$f":"+E1561*MM","v":0},{"$f":"+G1561*D1561","v":0},{"$f":"+E1561-G1561","v":0},{"$f":"+I1561*D1561","v":0}]
[]
[2,"KUHINJSKE NAPE IN OPREMA"]
[]
[" 2. 1","Kuhinjska napa za nad glavnim termičnim blokom"]
[null,"Visoko učinkovita varčna kuhinjska napa"]
[null,"Visoko učinkovita varčna kuhinjska napa je izdelana iz inox pločevine kvalitete 1.4301 in mora dosegati naslednje ključne značilnosti:\n• visoka sesalna učinkovitost,\n• indukcijski podvpih svežega zraka nazaj v napo za povečano sesalno učinkovitost z možnostjo regulacije pretoka tega zraka za znižanja pretoka svežega zraka v prostor kuhinje, kadar je pretok zraka določen po kriteriju latentne energije,\n• z vpihom svežega zraka iz nape p omogoča napa enakomerno prezračenost prostora na delovnem mestu ob termičnih elementih ob visokem deležu svežega zraka v bivalni coni z minimalno možnostjo prepiha,\n• vpihovalne reže na vrhu nape  omogočajo vpih svežega zraka z reguliranim dometom zraka, da se doseže enakomerna prezračenost bolj oddaljenega prostora od kuhinjske nape  ob visokem deležu svežega zraka v bivalni coni z minimalno možnostjo prepiha."]
[null,"Visoko učinkovita varčna kuhinjska napa vključuje naslednje elemente:\n• filtracijski sistem odpadnega zraka, ki dosega s certifikati dokazano visoko učinkovitost filtracije oljnih delcev, ki je lahko tudi 100% pri velikosti oljnih delcev 7 mikronov in več; prvi element filtracijskega sistema morajo biti labirintni filtri vgrajeni v napo skladno z EN 16282 pod kotom 45 stopinj in požarno certificirani,\n• sistem vračanja toplote zraka s prenosniki toplote, ki morajo dosegati temperaturni izkoristek tudi preko 65% ,\n• vodni grelnik za dogrevanje zraka na želeno temperaturo,\n• »By-pass« za prosto hlajenje, reguliran z motornim pogonom,\n• LED svetilke \n• kanalske priključke za dovod in odvod zraka,\n• kanalske priključke za dovod svežega temperaturno obdelanega zraka v prostore kuhinje, ki jih nemore prezračiti visoko učinkovita napa,\n• opremo za regulacijo pretoka zraka glede na termično obremenitev pod napo."]
[null,"Napa mora imeti izmerjene karakteristike delovanja za odvod zraka v celotnem področju možnih pretokov. To omogoča v fazi zagona sistema nastavitev pretokov odvodnega zraka direktno na PLC regulatorju brez njihovega ročnega umerjanja z instrumenti za merjenje pretoka."]
[null,"Pretok zraka in padec tlaka v napi:"]
[null,"Pretok dovod: 6500 m3/h"]
[null,"Padec tlaka v napi dovod: 135 Pa"]
[null,"Pretok odvod: 4400 m3/h"]
[null,"Padec tlaka v napi odvod: 125 Pa"]
[null,"Grelnik vodni:"]
[null,"Tproj = -13 °C"]
[null,"Maksimalna temperatura vpiha gretje 24 °C"]
[null,"Pgr = 35 kW (max)"]
[null,"Tvode = 55/45 °C"]
[null,"Qvode = 0,88 l/s"]
[null,"Dimenzije kuhinjske nape:"]
[null,"Dolžina L = 3400 mm"]
[null,"Širina B = 2400 mm"]
[null,"Višina H = 620 mm"]
[]
[null,"Hidravlični sistem za dogrevanje zraka v varčni napi  z vodnimi grelniki"]
[null,"Hidravlični sistem sestavlja primarni krog od toplotne postaje do varčne kuhinjske nape  in sekundarni krog v varčni kuhinjski napi . V varčno kuhinjsko napo  je vgrajen hidravlični modul z delom primarnega kroga in celotnim sekundarnim krogom."]
[null,"Hidravlični modul sestavljajo: regulacijski ventil z motornim pogonom, črpalka, dušilni ventil, zapiralna ventila, izpustno-polnilni ventil in potopna temperaturna tipala za merjenje temperature dovedene in odvedene vode."]
[]
[null,"Žaluzija z zobniki za regulacijo lamel z  motornim pogonom;  dimenzije 700 x 350 mm (kos 1)."]
[]
[null,"komplet","kos",1,null,{"$f":"+E1592*D1592","v":0},{"$f":"+E1592*MM","v":0},{"$f":"+G1592*D1592","v":0},{"$f":"+E1592-G1592","v":0},{"$f":"+I1592*D1592","v":0}]
[]
[" 2. 2","Kuhinjska napa nad konvektomati"]
[null,"Odvodna napa z integriranim sistemom za natančno regulacijo pretoka odvedenega zraka"]
[null,"Kuhinjska napa je izdelana iz inox pločevine kvalitete 1.4301 in ima vgrajene elemente za regulacijo pretoka zraka glede na termično obremenitev pod napo.\nNapa mora imeti izmerjene karakteristike delovanja v celotnem področju možnih pretokov, kar v fazi zagona sistema omogoča nastavitev pretokov zraka direktno na PLC regulatorju, brez ročnega umerjanja z instrumenti za merjenje pretoka.\nV kuhinjsko napo so vgrajeni še naslednji elementi:"]
[null,"Labirintni filtri"]
[null,"Pleteni filtri"]
[null,"Pretok odvod: 1200 m3/h"]
[null,"Padec tlaka v napi odvod: 80 Pa"]
[null,"Dolžina L = 2400 mm"]
[null,"Širina B = 1400 mm"]
[null,"Višina H = 450 mm"]
[null,"Ustreza stenska odvodna kuhinjska napa "]
[null,"Žaluzija z zobniki za regulacijo lamel z motornim pogonom;  dimenzije 300 x 300 mm (kos 1)."]
[]
[null,"komplet","kos",1,null,{"$f":"+E1607*D1607","v":0},{"$f":"+E1607*MM","v":0},{"$f":"+G1607*D1607","v":0},{"$f":"+E1607-G1607","v":0},{"$f":"+I1607*D1607","v":0}]
[]
[" 2. 3","Kuhinjska napa dietna kuhinja"]
[null,"Odvodna napa z integriranim sistemom za natančno regulacijo pretoka odvedenega zraka"]
[null,"Kuhinjska napa je izdelana iz inox pločevine kvalitete 1.4301 in ima vgrajene elemente za regulacijo pretoka zraka glede na termično obremenitev pod napo.\nNapa mora imeti izmerjene karakteristike delovanja v celotnem področju možnih pretokov, kar v fazi zagona sistema omogoča nastavitev pretokov zraka direktno na PLC regulatorju, brez ročnega umerjanja z instrumenti za merjenje pretoka.\nV kuhinjsko napo so vgrajeni še naslednji elementi:"]
[null,"Labirintni filtri"]
[null,"Pleteni filtri"]
[null,"Svetilka z LED žarnicami"]
[null,"Pretok odvod: 200 m3/h"]
[null,"Padec tlaka v napi odvod: 80 Pa"]
[null,"Dolžina L = 1200 mm"]
[null,"Širina B = 900 mm"]
[null,"Višina H = 450 mm"]
[]
[null,"Žaluzija z zobniki za regulacijo lamel z  motornim  pogonom  dimenzije 150 x 100 mm (kos 1)."]
[]
[null,"komplet","kos",1,null,{"$f":"+E1623*D1623","v":0},{"$f":"+E1623*MM","v":0},{"$f":"+G1623*D1623","v":0},{"$f":"+E1623-G1623","v":0},{"$f":"+I1623*D1623","v":0}]
[]
[" 2. 4","Kuhinjska napa nad pomivalnim strojem"]
[]
[null,"Odvodna napa z integriranim sistemom za natančno regulacijo pretoka odvedenega zraka"]
[null,"Kuhinjska napa je izdelana iz inox pločevine kvalitete 1.4301 in ima vgrajene elemente za regulacijo pretoka zraka glede na termično obremenitev pod napo.\nNapa mora imeti izmerjene karakteristike delovanja v celotnem področju možnih pretokov, kar v fazi zagona sistema omogoča nastavitev pretokov zraka direktno na PLC regulatorju, brez ročnega umerjanja z instrumenti za merjenje pretoka.\nV kuhinjsko napo so vgrajeni še naslednji elementi:"]
[null,"Labirintni filtri"]
[null,"Pretok odvod: 800 m3/h"]
[null,"Padec tlaka v napi odvod: 60 Pa"]
[null,"Dolžina L = 1600 mm"]
[null,"Širina B = 1100 mm"]
[null,"Višina H = 450 mm"]
[null,"komplet"]
[]
[null,"Žaluzija z zobniki za regulacijo lamel z motornim pogonom  dimenzije 250 x 250 mm (kos 1)."]
[]
[null,"komplet","kos",1,null,{"$f":"+E1639*D1639","v":0},{"$f":"+E1639*MM","v":0},{"$f":"+G1639*D1639","v":0},{"$f":"+E1639-G1639","v":0},{"$f":"+I1639*D1639","v":0}]
[null,"OPOMBA"]
[null,"Montira se obstoječa napa, ki je trenutno montirana na termičnim blokom."]
[null,"OBRAČUN VREDNOSTI:  odklop, demontažo, pregled in servis, skladiščenje v času obnove, ponovno vgradnjo, priklop in zagon. Skupaj z manipulativno opremo in drobnim montažnim materialom. Poročilo o opravljenem servisu."]
[]
["3","Dovodna ventilatorska naprava"]
[null,"Enoetažna dovodna ventilacijska naprava z dovolj velikim presekom in energetsko učinkovitimi ventilatorji, da karakteristike ustrezajo energetskemu razredu A\nMateriali:\n• profili: aluminij\n• zunanji plašč: praškasto barvana pločevina\n• notranji plašč: galvanizirana pločevina\n• izolacija: mineralna volna\n• debelina ohišja: 50 mm\nNaprava ima spodaj nosilen podstavek, v katerem so luknje za odvod kondenza."]
[null,"Leva izvedba naprave (določiti pred naročilom)."]
[null,"Notranja naprava\nMehanske lastnosti ohišja po EN 1886: \n• mehanska stabilnost: razred D2\n• tesnost ohišja pri negativnem tlaku -400 Pa: razred L2\n• tesnost ohišja pri pozitivnem tlaku +700 Pa: razred L3\n• tesnost vgrajenih filtrov: razred F9\n• toplotna prehodnost ohišja:  razred T3 \n• faktor toplotnih mostov: razred TB3\n• razred požarne odpornosti toplotne izolacije A1 po SIST EN 13501-1"]
[]
[null,"Fleksibilni priključek na vstopni strani naprave."]
[null,"Zobniška regulacijska žaluzija z okvirom in loputami iz aluminija. Vgrajena je na notranji strani ohišja in skupaj z motornim pogonom."]
[null,"Dušilnik zvoka na zajemu naprave, dolžina ohišja 750 mm, sestavljen iz ustreznega števila dušilnih kulis iz galvanizirane pločevine in polnila iz mineralne volne."]
[null,"Kasetni filter M5. Posluževanje filtra je s strani skozi posluževalna vrata."]
[null,"Vrečasti filter F7. Posluževanje filtra je s strani skozi posluževalna vrata."]
[null,"Filter čisti – padec tlaka: 110 Pa"]
[null,"Filter zamazani – padec tlaka: 295 Pa"]
[null,"Filter računan – padec tlaka: 200 Pa"]
[]
[null,"DX hladilnik, za katerim je po potrebi vgrajen eliminator vodnih kapljic, ki je sestavljen iz okvira iz korozijsko odpornega aluminija in lovilnih lamel iz PPTV. Pod hladilnikom in eliminatorjem je banja za zbiranje in odvod kondenzata iz nerjavečega materiala.\nTehnični podatki:"]
[null,"Hladilni medij: R410"]
[null,"Temperatura uparjanja: 10 °C"]
[null,"Hladilna moč: 38 kW"]
[null,"Število hladilnih krogov: 2"]
[]
[null,"Ventilator proizvajalca Es prostotekočim rotorjem z nazaj zakrivljenimi lopaticami in z EC IE4 motorjem  z zvezno regulacijo števila vrtljajev. Ventilator ima vgrajene cevne priključke za merjenje pretoka zraka.\nTehnični podatki:"]
[null,"Pretok zraka: 6500 m3/h"]
[null,"Zunanji padec tlaka: 450 Pa"]
[null,"Število ventilatorjev: 1"]
[null,"Nazivna moč motorja: 4500 W"]
[null,"Nazivni tok: 6,8 A"]
[null,"Nazivna napetost: 3x400 V"]
[]
[null,"Dušilnik zvoka na izstopu iz naprave, dolžina ohišja 1100 mm, sestavljen iz ustreznega števila dušilnih kulis iz galvanizirane pločevine in polnila iz mineralne volne."]
[]
[null,"Fleksibilni priključek na izstopni strani naprave."]
[]
[null,"Širina naprave: 1344 mm"]
[null,"Višina naprave: 1079 mm"]
[]
[null,"komplet","kos",1,null,{"$f":"+E1679*D1679","v":0},{"$f":"+E1679*MM","v":0},{"$f":"+G1679*D1679","v":0},{"$f":"+E1679-G1679","v":0},{"$f":"+I1679*D1679","v":0}]
[]
["4","Odvodni ventilator in oprema"]
[null,"Odvodni ventilator, ki ima elektromotor ločen od toka odpadnega zraka skladno s smernicami VDI 2052."]
[null,"Pretok zraka: 7700 m3/h (max)"]
[null,"Zunanji padec tlak: 400 Pa"]
[null,"Nazivna moč motorja: 1975 W"]
[null,"Nazivni tok: 2,91 A"]
[null,"Nazivna napetost: 3x400 V"]
[null,"Vključno:"]
[null,"Dušilec zvoka na odvodu zraka dobavitelja ali enakovredno:"]
[]
[null,"Vezna plošča na odvodu zraka "]
[]
[null,"Žaluzija z zobniki za regulacijo lamel z motornim  pogonom  dimenzije 900 x 350 mm (kos 1)."]
[]
[null,"komplet","kos",1,null,{"$f":"+E1695*D1695","v":0},{"$f":"+E1695*MM","v":0},{"$f":"+G1695*D1695","v":0},{"$f":"+E1695-G1695","v":0},{"$f":"+I1695*D1695","v":0}]
[]
["5","Ventilator  MF3 za dovod svežega zraka iz nape v sosednje prostore MF3"]
[null,"Pretok: 1.750 m3/h"]
[null,"Zunanji padec tlak: 250 Pa"]
[null,"Nazivna moč motorja: 528 W"]
[null,"Nazivni tok: 2,32 A"]
[null,"Nazivna napetost: 230 V"]
[null,"Ustreza ventilator z EC motorjem "]
[null,"komplet","kos",1,null,{"$f":"+E1704*D1704","v":0},{"$f":"+E1704*MM","v":0},{"$f":"+G1704*D1704","v":0},{"$f":"+E1704-G1704","v":0},{"$f":"+I1704*D1704","v":0}]
[]
["6","Mehanski regulatorji pretoka (MRP)"]
[null,"Mehanski regulator pretoka zraka z ohišjem za vzdrževanje pretoka, okrogli priključek premer 100 mm, pretok 100 m3/h,"]
[null,"vključno ohišje, loputa, ročni mehanizem za nastavitev pretoka, izolacijo in montažni material"]
[null,"komplet","kos",1,null,{"$f":"+E1709*D1709","v":0},{"$f":"+E1709*MM","v":0},{"$f":"+G1709*D1709","v":0},{"$f":"+E1709-G1709","v":0},{"$f":"+I1709*D1709","v":0}]
[]
[null,"Mehanski regulator pretoka zraka z ohišjem za vzdrževanje pretoka, okrogli priključek premer 160 mm, pretok 300 m3/h,"]
[null,"vključno ohišje, loputa, ročni mehanizem za nastavitev pretoka, izolacijo in montažni material"]
[null,"komplet","kos",1,null,{"$f":"+E1713*D1713","v":0},{"$f":"+E1713*MM","v":0},{"$f":"+G1713*D1713","v":0},{"$f":"+E1713-G1713","v":0},{"$f":"+I1713*D1713","v":0}]
[]
[null,"Mehanski regulator pretoka zraka z ohišjem za vzdrževanje pretoka, okrogli priključek premer 200 mm, pretok 400 m3/h,"]
[null,"vključno ohišje, loputa, ročni mehanizem za nastavitev pretoka, izolacijo in montažni material"]
[null,"komplet","kos",1,null,{"$f":"+E1717*D1717","v":0},{"$f":"+E1717*MM","v":0},{"$f":"+G1717*D1717","v":0},{"$f":"+E1717-G1717","v":0},{"$f":"+I1717*D1717","v":0}]
[]
[null,"Mehanski regulator pretoka zraka z ohišjem za vzdrževanje pretoka, okrogli priključek premer 200 mm, pretok 600 m3/h,"]
[null,"vključno ohišje, loputa, ročni mehanizem za nastavitev pretoka, izolacijo in montažni material"]
[null,"komplet","kos",1,null,{"$f":"+E1721*D1721","v":0},{"$f":"+E1721*MM","v":0},{"$f":"+G1721*D1721","v":0},{"$f":"+E1721-G1721","v":0},{"$f":"+I1721*D1721","v":0}]
[]
[null,"Mehanski regulator pretoka zraka z ohišjem za vzdrževanje pretoka, okrogli priključek premer 200 mm, pretok 650 m3/h."]
[null,"vključno ohišje, loputa, ročni mehanizem za nastavitev pretoka, izolacijo in montažni material"]
[null,"komplet","kos",1,null,{"$f":"+E1725*D1725","v":0},{"$f":"+E1725*MM","v":0},{"$f":"+G1725*D1725","v":0},{"$f":"+E1725-G1725","v":0},{"$f":"+I1725*D1725","v":0}]
[]
[null,"Mehanski regulator pretoka zraka z ohišjem za vzdrževanje pretoka, okrogli priključek premer 250 mm, pretok 800 m3/h."]
[null,"vključno ohišje, loputa, ročni mehanizem za nastavitev pretoka, izolacijo in montažni material"]
[null,"komplet","kos",1,null,{"$f":"+E1729*D1729","v":0},{"$f":"+E1729*MM","v":0},{"$f":"+G1729*D1729","v":0},{"$f":"+E1729-G1729","v":0},{"$f":"+I1729*D1729","v":0}]
[]
["7","MONTAŽNA DELA"]
[]
[null,"Montažna dela na objektu"]
[null,"Zajema končno sestavo kuhinjske nape s sestavnimi deli iz nerjaveče pločevine, ko so osrednji deli kuhinjske nape skladno z navodili obešeni na strop, priklopljeni na prezračevalni sistem in na sistem vodnega ogrevanja. Montaža se izvede preden se pod napo postavijo termični bloki. V kolikor so termični bloki obstoječi, jih mora naročnik zaščititi tako, da serviser lahko hodi po njih. "]
[null,"Končna sestava varčnih nap na objektu."]
[null,"Električna dela in zagon"]
[null,"Uvajanje inštalaterjev v projekt."]
[null,"Električni priklop predhodno s strani inštalaterja dobavljenih in napeljanih kablov za prezračevalni sistem kuhinje. Kabli so napeljani do mikrolokacij elementov periferne opreme, v krmilno omaro, v razdelilno omarico v napi ter označeni skladno z načrtom električnih kablov."]
[null,"Zagon prezračevalnega sistema."]
[null,"Šolanje uporabnika in nastavitev prezračevalnega sistema kuhinje, ko je kuhinja že določen čas v obratovanju."]
[null,"Uvajanje inštalaterjev, električni priklop, zagon in šolanje."]
[null,"komplet","kos",1,null,{"$f":"+E1742*D1742","v":0},{"$f":"+E1742*MM","v":0},{"$f":"+G1742*D1742","v":0},{"$f":"+E1742-G1742","v":0},{"$f":"+I1742*D1742","v":0}]
[]
[8,"DX TOPLOTNA ČRPALKA ZA HLAJENJE"]
[]
[null,"Zunanja enota DX toplotne črpalke deljene izvedbe, serije POWER INVERTER, ki je namenjena za zunanjo postavitev - zaščitena pred vremenskimi vplivi, z vgrajenim DC vijačnim inverter kompresorjem, zračno hlajenim kondenzatorjem in vsemi potrebnimi elementi za zaščito, nadzor in regulacijo naprav ter funkcionalno delovanje."]
[null,"Nazivna hladilna moč: 19 kW"]
[null,"Območje delovanja hlajenje: od -15 °C do +46 °C"]
[null,"Raven zvočne moči PWL hlajenje: 62 db (A)"]
[null,"Električno napajanje: 400 V / 3 faze / 50 Hz"]
[null,"Dimenzije VxŠxD: 1338 x 1050 x 330(+40) mm"]
[null,"Masa zunanje enote: 135 kg"]
[null,"Hladilni medij: R410A"]
[null,"Cevni priključek hladiva - tekoča faza:  9,52 mm"]
[null,"Cevni priključek hladiva - plinska faza: 25,4 mm"]
[null,"Ustreza zunanja enota toplotne črpalke proizvajalca Mitsubishi ali enakovredno:"]
[null,"PUHZ-ZRP200YKA (kos 2)"]
[]
[null,"Vmesnik za usklajeno delovanje zunanje enote Mitsubishi Electric Mr.Slim in toplotnega izmenjevalca v prezračevalni napravi, vključno s krmilno enoto v ohišju, kabelskim stenskim upravljalcem in senzorji temperature. Krmiljenje zmogljivosti je izvedeno v 10 stopnjah in izklop."]
[null,"Ustreza vmesnik proizvajalca Mitsubishi ali enakovredno:"]
[null," PAC-IF013B-E (master) (kos 1)"]
[null," PAC-SIF013B-E (kos 1)"]
[]
[null,"Montaža in zagon"]
[null,"Montaža naprave vključuje napeljavo do 7 m (električno in plinsko), pritrditev nosilnih konzol in namestitev naprave."]
[null,"Zagon sistema."]
[]
[null,"komplet","kos",1,null,{"$f":"+E1768*D1768","v":0},{"$f":"+E1768*MM","v":0},{"$f":"+G1768*D1768","v":0},{"$f":"+E1768-G1768","v":0},{"$f":"+I1768*D1768","v":0}]
[]
[9,"Distribucijski elementi za zrak, vključno protiokvirji in montažni material:"]
[null,"AR – 1/F, B x H = 325 x 125","kos",2,null,{"$f":"+E1771*D1771","v":0},{"$f":"+E1771*MM","v":0},{"$f":"+G1771*D1771","v":0},{"$f":"+E1771-G1771","v":0},{"$f":"+I1771*D1771","v":0}]
[null,"AR – 1/F, B x H = 625 x 225","kos",1,null,{"$f":"+E1772*D1772","v":0},{"$f":"+E1772*MM","v":0},{"$f":"+G1772*D1772","v":0},{"$f":"+E1772-G1772","v":0},{"$f":"+I1772*D1772","v":0}]
[null,"PV – 1/100","kos",1,null,{"$f":"+E1773*D1773","v":0},{"$f":"+E1773*MM","v":0},{"$f":"+G1773*D1773","v":0},{"$f":"+E1773-G1773","v":0},{"$f":"+I1773*D1773","v":0}]
[null,"AR – 4/P, B x H = 625 x 125 (izrnačevalone rešetke)","kos",1,null,{"$f":"+E1774*D1774","v":0},{"$f":"+E1774*MM","v":0},{"$f":"+G1774*D1774","v":0},{"$f":"+E1774-G1774","v":0},{"$f":"+I1774*D1774","v":0}]
[]
[10,"Distribucijski elementi za zrak, vključno protiokvirji in montažni material ter priključna komora s stranskim priključkom"]
[null,"AR – 1/F, B x H = 525 x 325","kos ",1,null,{"$f":"+E1777*D1777","v":0},{"$f":"+E1777*MM","v":0},{"$f":"+G1777*D1777","v":0},{"$f":"+E1777-G1777","v":0},{"$f":"+I1777*D1777","v":0}]
[null,"AR – 1/F, B x H = 625 x 125","kos ",1,null,{"$f":"+E1778*D1778","v":0},{"$f":"+E1778*MM","v":0},{"$f":"+G1778*D1778","v":0},{"$f":"+E1778-G1778","v":0},{"$f":"+I1778*D1778","v":0}]
[]
[11,"Stropni vrtinčni difuzor za dovod zraka, vključno priključna komora, vpihovalna maska, stranski priključek z regulacijsko loputo ter montažnim materialom "]
[null,"OD-8/S/K-vel.500/24 (V=300 m3/h)","kos",1,null,{"$f":"+E1781*D1781","v":0},{"$f":"+E1781*MM","v":0},{"$f":"+G1781*D1781","v":0},{"$f":"+E1781-G1781","v":0},{"$f":"+I1781*D1781","v":0}]
[]
[12,"Pravokotni kanali iz pocinkane pločevine po SIST-EN, vključno s fazonskimi komadi, prirobnicami, tesnilnim, pritrdilnim  materialom za tlake do 1000 Pa, z zahtevano tesnostjo razreda A po SIST EN 1507 za pravokotne kanale. Kanali so vzdolžno zarobljeni, spajajo se s prirobnicami, opremljeni so z vodilnimi usmerniki v lokih, regulacijskimi loputami na odcepih ter so diagonalno bočno izbočeni pri večjih dimenzijah. Debelina pločevine po DIN 24190 / F10.   Vključno spojni in vezni material ter tesnilni material na prehodih skozi stene."]
[null,"Min. debelina pločevine glede na nazivno dimenzijo:"]
[null,"100 - 500 mm = 0,6 mm"]
[null,"501 - 1000 mm = 0,8 mm"]
[null,"1001 - 2000 mm = 1,0 mm"]
[null,"skupaj","kg",2050,null,{"$f":"+E1788*D1788","v":0},{"$f":"+E1788*MM","v":0},{"$f":"+G1788*D1788","v":0},{"$f":"+E1788-G1788","v":0},{"$f":"+I1788*D1788","v":0}]
[]
[13,"Okrogli kanali iz pocinkane pločevine po SIST-EN (kot spiro), vključno s fazonskimi komadi,  tesnilnim, pritrdilnim  materialom za tlake do 1000 Pa, z zahtevano tesnostjo razreda A po SIST EN 12237 za okrogle kanale. Debelina pločevine po DIN 24190 / F10.  Vključno spojni in vezni material ter tesnilni materila na prehodih skozi stene."]
[null,"f 100 mm","m ",6,null,{"$f":"+E1791*D1791","v":0},{"$f":"+E1791*MM","v":0},{"$f":"+G1791*D1791","v":0},{"$f":"+E1791-G1791","v":0},{"$f":"+I1791*D1791","v":0}]
[null,"f 160 mm","m ",3,null,{"$f":"+E1792*D1792","v":0},{"$f":"+E1792*MM","v":0},{"$f":"+G1792*D1792","v":0},{"$f":"+E1792-G1792","v":0},{"$f":"+I1792*D1792","v":0}]
[null,"f 200 mm","m ",32,null,{"$f":"+E1793*D1793","v":0},{"$f":"+E1793*MM","v":0},{"$f":"+G1793*D1793","v":0},{"$f":"+E1793-G1793","v":0},{"$f":"+I1793*D1793","v":0}]
[null,"f 250 mm","m ",15,null,{"$f":"+E1794*D1794","v":0},{"$f":"+E1794*MM","v":0},{"$f":"+G1794*D1794","v":0},{"$f":"+E1794-G1794","v":0},{"$f":"+I1794*D1794","v":0}]
[null,"f 315 mm","m ",2,null,{"$f":"+E1795*D1795","v":0},{"$f":"+E1795*MM","v":0},{"$f":"+G1795*D1795","v":0},{"$f":"+E1795-G1795","v":0},{"$f":"+I1795*D1795","v":0}]
[]
[14,"Toplotno izolacijske samolepilne plošče, z zaprto celično strukturo, difuzijsko odpornostjo µ > 5000, toplotno pevodnostjo λ <  0,038 W/mK (pri 20 ºC) in kvaliteto požarne odpornosti najmanj B1, vključno spojni in montažni material"]
[null,"debeline 19 mm (dovod sistema v ogrevanih prostorih)","m2 ",66,null,{"$f":"+E1798*D1798","v":0},{"$f":"+E1798*MM","v":0},{"$f":"+G1798*D1798","v":0},{"$f":"+E1798-G1798","v":0},{"$f":"+I1798*D1798","v":0}]
[null,"debeline 9 mm (odvod sistema v ogrevanih prostorih)","m2 ",74,null,{"$f":"+E1799*D1799","v":0},{"$f":"+E1799*MM","v":0},{"$f":"+G1799*D1799","v":0},{"$f":"+E1799-G1799","v":0},{"$f":"+I1799*D1799","v":0}]
[]
[15,"Toplotno izolacijske samolepilne plošče, z zaprto celično strukturo, difuzijsko odpornostjo µ > 5000, toplotno pevodnostjo λ <  0,038 W/mK (pri 20 ºC) in kvaliteto požarne odpornosti najmanj B1, vključno spojni in montažni material ter plašč iz Al-pločevine"]
[null,"debeline 50 mm (na strehi)","m2 ",18,null,{"$f":"+E1802*D1802","v":0},{"$f":"+E1802*MM","v":0},{"$f":"+G1802*D1802","v":0},{"$f":"+E1802-G1802","v":0},{"$f":"+I1802*D1802","v":0}]
[]
[16,"Pomožni jekleni material, protikorozijsko zaščiten, vključno montažni material"]
[null,"komplet","kg",580,null,{"$f":"+E1805*D1805","v":0},{"$f":"+E1805*MM","v":0},{"$f":"+G1805*D1805","v":0},{"$f":"+E1805-G1805","v":0},{"$f":"+I1805*D1805","v":0}]
[]
[17,"Pripravljalna dela, zarisovanje, vregulacija in nastavitev sistemov, atesti, zaključna dela, funkcionalna preizkušnja, zaključna poročila, zagon naprav, meritev količin (pretoki) in hrupa v prostorih"]
[null,"Komplet","kos",1,null,{"$f":"+E1808*D1808","v":0},{"$f":"+E1808*MM","v":0},{"$f":"+G1808*D1808","v":0},{"$f":"+E1808-G1808","v":0},{"$f":"+I1808*D1808","v":0}]
[]
[18,"Transportni in splošni stroški","kpl",1,null,{"$f":"+E1810*D1810","v":0},{"$f":"+E1810*MM","v":0},{"$f":"+G1810*D1810","v":0},{"$f":"+E1810-G1810","v":0},{"$f":"+I1810*D1810","v":0}]
[null,"SKUPAJ:",null,null,null,{"$f":"SUM(F1557:F1810)","v":0},null,{"$f":"SUM(H1557:H1810)","v":0},null,{"$f":"SUM(J1557:J1810)","v":0}]
[]
[]
["9","GASILNI SISTEM ANSUL (kuhinja)"]
[]
["1","Dobava in montaža stabilne naprave za gašenje požara pod stensko kuhinjsko napo dim. 3400x2400 mm, pod njo termika sestavljena iz dveh prekucnih ponev bruto mer vsake 800x800 in dveh štedilnikov bruto mer 800x800 (pred izvedbo obvezna preverba tehnologije kuhinje in izvedba končnih izračunov sredstva in poteka cevovodov)."]
[null,"20x šobe za gašenje"]
[null,"2x omarice za montažo na zid s 3 jeklenkami gasilnega sredstva ANSULEX, pogonskimi in krmilnimi elementi za aktiviranje/proženje gašenja, 2x breznapetostno mikrostikalo za javljanje proženja (izklop prezračevanja nape, izklop napajanja elektrike termičnega bloka, povezava s požarno centralo);"]
[null,"komplet s cevno povezavo oz. razvodom gasilnega sredstva izdelanim iz nerjavečega jekla, vsem potrebnim pritrdilnim in spojnim materialom za brezhibno delovanje sistema."]
[null,"Komplet z določitvijo oz. preverbo sistema s strani dobavitelja, zagon in preskus naprave, certifikatom o ustreznosti in pregledom delovanja sistema z izdanim zapisnikom o ustreznosti. Naprava mora biti skladna s standardom EN16282-7"]
[null,"Proizvod kot ANSUL, tip R102 (dobavlja I.S.P.d.o.o. Kamnik) ali podobno"]
[null,"komplet","kos",1,null,{"$f":"+E1822*D1822","v":0},{"$f":"+E1822*MM","v":0},{"$f":"+G1822*D1822","v":0},{"$f":"+E1822-G1822","v":0},{"$f":"+I1822*D1822","v":0}]
[]
["2","Dobava in montaža stabilne naprave za gašenje požara pod stensko kuhinjsko napo dim. 1200x900 mm, pod njo termika sestavljena iz štedilnika bruto mer 800x800 (pred izvedbo obvezna preverba tehnologije kuhinje in izvedba končnih izračunov sredstva in poteka cevovodov)."]
[null,"4x šobe za gašenje"]
[null,"1x omarice za montažo na zid z 1 jeklenko gasilnega sredstva ANSULEX, pogonskimi in krmilnimi elementi za aktiviranje/proženje gašenja, 2x breznapetostno mikrostikalo za javljanje proženja (izklop prezračevanja nape, izklop napajanja elektrike termičnega bloka, povezava s požarno centralo);"]
[null,"komplet s cevno povezavo oz. razvodom gasilnega sredstva izdelanim iz nerjavečega jekla, vsem potrebnim pritrdilnim in spojnim materialom za brezhibno delovanje sistema."]
[null,"Komplet z določitvijo oz. preverbo sistema s strani dobavitelja, zagon in preskus naprave, certifikatom o ustreznosti in pregledom delovanja sistema z izdanim zapisnikom o ustreznosti. Naprava mora biti skladna s standardom EN16282-7"]
[null,"Proizvod kot ANSUL, tip R102 (dobavlja I.S.P.d.o.o. Kamnik) ali podobno"]
[null,"komplet","kos",1,null,{"$f":"+E1830*D1830","v":0},{"$f":"+E1830*MM","v":0},{"$f":"+G1830*D1830","v":0},{"$f":"+E1830-G1830","v":0},{"$f":"+I1830*D1830","v":0}]
[]
[3,"Transportni in splošni stroški","kpl",1,null,{"$f":"+E1832*D1832","v":0},{"$f":"+E1832*MM","v":0},{"$f":"+G1832*D1832","v":0},{"$f":"+E1832-G1832","v":0},{"$f":"+I1832*D1832","v":0}]
[null,"SKUPAJ:",null,null,null,{"$f":"SUM(F1822:F1832)","v":0},null,{"$f":"SUM(H1822:H1832)","v":0},null,{"$f":"SUM(J1822:J1832)","v":0}]
[]
[]
["10","PLINSKA  NAPELJAVA"]
[]
[1,"Kroglična plinska zaporna pipa kot požarna pipa s prirobničnimi priključki in integriranim izolirnim kosom, vključno protiprirobnice in tesnila 2mm; z DVGW atestom za plin"]
[null,"DN 50","kos",1,null,{"$f":"+E1839*D1839","v":0},{"$f":"+E1839*MM","v":0},{"$f":"+G1839*D1839","v":0},{"$f":"+E1839-G1839","v":0},{"$f":"+I1839*D1839","v":0}]
[]
[2,"Regulator tlaka plina, za srednjetlačno območje.  Vstopni tlak: p1 =1bar do 4bar; izstopni tlak: p2 = 22÷25 mbar; pretok Vn=18m3/h,  dimenzija DN25, prirobnični, s spojnim in tesnilnim materialom. Proizvajalec mora biti odobren v skladu s tehničnimi zahtevami SODO Energetika Ljubljana."]
[null,"kot ELSTER tip M2R DN25"]
[null,"komplet","kos",1,null,{"$f":"+E1843*D1843","v":0},{"$f":"+E1843*MM","v":0},{"$f":"+G1843*D1843","v":0},{"$f":"+E1843-G1843","v":0},{"$f":"+I1843*D1843","v":0}]
[]
[3,"Mehasti plinomer tip G16, DN40, vključno priključna montažna spona, za max. pretok 18 m3/h in tlak 22÷25 mbar.  Proizvajalec mora biti odobren v skladu s tehničnimi zahtevami SODO Energetika Ljubljana."]
[null,"komplet","kos",1,null,{"$f":"+E1846*D1846","v":0},{"$f":"+E1846*MM","v":0},{"$f":"+G1846*D1846","v":0},{"$f":"+E1846-G1846","v":0},{"$f":"+I1846*D1846","v":0}]
[]
[4,"Elektromagnetni ventil z atestom DVGW za plin (pod električno napetostjo je ventil odprt), vključno presostat kot kontrolnik delovanja prezračevanja na odvodu iz kuhinjskih nap."]
[null,"DN 40","kos",1,null,{"$f":"+E1849*D1849","v":0},{"$f":"+E1849*MM","v":0},{"$f":"+G1849*D1849","v":0},{"$f":"+E1849-G1849","v":0},{"$f":"+I1849*D1849","v":0}]
[]
[5,"Zaščitna omarica glavne požarne pipe, regulatorja tlaka, plinomera in EM ventila, izdelana iz dekapirane pločevine in plastificirana, s prezračevalnimi odprtinami in ključavnico ter napisom \"GLAVNA POŽARNA PIPA\" ter nastavki za ozemljitve. Po detajlu SODO Energetika Ljubljana."]
[null,"dim.: cca AxBxC=1200x900x400 mm","kos",1,null,{"$f":"+E1852*D1852","v":0},{"$f":"+E1852*MM","v":0},{"$f":"+G1852*D1852","v":0},{"$f":"+E1852-G1852","v":0},{"$f":"+I1852*D1852","v":0}]
[]
[6,"Plinska zaporna kroglična pipa za NP16, z navojnimi priključki in atestom DVGW za plin"]
[null,"DN 40","kos",2,null,{"$f":"+E1855*D1855","v":0},{"$f":"+E1855*MM","v":0},{"$f":"+G1855*D1855","v":0},{"$f":"+E1855-G1855","v":0},{"$f":"+I1855*D1855","v":0}]
[]
[7,"Plinska zaporna kroglična pipa, kombinirana s termičnim varovalom  z navojnimi priklj. in atestom DVGW za plin za priključitev kuhinjskih naprav"]
[null,"R 3/4\"  ","kos",8,null,{"$f":"+E1858*D1858","v":0},{"$f":"+E1858*MM","v":0},{"$f":"+G1858*D1858","v":0},{"$f":"+E1858-G1858","v":0},{"$f":"+I1858*D1858","v":0}]
[]
[8,"Jeklena atestirana brezšivna cev po DIN  2448, vključno varilni loki, varilni ter pritrdilni material, za razvode plina v objektu"]
[null,"DN 20","m",16,null,{"$f":"+E1861*D1861","v":0},{"$f":"+E1861*MM","v":0},{"$f":"+G1861*D1861","v":0},{"$f":"+E1861-G1861","v":0},{"$f":"+I1861*D1861","v":0}]
[null,"DN 32","m",4,null,{"$f":"+E1862*D1862","v":0},{"$f":"+E1862*MM","v":0},{"$f":"+G1862*D1862","v":0},{"$f":"+E1862-G1862","v":0},{"$f":"+I1862*D1862","v":0}]
[null,"DN 40","m",30,null,{"$f":"+E1863*D1863","v":0},{"$f":"+E1863*MM","v":0},{"$f":"+G1863*D1863","v":0},{"$f":"+E1863-G1863","v":0},{"$f":"+I1863*D1863","v":0}]
[]
[9,"Antikorozijska in mehanska zaščita jeklenega plinovoda položenega v talni kineti z:"]
[null,"čiščenjem cevi"]
[null,"premaz s Primer-S za strojni, oz. Primer R za ročni premaz"]
[null,"ovijanje cevi s PE trakovi Plastizol 635 s 100% prekrivanjem"]
[null,"ovijanje cevi s samolepilnim PVC trakom Plastizol 6010 z 20 mm prekritjem "]
[null,"komplet","m2",2,null,{"$f":"+E1870*D1870","v":0},{"$f":"+E1870*MM","v":0},{"$f":"+G1870*D1870","v":0},{"$f":"+E1870-G1870","v":0},{"$f":"+I1870*D1870","v":0}]
[]
[10,"Antikorozijska zaščita vidno vodenega   plinovoda z dvema slojema osnovnega premaza na razmaščeno  podlago ter z dvema slojema prekrivne barve po      RAL 1012"]
[null,"komplet","m2",5,null,{"$f":"+E1873*D1873","v":0},{"$f":"+E1873*MM","v":0},{"$f":"+G1873*D1873","v":0},{"$f":"+E1873-G1873","v":0},{"$f":"+I1873*D1873","v":0}]
[]
[11,"Izvedba prebojev (vrtanje) v bet, steni in tleh, vključno z zaščitno cevjo, za plinsko cev DN 40"]
[null,"komplet","kos",4,null,{"$f":"+E1876*D1876","v":0},{"$f":"+E1876*MM","v":0},{"$f":"+G1876*D1876","v":0},{"$f":"+E1876-G1876","v":0},{"$f":"+I1876*D1876","v":0}]
[]
[12,"Priključitev plina na plinska trošila v kuhinji ","kpl.",8,null,{"$f":"+E1878*D1878","v":0},{"$f":"+E1878*MM","v":0},{"$f":"+G1878*D1878","v":0},{"$f":"+E1878-G1878","v":0},{"$f":"+I1878*D1878","v":0}]
[]
[13,"Distribucijski nadzor ","kpl.",1,null,{"$f":"+E1880*D1880","v":0},{"$f":"+E1880*MM","v":0},{"$f":"+G1880*D1880","v":0},{"$f":"+E1880-G1880","v":0},{"$f":"+I1880*D1880","v":0}]
[]
[14,"Pripravljalna in zaključna dela, tlačne preizkušnje in vregulacija radiatorskih ventilov, označbe, napisi, primopredajna dokumentacija"]
[null,"komplet","kos",1,null,{"$f":"+E1883*D1883","v":0},{"$f":"+E1883*MM","v":0},{"$f":"+G1883*D1883","v":0},{"$f":"+E1883-G1883","v":0},{"$f":"+I1883*D1883","v":0}]
[]
[15,"Transportni in ostali splošni  stroški","kpl.",1,null,{"$f":"+E1885*D1885","v":0},{"$f":"+E1885*MM","v":0},{"$f":"+G1885*D1885","v":0},{"$f":"+E1885-G1885","v":0},{"$f":"+I1885*D1885","v":0}]
[null,"Skupaj:",null,null,null,{"$f":"SUM(F1839:F1885)","v":0},null,{"$f":"SUM(H1839:H1885)","v":0},null,{"$f":"SUM(J1839:J1885)","v":0}]
[]
[null,"OPOMBE:"]
[null,"Ves material mora biti visoke kakovosti, ustrezati DIN ali SIST. Za material, ki ni po teh predpisih, mora izvajalec predložiti ateste od proizvajalca oz. izjavo o skladnosti"]
[null,"Možno je ponuditi podobno opremo drugega proizvajalca z enakovrednimi "]
[null,"tehničnimi karakteristikami za kar si izvajalec pridobi soglasje."]
[null,"V oceni stroškov niso upoštevani morebitni komunalni prispevki ter potrebna gradbena in električarska dela"]
[null,"Enota cene mora vsebovati:"]
[null,"vsa potrebna pripravljalna dela"]
[null,"vsa potrebna merjenja na objektu vključno tlačni preizkusi z izdelavo zapisnikov"]
[null,"vse potrebne transporte do mesta vgrajevanja"]
[null,"skladiščenje materiala na gradbišču"]
[null,"atestiranje materialov in dokazovanje kvalitete z atesti"]
[null,"vso potrebno delo za dokončanje izdelka"]
[null,"vsa potrebna pomožna sredstva na objektu kot so lestve, odri ..."]
[null,"usklajevanje z osnovnim načrtom in posvetovanje s projektantom "]
[null,"terminsko usklajevanje del z ostalimi izvajalci na objektu"]
[null,"popravilo eventuelne škode povzročene ostalim izvajalcem na gradbišču"]
[null,"čiščenje in odvoz odvečnega materiala v stalno deponijo"]
[null,"plačilo komunalnega prispevka za stalno deponijo odpadnega materiala"]
[null,"Pred izvedbo je potrebno preveriti obstoječe stanje objekta"]

{"sheet":"CDE-REKAP. ELEKTRO INST.","index":92,"n_rows":31,"n_cols":5,"rows_kept":31,"cut":false,"hidden":false,"merged":[]}
["Investitor:   ","Mestna občina Ljubljana"]
[null,"Konzorcij družb Petrol d. d. in Resalta d. o. o. "]
["Objekt:      ","OŠ Savsko naselje, Matjaževa ulica 4, Ljubljana"]
[null," - Celovita prenova objekta s statično, požarno in energetsko sanacijo."]
["Štev. proj.:     "]
["Datum:      ","April 2022"]
[]
[]
[]
[]
[null,"REKAPITULACIJA"]
[null,"ELEKTROINŠTALACIJSKA  DELA objekta C, D in E"]
[]
[]
[null,"Ponudbena vrednost - skupna rekapitulacija","Vrednost  brez popusta","Popust","Vrednost s popustom"]
["A1","RAZSVETLJAVA, MOČNOSTNE INSTALACIJE - SKUPAJ",{"$f":"'CDE-MOČ '!$F$701","v":0},{"$f":"'CDE-MOČ '!$H$701","v":0},{"$f":"'CDE-MOČ '!$J$701","v":0}]
["A2","SKUPAJ  - SIGNALNE IN TELEKOMUNIKACIJSKE INSTALACIJE",{"$f":"'CDE-ŠIBKI TOK '!$F$152","v":0},{"$f":"'CDE-ŠIBKI TOK '!$H$152","v":0},{"$f":"'CDE-ŠIBKI TOK '!$J$152","v":0}]
["A3","SKUPAJ STRELOVODNA INSTALACIJA",{"$f":"'CDE-STRELOVOD'!$F$31","v":0},{"$f":"'CDE-STRELOVOD'!$H$31","v":0},{"$f":"'CDE-STRELOVOD'!$J$31","v":0}]
["A4","CNS SKUPAJ",{"$f":"'CDE-CNS'!$F$225","v":0},{"$f":"'CDE-CNS'!$H$225","v":0},{"$f":"'CDE-CNS'!$J$225","v":0}]
["A5","JAVLJANJE POŽARA SKUPAJ",{"$f":"'CDE-POŽAR'!$F$60","v":0},{"$f":"'CDE-POŽAR'!$H$60","v":0},{"$f":"'CDE-POŽAR'!$J$60","v":0}]
["A6","JAVLJANJE VLOMA SKUPAJ",{"$f":"'CDE-VLOM'!$F$48","v":0},{"$f":"'CDE-VLOM'!$H$48","v":0},{"$f":"'CDE-VLOM'!$J$48","v":0}]
["A7","SISTEM VIDEO NADZORA SKUPAJ",{"$f":"'CDE-VIDEO'!$F$55","v":0},{"$f":"'CDE-VIDEO'!$H$55","v":0},{"$f":"'CDE-VIDEO'!$J$55","v":0}]
["A8","SISTEM KONTROLE PRISTOPA SKUPAJ",{"$f":"'CDE-KONTROLA PRISTOPA'!$F$41","v":0},{"$f":"'CDE-KONTROLA PRISTOPA'!$H$41","v":0},{"$f":"'CDE-KONTROLA PRISTOPA'!$J$41","v":0}]
["A9","SISTEM VIDEODOMOFONA SKUPAJ",{"$f":"'CDE-VIDEOMOFON'!$F$19","v":0},{"$f":"'CDE-VIDEOMOFON'!$H$19","v":0},{"$f":"'CDE-VIDEOMOFON'!$J$19","v":0}]
["A10","MULTIMEDIJA SKUPAJ",{"$f":"'CDE-MULTIMEDIA'!$F$145","v":0},{"$f":"'CDE-MULTIMEDIA'!$H$145","v":0},{"$f":"'CDE-MULTIMEDIA'!$J$145","v":0}]
["A11","OPREMA ŠOLSKEGA OZVOČENJA IN PRIKAZOVANJA ČASA SKUPAJ",{"$f":"'CDE-OZVOČENJE+URE'!$F$40","v":0},{"$f":"'CDE-OZVOČENJE+URE'!$H$40","v":0},{"$f":"'CDE-OZVOČENJE+URE'!$J$40","v":0}]
["A12","NARAVNI ODVOD DIMA IN TOPLOTE TER NARAVNA VENTILACIJA",{"$f":"'CDE-ODT'!$F$17","v":0},{"$f":"'CDE-ODT'!$H$17","v":0},{"$f":"'CDE-ODT'!$J$17","v":0}]
["A13","DEMONTAŽA IN ODVOZ NA DEPONIJO / RECIKLAŽO SKUPAJ",{"$f":"'CDE-RUŠITVE'!$F$77","v":0},{"$f":"'CDE-RUŠITVE'!$H$77","v":0},{"$f":"'CDE-RUŠITVE'!$J$77","v":0}]
[null,"SKUPAJ",{"$f":"SUM(C16:C28)","v":0},{"$f":"SUM(D16:D28)","v":0},{"$f":"SUM(E16:E28)","v":0}]
[null,"22% DDV",null,null,{"$f":"+E29*0.22","v":0}]
[null,"ELEKTROINŠTALACIJSKA  DELA  C + D + E  SKUPAJ Z DDV",null,null,{"$f":"+E29+E30","v":0}]

{"sheet":"CDE-SPLOŠNO","index":93,"n_rows":14,"n_cols":10,"rows_kept":14,"cut":false,"hidden":false,"merged":[]}
[null,"Objekt C, D in E,   ELEKTROINŠTALACIJSKA  DELA"]
[]
["ZAP. ŠT.","OPIS","     ME","KOLIČUNA","CENA/ENOTO","SKUPAJ","POPUST","POPUST SKUPAJ","CENA/ENOTO S POPUSTOM","SKUPAJ S POPUSTOM"]
[]
[null,"SPLOŠNA DOLOČILA"]
[]
[null,"Dobava opreme pomeni dobavo v obsegu, ki omogoča funkcionalno delovanje, vključno z vsem priključnim in pritrdilnim materialom."]
[null,"V popisu so navedeni elektro instalacijski materiali, ki so izbrani zaradi zagotavljanja funkcionalnosti objekta. Dovoljena je uporaba enakovrednih ali boljših rešitev samo s soglasjem investitorja, projektanta in strokovnega nadzora."]
[null,"Montaža opreme pomeni namestitev na način, ki omogoča, da naprava ali element opravlja svojo funkcijo. V ceno so vključeni vsi pripomočki, ki izvajalcu omogočajo montažo (dvigala, odri,…)."]
[null,"V ceno montaže mora biti zajeta uporaba dvižne košare, odrov in ostalih pripomočkov za delo na višini."]
[null,"V ceno mora biti zajeto sprotno vrisovanje sprememb , ki so se izvedle drugače kot je bilo navedeno v PZI dokumentaciji."]
[null,"Vse kable, podane v tehničnem popisu, je izvajalec dolžan obojestransko priključiti (razen če je drugače navedeno)."]
[null,"Vsi elementi, oprema, kabli v razdelilnikih morajo imeti trajne oznake."]
[null,"Ponudba more vsebovati vse manipulativne stroške, stroške transporta, skladiščenja materiala, odvoza odpadkov na deponijo, čiščenja gradbišča (vezano na elektro-inštalacijska dela)."]

{"sheet":"CDE-MOČ ","index":94,"n_rows":701,"n_cols":10,"rows_kept":701,"cut":false,"hidden":false,"merged":[]}
[null,"Objekt C, D in E,   ELEKTROINŠTALACIJSKA  DELA"]
[]
["ZAP. ŠT.","OPIS","     ME","KOLIČUNA","CENA/ENOTO","SKUPAJ","POPUST","POPUST SKUPAJ","CENA/ENOTO S POPUSTOM","SKUPAJ S POPUSTOM"]
[]
["A","PROJEKTANTSKI POPIS ELEKTRIČNIH INSTALACIJ IN OPREME"]
[]
["A1","RAZSVETLJAVA, MOČNOSTNE INSTALACIJE"]
[]
["A1.1","RAZSVETLJAVA"]
[]
[1,"Dobava in montaža svetilke, komplet s sijalko, montažnim priborom in potrebnimi napajalniki:"]
[]
[null,"Opomba: V popisu je zajet material (svetilke, pribor, itd..) proizvajalca INTRA LIGHTING, ponudi se lahko tehnično enakovredne materiale in opremo od drugega proizvajalca!"]
[]
["S1","Vgradna stropna panelna LED svetilka dimenzij: 595x595x95mm.\nSvetlobni vir: PCB LED moduli visoke svetilnosti, LED, CRI > 80, Barva svetlobe 4000K, barvno odstopanje MacAdam ≤ 3, 50.000h L80 B10. Optika: mikro-prizmatična difuzna PMMA optika. Ohišje: jeklena pločevina, prašno barvana. Napajalnik: integriran visoko učinkoviti LED konverter z konstantnim tokom FO. IP zaščita: 55. Svetlobni tok: minimalno 4200lm. Električna poraba: maksimalno 39W.\nSvetilka ima 7 letno jamstvo, kot Intra Lighting"]
[null,"106 OP 4200 lm 39 W 840 FO 597x597 mm IP55 white","kos","0"]
[]
["S2","Nadgradna okrogla LED svetilka, dimenzije: fi600mm.\nMontaža: vgradna (RV. Svetlobni vir: PCB LED moduli visoke svetilnosti, mid-power SMD LED, CRI > 80, barvno odstopanje MacAdam ≤ 3, 50.000h L80 B10. Porazdelitev svetlobnega toka: direkt (S),). Barva svetlobe: 4000K. Optika: satiniran opalni PMMA difuzor (SOP). Ohišje: aluminij, prašno barvan v belo barvo. Prednosti: različne velikosti in barvne kombinacije ohišja. Napajalnik: integriran visoko učinkoviti LED konverter s konstantnim tokom (FO) . IP zaščita: 20. Komplet z materialom za vgradnjo  Svetlobni tok min: 4000lm. Moč max: 41W,Svetilka ima 7 letno jamstvo,  kot Intra lighting"]
[null,"Lona C/S 600 h100 SOP 4000 lm 41 W 840 FO IP20 white","kos","0"]
[]
["S3","Nadgradna okrogla LED svetilka, dimenzije: fi400mm.\nMontaža: vgradna (RV. Svetlobni vir: PCB LED moduli visoke svetilnosti, mid-power SMD LED, CRI > 80, barvno odstopanje MacAdam ≤ 3, 50.000h L80 B10. Porazdelitev svetlobnega toka: direkt (S),). Barva svetlobe: 4000K. Optika: satiniran opalni PMMA difuzor (SOP). Ohišje: aluminij, prašno barvan v belo barvo. Prednosti: različne velikosti in barvne kombinacije ohišja. Napajalnik: integriran visoko učinkoviti LED konverter s konstantnim tokom (FO) . IP zaščita: 20. Komplet z materialom za vgradnjo  Svetlobni tok min: 1650lm. Moč max: 15W,Svetilka ima 7 letno jamstvo,  kot Intra lighting"]
[null,"Lona C/S 400 h100 SOP 1650 lm 15 W 840 FO IP43 white","kos","0"]
[]
["S5","Vgradna stropna linijska LED svetilka dimenzij: 1135x36x65mm.\nSvetlobni vir: PCB LED moduli visoke svetilnosti, CRI > 80, barva svetlobe 4000K, barvno odstopanje MacAdam ≤ 3, 50.000h L80 B10. Optika: satiniran opalni PMMA difuzor. Ohišje: profil iz ekstrudiranega aluminija, prašno barvan v beli barvi. Napajalnik: integriran visoko učinkoviti LED konverter s konstantnim tokom (FO). IP zaščita: 44. Svetlobni tok: minimalno 1350lm. Električna poraba: maksimalno 13W. \nSvetilka ima 7 letno jamstvo.\nKot npr:"]
[null,"Kalis 65 RV SOP 1350 lm 13 W 840 L1135 mm FO IP44 white","kos","0"]
[]
["S5","Vgradna stropna linijska LED svetilka dimenzij: 1135x36x65mm.\nSvetlobni vir: PCB LED moduli visoke svetilnosti, CRI > 80, barva svetlobe 4000K, barvno odstopanje MacAdam ≤ 3, 50.000h L80 B10. Optika: satiniran opalni PMMA difuzor. Ohišje: profil iz ekstrudiranega aluminija, prašno barvan v beli barvi. Napajalnik: integriran visoko učinkoviti LED konverter s konstantnim tokom (FO). IP zaščita: 44. Svetlobni tok: minimalno 1350lm. Električna poraba: maksimalno 13W. \nSvetilka ima 7 letno jamstvo.\nKot npr:"]
[null,"Kalis 65 RV SOP 1350 lm 13 W 840 L1135 mm FO IP44 white","kos","0"]
[]
["S6","Vgradni LED downlighter, okrogle oblike, bele barve, fi220mm.\nMontaža: vgradna. Svetlobni vir: PCB LED moduli visoke svetilnosti, mid-power SMD LED, CRI > 80, barvno odstopanje MacAdam ≤ 3, 50.000h L80 B10. Barva svetlobe 4000K. Optika: Satiniran opalni polikarbonatni difuzor (SOP), Ohišje: Polikarbonat z aluminjastimi hlailnimi režami belo. Napajalnik: LED konverter z regulacijskim izhodom-DALI - ločeno naročanje. IP zaščita: 44. Svetlobni tok min: 1100-2150 lm. Moč max: 6-19W, Potrebno dodati Osram DALIeco controller for touch-dim control. Svetilka ima 7 letno jamstvo. tako kot Intra lighting"]
[null,"Nitor RV SOP 1100-2150 lm 9-19 W 350-750 mA 26 V 840 IP44 white/white","kos","0"]
[]
["S7","Vgradna stropna panelna LED svetilka dimenzij: 595x595x95mm.\nSvetlobni vir: PCB LED moduli visoke svetilnosti, LED, CRI > 80, Barva svetlobe 4000K, barvno odstopanje MacAdam ≤ 3, 50.000h L80 B10. Optika: mikro-prizmatična difuzna PMMA optika. Ohišje: jeklena pločevina, prašno barvana. Napajalnik: integriran visoko učinkoviti LED konverter z konstantnim tokom FO. IP zaščita: 543 Svetlobni tok: minimalno 4200lm. Električna poraba: maksimalno 39W.\nSvetilka ima 7 letno jamstvo, kot Intra Lighting"]
[null,"106 OP 4200 lm 39 W 840 FO 597x597 mm IP43 white","kos","0"]
[]
["S8","Stenska linijska direktnoLED svetilka dimenzij: 1685x36x65mm.\nSvetlobni vir: PCB LED moduli visoke svetilnosti, CRI > 80, barva svetlobe 4000K, barvno odstopanje MacAdam ≤ 3, 50.000h L80 B10. Optika: satiniran opalni  difuzor-SOP. Ohišje: profil iz ekstrudiranega aluminija, prašno barvan v beli barvi. Napajalnik:  integriran visoko učinkoviti LED konverter z konstantnim svetlobnim tokom FO. IP zaščita: 44. Svetlobni tok: minimalno  3000lm. Električna poraba: maksimalno 28W. komplet z  priborom za stensko montažo\nSvetilka ima 7 letno jamstvo."]
[null,"Kalis 55 W SOP 3000 lm 28 W 840 L1685 mm FO IP44 white","kos","0"]
[]
["S9","Nadgradna stropna  LED svetilka dimenzij: 240x1281x55mm.\nSvetlobni vir: PCB LED moduli visoke svetilnosti, LED, CRI > 80, Barva svetlobe 4000K, barvno odstopanje MacAdam ≤ 3, 50.000h L80 B10. Optika: HMP optika. Ohišje: jeklena pločevina, prašno barvana. Napajalnik: integriran visoko učinkoviti LED konverter z konstantnim tokom FO. IP zaščita: IP20 Svetlobni tok: minimalno 3600lm. Električna poraba: maksimalno 31W.\nSvetilka ima 7 letno jamstvo, kot Intra Lighting"]
[null,"Miva C/S 240 HMP 3600 lm 31 W 840 FO L1281mm white","kos","0"]
[]
["S10","Viseča linijska direktno-indirektna LED svetilka dimenzij: 3096x70x88mm.\nSvetlobni vir: PCB LED moduli visoke svetilnosti, CRI > 80, barva svetlobe 4000K, barvno odstopanje MacAdam ≤ 3, 50.000h L80 B10. Optika: satiniran opalni  SOP difuzor. Ohišje: profil iz ekstrudiranega aluminija, prašno barvan v beli barvi. Napajalnik:  integriran visoko učinkoviti LED konverter z regulacijskim izhodom DALI . IP zaščita: 20. Skupni svetlobni tok: miimalno 5900lm. Električna poraba: maksimalno 50W. komplet z obešalnim priborom za visečo montažo. Potrebno dodati Osram DALIeco controller for touch-dim control.\nSvetilka ima 7 letno jamstvo, kot Intra Lighting"]
[null,"Gyon C/S SOP 5900 lm 50 W 840 L3096 mm DALI IP43 white","kos","0"]
[]
["S11","Viseča  linijska LED svetilka dimenzij: 1685x36x65mm.\nSvetlobni vir: PCB LED moduli visoke svetilnosti, CRI > 80, barva svetlobe 4000K, barvno odstopanje MacAdam ≤ 3, 50.000h L80 B10. Optika: satiniran opalni  difuzor-SOP. Ohišje: profil iz ekstrudiranega aluminija, prašno barvan v beli barvi. Napajalnik:  integriran visoko učinkoviti LED konverter z regulacijskim izhodom DALI. IP zaščita: 43. Svetlobni tok: minimalno  3000lm. Električna poraba: maksimalno 28W. komplet z  priborom za visečo montažo.Potrebno dodati Osram DALIeco controller for touch-dim control.\nSvetilka ima 7 letno jamstvo."]
[null,"Kalis 65 C/S SOP 3000 lm 28 W 840 L1685 mm DALI IP43 white",1,"0"]
["S12","Viseča  linijska direktno-indirektna LED svetilka dimenzij: 2245x36x65mm.\nSvetlobni vir: PCB LED moduli visoke svetilnosti, CRI > 80, barva svetlobe 4000K, barvno odstopanje MacAdam ≤ 3, 50.000h L80 B10. Optika: satiniran opalni  difuzor-SOP. Ohišje: profil iz ekstrudiranega aluminija, prašno barvan v beli barvi. Napajalnik:  integriran visoko učinkoviti LED konverter z konstantnim tokom FO. IP zaščita: 20. Svetlobni tok: minimalno  4100+3700lm. Električna poraba: maksimalno 71W. komplet z  priborom za visečo montažo.\nSvetilka ima 7 letno jamstvo."]
[null,"Kalis 65 SDI SOP 4100+3700 lm 71 W 840 L2245 mm FO IP20 white","kos","0"]
[]
["S13","Nadgradna industrijska LED svetilka dimenzij: 1277x101x84mm.\nSvetlobni vir: PCB LED moduli visoke svetilnosti, mid-power SMD LED, CRI > 80, barva svetlobe 4000K. Barvno odstopanje MacAdam ≤ 3, 50.000h L80 B10. Optika: satiniran opalni polikarbonatni prosojnik. Ohišje: polikarbonat. Napajalnik: integriran visoko učinkoviti LED konverter s konstantnim tokom. IP zaščita: 66. Komplet stropnih nosilcev. Svetlobni tok: minimalno 3200lm. Električna poraba: maksimalno 27W. \nSvetilka ima 7 letno jamstvo,                                                                                                                                  tako kot Intra Lighting"]
[null,"5700 3200lm 27W 840 1277mm FO IP66","kos","0"]
["S14","Nadgradna okrogla LED svetilka, dimenzije: fi400mm.\nMontaža: vgradna (RV. Svetlobni vir: PCB LED moduli visoke svetilnosti, mid-power SMD LED, CRI > 80, barvno odstopanje MacAdam ≤ 3, 50.000h L80 B10. Porazdelitev svetlobnega toka: direkt (S),). Barva svetlobe: 4000K. Optika: satiniran opalni PMMA difuzor (SOP). Ohišje: aluminij, prašno barvan v belo barvo. Prednosti: različne velikosti in barvne kombinacije ohišja. Napajalnik: integriran visoko učinkoviti LED konverter s konstantnim tokom (FO) . IP zaščita: 20. Komplet z materialom za vgradnjo  Svetlobni tok min: 2700lm. Moč max: 25W,Svetilka ima 7 letno jamstvo,  kot Intra lighting"]
[null,"Lona C/S 400 h100 SOP 2700 lm 25 W 840 FO IP43 white","kos","0"]
[]
["S15","Nadgradna stropna LED svetilka okrogle oblike dimenzije: Φ285x103mm, sveti tudi indirektno po stropu. Svetlobni vir:  PCB LED moduli visoke svetilnosti, CRI > 80, barva svetlobe 4000K. Barvno odstopanje MacAdam ≤ 3, 50.000h L80 B10. Optika: satiniran opalni polikarbonatni prosojnik. Ohišje: polikarbonat. Napajalnik: integriran visoko učinkoviti LED konverter s konstantnim tokom. IP zaščita: 65. Svetlobni tok: minimalno 1950lm. Električna poraba: maksimalno 14W.\nSvetilka ima 7 letno jamstvo."]
[null,"Etea DF 1950 lm 14 W 840 FO IP65 white","kos","0"]
["S16","Nadgradna industrijska LED svetilka dimenzij: 1277x101x84mm.\nSvetlobni vir: PCB LED moduli visoke svetilnosti, mid-power SMD LED, CRI > 80, barva svetlobe 4000K. Barvno odstopanje MacAdam ≤ 3, 50.000h L80 B10. Optika: satiniran opalni polikarbonatni prosojnik. Ohišje: polikarbonat. Napajalnik: integriran visoko učinkoviti LED konverter s konstantnim tokom. IP zaščita: 66 Polar. Komplet stropnih nosilcev. Svetlobni tok: minimalno 4300lm. Električna poraba: maksimalno 33W. \nSvetilka ima 7 letno jamstvo,                                                                                                                                  tako kot Intra Lighting"]
[null,"5700 Polar 25 4300 lm 33 W 840 FO L1277mm IP66","kos","0"]
[]
["S17","Nadgradna linijska LED svetilka dimenzij: 3085x36x65mm.\nSvetlobni vir: PCB LED moduli visoke svetilnosti, CRI > 80, barva svetlobe 4000K, barvno odstopanje MacAdam ≤ 3, 50.000h L80 B10. Optika: satiniran opalni  difuzor-SOP. Ohišje: profil iz ekstrudiranega aluminija, prašno barvan v beli barvi. Napajalnik:  integriran visoko učinkoviti LED konverter z konstantnim tokom FO. IP zaščita: 43. Svetlobni tok: minimalno  3800lm. Električna poraba: maksimalno 33W. komplet z  priborom za stropno montažo\nSvetilka ima 7 letno jamstvo."]
[null,"Kalis 65 C/S SOP 3800 lm 33 W 840 L3085 mm FO IP43 white","kos","0"]
[null,"MIDNA monod. LED 8W NW -788lm 11W 4000K IP66 White","kos","0"]
["S20","Stenska linijska direktno-indirektna LED svetilka dimenzij: 1125x36x65mm.\nSvetlobni vir: PCB LED moduli visoke svetilnosti, CRI > 80, barva svetlobe 4000K, barvno odstopanje MacAdam ≤ 3, 50.000h L80 B10. Optika: satiniran opalni  difuzor-SOP. Ohišje: profil iz ekstrudiranega aluminija, prašno barvan v beli barvi. Napajalnik:  integriran visoko učinkoviti LED konverter z regulacijskim izhodom DALI. IP zaščita: 40. Svetlobni tok: minimalno skupaj 2050+2100lm. Električna poraba: maksimalno 37W. komplet s priborom za stensko montažo\nSvetilka ima 7 letno jamstvo, kot Intra Lighting"]
["S18","Stenska nadgradna svetilka dimenzij Φ250*90mm  Svetlobni vir: COB LED modul visoke svetilnosti, CRI > 80, barva svetlobe 3000K. Barvno odstopanje MacAdam ≤ 3, 50.000h L80 B10. Optika: Reflektorska optika z enakomerno porazdelitvijo svetlobe. Ohišje: aluminij, prašno barvan v beli barvi. Napajalnik integriran v svetilki . IP zaščita: 66. Svetlobni tok: minimalno 788 lm. Električna poraba: maksimalno 4-8W.tako  kot"]
[null,"Kalis 65 WDI SOP 2050+2100 lm 37 W 840 L1125 mm DALI IP40 white","kos","0"]
[]
["S21","Nadgradna  linijska LED svetilka dimenzij: 1125x36x65mm.\nSvetlobni vir: PCB LED moduli visoke svetilnosti, CRI > 80, barva svetlobe 4000K, barvno odstopanje MacAdam ≤ 3, 50.000h L80 B10. Optika: satiniran opalni  difuzor-SOP. Ohišje: profil iz ekstrudiranega aluminija, prašno barvan v beli barvi. Napajalnik:  integriran visoko učinkoviti LED konverter z konstantnim tokom FO.  IP zaščita: 43. Svetlobni tok: minimalno  1350lm. Električna poraba: maksimalno 13W. komplet z  priborom za stropno montažo.\nSvetilka ima 7 letno jamstvo."]
[null,"Kalis 65 C/S SOP 1350 lm 13 W 840 L1125 mm FO IP43 white","kos","0"]
[]
[]
[null,"Svetilka varnostne razsvetljave"]
[]
[2,"Dobava in montaža svetilke, komplet s sijalko, montažnim priborom in potrebnimi napajalniki:"]
[]
[null,"Opomba: V popisu je zajet material (varnostne svetilke, pribor, itd..) proizvajalca INTRA LIGHTING, ponudi se lahko tehnično enakovredne materiale in opremo od drugega proizvajalca!"]
[]
["Z1","Svetilka varnostne razsvetljave kot AXP escape route optic 1W LED 150 lm PREMIUM IP65/IP20 1h battery maintained/non-maintained with autotest white color<>","kos",43,null,{"$f":"+E77*D77","v":0},{"$f":"+E77*MM","v":0},{"$f":"+G77*D77","v":0},{"$f":"+E77-G77","v":0},{"$f":"+I77*D77","v":0}]
[]
["Z2","Svetilka varnostne razsvetljave kot  AXP escape route optic 1W LED 150 lm PREMIUM IP65/IP20 1h battery,maintained/non-maintained with autotest white color<>","kos",20,null,{"$f":"+E79*D79","v":0},{"$f":"+E79*MM","v":0},{"$f":"+G79*D79","v":0},{"$f":"+E79-G79","v":0},{"$f":"+I79*D79","v":0}]
[]
["Z3","Svetilka varnostne razsvetljave kot:AXN escape route optic 1W LED 150 lm PREMIUM IP65 1h battery, maintained/non-maintained with autotest white color","kos",28,null,{"$f":"+E81*D81","v":0},{"$f":"+E81*MM","v":0},{"$f":"+G81*D81","v":0},{"$f":"+E81-G81","v":0},{"$f":"+I81*D81","v":0}]
[]
["Z4","Svetilka varnostne razsvetljave kot EXIT 1W LED 135 lm PREMIUM IP65 1h battery maintained/non-maintained,with autotest white color","kos",7,null,{"$f":"+E83*D83","v":0},{"$f":"+E83*MM","v":0},{"$f":"+G83*D83","v":0},{"$f":"+E83-G83","v":0},{"$f":"+I83*D83","v":0}]
[]
["Z5","Svetilka varnostne razsvetljave kot:INFINITY II AC 1W LED PREMIUM IP41 1h battery maintained/nonmaintained, with autotest white color, komplet z Piktogramom P25 in P26","kos",24,null,{"$f":"+E85*D85","v":0},{"$f":"+E85*MM","v":0},{"$f":"+G85*D85","v":0},{"$f":"+E85-G85","v":0},{"$f":"+I85*D85","v":0}]
[]
["Z6","Svetilka varnostne razsvetljave kot:INFINITY II BW downlight illumination 3W LED 80 lm PREMIUM IP41 1h, battery maintained/non-maintained with autotest, white, komplet s piktogramom PB61","kos",12,null,{"$f":"+E87*D87","v":0},{"$f":"+E87*MM","v":0},{"$f":"+G87*D87","v":0},{"$f":"+E87-G87","v":0},{"$f":"+I87*D87","v":0}]
[]
["Z7","Svetilka varnostne razsvetljave kot:ARROW N 1W LED PREMIUM IP41 1h battery maintained/non-maintained,with autotest white color","kos",8,null,{"$f":"+E89*D89","v":0},{"$f":"+E89*MM","v":0},{"$f":"+G89*D89","v":0},{"$f":"+E89-G89","v":0},{"$f":"+I89*D89","v":0}]
[]
[null,"Svetilka zunanje razsvetljave"]
[]
[3,"Dobava in montaža svetilke, komplet s sijalko, montažnim priborom in potrebnimi napajalniki:"]
[]
[null,"Opomba: V popisu je zajet material (svetilke, pribor, itd..) proizvajalca PHILIPS, ponudi se lahko tehnično enakovredne materiale in opremo od drugega proizvajalca!"]
[]
["S101","Dekorativna urbana svetilka, zaščitena pred prahom in vlago IP66, zaščitena proti udarcem IK09, ohšje iz tlačno ulitega aluminija, UV stabilen difuzor za povečano udobje, natik navpično na kandelaber 62mm do 76mm, silikonsko tesnilo, kabelska uvodnica z oddušnikom za izenačevanje tlaku, temperaturna zaščita napajalnika in LED modula, v primeru pregretja se zniža svetlobni tok, ali se svetilka ugasne. Možnost zamenjave led modula ali napajalnika. Možnosti dodajanja vizualnih dodatkov. Svetobni tok svetilke 2369 lm, priključa moč svetilke 21 W, življenjska doba 100.000ur, barvna temperatura 3000K, indeks barvnega videza 70, samostojna redukcija svetlobnega toka.","kos",6,null,{"$f":"+E97*D97","v":0},{"$f":"+E97*MM","v":0},{"$f":"+G97*D97","v":0},{"$f":"+E97-G97","v":0},{"$f":"+I97*D97","v":0}]
[null,"Oznaka svetilke: TownTune Asymmetric BDP265 LED30-4S/730 DW50 DDF2"]
[]
["S102","Dekorativna urbana svetilka, zaščitena pred prahom in vlago IP66, zaščitena proti udarcem IK09, ohšje iz tlačno ulitega aluminija, UV stabilen difuzor za povečano udobje, natik navpično 48mm do 62mm ali s strani na kandelaber debeline 32mm do 48mm, silikonsko tesnilo, kabelska uvodnica z oddušnikom za izenačevanje tlaku, temperaturna zaščita napajalnika in LED modula, v primeru pregretja se zniža svetlobni tok, ali se svetilka ugasne. Možnost zamenjave led modula ali napajalnika. Možnosti dodajanja vizualnih dodatkov. Svetobni tok svetilke 2844 lm, priključa moč svetilke 23 W, življenjska doba 100.000ur, barvna temperatura 3000K, indeks barvnega videza 70, samostojna redukcija svetlobnega toka.","kos",2,null,{"$f":"+E100*D100","v":0},{"$f":"+E100*MM","v":0},{"$f":"+G100*D100","v":0},{"$f":"+E100-G100","v":0},{"$f":"+I100*D100","v":0}]
[null,"Oznaka svetilke: TownTune Asymmetric BDP265 LED35-4S/730 DX50 DDF2"]
[]
[]
["K101","Dobava in montaža kandelabra višine 5m, komplet s sidri in montažnim priborom","kos",6,null,{"$f":"+E104*D104","v":0},{"$f":"+E104*MM","v":0},{"$f":"+G104*D104","v":0},{"$f":"+E104-G104","v":0},{"$f":"+I104*D104","v":0}]
[]
["K102","Dobava in montaža kandelabra višine 7m, komplet s sidri in montažnim priborom","kos",2,null,{"$f":"+E106*D106","v":0},{"$f":"+E106*MM","v":0},{"$f":"+G106*D106","v":0},{"$f":"+E106-G106","v":0},{"$f":"+I106*D106","v":0}]
[]
[null,"Gradbena dela za zunanjo razsvetljavo"]
[]
[4,"Strojni in deloma ročni izkop kabelskega kanala v nepovoznih površinah dim 0,4 x 0,9 m, izdelava podloge iz peska 0-3mm v sloju 31 cm, dobava in polaganje 1x stigmafleks cevi premera 110 mm (vključno z distančniki, čepi, tesnili, koleni, ...) v sredini peska,  zasip z izkopanom materialom ter nabijanje v slojih po 20 cm, dobava in polaganje ozemljilnega valjanca in PVC opozorilnega traku, izdelava vrhne plasti (humos, plošče, tlakovci, asfalt...), nakladanje in odvoz materiala na stalno deponijo po izboru izvajalca z vsemi stroški deponiranja, komplet","m",190,null,{"$f":"+E110*D110","v":0},{"$f":"+E110*MM","v":0},{"$f":"+G110*D110","v":0},{"$f":"+E110-G110","v":0},{"$f":"+I110*D110","v":0}]
[]
["B101","Dobava, montaža, izvedba, betonskega podstavka za kandelaber višine 5 m, komplet z izkopom in betoniranjem, ter odvozom odvečnega materiala na deponijo.","kos",6,null,{"$f":"+E112*D112","v":0},{"$f":"+E112*MM","v":0},{"$f":"+G112*D112","v":0},{"$f":"+E112-G112","v":0},{"$f":"+I112*D112","v":0}]
[]
["B101","Dobava, montaža, izvedba, betonskega podstavka za kandelaber višine 5 m, komplet z izkopom in betoniranjem, ter odvozom odvečnega materiala na deponijo.","kos",2,null,{"$f":"+E114*D114","v":0},{"$f":"+E114*MM","v":0},{"$f":"+G114*D114","v":0},{"$f":"+E114-G114","v":0},{"$f":"+I114*D114","v":0}]
[]
[]
[null,"Dali krmilje razsvetljave"]
[]
[5,"Dobava in montaža 2-kanalnega DALI krmilnika razsvetljave, komplet z dozo; (kot npr: Dali Eco Controler)","kos",10,null,{"$f":"+E119*D119","v":0},{"$f":"+E119*MM","v":0},{"$f":"+G119*D119","v":0},{"$f":"+E119-G119","v":0},{"$f":"+I119*D119","v":0}]
[]
[]
["A1.1","SKUPAJ RAZSVETLJAVA",null,null,null,{"$f":"SUM(F16:F121)","v":0},null,{"$f":"SUM(H16:H121)","v":0},null,{"$f":"SUM(J16:J121)","v":0}]
[]
["A1.2","MOČNOSTNE INSTALACIJE"]
[]
[1,"Dobava in montaža kabelskega kanala širine 100mm. Kabelska kanalizacija se izdela skladno z navodili proizvajalca kot npr. BAKS in je sestavljena iz:","m",25,null,{"$f":"+E126*D126","v":0},{"$f":"+E126*MM","v":0},{"$f":"+G126*D126","v":0},{"$f":"+E126-G126","v":0},{"$f":"+I126*D126","v":0}]
[null," - kabelski kanal KFL100H60/3"]
[null," - koleno 90º KKPFJ100H60"]
[null," - odcepni kos TKDFJ100H60"]
[null," - profil CMC40H40 dolžine 2m, 1 kos/1,5m"]
[null," - konzola WWT400, 1 kos/1,5m"]
[null," - vijak SMHM10x30, 2 kosa/konzolo"]
[null," - podložka PP10, 2 kosa/konzolo"]
[null,"  - matica NSM10, 2 kosa/konzolo"]
[null," - garnitura vijakov SGKM6x10, 2 kosa/konzolo"]
[null," - podložkam PW6, 2 kosa/konzolo"]
[null," - zidni vložkek PSRM10x65, 2 kosa/profil CMC"]
[]
[2,"Dobava in montaža kabelskega kanala širine 200mm. Kabelska kanalizacija se izdela skladno z navodili proizvajalca kot npr. BAKS in je sestavljena iz:","m",250,null,{"$f":"+E139*D139","v":0},{"$f":"+E139*MM","v":0},{"$f":"+G139*D139","v":0},{"$f":"+E139-G139","v":0},{"$f":"+I139*D139","v":0}]
[null," - kabelski kanal KFL200H60/3"]
[null," - koleno 90º KKPFJ200H60"]
[null," - odcepni kos TKDFJ200H60"]
[null," - profil CMC40H40 dolžine 2m, 1 kos/1,5m"]
[null," - konzola WWT500, 1 kos/1,5m"]
[null," - vijak SMHM10x30, 2 kosa/konzolo"]
[null," - podložka PP10, 2 kosa/konzolo"]
[null,"  - matica NSM10, 2 kosa/konzolo"]
[null," - garnitura vijakov SGKM6x10, 2 kosa/konzolo"]
[null," - podložkam PW6, 2 kosa/konzolo"]
[null," - zidni vložkek PSRM10x65, 2 kosa/profil CMC"]
[]
[3,"Dobava in montaža kabelskega kanala širine 300mm. Kabelska kanalizacija se izdela skladno z navodili proizvajalca kot npr. BAKS in je sestavljena iz:","m",20,null,{"$f":"+E152*D152","v":0},{"$f":"+E152*MM","v":0},{"$f":"+G152*D152","v":0},{"$f":"+E152-G152","v":0},{"$f":"+I152*D152","v":0}]
[null," - kabelski kanal KGL300H60/3"]
[null," - koleno 90º KKPJ300H60"]
[null," - odcepni kos TKDJ300H60"]
[null," - profil CMC40H40 dolžine 2m, 1 kos/1,5m"]
[null," - konzola WWT600, 1 kos/1,5m"]
[null," - vijak SMHM10x30, 2 kosa/konzolo"]
[null," - podložka PP10, 2 kosa/konzolo"]
[null,"  - matica NSM10, 2 kosa/konzolo"]
[null," - garnitura vijakov SGKM6x10, 2 kosa/konzolo"]
[null," - podložkam PW6, 2 kosa/konzolo"]
[null," - zidni vložkek PSRM10x65, 2 kosa/profil CMC"]
[]
[4,"Dobava in montaža kabelskega kanala širine 400mm. Kabelska kanalizacija se izdela skladno z navodili proizvajalca kot npr. BAKS in je sestavljena iz:","m",40,null,{"$f":"+E165*D165","v":0},{"$f":"+E165*MM","v":0},{"$f":"+G165*D165","v":0},{"$f":"+E165-G165","v":0},{"$f":"+I165*D165","v":0}]
[null," - kabelski kanal KGL400H60/3"]
[null," - koleno 90º KKPJ400H60"]
[null," - odcepni kos TKDJ400H60"]
[null," - profil CMC40H40 dolžine 2m, 1 kos/1,5m"]
[null," - konzola WWT700, 1 kos/1,5m"]
[null," - vijak SMHM10x30, 2 kosa/konzolo"]
[null," - podložka PP10, 2 kosa/konzolo"]
[null,"  - matica NSM10, 2 kosa/konzolo"]
[null," - garnitura vijakov SGKM6x10, 2 kosa/konzolo"]
[null," - podložkam PW6, 2 kosa/konzolo"]
[null," - zidni vložkek PSRM10x65, 2 kosa/profil CMC"]
[]
[5,"Dobava in montaža  dvižnega voda širine 200mm. Dvižni vod se izdela skladno z navodili proizvajalca kot npr. BAKS in je sestavljen iz: ","m",15,null,{"$f":"+E178*D178","v":0},{"$f":"+E178*MM","v":0},{"$f":"+G178*D178","v":0},{"$f":"+E178-G178","v":0},{"$f":"+I178*D178","v":0}]
[null," - kabelska leste DUP200H60"]
[null," - ravna spojka LDOCH60, 2 kosa /3m"]
[null," - kotni nosilec UTMO, 2kosa/1,5m"]
[null," - garnitura vijakov SGKM8x14, 8kosov/spojko + 1kos/nosilec"]
[null," - zidni vložkek PSRM10x65, 2 kosa/kotni nosilec"]
[null," - ločna objemka UKO1 (ustrezne dimenzije)"]
[null," - pokrov PDDP200"]
[null," - zapiralo pokrova, 2kosa/m"]
[null," - garnitura vijakov SGKM6x10, 2 kosa/konzolo"]
[null," - podložkam PW6, 2 kosa/konzolo"]
[]
[6,"Dobava in montaža parapetnega kanala , kot npr ELBA AT 155/72","m",22,null,{"$f":"+E190*D190","v":0},{"$f":"+E190*MM","v":0},{"$f":"+G190*D190","v":0},{"$f":"+E190-G190","v":0},{"$f":"+I190*D190","v":0}]
[]
[7,"Dobava in montaža talne doze, komplet z dozo za vgradnjo in pokrovom","kpl",10,null,{"$f":"+E192*D192","v":0},{"$f":"+E192*MM","v":0},{"$f":"+G192*D192","v":0},{"$f":"+E192-G192","v":0},{"$f":"+I192*D192","v":0}]
[]
[8,"Dobava in montaža stikal, tipkal, senzorjev,  komplet  z montažno razvodnico"]
["-","stikalo navadno p/o, 10A","kos",32,null,{"$f":"+E195*D195","v":0},{"$f":"+E195*MM","v":0},{"$f":"+G195*D195","v":0},{"$f":"+E195-G195","v":0},{"$f":"+I195*D195","v":0}]
["-","stikalo izmenično p/o, 10A","kos",18,null,0,0,0,0,0]
["-","stikalo serijsko p/o, 10A","kos",2,null,0,0,0,0,0]
["-","tipka p/o, 10A","kos",22,null,0,0,0,0,0]
["-","tipka gor/dol p/o, 10A","kos",9,null,0,0,0,0,0]
["-","senzor prisotnosti in svetlobe 360°, kot npr. CP elektronics EBDSM, 10A","kos",26,null,0,0,0,0,0]
["-","senzor gibanja in svetlobe 180°, kot npr. STEINEL IS 180-2, 10A","kos",6,null,0,0,0,0,0]
["-","senzor gibanja in svetlobe 360°, kot npr. STEINEL IS 2360 DE ECO, 10A","kos",18,null,0,0,0,0,0]
["-","tipkalo za izklop v sili (gobica) v tehnoloških učilnicah - ocena (Opomba: V fazi projektiranja ni bila znana tehnološka oprema učilnic, zato je lahko število tipk za izklop v sili različno od dejansko potrebnega števila oz. zahteve!)","kos",2,null,0,0,0,0,0]
[]
[9,"Dobava in montaža vtičnic,  komplet  z montažno razvodnico"]
["-","enofazna šuko vtičnica 230V, 16A, IP20 podometne izvedbe","kos",49,null,{"$f":"+E206*D206","v":0},{"$f":"+E206*MM","v":0},{"$f":"+G206*D206","v":0},{"$f":"+E206-G206","v":0},{"$f":"+I206*D206","v":0}]
["-","enofazna šuko vtičnica 230V, 16A, IP20 nadometne izvedbe","kos",40,null,0,0,0,0,0]
["-","enofazna šuko vtičnica 230V s pokrovčkom, 16A, IP44 podometne izvedbe","kos",9,null,0,0,0,0,0]
["-","enofazna šuko vtičnica 230V s varnostnim mehanizmom, 16A, IP20 podometne izvedbe","kos",75,null,0,0,0,0,0]
["-","enofazna dvojna šuko vtičnice 230V, 16A, IP20, podometne izvedbe","kos",1,null,0,0,0,0,0]
["-","enofazna dvojna šuko vtičnice 230V s varnostnim mehanizmom, 16A, IP20, podometne izvedbe","kos",9,null,0,0,0,0,0]
["-","enofazna šuko vtičnice 230V, 16A, IP20, za vgradnjo v parapetni kanal, talno dozo","kos",6,null,0,0,0,0,0]
["-","enofazna šuko vtičnice 230V - dvojna, 16A, IP20, za vgradnjo v parapetni kanal, talno dozo","kos",40,null,0,0,0,0,0]
["-","enofazna šuko vtičnica 230V s pokrovčkom, 16A, IP44 za kuhinjo\n (Kot npr: Mennekes model 4972)","kos",11,null,0,0,0,0,0]
["-","trefazna vtičnica 400V s pokrovčkom, 16A, IP44 za kuhinjo\n (Kot npr: Mennekes model 4125)","kos",7,null,0,0,0,0,0]
["-","trefazna vtičnica 400V s pokrovčkom, 16A, IP44 za delavnico","kos",1,null,0,0,0,0,0]
[]
[10,"Dobava in montaža elektro elementov za p/o, komplet  z montažno razvodnico:"]
["-","razvodnica za dodatno izenačitev potenciala (DIP),\nkomplet z ozemljitveno letvico","kos",6,null,{"$f":"+E219*D219","v":0},{"$f":"+E219*MM","v":0},{"$f":"+G219*D219","v":0},{"$f":"+E219-G219","v":0},{"$f":"+I219*D219","v":0}]
["-","fiksni prlikop","kos",25,null,{"$f":"+E220*D220","v":0},{"$f":"+E220*MM","v":0},{"$f":"+G220*D220","v":0},{"$f":"+E220-G220","v":0},{"$f":"+I220*D220","v":0}]
["-","razvodnica s pokrovom","kos",60,null,{"$f":"+E221*D221","v":0},{"$f":"+E221*MM","v":0},{"$f":"+G221*D221","v":0},{"$f":"+E221-G221","v":0},{"$f":"+I221*D221","v":0}]
[]
[11,"Izcedba spoja izenačitve potenciala:"]
["-","komplet z vijakam matico, zobato podložko","kos",150,null,{"$f":"+E224*D224","v":0},{"$f":"+E224*MM","v":0},{"$f":"+G224*D224","v":0},{"$f":"+E224-G224","v":0},{"$f":"+I224*D224","v":0}]
["-","komplet izvadba z varjenjem","kos",25,null,{"$f":"+E225*D225","v":0},{"$f":"+E225*MM","v":0},{"$f":"+G225*D225","v":0},{"$f":"+E225-G225","v":0},{"$f":"+I225*D225","v":0}]
[]
[12,"Dobava in polaganje kabla, položenega delno v betonu, delno pod ometom, delno nad ometom v PN cevi, delno v kabelskem jašku in delono po kabelskih policah. Instalacijski kabli morajo ustrezati standardu VDE 0250 del 204"]
["-","LiHCH 2x0,75","m",100,null,{"$f":"+E228*D228","v":0},{"$f":"+E228*MM","v":0},{"$f":"+G228*D228","v":0},{"$f":"+E228-G228","v":0},{"$f":"+I228*D228","v":0}]
["-","LiHCH 3x0,75","m",100,null,0,0,0,0,0]
["-","LiHCH 8x0,75","m",50,null,0,0,0,0,0]
["-","LiHCH 6x0,75","m",50,null,0,0,0,0,0]
["-","ÖLFLEX 110 H 2x0,75 mm²","m",100,null,0,0,0,0,0]
["-","ÖLFLEX 110 H 3x0,75 mm²","m",50,null,0,0,0,0,0]
["-","ÖLFLEX 110 H 3G1,5 mm²","m",50,null,0,0,0,0,0]
["-","ÖLFLEX 110 H 3G1,5 mm²","m",50,null,0,0,0,0,0]
["-","ÖLFLEX 110 H 4G1,5 mm²","m",50,null,0,0,0,0,0]
["-","ÖLFLEX 110 H 5G2,5 mm²","m",10,null,0,0,0,0,0]
["-","ÖLFLEX 100 H 3x1,5 mm²","m",50,null,0,0,0,0,0]
["-","ÖLFLEX 100 H 3x2,5 mm²","m",10,null,0,0,0,0,0]
["-","ÖLFLEX 100 H 5x2,5 mm²","m",10,null,0,0,0,0,0]
["-","NHXMH-2x1,5 mm²","m",150,null,0,0,0,0,0]
["-","NHXMH-J 3x1,5 mm²","m",3450,null,0,0,0,0,0]
["-","NHXMH-J 5x1,5 mm²","m",600,null,0,0,0,0,0]
["-","NHXMH-J 3x2,5 mm²","m",2660,null,0,0,0,0,0]
["-","NHXMH-J 5x2,5 mm²","m",1550,null,0,0,0,0,0]
["-","N2XH-J 3x6 mm²","m",220,null,0,0,0,0,0]
["-","NHXMH-J 5x6 mm²","m",150,null,0,0,0,0,0]
["-","NHXMH-J 5x16 mm²","m",20,null,0,0,0,0,0]
["-","NHXMH-J 5x25 mm²","m",30,null,0,0,0,0,0]
["-","N2XH 4x50mm²","m",10,null,0,0,0,0,0]
["-","N2XH 4x95mm²","m",50,null,0,0,0,0,0]
[null,"N2XH 4x150mm²","m",50,null,0,0,0,0,0]
[null,"N2XH 4x185mm²","m",10,null,0,0,0,0,0]
["-","HO7Z-K-6 mm²","m",390,null,0,0,0,0,0]
["-","HO7Z-K-16 mm²","m",140,null,0,0,0,0,0]
["-","HO7Z-K-1x35 mm²","m",55,null,0,0,0,0,0]
["-","JH(St)H 1x2x0,8mm²","m",120,null,0,0,0,0,0]
["-","JH(St)H 2x2x0,8mm²","m",100,null,0,0,0,0,0]
["-","S-FTP CAT.6","m",260,null,0,0,0,0,0]
[]
[13,"Požarnovarni kabli, komplet s požarnim pritrdilnim in obešalnim priborom za polaganje (požarne objemke). Požarnovarni kabli morejo ustrezati standardu VDE 0250 T. 204"]
[]
["-","NHXH-J FE180/E30 3x1,5 mm2","m",100,null,{"$f":"+E263*D263","v":0},{"$f":"+E263*MM","v":0},{"$f":"+G263*D263","v":0},{"$f":"+E263-G263","v":0},{"$f":"+I263*D263","v":0}]
["-","JE-H(St)H FE180/E30 2x2x0,8 mm2","m",50,null,{"$f":"+E264*D264","v":0},{"$f":"+E264*MM","v":0},{"$f":"+G264*D264","v":0},{"$f":"+E264-G264","v":0},{"$f":"+I264*D264","v":0}]
[]
[14,"Dobava, montaža in polaganje instalacijskega materiala"]
[]
["-","prazna I.C. cev 16mm","m",4500,null,{"$f":"+E268*D268","v":0},{"$f":"+E268*MM","v":0},{"$f":"+G268*D268","v":0},{"$f":"+E268-G268","v":0},{"$f":"+I268*D268","v":0}]
["-","prazna I.C. cev 32mm","m",750,null,{"$f":"+E269*D269","v":0},{"$f":"+E269*MM","v":0},{"$f":"+G269*D269","v":0},{"$f":"+E269-G269","v":0},{"$f":"+I269*D269","v":0}]
["-","prazna I.C. cev 50mm","m",170,null,{"$f":"+E270*D270","v":0},{"$f":"+E270*MM","v":0},{"$f":"+G270*D270","v":0},{"$f":"+E270-G270","v":0},{"$f":"+I270*D270","v":0}]
["-","Mapitel. cev 50mm","m",120,null,{"$f":"+E271*D271","v":0},{"$f":"+E271*MM","v":0},{"$f":"+G271*D271","v":0},{"$f":"+E271-G271","v":0},{"$f":"+I271*D271","v":0}]
["-","Mapitel. cev 75mm","m",75,null,{"$f":"+E272*D272","v":0},{"$f":"+E272*MM","v":0},{"$f":"+G272*D272","v":0},{"$f":"+E272-G272","v":0},{"$f":"+I272*D272","v":0}]
[]
[]
[null,"RAZDELILNIKI"]
[]
[null,"Opomba: \nMerilno priključni razdelilnik R-SPMO ni predmet tega projekta in se naredi v skladu s projektom NN priključja."]
[null,"R-SPMO se lucira v skladu s NN projektom. \nVse meritve električne energije se prestavijo iz RG v R-SPMO."]
[]
[15,"Dograditev v RG:\nV obstoječi razdelilnik RG v avli  šole se dogradi sledeče:"]
["-","Varovalčno 3-fazno podnožje PK/NV2","kos",1]
["-","Varovalka gG/gL NV2 200A","kos",3]
["-","Varovalčno 3-fazno podnožje PK/NV00","kos",1]
["-","Varovalka gG/gL NV00 25A","kos",3]
["-","Vrstne sponke ","kpl",1]
["-","Drobni inštalacijski materijal","kos",1]
[]
[null,"Dograditev v RG PMO; NN sestav skupaj","kpl",1,null,{"$f":"+E288*D288","v":0},{"$f":"+E288*MM","v":0},{"$f":"+G288*D288","v":0},{"$f":"+E288-G288","v":0},{"$f":"+I288*D288","v":0}]
[]
[16,"RAZDELILNIK RP:\nNN sestav Prisma G (NN sestav skladen s SIST EN 61439)\nNN sestav je prostostoječe, modularne izvedbe izdelani iz dekapirane jeklene pločevine in profilov, obdelana z anti-korozijsko elektroforezo in končno barvo - poliestrsko/epoksidnim prašnim nanosom, barva RAL -  9001. Vsak element v NN sestavu mora imeti oznako iz tripolne sheme.\nNN sestav mora ustrezati zahtevam standardov SIST EN 61439-1 in 2. \nPonudnik mora priložiti naslednje izjave in poročila:\n- izjava o skladnosti s SIST EN 61439-1 in 2\n- testna poročila v skladu s SIST EN 61439-1 in 2\n- testna poročila o komunikacijskem sistemu (communication report)\n- enopolne sheme"]
[null,"Dokumentacija je na voljo v digitalni obliki v oblaku, dostopna preko QR kode na NN sestavu"]
[null,"Ponudnik mora dokazati selektivnost med odklopniki v sestavu s pomočjo tabel ali rezultatov izračuna programske opreme"]
[null,"Stopnja zaščite: IP30"]
[null,"Število polj (z opremo): "]
[null,"Okvirna dimenzija (ŠxVxG) 1200 x 2000 x 300 mm (z dvoklrilnimi vrati s ključavnico)  na podstavku 200mm"]
[null,"Okvirna teža 1 polja: 150kg"]
[null,"Barva RAL: 9001"]
[null,"Prezračevanje: naravno"]
[null,"Priklopi: dovodi, odvodi: - zgoraj in spodaj z kabli"]
[null,"Uvodna montažna plošča za kable - snemljiva"]
[null,"Naznačena izolacijska napetost (Ui): 1000 V"]
[null,"Naznačena obratovalna napetost (Ue): 415 / 690 V AC"]
[null,"Naznačena frekvenca (fn): 50 Hz"]
[null,"Pomožna napetost za napajanje komunikacijske in druge pomožne opreme: 24 VDC"]
[null,"Naznačeni tok glavnih zbiralk: 200 A trajno, materijal Cu"]
[null,"Naznačeni kratkotrajni zdržni tok (Icw - kA rms/1s): 10 kA"]
[null,"Sistem ozemljitve TN-C-S"]
[null,"Presek N-vodnika enak faznemu"]
[null,"Dodatna oprema: IP 20 pregrada med omaro in originalnim podstavkom, prekritje uvodnic, dvokrilna vrata"]
["-","Bremensko Stikalo, 3P, 250A, tip: INS250 z ročico in možnostjo zaklepanja","kos",1]
["-","Odvodnik prenapetosti, 3P, Up: 1.6kV, In=5kA, Imax=20kA, tip iPRD20, s pomožnim kontaktom","kpl",1]
["-","Varovalčno stikalo, 3p, NV00","kos",9]
["-","Varovalka NV00 gG/gL 100A","kos",9]
["-","Varovalka NV00 gG/gL 40A","kos",0]
["-","Varovalka NV00 gG/gL 25A","kos",3]
["-","Varovalčno stikalo, 3p, 63A, za DIN varovalke D02, tip D02","kos",6]
["-","Varovalke D02, 35A","kos",12]
["-","FID zaščitno stikalo, 1P+N, 40A, 30mA, razred A, tip iID","kos",2]
["-","KZS (Kombinirano Zaščitno Stikalo), 1P+N, 16A, 30mA, 10 kA;  razred A, C karakt., tip iDPN H","kos",1]
["-","Inštalacijski odklopnik, 10A, C, 1P, Ik=10kA, tip iC60N","kos",19]
["-","Inštalacijski odklopnik, 16A, C, 1P, Ik=10kA, tip iC60N","kos",10]
["-","Inštalacijski odklopnik, 16A, C, 3P, Ik=10kA, tip iC60N","kos",12]
["-","Inštalacijski odklopnik - rdeče barve, 10A, C, 1P, Ik=10kA, tip iC60N","kos",4]
["-","izbirno stikalo 1,0,2 10A 1p","kos",1]
["-","preklopna astro krmilna ura s fotosondo","kpl",1]
["-","kontaktor 5,5kW 3p+NO, 230V-AC tuljava","kos",1]
["-","Vrstne sponke ","kpl",1]
["-","Drobni inštalacijski materijal","kos",1]
["-","Izdelava sestava","kos",1]
["-","Preskus sestava","kos",1]
[]
[null,"RAZDELILNIK RP; NN sestav skupaj","kpl",1,null,{"$f":"+E332*D332","v":0},{"$f":"+E332*MM","v":0},{"$f":"+G332*D332","v":0},{"$f":"+E332-G332","v":0},{"$f":"+I332*D332","v":0}]
[]
[17,"RAZDELILNIK RN:\nNN sestav Prisma G (NN sestav skladen s SIST EN 61439)\nNN sestav je prostostoječe, modularne izvedbe izdelani iz dekapirane jeklene pločevine in profilov, obdelana z anti-korozijsko elektroforezo in končno barvo - poliestrsko/epoksidnim prašnim nanosom, barva RAL -  9001. Vsak element v NN sestavu mora imeti oznako iz tripolne sheme.\nNN sestav mora ustrezati zahtevam standardov SIST EN 61439-1 in 2. \nPonudnik mora priložiti naslednje izjave in poročila:\n- izjava o skladnosti s SIST EN 61439-1 in 2\n- testna poročila v skladu s SIST EN 61439-1 in 2\n- testna poročila o komunikacijskem sistemu (communication report)\n- enopolne sheme"]
[null,"Dokumentacija je na voljo v digitalni obliki v oblaku, dostopna preko QR kode na NN sestavu"]
[null,"Ponudnik mora dokazati selektivnost med odklopniki v sestavu s pomočjo tabel ali rezultatov izračuna programske opreme"]
[null,"Stopnja zaščite: IP30"]
[null,"Število polj (z opremo): "]
[null,"Okvirna dimenzija (ŠxVxG) 1200 x 2000 x 300 mm (z dvoklrilnimi vrati s ključavnico)  na podstavku 200mm"]
[null,"Okvirna teža 1 polja: 150kg"]
[null,"Barva RAL: 9001"]
[null,"Prezračevanje: naravno"]
[null,"Priklopi: dovodi, odvodi: - zgoraj in spodaj z kabli"]
[null,"Uvodna montažna plošča za kable - snemljiva"]
[null,"Naznačena izolacijska napetost (Ui): 1000 V"]
[null,"Naznačena obratovalna napetost (Ue): 415 / 690 V AC"]
[null,"Naznačena frekvenca (fn): 50 Hz"]
[null,"Pomožna napetost za napajanje komunikacijske in druge pomožne opreme: 24 VDC"]
[null,"Naznačeni tok glavnih zbiralk: 160 A trajno, materijal Cu"]
[null,"Naznačeni kratkotrajni zdržni tok (Icw - kA rms/1s): 10 kA"]
[null,"Sistem ozemljitve TN-C-S"]
[null,"Presek N-vodnika enak faznemu"]
[null,"Dodatna oprema: IP 20 pregrada med omaro in originalnim podstavkom, prekritje uvodnic, dvokrilna vrata"]
[]
["-","Bremensko Stikalo, 3P, 160A, tip: INS160 z ročico in možnostjo zaklepanja","kos",1]
["-","Odvodnik prenapetosti, 3P, Up: 1.6kV, In=5kA, Imax=20kA, tip iPRD20, s pomožnim kontaktom","kpl",1]
["-","Varovalčno stikalo, 3p, NV00","kos",1]
["-","Varovalka NV00 gG/gL 100A","kos",3]
["-","Varovalčno stikalo, 3p, 63A, za DIN varovalke D02, tip D02","kos",8]
["-","Varovalke D02, 63A","kos",3]
["-","Varovalke D02, 35A","kos",9]
["-","Varovalke D02, 25A","kos",6]
["-","FID zaščitno stikalo, 1P+N, 40A, 30mA, razred A, tip iID","kos",3]
["-","Zaščitno stikalo, 3P, 40A, z daljinskim sprožilnikom","kos",1]
["-","Inštalacijski odklopnik, 6A, C, 1P, Ik=10kA, tip iC60N","kos",1]
["-","Inštalacijski odklopnik, 10A, C, 1P, Ik=10kA, tip iC60N","kos",14]
["-","Inštalacijski odklopnik, 16A, C, 1P, Ik=10kA, tip iC60N","kos",19]
["-","Inštalacijski odklopnik, 16A, C, 3P, Ik=10kA, tip iC60N","kos",4]
["-","Inštalacijski odklopnik - rdeče barve, 10A, C, 1P, Ik=10kA, tip iC60N","kos",3]
["-","Vrstne sponke ","kpl",1]
["-","Drobni inštalacijski materijal","kos",1]
["-","Izdelava sestava","kos",1]
["-","Preskus sestava","kos",1]
[]
[null,"RAZDELILNIK RN; NN sestav skupaj","kpl",1,null,{"$f":"+E375*D375","v":0},{"$f":"+E375*MM","v":0},{"$f":"+G375*D375","v":0},{"$f":"+E375-G375","v":0},{"$f":"+I375*D375","v":0}]
[]
[18,"RAZDELILNIK RV:\nNN sestav (NN sestav skladen s SIST EN 61439)\nNN sestav je stenske izvedbe izdelani iz dekapirane jeklene pločevine in profilov, obdelana z anti-korozijsko elektroforezo in končno barvo - poliestrsko/epoksidnim prašnim nanosom, barva RAL -  9001. Vsak element v NN sestavu mora imeti oznako iz tripolne sheme.\nNN sestav mora ustrezati zahtevam standardov SIST EN 61439-1 in 2. \nPonudnik mora priložiti naslednje izjave in poročila:\n- izjava o skladnosti s SIST EN 61439-1 in 2\n- testna poročila v skladu s SIST EN 61439-1 in 2\n- testna poročila o komunikacijskem sistemu (communication report)\n- enopolne sheme"]
[null,"Dokumentacija je na voljo v digitalni obliki v oblaku, dostopna preko QR kode na NN sestavu"]
[null,"Ponudnik mora dokazati selektivnost med odklopniki v sestavu s pomočjo tabel ali rezultatov izračuna programske opreme"]
[null,"Stopnja zaščite: IP30"]
[null,"Število polj (z opremo): "]
[null,"Okvirna dimenzija (ŠxVxG) 600 x 1000 x 250 mm (z vrati s ključavnico) "]
[null,"Okvirna teža 1 polja: 50kg"]
[null,"Barva RAL: 9001"]
[null,"Prezračevanje: naravno"]
[null,"Priklopi: dovodi, odvodi: - zgoraj in spodaj z kabli"]
[null,"Uvodna montažna plošča za kable - snemljiva"]
[null,"Naznačena izolacijska napetost (Ui): 1000 V"]
[null,"Naznačena obratovalna napetost (Ue): 415 / 690 V AC"]
[null,"Naznačena frekvenca (fn): 50 Hz"]
[null,"Pomožna napetost za napajanje komunikacijske in druge pomožne opreme: 24 VDC"]
[null,"Naznačeni tok glavnih zbiralk: 25 A trajno, materijal Cu"]
[null,"Naznačeni kratkotrajni zdržni tok (Icw - kA rms/1s): 10 kA"]
[null,"Sistem ozemljitve TN-S"]
[null,"Presek N-vodnika enak faznemu"]
[null,"Dodatna oprema: IP 20 pregrada med omaro in originalnim podstavkom, prekritje uvodnic, dvokrilna vrata"]
[]
["-","Bremensko Stikalo, 3P, 63A, tip: INS63 s ročico in možnostjo zaklepanja","kos",1]
["-","Odvodnik prenapetosti, 3P+N, Up: 1.6kV, In=5kA, Imax=20kA, tip iPRD20, s pomožnim kontaktom","kpl",1]
["-","FID zaščitno stikalo, 1P+N, 40A, 30mA, razred A, tip iID","kos",2]
["-","KZS (Kombinirano Zaščitno Stikalo), 1P+N, 16A, 30mA, 10 kA;  razred A, C karakt., tip iDPN H","kos",4]
["-","Inštalacijski odklopnik, 10A, C, 1P, Ik=10kA, tip iC60N","kos",10]
["-","Inštalacijski odklopnik, 16A, C, 1P, Ik=10kA, tip iC60N","kos",6]
["-","Inštalacijski odklopnik, 16A, C, 3P, Ik=10kA, tip iC60N","kos",1]
["-","Inštalacijski odklopnik - rdeče barve, 10A, C, 1P, Ik=10kA, tip iC60N","kos",2]
["-","Vrstne sponke ","kpl",1]
["-","Drobni inštalacijski materijal","kos",1]
["-","Izdelava sestava","kos",1]
["-","Preskus sestava","kos",1]
[]
[null,"RAZDELILNIK RV; NN sestav skupaj","kpl","0"]
[]
[19,"RAZDELILNIK RN1:\nNN sestav (NN sestav skladen s SIST EN 61439)\nNN sestav je stenske izvedbe izdelani iz dekapirane jeklene pločevine in profilov, obdelana z anti-korozijsko elektroforezo in končno barvo - poliestrsko/epoksidnim prašnim nanosom, barva RAL -  9001. Vsak element v NN sestavu mora imeti oznako iz tripolne sheme.\nNN sestav mora ustrezati zahtevam standardov SIST EN 61439-1 in 2. \nPonudnik mora priložiti naslednje izjave in poročila:\n- izjava o skladnosti s SIST EN 61439-1 in 2\n- testna poročila v skladu s SIST EN 61439-1 in 2\n- testna poročila o komunikacijskem sistemu (communication report)\n- enopolne sheme"]
[null,"Dokumentacija je na voljo v digitalni obliki v oblaku, dostopna preko QR kode na NN sestavu"]
[null,"Ponudnik mora dokazati selektivnost med odklopniki v sestavu s pomočjo tabel ali rezultatov izračuna programske opreme"]
[null,"Stopnja zaščite: IP30"]
[null,"Število polj (z opremo): "]
[null,"Okvirna dimenzija (ŠxVxG) 600 x 1000 x 250 mm (z vrati s ključavnico) "]
[null,"Okvirna teža 1 polja: 50kg"]
[null,"Barva RAL: 9001"]
[null,"Prezračevanje: naravno"]
[null,"Priklopi: dovodi, odvodi: - zgoraj in spodaj z kabli"]
[null,"Uvodna montažna plošča za kable - snemljiva"]
[null,"Naznačena izolacijska napetost (Ui): 1000 V"]
[null,"Naznačena obratovalna napetost (Ue): 415 / 690 V AC"]
[null,"Naznačena frekvenca (fn): 50 Hz"]
[null,"Pomožna napetost za napajanje komunikacijske in druge pomožne opreme: 24 VDC"]
[null,"Naznačeni tok glavnih zbiralk: 25 A trajno, materijal Cu"]
[null,"Naznačeni kratkotrajni zdržni tok (Icw - kA rms/1s): 10 kA"]
[null,"Sistem ozemljitve TN-S"]
[null,"Presek N-vodnika enak faznemu"]
[null,"Dodatna oprema: IP 20 pregrada med omaro in originalnim podstavkom, prekritje uvodnic, dvokrilna vrata"]
[]
["-","Bremensko Stikalo, 3P, 63A, tip: INS63 z ročico in možnostjo zaklepanja","kos",1]
["-","Odvodnik prenapetosti, 3P+N, Up: 1.6kV, In=5kA, Imax=20kA, tip iPRD20, s pomožnim kontaktom","kpl",1]
["-","FID zaščitno stikalo, 1P+N, 40A, 30mA, razred A, tip iID","kos",2]
["-","KZS (Kombinirano Zaščitno Stikalo), 1P+N, 16A, 30mA, 10 kA;  razred A, C karakt., tip iDPN H","kos",4]
["-","Inštalacijski odklopnik, 10A, C, 1P, Ik=10kA, tip iC60N","kos",9]
["-","Inštalacijski odklopnik, 16A, C, 1P, Ik=10kA, tip iC60N","kos",6]
["-","Inštalacijski odklopnik, 16A, C, 3P, Ik=10kA, tip iC60N","kos",1]
["-","Inštalacijski odklopnik - rdeče barve, 10A, C, 1P, Ik=10kA, tip iC60N","kos",2]
["-","Vrstne sponke ","kpl",1]
["-","Drobni inštalacijski materijal","kos",1]
["-","Izdelava sestava","kos",1]
["-","Preskus sestava","kos",1]
[]
[null,"RAZDELILNIK RN1; NN sestav skupaj","kpl","0"]
[]
[20,"RAZDELILNIK RO:\nNN sestav (NN sestav skladen s SIST EN 61439)\nNN sestav je stenske izvedbe izdelani iz dekapirane jeklene pločevine in profilov, obdelana z anti-korozijsko elektroforezo in končno barvo - poliestrsko/epoksidnim prašnim nanosom, barva RAL -  9001. Vsak element v NN sestavu mora imeti oznako iz tripolne sheme.\nNN sestav mora ustrezati zahtevam standardov SIST EN 61439-1 in 2. \nPonudnik mora priložiti naslednje izjave in poročila:\n- izjava o skladnosti s SIST EN 61439-1 in 2\n- testna poročila v skladu s SIST EN 61439-1 in 2\n- testna poročila o komunikacijskem sistemu (communication report)\n- enopolne sheme"]
[null,"Dokumentacija je na voljo v digitalni obliki v oblaku, dostopna preko QR kode na NN sestavu"]
[null,"Ponudnik mora dokazati selektivnost med odklopniki v sestavu s pomočjo tabel ali rezultatov izračuna programske opreme"]
[null,"Stopnja zaščite: IP30"]
[null,"Število polj (z opremo): "]
[null,"Okvirna dimenzija (ŠxVxG) 600 x 1000 x 250 mm (z vrati s ključavnico) "]
[null,"Okvirna teža 1 polja: 50kg"]
[null,"Barva RAL: 9001"]
[null,"Prezračevanje: naravno"]
[null,"Priklopi: dovodi, odvodi: - zgoraj in spodaj z kabli"]
[null,"Uvodna montažna plošča za kable - snemljiva"]
[null,"Naznačena izolacijska napetost (Ui): 1000 V"]
[null,"Naznačena obratovalna napetost (Ue): 415 / 690 V AC"]
[null,"Naznačena frekvenca (fn): 50 Hz"]
[null,"Pomožna napetost za napajanje komunikacijske in druge pomožne opreme: 24 VDC"]
[null,"Naznačeni tok glavnih zbiralk: 25 A trajno, materijal Cu"]
[null,"Naznačeni kratkotrajni zdržni tok (Icw - kA rms/1s): 10 kA"]
[null,"Sistem ozemljitve TN-S"]
[null,"Presek N-vodnika enak faznemu"]
[null,"Dodatna oprema: IP 20 pregrada med omaro in originalnim podstavkom, prekritje uvodnic, dvokrilna vrata"]
[]
["-","Bremensko Stikalo, 3P, 63A, tip: INS63 z ročico in možnostjo zaklepanja","kos",1]
["-","Odvodnik prenapetosti, 3P+N, Up: 1.6kV, In=5kA, Imax=20kA, tip iPRD20, s pomožnim kontaktom","kpl",1]
["-","FID zaščitno stikalo, 1P+N, 40A, 30mA, razred A, tip iID","kos",2]
["-","Inštalacijski odklopnik, 10A, C, 1P, Ik=10kA, tip iC60N","kos",29]
["-","Vrstne sponke ","kpl",1]
["-","Drobni inštalacijski materijal","kos",1]
["-","Izdelava sestava","kos",1]
["-","Preskus sestava","kos",1]
[]
[null,"RAZDELILNIK RO; NN sestav skupaj","kpl","0"]
[]
[21,"RAZDELILNIK RN2:\nNN sestav (NN sestav skladen s SIST EN 61439)\nNN sestav je stenske izvedbe izdelani iz dekapirane jeklene pločevine in profilov, obdelana z anti-korozijsko elektroforezo in končno barvo - poliestrsko/epoksidnim prašnim nanosom, barva RAL -  9001. Vsak element v NN sestavu mora imeti oznako iz tripolne sheme.\nNN sestav mora ustrezati zahtevam standardov SIST EN 61439-1 in 2. \nPonudnik mora priložiti naslednje izjave in poročila:\n- izjava o skladnosti s SIST EN 61439-1 in 2\n- testna poročila v skladu s SIST EN 61439-1 in 2\n- testna poročila o komunikacijskem sistemu (communication report)\n- enopolne sheme"]
[null,"Dokumentacija je na voljo v digitalni obliki v oblaku, dostopna preko QR kode na NN sestavu"]
[null,"Ponudnik mora dokazati selektivnost med odklopniki v sestavu s pomočjo tabel ali rezultatov izračuna programske opreme"]
[null,"Stopnja zaščite: IP30"]
[null,"Število polj (z opremo): "]
[null,"Okvirna dimenzija (ŠxVxG) 600 x 1000 x 250 mm (z vrati s ključavnico) "]
[null,"Okvirna teža 1 polja: 50kg"]
[null,"Barva RAL: 9001"]
[null,"Prezračevanje: naravno"]
[null,"Priklopi: dovodi, odvodi: - zgoraj in spodaj z kabli"]
[null,"Uvodna montažna plošča za kable - snemljiva"]
[null,"Naznačena izolacijska napetost (Ui): 1000 V"]
[null,"Naznačena obratovalna napetost (Ue): 415 / 690 V AC"]
[null,"Naznačena frekvenca (fn): 50 Hz"]
[null,"Pomožna napetost za napajanje komunikacijske in druge pomožne opreme: 24 VDC"]
[null,"Naznačeni tok glavnih zbiralk: 25 A trajno, materijal Cu"]
[null,"Naznačeni kratkotrajni zdržni tok (Icw - kA rms/1s): 10 kA"]
[null,"Sistem ozemljitve TN-S"]
[null,"Presek N-vodnika enak faznemu"]
[null,"Dodatna oprema: IP 20 pregrada med omaro in originalnim podstavkom, prekritje uvodnic, dvokrilna vrata"]
[]
["-","Bremensko Stikalo, 3P, 63A, tip: INS63 s ročico in možnostjo zaklepanja","kos",1]
["-","Odvodnik prenapetosti, 3P+N, Up: 1.6kV, In=5kA, Imax=20kA, tip iPRD20, s pomožnim kontaktom","kpl",1]
["-","FID zaščitno stikalo, 1P+N, 40A, 30mA, razred A, tip iID","kos",2]
["-","KZS (Kombinirano Zaščitno Stikalo), 1P+N, 16A, 30mA, 10 kA;  razred A, C karakt., tip iDPN H","kos",4]
["-","Inštalacijski odklopnik, 10A, C, 1P, Ik=10kA, tip iC60N","kos",10]
["-","Inštalacijski odklopnik, 16A, C, 1P, Ik=10kA, tip iC60N","kos",6]
["-","Inštalacijski odklopnik, 16A, C, 3P, Ik=10kA, tip iC60N","kos",1]
["-","Inštalacijski odklopnik - rdeče barve, 10A, C, 1P, Ik=10kA, tip iC60N","kos",2]
["-","Vrstne sponke ","kpl",1]
["-","Drobni inštalacijski materijal","kos",1]
["-","Izdelava sestava","kos",1]
["-","Preskus sestava","kos",1]
[]
[null,"RAZDELILNIK RN2; NN sestav skupaj","kpl",1,null,{"$f":"+E515*D515","v":0},{"$f":"+E515*MM","v":0},{"$f":"+G515*D515","v":0},{"$f":"+E515-G515","v":0},{"$f":"+I515*D515","v":0}]
[]
[22,"RAZDELILNIK RKU:\nNN sestav Prisma G (NN sestav skladen s SIST EN 61439)\nNN sestav je prostostoječe, modularne izvedbe izdelani iz dekapirane jeklene pločevine in profilov, obdelana z anti-korozijsko elektroforezo in končno barvo - poliestrsko/epoksidnim prašnim nanosom, barva RAL -  9001. Vsak element v NN sestavu mora imeti oznako iz tripolne sheme.\nNN sestav mora ustrezati zahtevam standardov SIST EN 61439-1 in 2. \nPonudnik mora priložiti naslednje izjave in poročila:\n- izjava o skladnosti s SIST EN 61439-1 in 2\n- testna poročila v skladu s SIST EN 61439-1 in 2\n- testna poročila o komunikacijskem sistemu (communication report)\n- enopolne sheme"]
[null,"Dokumentacija je na voljo v digitalni obliki v oblaku, dostopna preko QR kode na NN sestavu"]
[null,"Ponudnik mora dokazati selektivnost med odklopniki v sestavu s pomočjo tabel ali rezultatov izračuna programske opreme"]
[null,"Stopnja zaščite: IP30"]
[null,"Število polj (z opremo): "]
[null,"Okvirna dimenzija (ŠxVxG) 800 x 2000 x 300 mm (z vrati s ključavnico)  na podstavku 200mm"]
[null,"Okvirna teža 1 polja: 150kg"]
[null,"Barva RAL: 9001"]
[null,"Prezračevanje: naravno"]
[null,"Priklopi: dovodi, odvodi: - zgoraj in spodaj z kabli"]
[null,"Uvodna montažna plošča za kable - snemljiva"]
[null,"Naznačena izolacijska napetost (Ui): 1000 V"]
[null,"Naznačena obratovalna napetost (Ue): 415 / 690 V AC"]
[null,"Naznačena frekvenca (fn): 50 Hz"]
[null,"Pomožna napetost za napajanje komunikacijske in druge pomožne opreme: 24 VDC"]
[null,"Naznačeni tok glavnih zbiralk: 160 A trajno, materijal Cu"]
[null,"Naznačeni kratkotrajni zdržni tok (Icw - kA rms/1s): 10 kA"]
[null,"Sistem ozemljitve TN-C-S"]
[null,"Presek N-vodnika enak faznemu"]
[null,"Dodatna oprema: IP 20 pregrada med omaro in originalnim podstavkom, prekritje uvodnic, dvokrilna vrata"]
[]
["-","Bremensko Stikalo, 3P, 160A, z ročico in možnostjo zaklepanja, daljinskim sprožilnikom, komplet","kos",1]
["-","Odvodnik prenapetosti, 3P, Up: 1.6kV, In=5kA, Imax=20kA, tip iPRD20, s pomožnim kontaktom","kpl",1]
["-","Varovalčno stikalo, 3p, NV00","kos",1]
["-","Varovalka NV00 gG/gL 100A","kos",3]
["-","Varovalčno stikalo, 3p, 63A, za DIN varovalke D02, tip D02","kos",9]
["-","Varovalke D02, 63A","kos",6]
["-","Varovalke D02, 35A","kos",9]
["-","Varovalke D02, 25A","kos",3]
["-","Varovalke D02, 16A","kos",3]
["-","FID zaščitno stikalo, 1P+N, 40A, 30mA, razred A, tip iID","kos",2]
["-","KZS (Kombinirano Zaščitno Stikalo), 1P+N, 10A, 30mA, 10 kA;  razred A, C karakt., tip iDPN H","kos",2]
["-","KZS (Kombinirano Zaščitno Stikalo), 1P+N, 16A, 30mA, 10 kA;  razred A, C karakt., tip iDPN H","kos",20]
["-","KZS (Kombinirano Zaščitno Stikalo), 3P+N, 16A, 30mA, 10 kA;  razred A, C karakt., tip iDPN H","kos",15]
["-","Inštalacijski odklopnik, 6A, C, 1P, Ik=10kA, tip iC60N","kos",2]
["-","Inštalacijski odklopnik, 10A, C, 1P, Ik=10kA, tip iC60N","kos",6]
["-","Inštalacijski odklopnik, 16A, C, 1P, Ik=10kA, tip iC60N","kos",5]
["-","Inštalacijski odklopnik - rdeče barve, 10A, C, 1P, Ik=10kA, tip iC60N","kos",2]
["-","Vrstne sponke ","kpl",1]
["-","Drobni inštalacijski materijal","kos",1]
["-","Izdelava sestava","kos",1]
["-","Preskus sestava","kos",1]
[]
[null,"RAZDELILNIK RKU; NN sestav skupaj","kpl",1,null,{"$f":"+E560*D560","v":0},{"$f":"+E560*MM","v":0},{"$f":"+G560*D560","v":0},{"$f":"+E560-G560","v":0},{"$f":"+I560*D560","v":0}]
[]
[23,"RAZDELILNIK RORM:\nNN sestav Prisma G (NN sestav skladen s SIST EN 61439)\nNN sestav je prostostoječe, modularne izvedbe izdelani iz dekapirane jeklene pločevine in profilov, obdelana z anti-korozijsko elektroforezo in končno barvo - poliestrsko/epoksidnim prašnim nanosom, barva RAL -  9001. Vsak element v NN sestavu mora imeti oznako iz tripolne sheme.\nNN sestav mora ustrezati zahtevam standardov SIST EN 61439-1 in 2. \nPonudnik mora priložiti naslednje izjave in poročila:\n- izjava o skladnosti s SIST EN 61439-1 in 2\n- testna poročila v skladu s SIST EN 61439-1 in 2\n- testna poročila o komunikacijskem sistemu (communication report)\n- enopolne sheme"]
[null,"Dokumentacija je na voljo v digitalni obliki v oblaku, dostopna preko QR kode na NN sestavu"]
[null,"Ponudnik mora dokazati selektivnost med odklopniki v sestavu s pomočjo tabel ali rezultatov izračuna programske opreme"]
[null,"Stopnja zaščite: IP30"]
[null,"Število polj (z opremo): "]
[null,"Okvirna dimenzija (ŠxVxG) 600 x 2000 x 300 mm (z vrati s ključavnico)  na podstavku 200mm"]
[null,"Okvirna teža 1 polja: 150kg"]
[null,"Barva RAL: 9001"]
[null,"Prezračevanje: naravno"]
[null,"Priklopi: dovodi, odvodi: - zgoraj in spodaj z kabli"]
[null,"Uvodna montažna plošča za kable - snemljiva"]
[null,"Naznačena izolacijska napetost (Ui): 1000 V"]
[null,"Naznačena obratovalna napetost (Ue): 415 / 690 V AC"]
[null,"Naznačena frekvenca (fn): 50 Hz"]
[null,"Pomožna napetost za napajanje komunikacijske in druge pomožne opreme: 24 VDC"]
[null,"Naznačeni tok glavnih zbiralk: 25 A trajno, materijal Cu"]
[null,"Naznačeni kratkotrajni zdržni tok (Icw - kA rms/1s): 10 kA"]
[null,"Sistem ozemljitve TN-S"]
[null,"Presek N-vodnika enak faznemu"]
[null,"Dodatna oprema: IP 20 pregrada med omaro in originalnim podstavkom, prekritje uvodnic, dvokrilna vrata"]
[]
["-","Bremensko Stikalo, 3P, 25A, z ročico in možnostjo zaklepanja, komplet","kos",1]
[null,"OPOMBA:"]
[null,"RAZDELILNIK JE NAMENJEN VGRADNJI OPREME IN KRMILJA VARČNIH NAP."]
[null,"OPREMA JE ZAJETA V POLISU STROJNIH INŠTALACI."]
["-","Vrstne sponke ","kpl",1]
["-","Drobni inštalacijski materijal","kos",1]
["-","Izdelava sestava","kos",1]
["-","Preskus sestava","kos",1]
[]
[null,"RAZDELILNIK RKU; NN sestav skupaj","kpl",1,null,{"$f":"+E592*D592","v":0},{"$f":"+E592*MM","v":0},{"$f":"+G592*D592","v":0},{"$f":"+E592-G592","v":0},{"$f":"+I592*D592","v":0}]
[]
[24,"RAZDELILNIK RTP:\nNN sestav Prisma G (NN sestav skladen s SIST EN 61439)\nNN sestav je prostostoječe, modularne izvedbe izdelani iz dekapirane jeklene pločevine in profilov, obdelana z anti-korozijsko elektroforezo in končno barvo - poliestrsko/epoksidnim prašnim nanosom, barva RAL -  9001. Vsak element v NN sestavu mora imeti oznako iz tripolne sheme.\nNN sestav mora ustrezati zahtevam standardov SIST EN 61439-1 in 2. \nPonudnik mora priložiti naslednje izjave in poročila:\n- izjava o skladnosti s SIST EN 61439-1 in 2\n- testna poročila v skladu s SIST EN 61439-1 in 2\n- testna poročila o komunikacijskem sistemu (communication report)\n- enopolne sheme"]
[null,"Dokumentacija je na voljo v digitalni obliki v oblaku, dostopna preko QR kode na NN sestavu"]
[null,"Ponudnik mora dokazati selektivnost med odklopniki v sestavu s pomočjo tabel ali rezultatov izračuna programske opreme"]
[null,"Stopnja zaščite: IP30"]
[null,"Število polj (z opremo): "]
[null,"Okvirna dimenzija (ŠxVxG) 800 x 2000 x 300 mm (z vrati s ključavnico)  na podstavku 200mm"]
[null,"Okvirna teža 1 polja: 150kg"]
[null,"Barva RAL: 9001"]
[null,"Prezračevanje: naravno"]
[null,"Priklopi: dovodi, odvodi: - zgoraj in spodaj z kabli"]
[null,"Uvodna montažna plošča za kable - snemljiva"]
[null,"Naznačena izolacijska napetost (Ui): 1000 V"]
[null,"Naznačena obratovalna napetost (Ue): 415 / 690 V AC"]
[null,"Naznačena frekvenca (fn): 50 Hz"]
[null,"Pomožna napetost za napajanje komunikacijske in druge pomožne opreme: 24 VDC"]
[null,"Naznačeni tok glavnih zbiralk: 40 A trajno, materijal Cu"]
[null,"Naznačeni kratkotrajni zdržni tok (Icw - kA rms/1s): 10 kA"]
[null,"Sistem ozemljitve TN-C-S"]
[null,"Presek N-vodnika enak faznemu"]
[null,"Dodatna oprema: IP 20 pregrada med omaro in originalnim podstavkom, prekritje uvodnic, dvokrilna vrata"]
[]
["-","Bremensko Stikalo, 3P, 63A, tip: INS63 z ročico in možnostjo zaklepanja","kos",1]
["-","Odvodnik prenapetosti, 3P+N, Up: 1.6kV, In=5kA, Imax=20kA, tip iPRD20, s pomožnim kontaktom","kpl",1]
["-","FID zaščitno stikalo, 1P+N, 40A, 30mA, razred A, tip iID","kos",1]
["-","Zaščitno stikalo, 3P, 40A, z daljinskim sprožilnikom","kos",1]
["-","Inštalacijski odklopnik, 10A, C, 1P, Ik=10kA, tip iC60N","kos",4]
["-","Inštalacijski odklopnik, 16A, C, 1P, Ik=10kA, tip iC60N","kos",2]
["-","Inštalacijski odklopnik, 16A, C, 3P, Ik=10kA, tip iC60N","kos",1]
["-","Inštalacijski odklopnik - rdeče barve, 10A, C, 1P, Ik=10kA, tip iC60N","kos",1]
["-","Vrstne sponke ","kpl",1]
["-","Drobni inštalacijski materijal","kos",1]
["-","Izdelava sestava","kos",1]
["-","Preskus sestava","kos",1]
[]
[null,"RAZDELILNIK RTP; NN sestav skupaj","kpl",1,null,{"$f":"+E628*D628","v":0},{"$f":"+E628*MM","v":0},{"$f":"+G628*D628","v":0},{"$f":"+E628-G628","v":0},{"$f":"+I628*D628","v":0}]
[]
[25,"RAZDELILNIK RE:\nNN sestav (NN sestav skladen s SIST EN 61439)\nNN sestav je stenske izvedbe izdelani iz dekapirane jeklene pločevine in profilov, obdelana z anti-korozijsko elektroforezo in končno barvo - poliestrsko/epoksidnim prašnim nanosom, barva RAL -  9001. Vsak element v NN sestavu mora imeti oznako iz tripolne sheme.\nNN sestav mora ustrezati zahtevam standardov SIST EN 61439-1 in 2. \nPonudnik mora priložiti naslednje izjave in poročila:\n- izjava o skladnosti s SIST EN 61439-1 in 2\n- testna poročila v skladu s SIST EN 61439-1 in 2\n- testna poročila o komunikacijskem sistemu (communication report)\n- enopolne sheme"]
[null,"Dokumentacija je na voljo v digitalni obliki v oblaku, dostopna preko QR kode na NN sestavu"]
[null,"Ponudnik mora dokazati selektivnost med odklopniki v sestavu s pomočjo tabel ali rezultatov izračuna programske opreme"]
[null,"Stopnja zaščite: IP30"]
[null,"Število polj (z opremo): "]
[null,"Okvirna dimenzija (ŠxVxG) 600 x 1000 x 250 mm (z vrati s ključavnico) "]
[null,"Okvirna teža 1 polja: 50kg"]
[null,"Barva RAL: 9001"]
[null,"Prezračevanje: naravno"]
[null,"Priklopi: dovodi, odvodi: - zgoraj in spodaj z kabli"]
[null,"Uvodna montažna plošča za kable - snemljiva"]
[null,"Naznačena izolacijska napetost (Ui): 1000 V"]
[null,"Naznačena obratovalna napetost (Ue): 415 / 690 V AC"]
[null,"Naznačena frekvenca (fn): 50 Hz"]
[null,"Pomožna napetost za napajanje komunikacijske in druge pomožne opreme: 24 VDC"]
[null,"Naznačeni tok glavnih zbiralk: 25 A trajno, materijal Cu"]
[null,"Naznačeni kratkotrajni zdržni tok (Icw - kA rms/1s): 10 kA"]
[null,"Sistem ozemljitve TN-S"]
[null,"Presek N-vodnika enak faznemu"]
[null,"Dodatna oprema: IP 20 pregrada med omaro in originalnim podstavkom, prekritje uvodnic, dvokrilna vrata"]
[]
["-","Bremensko Stikalo, 3P, 63A, tip: INS63 s ročico in možnostjo zaklepanja","kos",1]
["-","Odvodnik prenapetosti, 3P+N, Up: 1.6kV, In=5kA, Imax=20kA, tip iPRD20, s pomožnim kontaktom","kpl",1]
["-","FID zaščitno stikalo, 1P+N, 40A, 30mA, razred A, tip iID","kos",2]
["-","Inštalacijski odklopnik, 10A, C, 1P, Ik=10kA, tip iC60N","kos",4]
["-","Inštalacijski odklopnik, 16A, C, 1P, Ik=10kA, tip iC60N","kos",5]
["-","Inštalacijski odklopnik, 16A, C, 3P, Ik=10kA, tip iC60N","kos",1]
["-","Inštalacijski odklopnik - rdeče barve, 10A, C, 1P, Ik=10kA, tip iC60N","kos",1]
["-","Vrstne sponke ","kpl",1]
["-","Drobni inštalacijski materijal","kos",1]
["-","Izdelava sestava","kos",1]
["-","Preskus sestava","kos",1]
[]
[null,"RAZDELILNIK RE; NN sestav skupaj","kpl",1,null,{"$f":"+E663*D663","v":0},{"$f":"+E663*MM","v":0},{"$f":"+G663*D663","v":0},{"$f":"+E663-G663","v":0},{"$f":"+I663*D663","v":0}]
[]
[]
[26,"Dobava in izvedba materialov za požarne tesnitve nezatesnjenih požarnih prehodov kabelskih tras skozi požarna sektorje :"]
[]
["a","ZATESNITEV VSEH HORIZONTALNIH PREHODOV ELEKTRO INŠTALACIJ MED POŽARNIMI SEKTORJI SKOZI PREBOJE."]
[]
[null,"Zatesnitev prehodov kablov in kabelskih polic med požarnimi sektorji s požarnimi ploščami premazanimi z endotermnim požarnim premazom, kot npr. HILTI CFS-CT B. Površino odprtine in spoje med ploščami je potrebno tesniti s Hilti akrilno tesnilno maso CFS-S ACR. Inštalacije je potrebno obojestransko premazati v debelini najmanj 2 mm v oddaljenosti 200mm od preboja s požarnim premazom CFS-CT. \nOb montaži je potrebno upoštevati navodila proizvajalca. Po montaži je potrebno zaporo označiti s podatki o sistemu in izdelovalcu. \n\nPredpisan EI: 90\n\nZa celotno konstrukcijo je potrebno predložiti ustrezna dokazila o požarnih odpornostih.\n\nMaksimalna dovoljena zasedenost prehoda 60% kvadrature."]
["a1","Velikost preboja: 400x200x200 mm;  Zasedenost: 40%","kos",10,null,{"$f":"+E671*D671","v":0},{"$f":"+E671*MM","v":0},{"$f":"+G671*D671","v":0},{"$f":"+E671-G671","v":0},{"$f":"+I671*D671","v":0}]
[]
["b","ZATESNITEV VSEH VERTIKALNIH PREHODOV ELEKTRO INŠTALACIJ MED POŽARNIMI SEKTORJI SKOZI PRAVOKOTNE PREBOJE."]
[null,"Zatesnitev vertikalnih prehodov kablov in kabelskih polic med požarnimi sektorji s požarnimi ploščami premazanimi z endotermnim požarnim premazom kot npr. HILTI CFS-CT B. Površino odprtine in spoje med ploščami je potrebno tesniti s Hilti akrilno tesnilno maso CFS-S ACR. Inštalacije je potrebno obojestransko premazati v debelini najmanj 2 mm v oddaljenosti 200m m od preboja s požarnim premazom CFS-CT. \nOb montaži je potrebno upoštevati navodila proizvajalca. Po montaži je potrebno zaporo označiti s podatki o sistemu in izdelovalcu. \n\nPredpisan EI: 90\n\nZa celotno konstrukcijo je potrebno predložiti ustrezna dokazila o požarnih odpornostih.\n\nMaksimalna dovoljena zasedenost prehoda 60% kvadrature."]
["b1","Velikost preboja: 600x160x200 mm;  Zasedenost: 40%","kos",4,null,{"$f":"+E675*D675","v":0},{"$f":"+E675*MM","v":0},{"$f":"+G675*D675","v":0},{"$f":"+E675-G675","v":0},{"$f":"+I675*D675","v":0}]
[]
["c","ZATESNITEV VSEH VERTIKALNIH PREHODOV GORLJIVIH CEVI MED POŽARNIMI SEKTORJI SKOZI OKROGLE PREBOJE. "]
[]
[null,"Tesnjenje vertikalnih prehodov kablov in kabelskih polic, ki potekajo skozi stropove požarnih sektorjev z požarnimi čepi CFS-PL. \n\nOb montaži je potrebno upoštevati navodila proizvajalca. Po montaži je potrebno zaporo označiti s podatki o sistemu in izdelovalcu. \n\nPredpisan EI: 90\n\nZa celotno konstrukcijo je potrebno predložiti ustrezna dokazila o požarnih odpornostih.\n\nMaksimalna dovoljena zasedenost prehoda 60% kvadrature."]
["c1","Velikost preboja: 400x200x200 mm;  Zasedenost: 40%","kos",6,null,{"$f":"+E680*D680","v":0},{"$f":"+E680*MM","v":0},{"$f":"+G680*D680","v":0},{"$f":"+E680-G680","v":0},{"$f":"+I680*D680","v":0}]
[]
[27,"Izvedba izenačitve potencialov","kpl",1,null,{"$f":"+E682*D682","v":0},{"$f":"+E682*MM","v":0},{"$f":"+G682*D682","v":0},{"$f":"+E682-G682","v":0},{"$f":"+I682*D682","v":0}]
[]
[28,"Izvedba priklopa strojne opreme (razdelilniki talnega gretja, pisoarji, pipe, klimati, hladilni agregati…)"]
["-","1f priključek do 1kW","kpl",25,null,{"$f":"+E685*D685","v":0},{"$f":"+E685*MM","v":0},{"$f":"+G685*D685","v":0},{"$f":"+E685-G685","v":0},{"$f":"+I685*D685","v":0}]
["-","1f priključek nad 1kW","kpl",15,null,{"$f":"+E686*D686","v":0},{"$f":"+E686*MM","v":0},{"$f":"+G686*D686","v":0},{"$f":"+E686-G686","v":0},{"$f":"+I686*D686","v":0}]
["-","3f priključek do 5kW","kpl",6,null,{"$f":"+E687*D687","v":0},{"$f":"+E687*MM","v":0},{"$f":"+G687*D687","v":0},{"$f":"+E687-G687","v":0},{"$f":"+I687*D687","v":0}]
["-","3f priključek nad 5kW","kpl",4,null,{"$f":"+E688*D688","v":0},{"$f":"+E688*MM","v":0},{"$f":"+G688*D688","v":0},{"$f":"+E688-G688","v":0},{"$f":"+I688*D688","v":0}]
[]
[29,"Izvedba priklopa kuhinjske opreme (pomivalni stroj, pečica, hladilnik, tehnica…)"]
["-","1f priključek do 1kW","kpl",10,null,{"$f":"+E691*D691","v":0},{"$f":"+E691*MM","v":0},{"$f":"+G691*D691","v":0},{"$f":"+E691-G691","v":0},{"$f":"+I691*D691","v":0}]
["-","1f priključek nad 1kW","kpl",2,null,{"$f":"+E692*D692","v":0},{"$f":"+E692*MM","v":0},{"$f":"+G692*D692","v":0},{"$f":"+E692-G692","v":0},{"$f":"+I692*D692","v":0}]
["-","3f priključek do 5kW","kpl",4,null,{"$f":"+E693*D693","v":0},{"$f":"+E693*MM","v":0},{"$f":"+G693*D693","v":0},{"$f":"+E693-G693","v":0},{"$f":"+I693*D693","v":0}]
["-","3f priključek nad 5kW","kpl",8,null,{"$f":"+E694*D694","v":0},{"$f":"+E694*MM","v":0},{"$f":"+G694*D694","v":0},{"$f":"+E694-G694","v":0},{"$f":"+I694*D694","v":0}]
[]
[]
["A1.2","SKUPAJ - MOČNOSTNE INSTALACIJE",null,null,null,{"$f":"SUM(F125:F696)","v":0},null,{"$f":"SUM(H125:H696)","v":0},null,{"$f":"SUM(J125:J696)","v":0}]
[]
[]
[]
["A1","RAZSVETLJAVA, MOČNOSTNE INSTALACIJE - SKUPAJ",null,null,null,{"$f":"F122+F697","v":0},null,{"$f":"H122+H697","v":0},null,{"$f":"J122+J697","v":0}]

{"sheet":"CDE-ŠIBKI TOK ","index":95,"n_rows":152,"n_cols":10,"rows_kept":152,"cut":false,"hidden":false,"merged":[]}
[null,"Objekt C, D in E,   ELEKTROINŠTALACIJSKA  DELA"]
[]
["ZAP. ŠT.","OPIS","     ME","KOLIČUNA","CENA/ENOTO","SKUPAJ","POPUST","POPUST SKUPAJ","CENA/ENOTO S POPUSTOM","SKUPAJ S POPUSTOM"]
[]
[" ","SIGNALNE IN TELEKOMUNIKACIJSKE INSTALACIJE"]
[]
["A2","INSTALACIJA SIGNALNEGA IN UNIVERZALNEGA UŽIČENJA"]
[]
[null,"OPOMBA:\nDovod do glavne omarice je iz obstoječega dela šole. TK priključka se ne spreminja. Vso aktivno opremo v priključni telekom omarici zagotovi investitor."]
[]
[1,"Dobava in polaganje kabla, položenega delono po kabelskih policah, delno v spuščenem stropu, delno pod ometom,\nkomplet z instalacijskimi cevmi "]
["-","optični vodnik 1x optika 2 xSM 9/125μm","m",250,null,{"$f":"+E12*D12","v":0},{"$f":"+E12*MM","v":0},{"$f":"+G12*D12","v":0},{"$f":"+E12-G12","v":0},{"$f":"+I12*D12","v":0}]
["-","podatkovni kabel S/FTP cat. 6a, 10 G BASE-T","m",2580,null,{"$f":"+E13*D13","v":0},{"$f":"+E13*MM","v":0},{"$f":"+G13*D13","v":0},{"$f":"+E13-G13","v":0},{"$f":"+I13*D13","v":0}]
["-","JH(St)H 2x2x0,8mm²","m",100,null,{"$f":"+E14*D14","v":0},{"$f":"+E14*MM","v":0},{"$f":"+G14*D14","v":0},{"$f":"+E14-G14","v":0},{"$f":"+I14*D14","v":0}]
[]
[2,"Dobava in montaža komunikacijske vtičnice univerzalnega ožičenja RJ45 oklopljenim konektorjem, Cat 6A:"]
["-","dvojne RJ45 vtičnica  za parapetni kanal, ali talno dozo, komplet z dozo  in okvirjem modula 45x45","kos",28,null,{"$f":"+E17*D17","v":0},{"$f":"+E17*MM","v":0},{"$f":"+G17*D17","v":0},{"$f":"+E17-G17","v":0},{"$f":"+I17*D17","v":0}]
["-","enojna RJ45 vtičnica  za parapetni kanal, ali talno dozo, komplet z dozo  in okvirjem modula 45x45","kos",2,null,{"$f":"+E18*D18","v":0},{"$f":"+E18*MM","v":0},{"$f":"+G18*D18","v":0},{"$f":"+E18-G18","v":0},{"$f":"+I18*D18","v":0}]
["-","dvojna RJ45 vtičnica  podometna, komplet z dozo  in okvirjem","kos",1,null,{"$f":"+E19*D19","v":0},{"$f":"+E19*MM","v":0},{"$f":"+G19*D19","v":0},{"$f":"+E19-G19","v":0},{"$f":"+I19*D19","v":0}]
["-","enojna RJ45 vtičnica  podometna, komplet z dozo  in okvirjem","kos",5,null,{"$f":"+E20*D20","v":0},{"$f":"+E20*MM","v":0},{"$f":"+G20*D20","v":0},{"$f":"+E20-G20","v":0},{"$f":"+I20*D20","v":0}]
["-","enojna RJ45 vtičnica  nadometna, komplet z dozo  in okvirjem","kos",21,null,{"$f":"+E21*D21","v":0},{"$f":"+E21*MM","v":0},{"$f":"+G21*D21","v":0},{"$f":"+E21-G21","v":0},{"$f":"+I21*D21","v":0}]
[]
[3,"Dobava in montaža oklopljenega konektorja RJ45, Cat 6A, komplet:","kos",30,null,{"$f":"+E23*D23","v":0},{"$f":"+E23*MM","v":0},{"$f":"+G23*D23","v":0},{"$f":"+E23-G23","v":0},{"$f":"+I23*D23","v":0}]
[]
[4,"Dobava in montaža komunikacijske vtičnice"]
["-","HDMI, za parapetni kanal, ali talno dozo, komplet z dozo  in okvirjem","kos",6,null,{"$f":"+E26*D26","v":0},{"$f":"+E26*MM","v":0},{"$f":"+G26*D26","v":0},{"$f":"+E26-G26","v":0},{"$f":"+I26*D26","v":0}]
["-","USB A, za parapetni kanal, ali talno dozo, komplet z dozo  in okvirjem","kos",6,null,0,0,0,0,0]
["-","HDMI, podometna, komplet z dozo  in okvirjem","kos",6,null,0,0,0,0,0]
["-","USB A, podometna, komplet z dozo  in okvirjem","kos",6,null,0,0,0,0,0]
["-","DMX, za parapetni kanal, ali talno dozo, komplet z dozo  in okvirjem","kos",4,null,0,0,0,0,0]
["-","DMX, nadometna, komplet z dozo  in okvirjem","kos",6,null,0,0,0,0,0]
["-","AV-MC, za parapetni kana, komplet z dozo  in okvirjem","kos",2,null,0,0,0,0,0]
[]
[5,"Dobava in montaža komunikacijskega vozlišča (predvidena je oprema proizvajalca Nexans ali enakovredno, Cat 6A, 500MHz (10G BaseT Ethernet) oklopljene izvedbe v skladu z IEEE 802.3 (oprema more biti od istega proizvajalca):\n"]
[]
["KOP","Komunikacijska omara, statična obremenitev 1200kg, dinamična obremenitev 600kg, integrirana ozemljitev, perforirana sprednja in zadnja vrata, 5 letna tovarniška garancija,  24U,  600x1198x800mm (šxvxg), tip Easy Rack Schneider Electric","kpl",1,null,{"$f":"+E36*D36","v":0},{"$f":"+E36*MM","v":0},{"$f":"+G36*D36","v":0},{"$f":"+E36-G36","v":0},{"$f":"+I36*D36","v":0}]
["-","patch panel za 24 Snap-in konektorjev ,19\", 1 HU,  izvlečne izvedbe, prazen","kos",3]
["-","LANmark 6 A, Evo Snap-in konektor, Cat 6 A, oklopljen","kos",48]
["-","patch vodilo kovinsko odprto, 1 HU, 19\",","kos",2]
["-","optični panel za  24 LC Snap in  konektorjev, 19\", 2HU, izvlečne izvedbe, prazen","kos",1]
["-","LANmark-6A Ultim patch kabel Cat 6A oklopljen, LSZH 1m, oranžen","kos",20]
["-","LANmark-6A Ultim patch kabel Cat 6A oklopljen, LSZH 2m, oranžen","kos",20]
["-","el. razdelilec 9x230V, 19\", 1HU\n","kos",1]
["-","polica 19\", do 30 kg","kos",1]
["-","ozemljitvena letvica","kos",1]
[]
["KON","Komunikacijska omara, statična obremenitev 1200kg, dinamična obremenitev 600kg, integrirana ozemljitev, perforirana sprednja in zadnja vrata, 5 letna tovarniška garancija,  42U,  800x1955x800mm (šxvxg), tip Easy Rack Schneider Electric","kpl",1,null,{"$f":"+E47*D47","v":0},{"$f":"+E47*MM","v":0},{"$f":"+G47*D47","v":0},{"$f":"+E47-G47","v":0},{"$f":"+I47*D47","v":0}]
[]
["-","patch panel za 24 Snap-in konektorjev ,19\", 1 HU,  izvlečne izvedbe, prazen","kos",2]
["-","LANmark 6 A, Evo Snap-in konektor, Cat 6 A, oklopljen","kos",48]
["-","patch vodilo kovinsko odprto, 1 HU, 19\",","kos",4]
["-","optični panel za  24 LC Snap in  konektorjev, 19\", 2HU, izvlečne izvedbe, prazen","kos",1]
["-","LANmark-6A Ultim patch kabel Cat 6A oklopljen, LSZH 1m, oranžen","kos",20]
["-","LANmark-6A Ultim patch kabel Cat 6A oklopljen, LSZH 2m, oranžen","kos",20]
["-","el. razdelilec 9x230V, 19\", 1HU\n","kos",1]
["-","polica 19\", do 30 kg","kos",1]
["-","ozemljitvena letvica","kos",1]
[]
["-","Dobava in montaža komunikacijskega vozlišča (predvidena je oprema proizvajalca Nexans ali enakovredno, Cat 6A, 500MHz (10G BaseT Ethernet) oklopljene izvedbe v skladu z IEEE 802.3 (oprema more biti od istega proizvajalca):\n"]
[]
["K0V","Zidna komunikacijska omara, integrirana ozemljitev, perforirane odprtine steklena vrata, 5 letna tovarniška garancija,  15U,  770x600x395mm (VxŠxG):","kpl",1,null,{"$f":"+E61*D61","v":0},{"$f":"+E61*MM","v":0},{"$f":"+G61*D61","v":0},{"$f":"+E61-G61","v":0},{"$f":"+I61*D61","v":0}]
[]
["-","patch panel za 24 Snap-in konektorjev ,19\", 1 HU,  izvlečne izvedbe, prazen","kos",1]
["-","LANmark 6 A, Evo Snap-in konektor, Cat 6 A, oklopljen","kos",24]
["-","patch vodilo kovinsko odprto, 1 HU, 19\",","kos",2]
["-","optični panel za  24 LC Snap in  konektorjev, 19\", 2HU, izvlečne izvedbe, prazen","kos",1]
["-","LANmark-6A Ultim patch kabel Cat 6A oklopljen, LSZH 1m, oranžen","kos",10]
["-","LANmark-6A Ultim patch kabel Cat 6A oklopljen, LSZH 2m, oranžen","kos",10]
["-","el. razdelilec 9x230V, 19\", 1HU\n","kos",1]
["-","polica 19\", do 30 kg","kos",1]
["-","ozemljitvena letvica","kos",1]
[]
["-","Dobava in montaža komunikacijskega vozlišča (predvidena je oprema proizvajalca Nexans ali enakovredno, Cat 6A, 500MHz (10G BaseT Ethernet) oklopljene izvedbe v skladu z IEEE 802.3 (oprema more biti od istega proizvajalca):\n"]
[]
["KON1","Zidna komunikacijska omara, integrirana ozemljitev, perforirane odprtine steklena vrata, 5 letna tovarniška garancija,  15U,  770x600x395mm (VxŠxG):","kpl",1,null,{"$f":"+E75*D75","v":0},{"$f":"+E75*MM","v":0},{"$f":"+G75*D75","v":0},{"$f":"+E75-G75","v":0},{"$f":"+I75*D75","v":0}]
[]
["-","patch panel za 24 Snap-in konektorjev ,19\", 1 HU,  izvlečne izvedbe, prazen","kos",1]
["-","LANmark 6 A, Evo Snap-in konektor, Cat 6 A, oklopljen","kos",24]
["-","patch vodilo kovinsko odprto, 1 HU, 19\",","kos",2]
["-","optični panel za  24 LC Snap in  konektorjev, 19\", 2HU, izvlečne izvedbe, prazen","kos",1]
["-","LANmark-6A Ultim patch kabel Cat 6A oklopljen, LSZH 1m, oranžen","kos",10]
["-","LANmark-6A Ultim patch kabel Cat 6A oklopljen, LSZH 2m, oranžen","kos",10]
["-","el. razdelilec 9x230V, 19\", 1HU\n","kos",1]
["-","polica 19\", do 30 kg","kos",1]
["-","ozemljitvena letvica","kos",1]
[]
["-","Dobava in montaža komunikacijskega vozlišča (predvidena je oprema proizvajalca Nexans ali enakovredno, Cat 6A, 500MHz (10G BaseT Ethernet) oklopljene izvedbe v skladu z IEEE 802.3 (oprema more biti od istega proizvajalca):\n"]
[]
["KON2","Zidna komunikacijska omara, integrirana ozemljitev, perforirane odprtine steklena vrata, 5 letna tovarniška garancija,  15U,  770x600x395mm (VxŠxG):","kpl",1,null,{"$f":"+E89*D89","v":0},{"$f":"+E89*MM","v":0},{"$f":"+G89*D89","v":0},{"$f":"+E89-G89","v":0},{"$f":"+I89*D89","v":0}]
[]
["-","patch panel za 24 Snap-in konektorjev ,19\", 1 HU,  izvlečne izvedbe, prazen","kos",1]
["-","LANmark 6 A, Evo Snap-in konektor, Cat 6 A, oklopljen","kos",24]
["-","patch vodilo kovinsko odprto, 1 HU, 19\",","kos",2]
["-","optični panel za  24 LC Snap in  konektorjev, 19\", 2HU, izvlečne izvedbe, prazen","kos",1]
["-","LANmark-6A Ultim patch kabel Cat 6A oklopljen, LSZH 1m, oranžen","kos",10]
["-","LANmark-6A Ultim patch kabel Cat 6A oklopljen, LSZH 2m, oranžen","kos",10]
["-","el. razdelilec 9x230V, 19\", 1HU\n","kos",1]
["-","polica 19\", do 30 kg","kos",1]
["-","ozemljitvena letvica","kos",1]
[]
["-","Dobava in montaža komunikacijskega vozlišča (predvidena je oprema proizvajalca Nexans ali enakovredno, Cat 6A, 500MHz (10G BaseT Ethernet) oklopljene izvedbe v skladu z IEEE 802.3 (oprema more biti od istega proizvajalca):\n"]
[]
[6,"Dobava in montaža prenapetostnega odvodnika za zaščito podatkovnih linij (telefonski kabel) tipa PZH DTB 4/100M 5cat kataloška številka: 77 45 109 za vgradnjo na dovodni telefonski kabel pred razvodno omarico kompletu z drobnim instalacijskim materialom za montažo prenapetostnih odvodnikov. Proizvajalec: kot naprimer HERMI","kpl",1,null,{"$f":"+E103*D103","v":0},{"$f":"+E103*MM","v":0},{"$f":"+G103*D103","v":0},{"$f":"+E103-G103","v":0},{"$f":"+I103*D103","v":0}]
[]
[7,"Dobava in montaža kabelskega kanala širine 100mm. Kabelska kanalizacija se izdela skladno z navodili proizvajalca kot npr. BAKS in je sestavljena iz:","m",20,null,{"$f":"+E105*D105","v":0},{"$f":"+E105*MM","v":0},{"$f":"+G105*D105","v":0},{"$f":"+E105-G105","v":0},{"$f":"+I105*D105","v":0}]
[null," - kabelski kanal KFL100H60/3"]
[null," - koleno 90º KKPFJ100H60"]
[null," - odcepni kos TKDFJ100H60"]
[null," - profil CMC40H40 dolžine 2m, 1 kos/1,5m"]
[null," - konzola WWT400, 1 kos/1,5m"]
[null," - vijak SMHM10x30, 2 kosa/konzolo"]
[null," - podložka PP10, 2 kosa/konzolo"]
[null,"  - matica NSM10, 2 kosa/konzolo"]
[null," - garnitura vijakov SGKM6x10, 2 kosa/konzolo"]
[null," - podložkam PW6, 2 kosa/konzolo"]
[null," - zidni vložkek PSRM10x65, 2 kosa/profil CMC"]
[]
[8,"Dobava in montaža kabelskega kanala širine 200mm. Kabelska kanalizacija se izdela skladno z navodili proizvajalca kot npr. BAKS in je sestavljena iz:","m",200,null,{"$f":"+E118*D118","v":0},{"$f":"+E118*MM","v":0},{"$f":"+G118*D118","v":0},{"$f":"+E118-G118","v":0},{"$f":"+I118*D118","v":0}]
[null," - kabelski kanal KFL200H60/3"]
[null," - koleno 90º KKPFJ200H60"]
[null," - odcepni kos TKDFJ200H60"]
[null," - profil CMC40H40 dolžine 2m, 1 kos/1,5m"]
[null," - konzola WWT500, 1 kos/1,5m"]
[null," - vijak SMHM10x30, 2 kosa/konzolo"]
[null," - podložka PP10, 2 kosa/konzolo"]
[null,"  - matica NSM10, 2 kosa/konzolo"]
[null," - garnitura vijakov SGKM6x10, 2 kosa/konzolo"]
[null," - podložkam PW6, 2 kosa/konzolo"]
[null," - zidni vložkek PSRM10x65, 2 kosa/profil CMC"]
[]
[]
[9,"Dobava in montaža  dvižnega voda širine 200mm. Dvižni vod se izdela skladno z navodili proizvajalca kot npr. BAKS in je sestavljen iz: ","m",15,null,{"$f":"+E132*D132","v":0},{"$f":"+E132*MM","v":0},{"$f":"+G132*D132","v":0},{"$f":"+E132-G132","v":0},{"$f":"+I132*D132","v":0}]
[null," - kabelska leste DUP200H60"]
[null," - ravna spojka LDOCH60, 2 kosa /3m"]
[null," - kotni nosilec UTMO, 2kosa/1,5m"]
[null," - garnitura vijakov SGKM8x14, 8kosov/spojko + 1kos/nosilec"]
[null," - zidni vložkek PSRM10x65, 2 kosa/kotni nosilec"]
[null," - ločna objemka UKO1 (ustrezne dimenzije)"]
[null," - pokrov PDDP200"]
[null," - zapiralo pokrova, 2kosa/m"]
[null," - garnitura vijakov SGKM6x10, 2 kosa/konzolo"]
[null," - podložkam PW6, 2 kosa/konzolo"]
[null," - zidni vložkek PSRM10x65, 2 kosa/profil CMC"]
[]
[10,"Dobava, montaža in polaganje instalacijskega materiala"]
["-","prazna I.C. cev 16mm","m",2200,null,{"$f":"+E146*D146","v":0},{"$f":"+E146*MM","v":0},{"$f":"+G146*D146","v":0},{"$f":"+E146-G146","v":0},{"$f":"+I146*D146","v":0}]
["-","prazna I.C. cev 32mm","m",210,null,{"$f":"+E147*D147","v":0},{"$f":"+E147*MM","v":0},{"$f":"+G147*D147","v":0},{"$f":"+E147-G147","v":0},{"$f":"+I147*D147","v":0}]
[]
[]
[]
[]
["A2","SKUPAJ  - SIGNALNE IN TELEKOMUNIKACIJSKE INSTALACIJE",null,null,null,{"$f":"SUM(F11:F147)","v":0},null,{"$f":"SUM(H11:H147)","v":0},null,{"$f":"SUM(J11:J147)","v":0}]

{"sheet":"CDE-STRELOVOD","index":96,"n_rows":31,"n_cols":10,"rows_kept":31,"cut":false,"hidden":false,"merged":[]}
[null,"Objekt C, D in E,   ELEKTROINŠTALACIJSKA  DELA"]
[]
["ZAP. ŠT.","OPIS","     ME","KOLIČUNA","CENA/ENOTO","SKUPAJ","POPUST","POPUST SKUPAJ","CENA/ENOTO S POPUSTOM","SKUPAJ S POPUSTOM"]
[]
["A3","ZUNANJI SISTEM ZAŠČITE PRED STRELO - "]
[null,"ZAŠČITA PRED NEPOSREDNIM / DIREKTNIM UDAROM STRELE -"]
[null,"STRELOVODNA INSTALACIJA"]
[]
[]
[null,"LOVILNI SISTEM STRELOVODNE INSTALACIJE"]
[1,"Dobava in montaža slemenskega/strešnega nosilnega elementa SON16 (Rf-K) iz nerjavečega jekla za pritrjevanje strelovodnega vodnika AH1 Al fi 8mm na pločevinasto trapetno kritino oziroma pločevinasto kapo atike. \nProizvajalec HERMI\n","kos","0"]
[2,"Dobava in montaža lovilne palice LOP2,0 (Al) višine h=2,0m vključno z betonskim podstavkom za postavitev na ravni strehi. \nProizvajalec HERMI\n","kos","0"]
[3,"Dobava in montaža izolirnega nosilnega elementa IZO30 (P-SV/Al) višine h = (3,0 + 0,5) m. Izolirani nosilni drogovi so namenjeni zaščiti večjih električnih naprav oziroma delov objekta (ekspozijsko ogrožena področja - Ex cone), nameščenih na izpostavljenih delih. Pri tem so izolirani nosilni drogovi nosilni elementi za lovilno mrežo nad ščitenimi napravami, njihov izolacijski del pa zagotavlja varnostno razdaljo med napravo in lovilnimi vodniki. V kompletu z ustreznim pritrdilnim materialom.\nProizvajalec Hermi\n","kos","0"]
[4,"Dobava in montaža strešnega nosilnega elementa SON17 C (PP) z betonsko kocko za pritrjevanje strelovodnega vodnika AH1 Al fi 8mm na ravne strehe. \nProizvajalec HERMI\n","kos","0"]
[null,"ODVODNI SISTEM STRELOVODNE INSTALACIJE"]
[5,"Dobava in montaža zidnega nosilnega elementa ZON01 Rf-V za pritrjevanje strelovodnega vodnika AH1 fi 8 mm na votle stene z izolacijo do 100 mm, z vijakom 160 mm in PVC vložkom fi10 mm \nProizvajalec HERMI\n","kos","0"]
[6,"Dobava in montaža mehanske vertikalne zaščite VZ01 (Rf) dolžine l = 1,5 m za zaščito zemljevodov. Primerna za nameščanje strelovodnega vodnika na votle stene z izolacijo do 100 mm, skupaj z nosilcema, vijakoma 160 mm in PVC vložkoma fi 10 mm. Zaščita je sestavljena iz 1x VZ vertikalna zaščita gola + 2x VZ nosilec 01.\nProizvajalec HERMI\n","kos","0"]
[null,"KONTAKTNI MATERIAL IN STRELOVODNI VODNIKI"]
[7,"Dobava in montaža merilne sponke KON02 (Rf-V)  za izdelavo merilnega spoja med strelovodnim vodnikom AH1 in ozemljilnim trakom. \nProizvajalec HERMI\n","kos","0"]
[8,"Dobava in montaža sponke KON04 A SIMPLE (Rf-V) iz nerjavečega jekla za medsebojno spajanje/podaljševanje okroglih strelovodnih vodnikov. \nProizvajalec HERMI\n","kos","0"]
[9,"Dobava in montaža sponke KON07 (Rf-V) iz nerjavečega jekla za povezovanje okroglega strelovodnega vodnika na lovilne palice. \nProizvajalec HERMI\n","kos","0"]
[10,"Dobava in montaža oznak merilnih mest MŠ (Rf-V). \nProizvajalec HERMI\n","kos","0"]
[11,"Dobava in montaža okroglega aluminijastega strelovodnega vodnika AH1 Al fi 8mm na tipske strelovodne nosilne elemente. \nProizvajalec HERMI\n","m","0"]
[null,"OZEMLJITVENI SISTEM STRELOVODNE INSTALACIJE IN IZENAČITVE POTENCIALOV"]
[12,"Dobava in montaža sponke KON01 (Rf-V) iz nerjavečega jekla za izvedbo spojev med ploščatim strelovodnim vodniki. \nProizvajalec HERMI\n","kos","0"]
[13,"Dobava in montaža sponke KON09 (Fe) iz jekla za izvedbo spojev med ploščatimi strelovodnimi vodniki do širine 40 mm ter armaturo temeljev do fi 20 mm v betonu. \nProizvajalec HERMI\n","kos","0"]
[14,"Dobava in montaža ploščatega vodnika RH1*H2 30x3,5 mm iz nerjavečega jekla 30x3,5 mm za izvedbo ozemljitvene instalacije. \nProizvajalec HERMI\n","m","0"]
[15,"Vizuelni pregled, meritve strelovodne napeljave z izdajo merilnega poročila s pripadajočo tehnično dokumentacijo\n","kpl","0"]
[17,"Drobni in montažni material \n",null,0.03]
[18,"Transportni in manipulativni stroški  \n",null,0.03]
["A3","SKUPAJ STRELOVODNA INSTALACIJA",null,null,null,{"$f":"SUM(F11:F30)","v":0},null,{"$f":"SUM(H11:H30)","v":0},null,{"$f":"SUM(J11:J30)","v":0}]

{"sheet":"CDE-CNS","index":97,"n_rows":225,"n_cols":10,"rows_kept":225,"cut":false,"hidden":false,"merged":[]}
[null,"Objekt C, D in E,   ELEKTROINŠTALACIJSKA  DELA"]
[]
["ZAP. ŠT.","OPIS","     ME","KOLIČUNA","CENA/ENOTO","SKUPAJ","POPUST","POPUST SKUPAJ","CENA/ENOTO S POPUSTOM","SKUPAJ S POPUSTOM"]
[]
["A4","AVTOMATSKO VODENJE, NADZOR IN UPRAVLJANJE (CNS)"]
[]
[null,"AVTOMATSKO VODENJE, NADZOR IN UPRAVLJANJE (CNS)"]
[]
["1.","KRMILNA OPREMA IN SENZORIKA TER STORITVE NA KRMILNEM NIVOJU."]
[]
[null,"Opomba: V popisu je zajet material (krmilniki, tipala, itd..) proizvajalca SAUTER, ponudi se lahko tehnično enakovredne materiale in opremo od drugega proizvajalca!"]
[]
[null,"Opomba:"]
[null,"Vsa krmilna oprema zajama zajema samo dobavo. Vgradnja in ožičenje je zajeto v sklopu dobave elektro razdelilnikov. Montaža in el. priklopi senzorike je zajeto v sklopu elektroinštalaterskih del."]
[]
["1.1.","ENERGETSKA STROJNICA"]
[]
[1,"Modularni prostoprogramabilni krmilnik z procesorsko enoto in napajalnikom; Ethernet CNS komunikacija, protokol BACnet/IP-Ethernet (ustreza standardu ISO-EN-16484-5); integriran WEB server; napajanje 230V;\nŠtevilo vhodov: 8xDI + 8xUI\nŠtevilo izhodov: 6xDO(rele) + 4xAO\nRazširljiv do 8 I/O modulov (154 HW DP)"]
[null,"ustreza: SAUTER tip EY-AS525F001","kos","0"]
[]
[2,"Vhodno / Izhodni modul za mudularno enoto EY-AS525 (Bacnet/IP):\nŠtevilo vhodov: 8xUI + 8xDI\n"]
[null,"ustreza: SAUTER EY-IO530F001","kos","0"]
[]
[3,"Vhodno / Izhodni modul za mudularno enoto EY-AS525 (Bacnet/IP):\nŠtevilo vhodov: 16xUI"]
[null,"ustreza: SAUTER EY-IO532F001","kos","0"]
[]
[4,"Vhodno / Izhodni modul za mudularno enoto EY-AS525 (Bacnet/IP):\nŠtevilo vhodov / izhodov: 6xDO"]
[null,"ustreza: SAUTER tip EY-IO550F001","kos","0"]
[]
[5,"Komunikacijski modul (mASter) z EIA-485 vmesnikom za integracijo ModBus/RTU protokola na krmilniškem nivoju; priklop na EY-AS525 (Bacnet/IP); do 512 podatkovnih točk"]
[null,"ustreza: Sauter EY-CM721F010","kos","0"]
[]
[5,"LCD lokalna operaterska enota za priklop na modularni krmilnik EY-AS525; pregled merilnih vrednosti in vnos nastavitev; LCD zaslon (160x100 pix); 2x LED indikacija (alarm, status); v kompletu z setom za montažo na vrata stikalnega bloka"]
[null,"ustreza: SAUTER tip EY-OP840F001 + 0930240511 + 0930240541","kpl","0"]
[]
[7,"Programiranje krmilnika strojnih sistemov energetske strojnice (ES) po projektnih zahtevah;","kpl","0"]
[]
[8,"Vnos programa v krmilnike, testiranje vhodno/izhodnih signalov na objektu (IQ test), funkcijski zagon na objektu (OQ test), nastavitev delovnih in regulacijskih parametrov, vzpostavitev ethernet komunikacije za CNS, integracija ModBus protokola na krmilnem nivoju (2xTČ, vremenska postaja);","kpl","0"]
[]
[9,"Prilagoditev elektro vezalne sheme na izbrano strojno opremo za izdelavo elektro stikalnega bloka.","kpl","0"]
[null,"Skupaj Energetska strojnica:",null,"0"]
[]
[]
["1.2.","KLIMATSKA NAPRAVA KN1"]
[]
[1,"Modularni prostoprogramabilni krmilnik z procesorsko enoto in napajalnikom; Ethernet CNS komunikacija, protokol BACnet/IP-Ethernet (ustreza standardu ISO-EN-16484-5); integriran WEB server; napajanje 230V;\nŠtevilo vhodov: 8xDI + 8xUI\nŠtevilo izhodov: 6xDO(rele) + 4xAO\nRazširljiv do 8 I/O modulov (154 HW DP)"]
[null,"ustreza: SAUTER tip EY-AS525F001","kos","0"]
[]
[2,"Vhodno / Izhodni modul za mudularno enoto EY-AS525 (Bacnet/IP):\nŠtevilo vhodov:16xDI\n"]
[null,"ustreza: SAUTER EY-IO531F001","kos","0"]
[]
[3,"Vhodno / Izhodni modul za mudularno enoto EY-AS525 (Bacnet/IP):\nŠtevilo vhodov: 8xUI\nŠtevilo izhodov: 4xAO"]
[null,"ustreza: SAUTER EY-IO570F001","kos","0"]
[]
[4,"Vhodno / Izhodni modul za mudularno enoto EY-AS525 (Bacnet/IP):\nŠtevilo vhodov / izhodov: 6xDO"]
[null,"ustreza: SAUTER tip EY-IO550F001","kos","0"]
[]
[5,"LCD lokalna operaterska enota za priklop na modularni krmilnik EY-AS525; pregled merilnih vrednosti in vnos nastavitev; LCD zaslon (160x100 pix); 2x LED indikacija (alarm, status); v kompletu z setom za montažo na vrata stikalnega bloka"]
[null,"ustreza: SAUTER tip EY-OP840F001 + 0930240511 + 0930240541","kpl","0"]
[]
[6,"Programiranje krmilnika po projektnih zahtevah;","kpl","0"]
[]
[7,"Vnos programa v krmilnike, testiranje vhodno/izhodnih signalov na objektu (IQ test), funkcijski zagon na objektu (OQ test), nastavitev delovnih in regulacijskih parametrov, vzpostavitev ethernet komunikacije za CNS, integracija ModBus protokola na krmilnem nivoju;","kpl","0"]
[]
[8,"Izdelava uporabniških navodil za delo na krmilnem nivoju; šolanje uporabnika za upravljanje z krmilno-regulacijsko opremo na lokalnem nivoju","kpl","0"]
[]
[9,"Prilagoditev elektro vezalne sheme na izbrano strojno opremo za izdelavo elektro stikalnega bloka.","kpl","0"]
[null,"Skupaj klimat KN1:",null,"0"]
[]
[]
["1.3.","KLIMATSKA NAPRAVA KN2"]
[]
[null,"Krmilna oprema (samo dobava) in storitve"]
[1,"Modularni prostoprogramabilni krmilnik z procesorsko enoto in napajalnikom; Ethernet CNS komunikacija, protokol BACnet/IP-Ethernet (ustreza standardu ISO-EN-16484-5); integriran WEB server; napajanje 230V;\nŠtevilo vhodov: 8xDI + 8xUI\nŠtevilo izhodov: 6xDO(rele) + 4xAO\nRazširljiv do 8 I/O modulov (154 HW DP)"]
[null,"ustreza: SAUTER tip EY-AS525F001","kos","0"]
[]
[2,"Vhodno / Izhodni modul za mudularno enoto EY-AS525 (Bacnet/IP):\nŠtevilo vhodov:16xDI\n"]
[null,"ustreza: SAUTER EY-IO531F001","kos","0"]
[]
[3,"Vhodno / Izhodni modul za mudularno enoto EY-AS525 (Bacnet/IP):\nŠtevilo vhodov: 8xUI\nŠtevilo izhodov: 4xAO"]
[null,"ustreza: SAUTER EY-IO570F001","kos","0"]
[]
[4,"Vhodno / Izhodni modul za mudularno enoto EY-AS525 (Bacnet/IP):\nŠtevilo vhodov / izhodov: 6xDO"]
[null,"ustreza: SAUTER tip EY-IO550F001","kos","0"]
[]
[5,"LCD lokalna operaterska enota za priklop na modularni krmilnik EY-AS525; pregled merilnih vrednosti in vnos nastavitev; LCD zaslon (160x100 pix); 2x LED indikacija (alarm, status); v kompletu z setom za montažo na vrata stikalnega bloka"]
[null,"ustreza: SAUTER tip EY-OP840F001 + 0930240511 + 0930240541","kpl","0"]
[]
[6,"Programiranje krmilnika KN po projektnih zahtevah;","kpl","0"]
[]
[7,"Vnos programa v krmilnike, testiranje vhodno/izhodnih signalov na objektu (IQ test), funkcijski zagon na objektu (OQ test), nastavitev delovnih in regulacijskih parametrov, vzpostavitev ethernet komunikacije za CNS.","kpl","0"]
[]
[8,"Izdelava uporabniških navodil za delo na krmilnem nivoju; šolanje uporabnika za upravljanje z krmilno-regulacijsko opremo na lokalnem nivoju","kpl","0"]
[]
[9,"Prilagoditev elektro vezalne sheme na izbrano strojno opremo za izdelavo elektro stikalnega bloka.","kpl","0"]
[null,"Skupaj klimat KN2:",null,"0"]
[]
["1.4.","KLIMATSKA NAPRAVA KN3"]
[]
[null,"Krmilna oprema (samo dobava) in storitve"]
[1,"Modularni prostoprogramabilni krmilnik z procesorsko enoto in napajalnikom; Ethernet CNS komunikacija, protokol BACnet/IP-Ethernet (ustreza standardu ISO-EN-16484-5); integriran WEB server; napajanje 230V;\nŠtevilo vhodov: 8xDI + 8xUI\nŠtevilo izhodov: 6xDO(rele) + 4xAO\nRazširljiv do 8 I/O modulov (154 HW DP)"]
[null,"ustreza: SAUTER tip EY-AS525F001","kos","0"]
[]
[2,"Vhodno / Izhodni modul za mudularno enoto EY-AS525 (Bacnet/IP):\nŠtevilo vhodov:16xDI\n"]
[null,"ustreza: SAUTER EY-IO531F001","kos","0"]
[]
[3,"Vhodno / Izhodni modul za mudularno enoto EY-AS525 (Bacnet/IP):\nŠtevilo vhodov: 8xUI\nŠtevilo izhodov: 4xAO"]
[null,"ustreza: SAUTER EY-IO570F001","kos","0"]
[]
[4,"Vhodno / Izhodni modul za mudularno enoto EY-AS525 (Bacnet/IP):\nŠtevilo vhodov / izhodov: 6xDO"]
[null,"ustreza: SAUTER tip EY-IO550F001","kos","0"]
[]
[5,"LCD lokalna operaterska enota za priklop na modularni krmilnik EY-AS525; pregled merilnih vrednosti in vnos nastavitev; LCD zaslon (160x100 pix); 2x LED indikacija (alarm, status); v kompletu z setom za montažo na vrata stikalnega bloka"]
[null,"ustreza: SAUTER tip EY-OP840F001 + 0930240511 + 0930240541","kpl","0"]
[]
[6,"Programiranje krmilnika KN po projektnih zahtevah;","kpl","0"]
[]
[7,"Vnos programa v krmilnike, testiranje vhodno/izhodnih signalov na objektu (IQ test), funkcijski zagon na objektu (OQ test), nastavitev delovnih in regulacijskih parametrov, vzpostavitev ethernet komunikacije za CNS.","kpl","0"]
[]
[8,"Izdelava uporabniških navodil za delo na krmilnem nivoju; šolanje uporabnika za upravljanje z krmilno-regulacijsko opremo na lokalnem nivoju","kpl","0"]
[]
[9,"Prilagoditev elektro vezalne sheme na izbrano strojno opremo za izdelavo elektro stikalnega bloka.","kpl","0"]
[null,"Skupaj klimat KN3:",null,"0"]
[]
["1.5.","KLIMATSKA NAPRAVA KN4"]
[]
[null,"Krmilna oprema (samo dobava) in storitve"]
[1,"Modularni prostoprogramabilni krmilnik z procesorsko enoto in napajalnikom; Ethernet CNS komunikacija, protokol BACnet/IP-Ethernet (ustreza standardu ISO-EN-16484-5); integriran WEB server; napajanje 230V;\nŠtevilo vhodov: 8xDI + 8xUI\nŠtevilo izhodov: 6xDO(rele) + 4xAO\nRazširljiv do 8 I/O modulov (154 HW DP)"]
[null,"ustreza: SAUTER tip EY-AS525F001","kos","0"]
[]
[2,"Vhodno / Izhodni modul za mudularno enoto EY-AS525 (Bacnet/IP):\nŠtevilo vhodov:16xDI\n"]
[null,"ustreza: SAUTER EY-IO531F001","kos","0"]
[]
[3,"Vhodno / Izhodni modul za mudularno enoto EY-AS525 (Bacnet/IP):\nŠtevilo vhodov: 8xUI\nŠtevilo izhodov: 4xAO"]
[null,"ustreza: SAUTER EY-IO570F001","kos","0"]
[]
[4,"Vhodno / Izhodni modul za mudularno enoto EY-AS525 (Bacnet/IP):\nŠtevilo vhodov / izhodov: 6xDO"]
[null,"ustreza: SAUTER tip EY-IO550F001","kos","0"]
[]
[5,"LCD lokalna operaterska enota za priklop na modularni krmilnik EY-AS525; pregled merilnih vrednosti in vnos nastavitev; LCD zaslon (160x100 pix); 2x LED indikacija (alarm, status); v kompletu z setom za montažo na vrata stikalnega bloka"]
[null,"ustreza: SAUTER tip EY-OP840F001 + 0930240511 + 0930240541","kpl","0"]
[]
[6,"Programiranje krmilnika KN po projektnih zahtevah;","kpl","0"]
[]
[7,"Vnos programa v krmilnike, testiranje vhodno/izhodnih signalov na objektu (IQ test), funkcijski zagon na objektu (OQ test), nastavitev delovnih in regulacijskih parametrov, vzpostavitev ethernet komunikacije za CNS.","kpl","0"]
[]
[8,"Izdelava uporabniških navodil za delo na krmilnem nivoju; šolanje uporabnika za upravljanje z krmilno-regulacijsko opremo na lokalnem nivoju","kpl","0"]
[]
[9,"Prilagoditev elektro vezalne sheme na izbrano strojno opremo za izdelavo elektro stikalnega bloka.","kpl","0"]
[null,"Skupaj klimat KN4:",null,"0"]
[]
["1.5.","KLIMATSKA NAPRAVA KN5"]
[]
[null,"Krmilna oprema (samo dobava) in storitve"]
[1,"Modularni prostoprogramabilni krmilnik z procesorsko enoto in napajalnikom; Ethernet CNS komunikacija, protokol BACnet/IP-Ethernet (ustreza standardu ISO-EN-16484-5); integriran WEB server; napajanje 230V;\nŠtevilo vhodov: 8xDI + 8xUI\nŠtevilo izhodov: 6xDO(rele) + 4xAO\nRazširljiv do 8 I/O modulov (154 HW DP)"]
[null,"ustreza: SAUTER tip EY-AS525F001","kos","0"]
[]
[2,"Vhodno / Izhodni modul za mudularno enoto EY-AS525 (Bacnet/IP):\nŠtevilo vhodov:16xDI\n"]
[null,"ustreza: SAUTER EY-IO531F001","kos","0"]
[]
[3,"Vhodno / Izhodni modul za mudularno enoto EY-AS525 (Bacnet/IP):\nŠtevilo vhodov: 8xUI\nŠtevilo izhodov: 4xAO"]
[null,"ustreza: SAUTER EY-IO570F001","kos","0"]
[]
[4,"Vhodno / Izhodni modul za mudularno enoto EY-AS525 (Bacnet/IP):\nŠtevilo vhodov / izhodov: 6xDO"]
[null,"ustreza: SAUTER tip EY-IO550F001","kos","0"]
[]
[5,"LCD lokalna operaterska enota za priklop na modularni krmilnik EY-AS525; pregled merilnih vrednosti in vnos nastavitev; LCD zaslon (160x100 pix); 2x LED indikacija (alarm, status); v kompletu z setom za montažo na vrata stikalnega bloka"]
[null,"ustreza: SAUTER tip EY-OP840F001 + 0930240511 + 0930240541","kpl","0"]
[]
[6,"Programiranje krmilnika KN po projektnih zahtevah;","kpl","0"]
[]
[7,"Vnos programa v krmilnike, testiranje vhodno/izhodnih signalov na objektu (IQ test), funkcijski zagon na objektu (OQ test), nastavitev delovnih in regulacijskih parametrov, vzpostavitev ethernet komunikacije za CNS.","kpl","0"]
[]
[8,"Izdelava uporabniških navodil za delo na krmilnem nivoju; šolanje uporabnika za upravljanje z krmilno-regulacijsko opremo na lokalnem nivoju","kpl","0"]
[]
[9,"Prilagoditev elektro vezalne sheme na izbrano strojno opremo za izdelavo elektro stikalnega bloka.","kpl","0"]
[null,"Skupaj klimat KN5:",null,"0"]
[]
[]
["2.","NADZORNI CENTER CNS (WEB SCADA)"]
[]
[1,"BACnet WEB strežnik za zajem, daljinski nadzor in upravljanje krmilnikov preko standardnega WEB brskalnika; grafična vizualizacija (dinamične slike) in upravljanje; digrami merilnih vrednosti, alarmiranje preko e-maila; časovni programi in koledar; ethernet port; on-line prikaz podatkov, zgodovina z izrisom grafov, več nivojski dostopi zaščiteni z gesli; vgrajen požarni zid; nap. 24 VAC;\nvključno z softwarskim modulom za 2500 podatkovnih točk, 250 slik in 100 uporabnikov"]
[null,"ustreza: SAUTER tip EY-WS500F005","kos","0"]
[null,"ustreza: SAUTER tip EY-WS505F020","kos","0"]
[]
[2,"PC računalnik; Intel Quad Core i7-6700 3.40 GHz, 16 GB, 960 GB SSD; Windows 10; Monitor 61 cm (24'')"]
[null,"ustreza: PC HP Z240 + Monitor Dell U2415","kos","0"]
[]
[3,"Storitve na nivoju nadzorne postaje (WEB SCADA); izdelava grafičnega \nvmesnika; konfiguriranje baze podatkov; kreiranje alarmnih sporočil, zgodovine, poročil, dostopv; vzpostavitev povezav med krmilniki; konfiguracija Modbus vmesnika, izdelava tabel merilnih tabel; testiranje izdelanih aplikacij;\nZajema naslednje sisteme:\n- energetska strojnica (ogr., hlaj. hladilni agregat,...),\n- klimatska naprava - skupaj 2 kpl\n- priprava tople sanitarne vode                                                                                             \n- IRC - talno ogrevanje po prostorih; ventilatorski konvektorji, senčila - skupaj 78 kpl                                                                                                     \n     \n","kpl","0"]
[]
[null,"SKUPAJ nadzorni center CNS (WEB SCADA)","kpl","0"]
[]
["3.","EL. RAZDELILCI ZA POTREBE KRMILENJA STROJNIH NAPRAV IN IRC"]
[]
[null,"Opomba:"]
[null," - vsa oprema zajema dobavo in montažo                                   "]
[null," - dimenzije stikalnih blokov uskladiti s prostorom, ki je na razpolago na predvideni lokaciji za namestitev na objektu"]
[]
["3.1.","Elektro-krmilna omara za energetsko strojnico (RES)"]
[]
[1,"Razdelilnik izdelan iz kovinske omare dimenzij npr.  (v/š/g) 1000x1000x250 mm, antikorozijsko zaščiten, sive barve, zaščita IP40; z vso potrebno opremo za montažo. Razdelilnik ima vgrajeno sledečo opremo:","kos","0"]
[null,"Grebenasto stikalo za montažo na vrata razdelilnika, 4 polno, 3x230/400V, 50Hz, nazivni izklopni tok 63A","kos","0"]
[null,"Prenapetostni odvodniki; Protec","kos","0"]
[null,"Nadzorni rele izpada, zaporedja in asimetrij v 3f omrežju (UR5P3011)","kos","0"]
[null,"Grebenasto stikalo, tropoložajno 1-0-2; 230V, 50Hz, nazivni izklopnim tok 10A  ","kos","0"]
[null,"Instalacijski odklopnik, 230V, 50Hz, 1 polni, nazivna kratkostična zmoglivost 10kA,  nazivni tok  16A / 10A / 6A / 4A","kos","0"]
[null,"Instalacijski odklopnik, 230V, 50Hz, 3 polni, nazivna kratkostična zmoglivost 10kA,  nazivni tok  16A / 10A / 6A","kos","0"]
[null,"Zaščitno stikalo na diferenčni tok z nadtokovno zaščito (KZS); 16A","kos","0"]
[null,"Preklopni rele s 3 preklopnimi kontakti 230V; AC; nazivnim tokom 6A, z ločenim podnožjem; za krmilno napetost 24VAC/DC ali 230VAC; komplet z podnožjem","kpl","0"]
[null,"Transformator z ločenim navitje za prestavno razmerje 230V/24V 50Hz, nazivna priključna moč 250 VA; ","kos","0"]
[null,"Vtičnica za vgradnjo v omaro na DIN letev, z ozem. kontaktom 2P; nazivno napetost  230V 50Hz; za nazivni tok 16A","kos","0"]
[null,"Linestra 230V AC 60 W dolžine 500 mm s stikalom","kos","0"]
[null,"Ventilator s termostatom","kos","0"]
[null,"Signalna svetilka za montažo v panel , z rumenim odsevnikom, velikosti premera 22mm, skupaj z montažnim prioborom, napajalnim modulom za nazivno napetost 24V AC, in LED signalno diodo za nazivno napetost 24V AC ","kos","0"]
[null,"Uvodnice Pg z tesnilnim obročem","kpl","0"]
[null,"Priključne vrstne sponke za montažo na DIN letev vijačne izvedbe","kos","0"]
[null,"Samo vgradnja in ožičenje krmilnika. Krmilnik je razpisan pod krmilno opremo za CNS sistem. ","kom","0"]
[null,"Samo montaža operaterske enote na vrata stikalnega bloka. OE je razpisana pod krmilno opremo za CNS sistem. ","kom","0"]
[null,"Drobni in vezni material kot so PVC kanali, vijaki, žica ustreznega preseka, zaključne letve za vrstne ponke, vezice, obešalo za dokumentacijo, označevalne ploščice za elemente, napisne ploščice stikal in lučk,...","kpl","0"]
[null,"Skupaj","kpl","0"]
[null,"Skupaj","kpl","0",null,{"$f":"SUM(F194:F220)","v":0},null,{"$f":"SUM(H194:H220)","v":0},null,{"$f":"SUM(J194:J220)","v":0}]
[]
[]
[]
["A4","CNS SKUPAJ",null,null,null,{"$f":"F41+F68+F96+F123+F150+F177+F191+F221","v":0},null,{"$f":"H41+H68+H96+H123+H150+H177+H191+H221","v":0},null,{"$f":"J41+J68+J96+J123+J150+J177+J191+J221","v":0}]

{"sheet":"CDE-POŽAR","index":98,"n_rows":60,"n_cols":10,"rows_kept":60,"cut":false,"hidden":false,"merged":[]}
[null,"Objekt C, D in E,   ELEKTROINŠTALACIJSKA  DELA"]
[]
["ZAP. ŠT.","OPIS","     ME","KOLIČUNA","CENA/ENOTO","SKUPAJ","POPUST","POPUST SKUPAJ","CENA/ENOTO S POPUSTOM","SKUPAJ S POPUSTOM"]
[]
["A5","SISTEM AVTOMATSKEGA JAVLJANJA POŽARA"]
[]
["1.","Mikroprocesorsko krmiljena centrala za javljanje požara (npr. Hochiki - Advanced SIMx-5402,)\n• 2 naslovljive linije  z najmanj 127 adresami za priključitev avtomatskih javljalnikov požara ter z možnostjo razširitve oz. povezljivosti večih central v sistem, \n• ob alarmu, okvari javljalnika se mora na prikazovalniku izpisati ime prostora, lokacija javljalnika, število dogodkov (alarmov,okvar) v obdelavi, \n• prikaz obvestil o stanju sistema,\n• teksti in meniji na prikazovalniku za upravljanje sistema v slovenskem jeziku, \n• teksti ob tipkah na upravljanem tabloju v slovenskem jeziku,\n• večnivojsko upravljanje sistema ( dostop do funkcij posameznega nivoja je omejen z gesli),\n• zvočna signalizacija in prikaz na LCD prikazovalniku o okvarjenem javljalniku samo na centrali (brez proženja notranjih siren),\n• rezervno akumulatorsko napajanje,\n• skladnost z EN 54 2 & 4.","kos",1,null,{"$f":"+E7*D7","v":0},{"$f":"+E7*MM","v":0},{"$f":"+G7*D7","v":0},{"$f":"+E7-G7","v":0},{"$f":"+I7*D7","v":0}]
[]
["2.","Akumulatorska baterija 12V / 17 Ah","kos",2,null,{"$f":"+E9*D9","v":0},{"$f":"+E9*MM","v":0},{"$f":"+G9*D9","v":0},{"$f":"+E9-G9","v":0},{"$f":"+I9*D9","v":0}]
[]
["3.","Oddaljen prikazovalnik in mrežna komunikacijska kartica za povezavo centrale in oddaljenega prikazovalnika (npr. Advanced Mxp-503)","kos",1,null,{"$f":"+E11*D11","v":0},{"$f":"+E11*MM","v":0},{"$f":"+G11*D11","v":0},{"$f":"+E11-G11","v":0},{"$f":"+I11*D11","v":0}]
[]
["4.","Komunikator  za potrebe prenosa požarnega alarma na pokicno gasilsko enoto  oz. na varnostno službo (kot npr. VNC Aktiva varovanje d.d. (IP PRENOS preko interneta))","kos",1,null,{"$f":"+E13*D13","v":0},{"$f":"+E13*MM","v":0},{"$f":"+G13*D13","v":0},{"$f":"+E13-G13","v":0},{"$f":"+I13*D13","v":0}]
[]
["5.","Naslovljivi optični dimni javljalnik požara nad spuščenim stropom (npr. Hochiki ALN-E) v kompletu s podnožjem in napisno ploščico","kos",75,null,{"$f":"+E15*D15","v":0},{"$f":"+E15*MM","v":0},{"$f":"+G15*D15","v":0},{"$f":"+E15-G15","v":0},{"$f":"+I15*D15","v":0}]
[]
["7.","Vzorčna komora z naslovljivim optičnim dimnim javljalnikom požara (npr. Hochiki ALN-E) v kompletu s podnožjem in napisno ploščico","kos",6,null,{"$f":"+E17*D17","v":0},{"$f":"+E17*MM","v":0},{"$f":"+G17*D17","v":0},{"$f":"+E17-G17","v":0},{"$f":"+I17*D17","v":0}]
[]
["8.","Naslovljivi termični javljalnik požara (npr. Hochiki ) v kompletu s podnožjem in napisno ploščico","kos",23,null,{"$f":"+E19*D19","v":0},{"$f":"+E19*MM","v":0},{"$f":"+G19*D19","v":0},{"$f":"+E19-G19","v":0},{"$f":"+I19*D19","v":0}]
[]
["9.","Naslovljivi ročni javljalnik požara (npr. Hochiki HCP-E) z izolatorjem zanke v kompletu z napisno ploščico","kos",22,null,{"$f":"+E21*D21","v":0},{"$f":"+E21*MM","v":0},{"$f":"+G21*D21","v":0},{"$f":"+E21-G21","v":0},{"$f":"+I21*D21","v":0}]
[]
["10.","Pleksi zaščitno steklo za ročni javljalnik","kos",{"$f":"D21","v":22},null,{"$f":"+E23*D23","v":0},{"$f":"+E23*MM","v":0},{"$f":"+G23*D23","v":0},{"$f":"+E23-G23","v":0},{"$f":"+I23*D23","v":0}]
[]
["11.","Flouroscentna oznaka ročni javljalnik 125x125mm","kos",{"$f":"D23","v":22},null,{"$f":"+E25*D25","v":0},{"$f":"+E25*MM","v":0},{"$f":"+G25*D25","v":0},{"$f":"+E25-G25","v":0},{"$f":"+I25*D25","v":0}]
[]
["12.","Naslovljiva sirena s svetlobno indikacijo (npr. Hochiki YBO-BSB2) za montažo v podnožje avtomatskega javljalnik in napisno ploščico","kos",29,null,{"$f":"+E27*D27","v":0},{"$f":"+E27*MM","v":0},{"$f":"+G27*D27","v":0},{"$f":"+E27-G27","v":0},{"$f":"+I27*D27","v":0}]
[]
["12.","Naslovljiva sirena s svetlobno indikacijo (npr. Hochiki CHQ-WS2B2) za samostojno montažo s podnožjem in napisno ploščico","kos",7,null,{"$f":"+E29*D29","v":0},{"$f":"+E29*MM","v":0},{"$f":"+G29*D29","v":0},{"$f":"+E29-G29","v":0},{"$f":"+I29*D29","v":0}]
[]
["13.","Flouroscentna oznaka sirena 125x125mm","kos",36,null,{"$f":"+E31*D31","v":0},{"$f":"+E31*MM","v":0},{"$f":"+G31*D31","v":0},{"$f":"+E31-G31","v":0},{"$f":"+I31*D31","v":0}]
[]
["14.","Vmesnik adresibilni 1 izhod (~230V/5A)/1 vhod (nadzorovan) in izolatorjem (npr. Hochiki CHQ-MRC(SCI)) - krmiljenje/kontrola PL in DL, izklop klimatov, deblokado drsnih vrat, vklop ventilatorjev nadtlaka, deblokado magnetnih držal,..","kos",16,null,{"$f":"+E33*D33","v":0},{"$f":"+E33*MM","v":0},{"$f":"+G33*D33","v":0},{"$f":"+E33-G33","v":0},{"$f":"+I33*D33","v":0}]
[]
["15.","Vmesnik adresibilni 2 vhoda in izolatorjem (npr. Hochiki CHQ-DIM(SCI)) - priklop javljalnika plina","kos",6,null,{"$f":"+E35*D35","v":0},{"$f":"+E35*MM","v":0},{"$f":"+G35*D35","v":0},{"$f":"+E35-G35","v":0},{"$f":"+I35*D35","v":0}]
[]
["16.","Javljalnik plina metan, 2 relejska izhoda, napajalna napetost 24V, Alarm 1=20% LEL, Alarm 2= 50% LEL","kos",5,null,{"$f":"+E37*D37","v":0},{"$f":"+E37*MM","v":0},{"$f":"+G37*D37","v":0},{"$f":"+E37-G37","v":0},{"$f":"+I37*D37","v":0}]
[]
["17.","Sirena z bliskavko, nalepka POZOR PLIN (rdeča z belim napisom, 400*200mm)","kos",1,null,{"$f":"+E39*D39","v":0},{"$f":"+E39*MM","v":0},{"$f":"+G39*D39","v":0},{"$f":"+E39-G39","v":0},{"$f":"+I39*D39","v":0}]
[]
["18.","Napajalnik za požarne sisteme , LED serija , vhodna napetost = 220 Vac , izhodna napetost = 27,6 Vdc, izhoden tok = 5A , protisabotažna zašita , zaščita baterije , tehnični izhod , javljanje izpada 220 V , javljanje napake na usmerniku , javljanje napake na bateriji, brez akumulatorja.","kos",1,null,{"$f":"+E41*D41","v":0},{"$f":"+E41*MM","v":0},{"$f":"+G41*D41","v":0},{"$f":"+E41-G41","v":0},{"$f":"+I41*D41","v":0}]
[]
["19.","Akumulatorska baterija 12V / 17 Ah","kos",2,null,{"$f":"+E43*D43","v":0},{"$f":"+E43*MM","v":0},{"$f":"+G43*D43","v":0},{"$f":"+E43-G43","v":0},{"$f":"+I43*D43","v":0}]
[]
[]
["21.","Dobava in montaža kabla v IST ceveh, komplet (kabli morajo ustrezati razredu B2ca s1d1a1)"]
[null,"JB-H(St)H 1x2x0,8 mm2","m",775,null,{"$f":"+E47*D47","v":0},{"$f":"+E47*MM","v":0},{"$f":"+G47*D47","v":0},{"$f":"+E47-G47","v":0},{"$f":"+I47*D47","v":0}]
[null,"JB-H(St)H 2x2x0,8 mm2","m",150,null,{"$f":"+E48*D48","v":0},{"$f":"+E48*MM","v":0},{"$f":"+G48*D48","v":0},{"$f":"+E48-G48","v":0},{"$f":"+I48*D48","v":0}]
[null,"NHXMH 3x1,5mm2","m",350,null,{"$f":"+E49*D49","v":0},{"$f":"+E49*MM","v":0},{"$f":"+G49*D49","v":0},{"$f":"+E49-G49","v":0},{"$f":"+I49*D49","v":0}]
[]
["22.","Dobava in montaža instalacijske cevi, komplet s spojnim in pritrdilnim materialom"]
[null,"I.C. 13,5mm","m",450,null,{"$f":"+E52*D52","v":0},{"$f":"+E52*MM","v":0},{"$f":"+G52*D52","v":0},{"$f":"+E52-G52","v":0},{"$f":"+I52*D52","v":0}]
[]
["23.","Montaža opreme:\n- montaža, vezava in naslavljanje elementov na pripravljeno instalacijo,  \n- označitev javljalnikov,\n- parametriranje sistema,\n- preizkus sistema,\n- spuščanje sistema v pogon,\n- sodelovanje na pregledu s strani pooblaščene institucije,\n- predaja sistema in poučitev uporabnika.                                                                                                                                                                                                                                                        ","kpl",1,null,{"$f":"+E54*D54","v":0},{"$f":"+E54*MM","v":0},{"$f":"+G54*D54","v":0},{"$f":"+E54-G54","v":0},{"$f":"+I54*D54","v":0}]
[]
["24.","Pregled požarnega sistema s strani pooblaščene osebe in izdaja potrdila","kpl",1,null,{"$f":"+E56*D56","v":0},{"$f":"+E56*MM","v":0},{"$f":"+G56*D56","v":0},{"$f":"+E56-G56","v":0},{"$f":"+I56*D56","v":0}]
[]
["25.","Prevozni in manipulativni stroški, drobni material, nepredvideno, 3%, po gradbeni knjigi.","kpl",1,null,{"$f":"+E58*D58","v":0},{"$f":"+E58*MM","v":0},{"$f":"+G58*D58","v":0},{"$f":"+E58-G58","v":0},{"$f":"+I58*D58","v":0}]
[]
["A5","JAVLJANJE POŽARA SKUPAJ",null,null,null,{"$f":"SUM(F7:F58)","v":0},null,{"$f":"SUM(H7:H58)","v":0},null,{"$f":"SUM(J7:J58)","v":0}]

{"sheet":"CDE-VLOM","index":99,"n_rows":48,"n_cols":10,"rows_kept":48,"cut":false,"hidden":false,"merged":[]}
[null,"Objekt C, D in E,  ELEKTROINŠTALACIJSKA  DELA"]
[]
["ZAP. ŠT.","OPIS","     ME","KOLIČUNA","CENA/ENOTO","SKUPAJ","POPUST","POPUST SKUPAJ","CENA/ENOTO S POPUSTOM","SKUPAJ S POPUSTOM"]
[]
["A6","SISTEM JAVLJANJA VLOMA"]
[]
["1.","Alarmna centrala (npr. Paradox EVO192HD centrala); 8 žičnih con, 8 particij, 999 uporabniških šifer, razširitev do 192 žičnih con, možnost priklopa do 254 adresabilnih BUS naprav oz. modulov, podpira pristopno kontrolo, vgrajen modem za poziv na sprejemni center, avtomatska menjava zimsko/letnega časa, 5 PGM, Winload, arhiv za 2048 dogodkov.","kos",1,null,{"$f":"+E7*D7","v":0},{"$f":"+E7*MM","v":0},{"$f":"+G7*D7","v":0},{"$f":"+E7-G7","v":0},{"$f":"+I7*D7","v":0}]
[]
["2.","Kovinsko ohišje za Paradox centrale, 325x400x98mm, vgrajen trafo 40VA, varovalka in tamper stikalo, priključena ozemljitev vrat in ohišja, plastični distančniki za hitro montažo\n","kos",3,null,{"$f":"+E9*D9","v":0},{"$f":"+E9*MM","v":0},{"$f":"+G9*D9","v":0},{"$f":"+E9-G9","v":0},{"$f":"+I9*D9","v":0}]
[]
["3.","Akumulatorska baterija 12V / 7,2 Ah","kos",4,null,{"$f":"+E11*D11","v":0},{"$f":"+E11*MM","v":0},{"$f":"+G11*D11","v":0},{"$f":"+E11-G11","v":0},{"$f":"+I11*D11","v":0}]
[]
["4.","Razširitveni modul žične conske razširitve za alarmne centrale serije EVO192, 8 con (npr. Paradox PAR ZX8)","kos",3,null,{"$f":"+E13*D13","v":0},{"$f":"+E13*MM","v":0},{"$f":"+G13*D13","v":0},{"$f":"+E13-G13","v":0},{"$f":"+I13*D13","v":0}]
[]
["5.","Kodirnik - Intuitivna LCD tipkovnica občutljiva na dotik v beli barvi, 17,77 cm (7’’) Vivid prikazovalnik, kompatibilno z EVO, SPECTRA in MAGELLAN alarmnimi centralami, dodaten conski vhod, nastavljivi opisi (con, particij, uporabnikov, vrat in PGM izhodov), zunanja SD kartica za nalaganje slik, vgrajen notranji temperaturni senzor, vgrajeno sabotažno stikalo proti odpiranju pokrova in odstranjevanju s stene. (npr. Paradox PAR TM70) - glavni vhod","kos",1,null,{"$f":"+E15*D15","v":0},{"$f":"+E15*MM","v":0},{"$f":"+G15*D15","v":0},{"$f":"+E15-G15","v":0},{"$f":"+I15*D15","v":0}]
[]
["6.","Kodirnik -LCD tipkovnica s programabilnimi sporočili za Paradox EVO alarmne centrale 8 funkcijskih tipk 3 kombinirane alarmne tipke FAP 1 vhod za cono in PGM izhod. (npr. Paradox PAR K641)","kos",4,null,{"$f":"+E17*D17","v":0},{"$f":"+E17*MM","v":0},{"$f":"+G17*D17","v":0},{"$f":"+E17-G17","v":0},{"$f":"+I17*D17","v":0}]
[]
["7.","Nadzorovani modul dodatnega napajanja 2,8A preko BUS vodila za Paradox EVO, Spectra, Magellan alarmne centrale verzije 6.80 ali višje (preko BUS ni kompatiblen z SP4000). Izhodni tok 2,5A max., polnjenje akumulatorja 300mA do 1,2A(preusmeritev iz AUX izhoda)","kos",2,null,{"$f":"+E19*D19","v":0},{"$f":"+E19*MM","v":0},{"$f":"+G19*D19","v":0},{"$f":"+E19-G19","v":0},{"$f":"+I19*D19","v":0}]
[]
["8.","Izolator komunikacijske zanke  za Paradox SPECTRA, MAGELLAN  in EVO  alarmne centrale, 1 vhod, 2 izhoda, vsak izhod omogoča podaljšanje BUS linije za 900 m. (npr. Paradox PAR HUB 2)","kos",1,null,{"$f":"E21*D21","v":0},{"$f":"+E21*MM","v":0},{"$f":"+G21*D21","v":0},{"$f":"+E21-G21","v":0},{"$f":"+I21*D21","v":0}]
[]
["8.","Senzor kombinirani PIR + MW, digitalna mikroprocesorska obdelava signalov, quad linearna tehnologija, možnost zaznave hišnih živali do 25kg, nastavitev polja pokritja mikrovalovnega senzorja, pokritje 12*12m, napajanje 9,5-14,5V DC, tokovna poraba mirovanje 18mA alarm 25,5mA. (npr. DSC LC-104 PIMW)","kos",18,null,{"$f":"+E23*D23","v":0},{"$f":"+E23*MM","v":0},{"$f":"+G23*D23","v":0},{"$f":"+E23-G23","v":0},{"$f":"+I23*D23","v":0}]
[]
["8.","Senzor kombinirani stropni PIR + MW, Antimasking dvojni digitalni PIR+MW detektor digitalni processor 12/8 bit, analiza signala “APSP”, avtomatska temperaturna kompenzacija. površina pokrivanja: 14x14m","kos",4,null,{"$f":"+E25*D25","v":0},{"$f":"+E25*MM","v":0},{"$f":"+G25*D25","v":0},{"$f":"+E25-G25","v":0},{"$f":"+I25*D25","v":0}]
[]
["9.","Stropni/zidni nosilec za IR+MW senzorje","kos",18,null,{"$f":"+E27*D27","v":0},{"$f":"+E27*MM","v":0},{"$f":"+G27*D27","v":0},{"$f":"+E27-G27","v":0},{"$f":"+I27*D27","v":0}]
[]
["10.","Magnetni kontakt odmik 22mm, 10mm(železo), kovinski","kos",0,null,{"$f":"E29*D29","v":0},{"$f":"+E29*MM","v":0},{"$f":"+G29*D29","v":0},{"$f":"+E29-G29","v":0},{"$f":"+I29*D29","v":0}]
[]
["11.","Ročna tipka za klic v sili ","kos",0,null,{"$f":"+E31*D31","v":0},{"$f":"+E31*MM","v":0},{"$f":"+G31*D31","v":0},{"$f":"+E31-G31","v":0},{"$f":"+I31*D31","v":0}]
[]
["12.","TCP/IP komunikacijski modul z web vmesnikom za nadzor in upravljanje Digiplex EVO alarmne centrale. Omogoča prenos podatkov na sprejemnik IPR512, Vsebuje dva I/O, ki jih kontroliramo preko Interneta, prožimo z emailom, prikaz zadnjih 64 dogodkov. (npr. Paradox PAR IP150)","kos",1,null,{"$f":"+E33*D33","v":0},{"$f":"+E33*MM","v":0},{"$f":"+G33*D33","v":0},{"$f":"+E33-G33","v":0},{"$f":"+I33*D33","v":0}]
[]
["13.","GSM/GPRS komunikator za Paradox SPECTRA, MAGELLAN i EVO alarmne centrale. Alternativna\nrešitev IP javljanja (GPRS), SMS javljanja in upravljanja ter glasovnega sporočanja (opcija s dodatnim PAR VDMP3) (npr. PAR PCS250)","kos",1,null,{"$f":"+E35*D35","v":0},{"$f":"+E35*MM","v":0},{"$f":"+G35*D35","v":0},{"$f":"+E35-G35","v":0},{"$f":"+I35*D35","v":0}]
[]
["14.","Dobava in montaža kabla v IST ceveh, komplet (kabli morajo ustrezati razredu B2ca s1d1a1)"]
[null,"FRNC 10x0,22 mm2, halogen free","m",220,null,{"$f":"+E38*D38","v":0},{"$f":"+E38*MM","v":0},{"$f":"+G38*D38","v":0},{"$f":"+E38-G38","v":0},{"$f":"+I38*D38","v":0}]
[null,"NHXMH 3x1,5mm2","m",75,null,{"$f":"+E39*D39","v":0},{"$f":"+E39*MM","v":0},{"$f":"+G39*D39","v":0},{"$f":"+E39-G39","v":0},{"$f":"+I39*D39","v":0}]
[]
["15.","Dobava in montaža instalacijske cevi, komplet s spojnim in pritrdilnim materialom"]
[null,"I.C. 13,5mm","m",125,null,{"$f":"+E42*D42","v":0},{"$f":"+E42*MM","v":0},{"$f":"+G42*D42","v":0},{"$f":"+E42-G42","v":0},{"$f":"+I42*D42","v":0}]
[]
["16.","Montaža opreme:\n- montaža, vezava in naslavljanje elementov na pripravljeno instalacijo,  \n- parametriranje sistema,\n- preizkus sistema,\n- spuščanje sistema v pogon,\n- predaja sistema in poučitev uporabnika.                                                                                                                                                                                                                                                        ","kpl",1,null,{"$f":"+E44*D44","v":0},{"$f":"+E44*MM","v":0},{"$f":"+G44*D44","v":0},{"$f":"+E44-G44","v":0},{"$f":"+I44*D44","v":0}]
[]
["17.","Prevozni in manipulativni stroški, drobni material, nepredvideno, 3%, po gradbeni knjigi.","kpl",1,null,{"$f":"+E46*D46","v":0},{"$f":"+E46*MM","v":0},{"$f":"+G46*D46","v":0},{"$f":"+E46-G46","v":0},{"$f":"+I46*D46","v":0}]
[]
["A6","JAVLJANJE VLOMA SKUPAJ",null,null,null,{"$f":"SUM(F7:F46)","v":0},null,{"$f":"SUM(H7:H46)","v":0},null,{"$f":"SUM(J7:J46)","v":0}]

{"sheet":"CDE-VIDEO","index":100,"n_rows":55,"n_cols":10,"rows_kept":55,"cut":false,"hidden":false,"merged":[]}
[null,"Objekt C, D in E,   ELEKTROINŠTALACIJSKA  DELA"]
[]
["ZAP. ŠT.","OPIS","     ME","KOLIČUNA","CENA/ENOTO","SKUPAJ","POPUST","POPUST SKUPAJ","CENA/ENOTO S POPUSTOM","SKUPAJ S POPUSTOM"]
[]
["A7","SISTEM VIDEO NADZORA"]
[]
[]
["1.","IP camera HIK 4 megapixel , Kupola Outdoor ,H265+, H265,H264+,H264, kompresija, 1/3\" Progressive CMOS, ICR,do 30m IR Range, 0.01lux/F1.2 AGC on, 0 lux with IR, 2560x1440 , 2.8~12mm/F1.4 MOTO ZOOM, avto focus lens, 3D DNR, BLC,WDR 120dB , 12 Vdc/POE , Onvif, IP67, ((kot npr. DS-2CD1H43G0-IZ) ","kos","0"]
[]
["2.","Podnožje kamere (junction boxDS-1280ZJ-M) ","kos",10,null,{"$f":"+E10*D10","v":0},{"$f":"+E10*MM","v":0},{"$f":"+G10*D10","v":0},{"$f":"+E10-G10","v":0},{"$f":"+I10*D10","v":0}]
[]
["3.","IP camera HiK 8 megapixel , H.265+,H.265,H.264+,H.264, Bullet Outdoor, 1/2,5\" Progressive CMOS, 3840 x 2160 @20fps, 2,8 - 12 mm MOTO-ZOOM lens , auto-iris IR cut , 0.01 Lux@F1.2, 0 Lux@IR, ICR, do 80m IR Range , 120 db WDR, slot za SD kartico do 128 Gb, IP67 outdoor, DC12V/PoE, Onvif, ((kot npr. DS-2CD 2685FWD-IZS ) ","kos",10,null,{"$f":"+E12*D12","v":0},{"$f":"+E12*MM","v":0},{"$f":"+G12*D12","v":0},{"$f":"+E12-G12","v":0},{"$f":"+I12*D12","v":0}]
[]
["4.","Objemka za drog (npr. DS-1275ZJ)","kos","0"]
[]
["5.","IP snemalna naprava HiK 32-CH , do 12MP resolution\nrecording, Max 32x IP kamer, izhod HDMI & VGA do 1920x1080 resolucije , 4 x SATA interface, brez HDD , 2x USB2.0, 19\" ohišje , vgrajeno mrežno stikalo 16 x PoE , Onvif , podpira tudi Android , iPAD2 , Iphone (kot npr.DS-7732NI-I4)","kos",1,null,{"$f":"+E16*D16","v":0},{"$f":"+E16*MM","v":0},{"$f":"+G16*D16","v":0},{"$f":"+E16-G16","v":0},{"$f":"+I16*D16","v":0}]
[]
["6.","Trdi disk WD 6TB SATA 4, 64MB WD20PURX","kos",4,null,{"$f":"+E18*D18","v":0},{"$f":"+E18*MM","v":0},{"$f":"+G18*D18","v":0},{"$f":"+E18-G18","v":0},{"$f":"+I18*D18","v":0}]
[]
["7.","Monitor LED 24\" LED, DVI, HDMI.","kos",1,null,{"$f":"+E20*D20","v":0},{"$f":"+E20*MM","v":0},{"$f":"+G20*D20","v":0},{"$f":"+E20-G20","v":0},{"$f":"+I20*D20","v":0}]
[]
["8.","Mrežno stikalo 24-portno 100Mb PoE, z dvojnim 1GB uplink mrežnim priključkom,  Vseh osem PoE mrežnih priključkov ima podporo IEEE802.3af. Vgrajena je   6KV prenapetostna zaščita vezij z namenom izboljšati stabilnost izdelka in varovanje priključenih naprav. (UTEPO 3-SW08-TP120-A1)","kos",1,null,{"$f":"+E22*D22","v":0},{"$f":"+E22*MM","v":0},{"$f":"+G22*D22","v":0},{"$f":"+E22-G22","v":0},{"$f":"+I22*D22","v":0}]
[]
["9.","Mrežni switch 16-port 10/100 (RJ45) z PoE IEEE\n802.3at (15,4W na vseh 16 portih) + 2-port 10/100/1000 (combo RJ45 + SFP).","kos",1,null,{"$f":"+E24*D24","v":0},{"$f":"+E24*MM","v":0},{"$f":"+G24*D24","v":0},{"$f":"+E24-G24","v":0},{"$f":"+I24*D24","v":0}]
[]
["11.","Delilnik, optični, 24 vlaken,LC,50/125µm OM2, 19\",1HE","kos","0"]
[]
["12.","Povezovalni (Patch) optični kabel, 50/125, LC/LC konektorji, 1m","kos","0"]
[]
["13.","19\" COM omara 9 HE, VxŠxG=600x600x600 mm, vrata, stena, stranica, 2 x polica, 1x izvlečna polica, kolesa, 1 x hladilnik(1HU), termostat, 2 x razdelilniik 9 vtičnic )","kos",2,null,{"$f":"+E30*D30","v":0},{"$f":"+E30*MM","v":0},{"$f":"+G30*D30","v":0},{"$f":"+E30-G30","v":0},{"$f":"+I30*D30","v":0}]
[]
["14.","Mrežni delilnik Patch panel 24 port STP Cat.6A 1A 1U STP 24 portni Cat.6A","kos",2,null,{"$f":"+E32*D32","v":0},{"$f":"+E32*MM","v":0},{"$f":"+G32*D32","v":0},{"$f":"+E32-G32","v":0},{"$f":"+I32*D32","v":0}]
[]
["15.","UPS sistem Line Interactive, 2200VA/1540W, avtonomija 9 min (75% obremenitev)\nvhod: 160-294 Vac, 50 ali 60 Hz samonastavljiv\nizhod: 230Vac, pravilni sinus, 50 ali 60 Hz (+/-0,5%),\nbaterija: VRLA AGM vzdrževanja proste, čas polnjen\nUSB in RS232 port, Aros Watch&Save 3000 software\nzaščita proti kratkemu stiku, preobremenjenosti in zaš\nzaščita telefonske linije z vhodom in izhodom RJ45","kos",1,null,{"$f":"+E34*D34","v":0},{"$f":"+E34*MM","v":0},{"$f":"+G34*D34","v":0},{"$f":"+E34-G34","v":0},{"$f":"+I34*D34","v":0}]
[]
["16."," UPS, 800VA (480W), mini ohišje, avtonomija 5 min, USB, auto restart (npr. Riello iDialog IDG 800)","kos",1,null,{"$f":"+E36*D36","v":0},{"$f":"+E36*MM","v":0},{"$f":"+G36*D36","v":0},{"$f":"+E36-G36","v":0},{"$f":"+I36*D36","v":0}]
[]
["17.","Omara zidna INOX, velikost (VxŠxG) 400x400x210mm, grelec, termostat, zračnik, IP66","kos",2,null,{"$f":"+E38*D38","v":0},{"$f":"+E38*MM","v":0},{"$f":"+G38*D38","v":0},{"$f":"+E38-G38","v":0},{"$f":"+I38*D38","v":0}]
[]
["18.","Dobava in montaža kabla v IST ceveh, komplet (kabli morajo ustrezati razredu B2ca s1d1a1)"]
[null,"U/UTP (4x2x0,22 mm2) CAT 6 HF B2ca","m",215,null,{"$f":"+E41*D41","v":0},{"$f":"+E41*MM","v":0},{"$f":"+G41*D41","v":0},{"$f":"+E41-G41","v":0},{"$f":"+I41*D41","v":0}]
[null,"NHXMH 3x1,5mm2","m",50,null,{"$f":"+E42*D42","v":0},{"$f":"+E42*MM","v":0},{"$f":"+G42*D42","v":0},{"$f":"+E42-G42","v":0},{"$f":"+I42*D42","v":0}]
[]
["19.","Patch kabel Cat.6 SFTP 0,25m","kos",10,null,{"$f":"+E44*D44","v":0},{"$f":"+E44*MM","v":0},{"$f":"+G44*D44","v":0},{"$f":"+E44-G44","v":0},{"$f":"+I44*D44","v":0}]
[]
["20.","Vtičnica RJ45 Cat6","kos",20,null,{"$f":"+E46*D46","v":0},{"$f":"+E46*MM","v":0},{"$f":"+G46*D46","v":0},{"$f":"+E46-G46","v":0},{"$f":"+I46*D46","v":0}]
[]
["21.","Patch kabel Cat.6 SFTP 2m sivi","kos",10,null,{"$f":"+E48*D48","v":0},{"$f":"+E48*MM","v":0},{"$f":"+G48*D48","v":0},{"$f":"+E48-G48","v":0},{"$f":"+I48*D48","v":0}]
[]
["22.","Dobava in montaža instalacijske cevi, komplet s spojnim in pritrdilnim materialom"]
[null,"I.C. 13,5mm","m",120,null,{"$f":"+E51*D51","v":0},{"$f":"+E51*MM","v":0},{"$f":"+G51*D51","v":0},{"$f":"+E51-G51","v":0},{"$f":"+I51*D51","v":0}]
[]
["23.","Montaža opreme:\n- montaža, vezava in naslavljanje elementov na pripravljeno instalacijo,  \n- parametriranje sistema,\n- preizkus sistema,\n- spuščanje sistema v pogon,\n- predaja sistema in poučitev uporabnika.                                                                                                                                                                                                                                                        ","kpl",1,null,{"$f":"+E53*D53","v":0},{"$f":"+E53*MM","v":0},{"$f":"+G53*D53","v":0},{"$f":"+E53-G53","v":0},{"$f":"+I53*D53","v":0}]
[]
["A7","SISTEM VIDEO NADZORA SKUPAJ",null,null,null,{"$f":"SUM(F7:F54)","v":0},null,{"$f":"SUM(H7:H54)","v":0},null,{"$f":"SUM(J7:J54)","v":0}]

{"sheet":"CDE-KONTROLA PRISTOPA","index":101,"n_rows":41,"n_cols":10,"rows_kept":41,"cut":false,"hidden":false,"merged":[]}
[null,"Objekt C, D in E,   ELEKTROINŠTALACIJSKA  DELA"]
[]
["ZAP. ŠT.","OPIS","     ME","KOLIČUNA","CENA/ENOTO","SKUPAJ","POPUST","POPUST SKUPAJ","CENA/ENOTO S POPUSTOM","SKUPAJ S POPUSTOM"]
[]
["A8","SISTEM PRISTOPNE KONTROLE"]
[]
["1.","Napredni pristopni kontroler za nadzor 2 vrat, za protokolne čitalnike ali čitalnike z direktnim ali 26-bitnim Wiegand izhodom, uporabnik lahko izbira med možnostjo nadzora dodatnih (tretjih) vrat ali funkcionalnostjo alarmnega izhoda, 2 x RS-485 + vgrajen TCP/IP komunikacijski pretvornik + funkcionalnost Spiderja (deluje kot RS-485/TCP/IP komunikacijski pretvornik za več kontrolerjev, povezanih v RS-485 komunikacijsko linijo, priključeno nanj), notranji spomin za 30.000 uporabnikov (razširljiv do 100.000) in 100.000 dogodkov, dim. 222x222x80 mm, delovna temperatura od -20 do +40° C, IP21, vgrajen 40W napajalnik za napajanje nanj priključenih čitalnikov in 12 V DC električnih prijemnikov ali elektromagnetov ( max. skupna poraba toka porabnikov ne sme preseči 2A!),  napajanje 230 V AC (kot. npr POPULUS P-2-B)","kos",1,null,{"$f":"+E7*D7","v":0},{"$f":"+E7*MM","v":0},{"$f":"+G7*D7","v":0},{"$f":"+E7-G7","v":0},{"$f":"+I7*D7","v":0}]
[]
["2.","Napredni pristopni kontroler za nadzor 4 vrat, za protokolne čitalnike ali čitalnike z direktnim ali 26-bitnim Wiegand izhodom, uporabnik lahko izbira med možnostjo nadzora dodatnih (petih) vrat ali funkcionalnostjo alarmnega izhoda, 2 x RS-485 + vgrajen TCP/IP komunikacijski pretvornik + funkcionalnost Spiderja (deluje kot RS-485/TCP/IP komunikacijski pretvornik za več kontrolerjev, povezanih v RS-485 komunikacijsko linijo, priključeno nanj), notranji spomin za 30.000 uporabnikov (razširljiv do 100.000) in 100.000 dogodkov, dim. 222x222x80 mm, delovna temperatura od -20 do +40° C, IP21, vgrajen 40W napajalnik za napajanje nanj priključenih čitalnikov in 12 V DC električnih prijemnikov ali elektromagnetov ( max. skupna poraba toka porabnikov ne sme preseči 2A!),  napajanje 230 V AC,  vgrajen polnilnik akumulatorja za rezervno napajanje. (kot. npr POPULUS P-4-B)","kos",1,null,{"$f":"+E9*D9","v":0},{"$f":"+E9*MM","v":0},{"$f":"+G9*D9","v":0},{"$f":"+E9-G9","v":0},{"$f":"+I9*D9","v":0}]
[]
["3.","Protokolni čitalnik za sisteme kontrole pristopa z zahtevano visoko stopnjo varnosti (kriptirane kartice), ohišje tipa O-B, bralna frekvenca 13,56 MHz, bralna razdalja do 7 cm, za priklop na pristopne  kontrolerje Populus P, LED za signalizacijo stanja (rdeča - zaklenjeno, zelena - odklenjeno), IP65 zaščita, dim. 120x95x15 mm, delovna temperatura od -20 do +70° C, zunanje napajanje (9-14 V DC), priključni kabel 6x0,22 (dolžina 0,5 m), največja oddaljenost čitalnika in električne ključavnice od pristopnega kontrolerja je 30 m (Jantar READER    O-3-B)","kos",2,null,{"$f":"+E11*D11","v":0},{"$f":"+E11*MM","v":0},{"$f":"+G11*D11","v":0},{"$f":"+E11-G11","v":0},{"$f":"+I11*D11","v":0}]
[]
["4.","Sprejemnik za RF oddajnike Remo s protokolnim izhodom,  za sisteme z zahtevano visoko stopnjo varnosti, za priklop na pristopne  kontrolerje  Populus P, ohišje tipa A-B z anteno, sprejemna frekvenca 433 MHz, sprejemna razdalja 50 m, LED za signalizacijo stanja (rdeča - zaprto, zelena - odprto), IP65 zaščita, dim. 120x95x15mm, delovna temperatura od -20 do +70°C, zunanje napajanje (9-14V DC), priključni kabel 6x0,22 (dolžina 3m), največja oddaljenost sprejemnika od pristopnega kontrolerja je 30m","kos",2,null,{"$f":"+E13*D13","v":0},{"$f":"+E13*MM","v":0},{"$f":"+G13*D13","v":0},{"$f":"+E13-G13","v":0},{"$f":"+I13*D13","v":0}]
[]
["5.","RF oddajnik (daljinska tipka) + vgrajen 13,56MHz RFID plošček,  delovna frekvenca  433 MHz, 3 gumbi, LED, rolling code, 1, 3 ali 4 kanalni režim, za RF sprejemnike Black Line (Rex A-4, Reader A-4-B / A-4-D)","kos",10,null,{"$f":"+E15*D15","v":0},{"$f":"+E15*MM","v":0},{"$f":"+G15*D15","v":0},{"$f":"+E15-G15","v":0},{"$f":"+I15*D15","v":0}]
[]
["6.","Brezkontaktna ISO kartica, bralna frekvenca 13,56 MHz, Mifare Desfire,","kos",100,null,{"$f":"+E17*D17","v":0},{"$f":"+E17*MM","v":0},{"$f":"+G17*D17","v":0},{"$f":"+E17-G17","v":0},{"$f":"+I17*D17","v":0}]
[]
["7.","Ovitek za ID kartice iz trde plastike","kos",100,null,{"$f":"+E19*D19","v":0},{"$f":"+E19*MM","v":0},{"$f":"+G19*D19","v":0},{"$f":"+E19-G19","v":0},{"$f":"+I19*D19","v":0}]
[]
["8.","Trak za zaposlene, 16mm, varnostni odklop","kos",100,null,{"$f":"+E21*D21","v":0},{"$f":"+E21*MM","v":0},{"$f":"+G21*D21","v":0},{"$f":"+E21-G21","v":0},{"$f":"+I21*D21","v":0}]
[]
["9.","Kontroler z LCD zaslonom na dotik in vgrajenim čitalnikom brezkontaktnih kartic, bralna frekvenca 13,56 MHz, bralna razdalja do 7 cm, osvetljen 7” LCD kapacitivni zaslon na dotik,  dimenzije 150x210x35 mm, priključne sponke za dodatni zunanji čitalnik,  možnost nastavitve različnih izgledov tipkovnice,  resolucija 1024x600,  interni spomin za 30.000 kartic/obeskov/kod in 100.000 dogodkov,  RS485 in TCP/IP (RJ45) komunikacija, IP 21, merilnik pospeška (protisabotažna zaščita),  RTC (Real Time Clock) z baterijsko podporo, delovna temperatura od -20 do +60° C,  zunanje napajanje  9 do 14 V DC, poraba 4 W (ECO mode 3 W), funkcionalnost Spiderja, zvočnik 2W, za navpično (standardno) ali vodoravno vgradnjo","kos",2,null,{"$f":"+E23*D23","v":0},{"$f":"+E23*MM","v":0},{"$f":"+G23*D23","v":0},{"$f":"+E23-G23","v":0},{"$f":"+I23*D23","v":0}]
[]
["10.","Program za velike sisteme kontrole pristopa + evidence delovnega časa, dostop do programa preko brskalnika (Chrome, Explorer, Mozilla), generator poročil o dogodkih z uporabniško nastavljivimi filtri, za uporabo z naprednimi bazami podatkov (My SQL, MS SQL, Oracle) (CODEKS TA V10 + ADV DATABASE ) - server za namestitev programskega paketa zagotovi naročnik.","kos",1,null,{"$f":"+E25*D25","v":0},{"$f":"+E25*MM","v":0},{"$f":"+G25*D25","v":0},{"$f":"+E25-G25","v":0},{"$f":"+I25*D25","v":0}]
[]
["11.","Električna ključavnica  DC12V - majhna poraba","kos",2,null,{"$f":"+E27*D27","v":0},{"$f":"+E27*MM","v":0},{"$f":"+G27*D27","v":0},{"$f":"+E27-G27","v":0},{"$f":"+I27*D27","v":0}]
[]
["12.","Mrežni switch 8-port 10/100 (RJ45) z PoE IEEE\n802.3at (15,4W na vseh 16 portih) + 2-port 10/100/1000 (combo RJ45 + SFP).","kos",null,null,{"$f":"E29*D29","v":0},{"$f":"+E29*MM","v":0},{"$f":"+G29*D29","v":0},{"$f":"+E29-G29","v":0},{"$f":"+I29*D29","v":0}]
[]
["13.","Dobava in montaža kabla v IST ceveh, komplet (kabli morajo ustrezati razredu B2ca s1d1a1)"]
[null,"UTP (4x2x0,22 mm2) CAT 5   HF B2ca","m",150,null,{"$f":"+E32*D32","v":0},{"$f":"+E32*MM","v":0},{"$f":"+G32*D32","v":0},{"$f":"+E32-G32","v":0},{"$f":"+I32*D32","v":0}]
[null,"JB-H(St)H 1x2x0,8 mm2","m",100,null,{"$f":"+E33*D33","v":0},{"$f":"+E33*MM","v":0},{"$f":"+G33*D33","v":0},{"$f":"+E33-G33","v":0},{"$f":"+I33*D33","v":0}]
[null,"NHXMH 3x1,5mm2","m",100,null,{"$f":"+E34*D34","v":0},{"$f":"+E34*MM","v":0},{"$f":"+G34*D34","v":0},{"$f":"+E34-G34","v":0},{"$f":"+I34*D34","v":0}]
[]
["14.","Dobava in montaža instalacijske cevi, komplet s spojnim in pritrdilnim materialom"]
[null,"I.C. 13,5mm","m",170,null,{"$f":"+E37*D37","v":0},{"$f":"+E37*MM","v":0},{"$f":"+G37*D37","v":0},{"$f":"+E37-G37","v":0},{"$f":"+I37*D37","v":0}]
[]
["15.","Montaža opreme:\n- montaža, vezava in naslavljanje elementov na pripravljeno instalacijo,  \n- parametriranje sistema,\n- preizkus sistema,\n- spuščanje sistema v pogon,\n- predaja sistema in poučitev uporabnika.                                                                                                                                                                                                                                                        ","kpl",1,null,{"$f":"+E39*D39","v":0},{"$f":"+E39*MM","v":0},{"$f":"+G39*D39","v":0},{"$f":"+E39-G39","v":0},{"$f":"+I39*D39","v":0}]
[]
["A8","SISTEM KONTROLE PRISTOPA SKUPAJ",null,null,null,{"$f":"SUM(F7:F40)","v":0},null,{"$f":"SUM(H7:H40)","v":0},null,{"$f":"SUM(J7:J40)","v":0}]

{"sheet":"CDE-VIDEOMOFON","index":102,"n_rows":19,"n_cols":10,"rows_kept":19,"cut":false,"hidden":false,"merged":[]}
[null,"Objekt C, D in E,   ELEKTROINŠTALACIJSKA  DELA"]
[]
["ZAP. ŠT.","OPIS","     ME","KOLIČUNA","CENA/ENOTO","SKUPAJ","POPUST","POPUST SKUPAJ","CENA/ENOTO S POPUSTOM","SKUPAJ S POPUSTOM"]
[]
["A9","SISTEM VIDEO DOMOFONA"]
[]
["1.","IP domofonski sistem 2N Helios IP Base z 4 tipkama in HD kamero, široki kot 135°, 30 slik/sek, brez nočnega vida, za nadometno montažo, IP65, IK7, vgrajeno tamper stikalo, osnovna programska opremat  (kot npr. 2N Helios IP Base).","kos",4,null,{"$f":"+E7*D7","v":0},{"$f":"+E7*MM","v":0},{"$f":"+G7*D7","v":0},{"$f":"+E7-G7","v":0},{"$f":"+I7*D7","v":0}]
["21.","Patch kabel Cat.6 SFTP 2m sivi","kos",9,null,{"$f":"+E8*D8","v":0},{"$f":"+E8*MM","v":0},{"$f":"+G8*D8","v":0},{"$f":"+E8-G8","v":0},{"$f":"+I8*D8","v":0}]
["2.","IP Telefon Grandstream GXV 3275 z zaslonom na dotik 7¨(GXV 3275).","kos",5,null,{"$f":"+E9*D9","v":0},{"$f":"+E9*MM","v":0},{"$f":"+G9*D9","v":0},{"$f":"+E9-G9","v":0},{"$f":"+I9*D9","v":0}]
[]
["3.","Dobava in montaža kabla v IST ceveh, komplet (kabli morajo ustrezati razredu B2ca s1d1a1)"]
[null,"UTP (4x2x0,22 mm2) CAT 6 HF B2ca","m",75,null,{"$f":"+E12*D12","v":0},{"$f":"+E12*MM","v":0},{"$f":"+G12*D12","v":0},{"$f":"+E12-G12","v":0},{"$f":"+I12*D12","v":0}]
[null,"I.C. 13,5mm","m",35,null,{"$f":"+E13*D13","v":0},{"$f":"+E13*MM","v":0},{"$f":"+G13*D13","v":0},{"$f":"+E13-G13","v":0},{"$f":"+I13*D13","v":0}]
[]
["4.","Montaža opreme:\n- montaža, vezava in naslavljanje elementov na pripravljeno instalacijo,  \n- parametriranje sistema,\n- preizkus sistema,\n- spuščanje sistema v pogon,\n- predaja sistema in poučitev uporabnika.                                                                                                                                                                                                                                                        ","kpl",1,null,{"$f":"+E15*D15","v":0},{"$f":"+E15*MM","v":0},{"$f":"+G15*D15","v":0},{"$f":"+E15-G15","v":0},{"$f":"+I15*D15","v":0}]
[]
["5.","Prevozni in manipulativni stroški, drobni material, nepredvideno, 3%, po gradbeni knjigi.","kpl",1,null,{"$f":"+E17*D17","v":0},{"$f":"+E17*MM","v":0},{"$f":"+G17*D17","v":0},{"$f":"+E17-G17","v":0},{"$f":"+I17*D17","v":0}]
[]
["A9","SISTEM VIDEODOMOFONA SKUPAJ",null,null,null,{"$f":"SUM(F6:F18)","v":0},null,{"$f":"SUM(H6:H18)","v":0},null,{"$f":"SUM(J6:J18)","v":0}]

{"sheet":"CDE-MULTIMEDIA","index":103,"n_rows":145,"n_cols":10,"rows_kept":145,"cut":false,"hidden":false,"merged":[]}
[null,"Objekt C, D in E,  ELEKTROINŠTALACIJSKA  DELA"]
[]
["ZAP. ŠT.","OPIS","     ME","KOLIČUNA","CENA/ENOTO","SKUPAJ","POPUST","POPUST SKUPAJ","CENA/ENOTO S POPUSTOM","SKUPAJ S POPUSTOM"]
[]
["A10","OPOMBA:\nVtičnice in kabliranje je zajeto v podstavki A1.2 Močnostne inštalacije in A2 Šibki tok"]
[null,"MULTIMEDIJA"]
[]
["1.","OZVOČENJE IN VIDEO OPREMA"]
[]
["1.1 ","Profesionalni aktivni zvočnik ","kos",2,null,{"$f":"E10*D10","v":0},{"$f":"+E10*MM","v":0},{"$f":"+G10*D10","v":0},{"$f":"+E10-G10","v":0},{"$f":"+I10*D10","v":0}]
[null,"Profesionalni aktivni zvočnik 1 x 15\" LF in 1 x 1\" HF, s frekvenčnim razponom od 45Hz do 20 kHz, 132 dB Peak SPL @ 1m, disperzija 90° x 60°, 2 x XLR F vhod, 1 x 3.5mm Jack vhod, 1 x XLR M izhod, vgrajen 24 bitni avdio procesor (DSP) z LCD zaslonom in vrtljivim gumbom za nastavitve, prednastavitve za \"Live, Dance, Vocal...\", možnost direktnega priklopa dveh mikrofonov, funkcionalnost za brezžični prenos glasbe z mobilnega telefona, teža ne presega 20kg, dimenzije ne presegajo 820x550x450mm. Kot naprimer DAS AUDIO Altea 715A"]
["1.2","Profesionalni aktivni nizkotonski zvočnik","kos",2,null,{"$f":"E12*D12","v":0},{"$f":"+E12*MM","v":0},{"$f":"+G12*D12","v":0},{"$f":"+E12-G12","v":0},{"$f":"+I12*D12","v":0}]
[null,"Profesionalni aktivni nizkotnski zvočnik 1 x 18\", s frekvenčnim razponom od 45Hz do 138 Hz, 134 dB Peak SPL @ 1m, 2 x XLR F vhod, 2 x XLR M izhod, vgrajen 24 bitni avdio procesor (DSP) z LCD zaslonom in vrtljivim gumbom za nastavitve,  telefona, teža ne presega 42kg, dimenzije ne presegajo 750 x 550 x 650mm. Kot naprimer DAS AUDIO Altea 718A"]
["1.3","Akivni monitorski zvočnik ","kos",2,null,{"$f":"E14*D14","v":0},{"$f":"+E14*MM","v":0},{"$f":"+G14*D14","v":0},{"$f":"+E14-G14","v":0},{"$f":"+I14*D14","v":0}]
[null,"Profesionalni aktivni zvočnik 1 x 12\" LF in 1 x 1\" HF, s frekvenčnim razponom od 60Hz do 20 kHz, 126 dB Peak SPL @ 1m, disperzija 90° x 60°, 2 x XLR F vhod, 1 x 3.5mm Jack vhod, 1 x XLR M izhod, vgrajen 24 bitni avdio procesor (DSP) z LCD zaslonom in vrtljivim gumbom za nastavitve, prednastavitve za \"Live, Dance, Vocal...\", možnost direktnega priklopa dveh mikrofonov, teža ne presega 16kg, dimenzije ne presegajo 660x390x360mm. Kot naprimer DAS Audio ALTEA-412A"]
["1.4","Palica za zvočnik ","kos",2,null,{"$f":"E16*D16","v":0},{"$f":"+E16*MM","v":0},{"$f":"+G16*D16","v":0},{"$f":"+E16-G16","v":0},{"$f":"+I16*D16","v":0}]
[null,"Nosilna palica za zvočnik 35mm, črne barve, nastavljiva višina od 840mm do 1120mm, nosilnost vsaj 30kg. Kot naprimer DAS Audio"]
["1.5","Stojalo za zvočnik","kos",2,null,{"$f":"E18*D18","v":0},{"$f":"+E18*MM","v":0},{"$f":"+G18*D18","v":0},{"$f":"+E18-G18","v":0},{"$f":"+I18*D18","v":0}]
[null,"Stojalo za zvočnik s 35mm nastavkom, nastavljiva višina od 1100mm do 2000mm, nosilnost vsaj 35kg, črne barve. Kot naprimer DAS Audio"]
["1.6","Digitalni avdio mikser","kos",1,null,{"$f":"E20*D20","v":0},{"$f":"+E20*MM","v":0},{"$f":"+G20*D20","v":0},{"$f":"+E20-G20","v":0},{"$f":"+I20*D20","v":0}]
[null,"Digitalni avdio mikser z vsaj 32 x XLR mikrofonskimi vhodi od tega vsaj 8 x kombiniranim XLR vhodom za linijske in inštrumentalne vhode, vsaj 16 XLR izhodov, vsaj 40 DSP vhodnih kanalov, vsaj 31 izhodnih busov, vsaj 4 parametrični EQ na vsakem kanalu in busu, vsaj 8 x VCA in vsaj 8 x MUTE skupina, vsaj 26 motoriziranih drsnikov, vsaj 4 plasti drsnikov, vgrajen na dotik občutljiv zaslon velikosti vsaj 5\", večbarvni LCD zaslon za vsak vhodni drsnik, vsaj 4 x efekt in FX vodilo, USB vmesnik z vsaj 32 vhodi in izhodi, možnost priklopa zunanjih odrskih enot preko MADI povezave, možnost nadgradnje na DANTE. Podpora za iPAD aplikacijo. Kot naprimer Soundcraft Si Impact"]
["1.7","Brezžični mikrofonski sistem z ročnim mikrofonom","kos",4,null,{"$f":"E22*D22","v":0},{"$f":"+E22*MM","v":0},{"$f":"+G22*D22","v":0},{"$f":"+E22-G22","v":0},{"$f":"+I22*D22","v":0}]
[null,"Brezžični mikrofonski sistem z ročnim mikrofonom, kovinsko ohišje sprejemnika in oddajnika, 88MHz frekvenčni razpon, 3520 nastavljivih frekvenc s sistemom bank frekvenc s po 32 frekvencami vsaka. Ethernet priključek za nadzor z brezplačno programsko opremo, visoko kakovosten true diversity sprejem, pilot tone squelch funkcija za eliminacijo RF motenj pri ugasnjenem oddajniku. Avtomatsko skeniranje frekenc za določitev prostih frekvenc. Brezžična sinhronizacija prametrov med sprejemnikom in oddajnikom. Osvetljen zaslon sprejemnika z možnostjo prikaza statusa oddajnika. Funkcija samodejnega zaklepanja za preprečevanje neželenih sprememb nastavitev. HDX compander enota. Prikaz stanja baterije na oddajniku in sprejemniku. Frekvenčni razpon mikrofona 80Hz - 18kHz, dinamični mikrofon, max. SPL 154dB. AF občutljivost 1,6mV/Pa, razmerje signal:šum >115dB (A). Delovni čas oddajnika z baterijo: > 8 ur. Dimenzije sprejemnika: 212 x 202 x 43mm. Priložen komplet za vgradnjo v rack. Kot naprimer SENNHEISER EW 500 G4 945"]
["1.8","Žepni oddajnik za brezžični mikrofonski sistem ","kos",2,null,{"$f":"E24*D24","v":0},{"$f":"+E24*MM","v":0},{"$f":"+G24*D24","v":0},{"$f":"+E24-G24","v":0},{"$f":"+I24*D24","v":0}]
[null,"Visoko kakovosten in trpežen žepni brezžični oddajnik z nastavljivo močjo HF oddajanja. 88MHz frekvenčni razpon, 3250 nastavljivih frekvenc s sistemom bank frekvenc s po 32 frekvencami vsaka. Pilot tone squelch funkcija za eliminacijo RF motenj pri ugasnjenem oddajniku. Avtomatsko skeniranje frekenc za določitev prostih frekvenc. Brezžična sinhronizacija prametrov med sprejemnikom in oddajnikom. Funkcija samodejnega zaklepanja za preprečevanje neželenih sprememb nastavitev. HDX compander enota. Prikaz stanja baterije na oddajniku.  Frekvenčni razpon mikrofona 80Hz - 18kH. Razmerje signal:šum >115dB (A). Delovni čas oddajnika z baterijo: > 8 ur. Vhod za avdio signal: 3,5mm jack. Kot naprimer SENNHEISER SK 500 G4"]
["1.9","Naglavni mikrofon ","kos",2,null,{"$f":"E26*D26","v":0},{"$f":"+E26*MM","v":0},{"$f":"+G26*D26","v":0},{"$f":"+E26-G26","v":0},{"$f":"+I26*D26","v":0}]
[null,"Miniaturni naglavni mikrofon za govor v kožni barvi. Izjemno udobna zasnova, omni usmerjenost kapsule, kovinski okvir, 3,5mm jack priključek. Nivo lastnega šuma 27dB, frekvenčni razpon 20Hz - 20kHz, max. SPL 145dB, nazivna upornost 1 kOhm. Bež barve. Kot naprimer SENNHEISER HSP 2-ew-3"]
["1.10","Vokalni mikrofon ","kos",4,null,{"$f":"E28*D28","v":0},{"$f":"+E28*MM","v":0},{"$f":"+G28*D28","v":0},{"$f":"+E28-G28","v":0},{"$f":"+I28*D28","v":0}]
[null,"Profesionalni vokalni dinamični superkardioidni mikrofon, frekvenčni razpon 40-18000 Hz, impedanca 350 Ohm. Kot naprimer Sennheiser e 945"]
["1.11","Inštrumentalni mikrofon","kos",4,null,{"$f":"E30*D30","v":0},{"$f":"+E30*MM","v":0},{"$f":"+G30*D30","v":0},{"$f":"+E30-G30","v":0},{"$f":"+I30*D30","v":0}]
[null,"Profesionalni dinamični kardioidni mikrofon s frekvenčnim razponom 40 do 15000 Hz, impendanca 150 Ohm. Kot naprimer SHURE SM57"]
["1.12","Viseči mikrofon ","kos",2,null,{"$f":"E32*D32","v":0},{"$f":"+E32*MM","v":0},{"$f":"+G32*D32","v":0},{"$f":"+E32-G32","v":0},{"$f":"+I32*D32","v":0}]
[null,"Profesionalni mikrofon za obešanje, namenjen za gledališko uporabo, frekvenčni razpon od 70 do 16000 Hz, kardioidni, 134 dB SPL maks., phantom napajanje. Kot naprimer AUDIO TECHNICA PRO45"]
["1.13","Kondenzatorski mikrofon ","kos",4,null,{"$f":"E34*D34","v":0},{"$f":"+E34*MM","v":0},{"$f":"+G34*D34","v":0},{"$f":"+E34-G34","v":0},{"$f":"+I34*D34","v":0}]
[null,"Profesionalni kondenzatorski super kardioidni mikrofon s frekvenčnim razponom od 40-20000Hz, impedanca 50 Ohm, 139 max dB/SPL. Kot naprimer Sennheiser e 614"]
["1.14","DiBox","kos",4,null,{"$f":"E36*D36","v":0},{"$f":"+E36*MM","v":0},{"$f":"+G36*D36","v":0},{"$f":"+E36-G36","v":0},{"$f":"+I36*D36","v":0}]
[null,"Enokanalni aktivni DI vmesnik, vhodni konektor 6,3mm jack, max. nivo vhodnega signala +49dBu. Vhodna upornost 1 M Ohm. 1 x XLR izhod, 1 x thru izhod (6,3mm jack). Max. izhodni nivo +8 dBu, izhodna upornost 600 Ohm, frekvenčni razpon 30Hz-20kHz. Stikalo za ground lift in atenuacijo vhodnega signala. Napajanje z 9V baterijo ali preko +48V fantomskega napajanja. Kot naprimer BSS AS-133"]
["1.15","Medijski box","kos",1,null,{"$f":"E38*D38","v":0},{"$f":"+E38*MM","v":0},{"$f":"+G38*D38","v":0},{"$f":"+E38-G38","v":0},{"$f":"+I38*D38","v":0}]
[null,"Dvokanalni medijski DI-BOX s stereo RCA vhodom, in 6.3mm jack vhodom in 3.5mm TRS vhodom, 2 x XLR izhodom. Kot naprimer Palmer PLI-04"]
["1.16","19\" multimedijski predvajalnik ","kos",1,null,{"$f":"E40*D40","v":0},{"$f":"+E40*MM","v":0},{"$f":"+G40*D40","v":0},{"$f":"+E40-G40","v":0},{"$f":"+I40*D40","v":0}]
[null,"Multimedijski predvajalnik, primeren za vgradnjo v 19\" omaro, predvajanje z USB, SD, CD medijev, vgrajen AM/FM sprejemnik, bluetooth predvajanje, vrtljiv gumb za hiter izbor datotek oz. medijev, 10 številčnih tipk za izbiro medijev, L+R balansiran XLR 3P izhod, stereo RCA tuner izhod, stereo RCA CD/USB/BT izhod. Dobavljen v kompletu z Bluetooth in FM/AM anteno. Kot naprimer DENON DN-300Z "]
["1.17","Mikrofonsko stojalo klasično ","kos",14,null,{"$f":"E42*D42","v":0},{"$f":"+E42*MM","v":0},{"$f":"+G42*D42","v":0},{"$f":"+E42-G42","v":0},{"$f":"+I42*D42","v":0}]
[null,"Klasično mikrofonsko stojalo z boom roko, obtežen nosilec nog, zložljive noge, nastavljiva višina (90-160,5cm), dolžina boom roke 80cm. Teža: 3,18kg. Barva: črna. Všije kvalitete. Kot naprimer Koenig & Meyer"]
["1.18","Mikrofonsko stojalo nizko ","kos",2,null,{"$f":"E44*D44","v":0},{"$f":"+E44*MM","v":0},{"$f":"+G44*D44","v":0},{"$f":"+E44-G44","v":0},{"$f":"+I44*D44","v":0}]
[null,"Nižje trinožno mikrofonsko stojalo, zasnova z dvodelno teleskopsko izvlečno roko. Dolžina roke od 435 - 745mm, višina stojala 425 - 645mm, zložljive noge. Konstrukcija iz jekla, ulit bazni del. Črna barva. Teža 2,08kg. Višje kvalitete. Kot naprimer Koenig & Meyer"]
["1.19","Mikrofonski kabel 3m","kos",20,null,{"$f":"E46*D46","v":0},{"$f":"+E46*MM","v":0},{"$f":"+G46*D46","v":0},{"$f":"+E46-G46","v":0},{"$f":"+I46*D46","v":0}]
[null,"Profesionalni mikrofonski kabel,vodnika višje kvalitete, Neutrik 3P konektorji - črni, pozlačeni kontakti, dolžina 3m."]
["1.20","Mikrofonski kabel 5m","kos",10,null,{"$f":"E48*D48","v":0},{"$f":"+E48*MM","v":0},{"$f":"+G48*D48","v":0},{"$f":"+E48-G48","v":0},{"$f":"+I48*D48","v":0}]
[null,"Profesionalni mikrofonski kabel,vodnika višje kvalitete, Neutrik 3P konektorji - črni, pozlačeni kontakti, dolžina 5m."]
["1.21","Mikrofonski kabel 10m","kos",6,null,{"$f":"E50*D50","v":0},{"$f":"+E50*MM","v":0},{"$f":"+G50*D50","v":0},{"$f":"+E50-G50","v":0},{"$f":"+I50*D50","v":0}]
[null,"Profesionalni mikrofonski kabel,vodnika višje kvalitete, Neutrik 3P konektorji - črni, pozlačeni kontakti, dolžina 10m."]
["1.22","Signalni kabel 6.3mm Jack na 6.3mm Jack","kos",4,null,{"$f":"E52*D52","v":0},{"$f":"+E52*MM","v":0},{"$f":"+G52*D52","v":0},{"$f":"+E52-G52","v":0},{"$f":"+I52*D52","v":0}]
[null,"Profesionalni signalnik kabel,vodnika višje kvalitete, Neutrik silent plug konektor na eni strani in neutrik klasični konektor na drugi strani - črni, dolžina 3m."]
["1.23","RCA na mini Jack kabel ","kos",1,null,{"$f":"E54*D54","v":0},{"$f":"+E54*MM","v":0},{"$f":"+G54*D54","v":0},{"$f":"+E54-G54","v":0},{"$f":"+I54*D54","v":0}]
[null,"Kabel za priklop računalnika na medijski DI-box - 1 x MiniJack na 2 x RCA - 3m "]
["1.24","Kabelski podaljšek 3 x 220V 3m","kos",6,null,{"$f":"E56*D56","v":0},{"$f":"+E56*MM","v":0},{"$f":"+G56*D56","v":0},{"$f":"+E56-G56","v":0},{"$f":"+I56*D56","v":0}]
[null,"Kabelski podaljšek s tremi šuko vtičnicami, šuko vtikačem na 3m vodniku 3x1.5mm2, tokovna zaščita 16A. "]
["1.25","Kabelski podaljšek 3 x 220V 5m","kos",4,null,{"$f":"E58*D58","v":0},{"$f":"+E58*MM","v":0},{"$f":"+G58*D58","v":0},{"$f":"+E58-G58","v":0},{"$f":"+I58*D58","v":0}]
[null,"Kabelski podaljšek s tremi šuko vtičnicami, šuko vtikačem na 5m vodniku 3x1.5mm2, tokovna zaščita 16A. "]
["1.26","Multicore vodnik 24/8","kos",1,null,{"$f":"E60*D60","v":0},{"$f":"+E60*MM","v":0},{"$f":"+G60*D60","v":0},{"$f":"+E60-G60","v":0},{"$f":"+I60*D60","v":0}]
[null,"Profesionalni multicore vodnik, 24 vhodov, 8 izhodov, z odrsko enoto, številčno označeni kanali, črne barve, premer vodnika vsaj 26mm, dolžina kabelskega razvoda na strani s konektorji vsaj 60 cm. Dolžina 30m. "]
["1.27","Nadometni stenski zvočnik ","kos",4,null,{"$f":"E62*D62","v":0},{"$f":"+E62*MM","v":0},{"$f":"+G62*D62","v":0},{"$f":"+E62-G62","v":0},{"$f":"+I62*D62","v":0}]
[null,"Nadometni zvočnik s 6\" LF in 1\" HF, 60W RMS, 106dB SPL, frekvenčni razpon 65Hz- 20KHz (+/-3dB), vertikalna in horizontalna disperzija 120°, dimenzije ne presegajo 200 x 350 x 220mm, teža 3,9 kg. Bele barve. Kot npr. AUDAC ATEO6/W"]
["1.28","4 kanalni ojačevalnik ","kos",1,null,{"$f":"E64*D64","v":0},{"$f":"+E64*MM","v":0},{"$f":"+G64*D64","v":0},{"$f":"+E64-G64","v":0},{"$f":"+I64*D64","v":0}]
[null,"Štirikanalni ojačevalnik razreda D, moč 100W pri 8 Oh, 50W pri 4 Ohm, frekvenčni razpon 20 Hz - 20 kHz, 4 x XLR balansiran vhod, energy star certificiran, konvekcijsko hlajenje, univerzalni napajalnik 100-240V AC/50-60Hz, poraba 188W, dimenzije: 482 x 44 x 330 mm, teža: 4.5 kg. Kot naprimer AUDAC EPA104"]
["1.29","CD/MP3/Radijski predvajalnik ","kos",1,null,{"$f":"E66*D66","v":0},{"$f":"+E66*MM","v":0},{"$f":"+G66*D66","v":0},{"$f":"+E66-G66","v":0},{"$f":"+I66*D66","v":0}]
[null,"Večkomponentna predvajalna enota- CD predvajalna enota, MP3 predvajalnik in AM/FM radijski sprejemnik. LCD zaslon na sprednji strani za navigacijo po menuju, prikaz ID3 in RDS informacij. USB vhod za USB spominske naprave, reža za SD/MMC kartice. RS232 kontrolna povezava. 2 fiksna avdio izhoda, 1 prilagodljiv avdio izhod. Simultano delovanje CD/MP3 predvajalnika in radijskega sprejemnika. Možnost Single Track načina predvajanja. 1HE velikost enote, 19\" vgradnja. Kot naprimer AUDAC CMP30"]
["1.30","19\" mikser ","kos",1,null,{"$f":"E68*D68","v":0},{"$f":"+E68*MM","v":0},{"$f":"+G68*D68","v":0},{"$f":"+E68-G68","v":0},{"$f":"+I68*D68","v":0}]
[null,"Dvoconski 6-kanalni stereo predojačevalnik. 2 mikrofonska vhoda, 4 stereo linijski vhodi, vse kontrolne funkcije na čelni plošči. Vsak kanal ima kontrolo glasnosti, clip LED indikator, 2 gumba in LED prikaz za dodelitev kanala na izhod. Vgrajen Bluetooth sprejemnik. Vsaka izhodna sekcija je opremljena s 6-segmentnim LED prikazovalnikom, skupno kontrolo glasnosti in dvopasovno kontrolo tona. Frekvenčni razpon 20Hz - 20kHz, dimenzije 482 x 44 x 335mm, teža 4,1kg. Črna barva. Kot naprimer AUDAC PRE 126"]
["1.31","Profesionalni laser LCD video projektor ","kos",1,null,{"$f":"E70*D70","v":0},{"$f":"+E70*MM","v":0},{"$f":"+G70*D70","v":0},{"$f":"+E70-G70","v":0},{"$f":"+I70*D70","v":0}]
[null,"Profesionalni laserski full HD projektor z zoom lečo 0.65x0.75:1 (motoriziran zoom, fokus in zamik leče v strani in navzgor/navzdol), svetilnosti vsaj 8100 ansi lumnov, ločljivost 1920 x 1200 pik, kontrastno razmerje 3.000.000:1, Priključki: 1 x HDMI 2.0, 1 x HDMI 1.4a, 1 x HDBaseT, 1 x HDMI out,  odporen na prah IP5X, 24/7 delovanje, vgrajen warp in blend, PiP in PaP, poraba energije ne presega 600W, hrupnost ne presega 36dBA - možno delovanje v ECO načinu - hrupnost ne presega 34dBA. Teža ne presega 18 kg. Črne barve. Kot naprimer CHRISTIE DWU960ST-iS"]
["1.32","Motorizirano video platno ","kos",1,null,{"$f":"E72*D72","v":0},{"$f":"+E72*MM","v":0},{"$f":"+G72*D72","v":0},{"$f":"+E72-G72","v":0},{"$f":"+I72*D72","v":0}]
[null,"Profesionalno motorizirano video platno širine 600cm, višine 450cm, matte white površina, gain  1.2, vidni kot 150°, širina ne presega 170mm, hitrost motorja vsaj 17 obratov na minuto, poraba ne presega 322W, železo/aluminijasta konstrukcija, izvod vodnika na desni strani, dobavljen v kompletu s primernimi nosilci/konzolami za obešanje na objektu in tipko za odpiranje/zapiranje. Kot naprimer MAJOR"]
["1.33","Nosilec za projektor","kos",1,null,{"$f":"E74*D74","v":0},{"$f":"+E74*MM","v":0},{"$f":"+G74*D74","v":0},{"$f":"+E74-G74","v":0},{"$f":"+I74*D74","v":0}]
[null,"Profesionalni nosilec za projektor, primeren za obešanje projektorja na palično konstrukcijo, nastavljiv po višini, nastavljiv horizontalni in vertikalni naklon in orientacija projektorja. Višje kvalitete. Z vsemi pripadajočimi elementi in pritrdili, črne barve. Kot naprimer CHIEF"]
["1.34","HDbaseT oddajnik ","kos",1,null,{"$f":"E76*D76","v":0},{"$f":"+E76*MM","v":0},{"$f":"+G76*D76","v":0},{"$f":"+E76-G76","v":0},{"$f":"+I76*D76","v":0}]
[null,"Profesionalni HDBaseT CATx video oddajnik, ki omogoča prenos 4K/UHD, 2K, 3D, RS232, IR in mrežne povezave preko enega CATx vodnika, s podporo za polni HDCP 2.2 in EDID, podpora za vse standardne avdio formate, možnost oddaljenega napajanja preko preko enega CATx vodnika,  podpora za vse HDMI 1.4 ločljivosti, EDID transparenten, nekompresiran avdio/video do 9 Gbps, diode za prikaz povezave in HDCP zaznavanja, avtomatsko zaznavanje HDBaseT protokola in \"Long reach\" načina, priključki: HDMI, RJ45(TPS), RJ45 (Ethernet), 3.5mm mini jack (IR), CE certificiran. Kot naprimer LIGHTWARE TPS-96-TX"]
["1.35","Računalnik za predvajanje avdio in video vsebin","kos",1,null,{"$f":"E78*D78","v":0},{"$f":"+E78*MM","v":0},{"$f":"+G78*D78","v":0},{"$f":"+E78-G78","v":0},{"$f":"+I78*D78","v":0}]
[null,"Prenosni računalnik s 15.6\" IPS zaslonom ločljivosti 1920x1080 pik, Core i7 procesor 11 generacije ali AMD Ryzen 7 5800H, 16 GB rama DDR4, 512 GB SSD, dedicirana grafična kartica vsaj 6GB, Win 10 operacijski sistem, HDMI priključek. Kot naprimer Lenovo Legion S7"]
["1.36","HDMI-HDMI priključni kabel dolžine 3m","kos",2,null,{"$f":"E80*D80","v":0},{"$f":"+E80*MM","v":0},{"$f":"+G80*D80","v":0},{"$f":"+E80-G80","v":0},{"$f":"+I80*D80","v":0}]
[null,"HDMI-HDMi kabel višje kakovosti, z mrežno povezavo, high speed, pozlačeni kontakti, podpora za 4K UHD ločljivost. Dolžina 3m. "]
["1.37","HDMI-HDMI priključni kabel dolžine 5m","kos",2,null,{"$f":"E82*D82","v":0},{"$f":"+E82*MM","v":0},{"$f":"+G82*D82","v":0},{"$f":"+E82-G82","v":0},{"$f":"+I82*D82","v":0}]
[null,"HDMI-HDMi kabel višje kakovosti, z mrežno povezavo, high speed, pozlačeni kontakti, podpora za 4K UHD ločljivost. Dolžina 5m. "]
["1.38","HDMI-HDMI optični video kabel dolžine 15m","kos",1,null,{"$f":"E84*D84","v":0},{"$f":"+E84*MM","v":0},{"$f":"+G84*D84","v":0},{"$f":"+E84-G84","v":0},{"$f":"+I84*D84","v":0}]
[null,"Profesionalni video optični kabel s HDMI konektorji (zamenljivim na strani zaslona/projektorja) primeren za HD 4K  2160p signal, HDMI ARC podpora, 18 Gbps. Dolžina 15m. Kot naprimer PROCAB CLV215A"]
["1.39","HDMI-HDMI optični dolžine 30m","kos",1,null,{"$f":"E86*D86","v":0},{"$f":"+E86*MM","v":0},{"$f":"+G86*D86","v":0},{"$f":"+E86-G86","v":0},{"$f":"+I86*D86","v":0}]
[null,"Profesionalni video optični kabel s HDMI konektorji (zamenljivim na strani zaslona/projektorja) primeren za HD 4K  2160p signal, HDMI ARC podpora, 18 Gbps. Dolžina 20m. Kot naprimer PROCAB CLV220A"]
["1.40","19\" rack omara 18U, črna","kos",1,null,{"$f":"E88*D88","v":0},{"$f":"+E88*MM","v":0},{"$f":"+G88*D88","v":0},{"$f":"+E88-G88","v":0},{"$f":"+I88*D88","v":0}]
[null,"Rack omarica za 19\" enote, do 18 enot, talna izvedba. Vgrajena 50mm kolesca in nogice z možnostjo poravnave višine. Sprednji in zadnji 19\" profili imajo možnost nastavitve globine. Zgornja stranica z ventilacijskimi režami, kvadratne luknje za vstavljanje matic. Odstranljive stranice za enostavno montažo in kabliranje, vratca s ključavnico. Steklena sprednja stranica. Zunanje dimenzije 918 x 600 x 600mm, teža 52kg. Barva črna (RAL 9004). Kot naprimer CAYMON SPR618"]
["1.41","19\" Elektro razdelilec","kos",2,null,{"$f":"E90*D90","v":0},{"$f":"+E90*MM","v":0},{"$f":"+G90*D90","v":0},{"$f":"+E90-G90","v":0},{"$f":"+I90*D90","v":0}]
[null,"19\" razdelilec za montažo v komunikacijsko omaro, 9x 220V ˝Šuko˝ tip vtičnice, 1x 220V ˝Šuko˝  priključek (DIN49441 16A), 3-žilni 1,50mm2 kabel, dvojna ozemljitev, dolžina 2m. Ohišje  iz visoko-kakovostnega aluminija. Višina 1U. Priložena nosilca in pribor za montažo v rack omaro. Barva: Črna RAL9005. Kot naprimer CAYMON PSR109G"]
["1.42","Montaža ozvočenja in video opreme","kos",1,null,{"$f":"E92*D92","v":0},{"$f":"+E92*MM","v":0},{"$f":"+G92*D92","v":0},{"$f":"+E92-G92","v":0},{"$f":"+I92*D92","v":0}]
[null,"Dostava opreme na objekt, montaža opreme na položeno in preizkušeno signalno in elektro inštalacijo, morebitno zaključevanje signalnih in mrežnih vodnikov, montaža opreme na lokacijah, testiranje, spuščanje v pogon, Montaža ne vključuje gradbenih del in elektro razvodov. Montaža vključuje zagon sistema in prvotno meritev delovanja sistema ter ekvalizacijo. Dobavitelj je po zaključeni montaži dolžan zagotoviti podatke za izdelavo PID. "]
["1.43","Šolanje uporabnika","kos",1,null,{"$f":"E94*D94","v":0},{"$f":"+E94*MM","v":0},{"$f":"+G94*D94","v":0},{"$f":"+E94-G94","v":0},{"$f":"+I94*D94","v":0}]
[null,"Izobraževanje uporabnika v obsegu vsaj 8 ur (v slovenskem jeziku)."]
[]
["2.","SCENSKA OSVETLITEV"]
["2.1","LED Profilni reflektor ","kos",6,null,{"$f":"E98*D98","v":0},{"$f":"+E98*MM","v":0},{"$f":"+G98*D98","v":0},{"$f":"+E98-G98","v":0},{"$f":"+I98*D98","v":0}]
[null,"Profesionalno profilno svetilo z led modulom moči vsaj 100W, CRI vsaj 90, razpon žarka od vsaj 35° pa do vsaj 50°, barvna temperatura med 3000K in 3200K, vsaj 2 uporabniško nastavljivi dimerski krivulji, možnost nastavitve osveževanja led modula od 500Hz do 20Khz, enkoder za lokalno nastavitev svetilnosti, PowerCon vhod/izhod, DMX 5P vhod/izhod, teža ne presega 6.5 kg, dimenzije ne presegajo 400 x 340 x 500mm. Skladen z EN 60598-1; EN 60598-2-17. Dobavljen z okvirjem za filter in priključnim napajalnim vodnikom s šuko vtikačem. Kot naprimer Spotlight PR LED 100 ZW WW DMX"]
["2.2","LED Fresnel reflektor ","kos",6,null,{"$f":"E100*D100","v":0},{"$f":"+E100*MM","v":0},{"$f":"+G100*D100","v":0},{"$f":"+E100-G100","v":0},{"$f":"+I100*D100","v":0}]
[null,"Profesionalno fresnel svetilo z led modulom moči vsaj 100W, CRI vsaj 90, steklena fresnel leča premera vsaj 120mm, razpon žarka od vsaj 12° pa do vsaj 75°, barvna temperatura med 3000K in 3200K, vsaj 2 uporabniško nastavljivi dimerski krivulji, možnost nastavitve osveževanja led modula od 500Hz do 20Khz, enkoder za lokalno nastavitev svetilnosti, PowerCon vhod/izhod, DMX 5P vhod/izhod, teža ne presega 4 kg, dimenzije ne presegajo 300 x 220 x 310mm. Skladen z EN 60598-1; EN 60598-2-17. Dobavljen z okvirjem za filter, 4 stranimi senčili in priključnim napajalnim vodnikom s šuko vtikačem. Kot naprimer Spotlight FN LED C100 WW DMX"]
["2.3","LED par reflektor ","kos",6,null,{"$f":"E102*D102","v":0},{"$f":"+E102*MM","v":0},{"$f":"+G102*D102","v":0},{"$f":"+E102-G102","v":0},{"$f":"+I102*D102","v":0}]
[null,"Profesionalno LED PAR svetilo z vsaj 7 x 40W RGBW led modulom (vsaj 2800 lumnov), razponom žarka od vsaj 4° pa do vsaj 53°, vsaj RGBW barvno mešanje, nastavljiva barvna temperatura od vsaj 2.700K do vsaj 8000K, motoriziran zoom, vgrajen vsaj dvovrstični LCD zaslon za nastavitev parametrov, možnost uporabniške nastavitve frekvence osveževanja LED modulov, vgrajeno vsaj interno 18 bitno dimanje, elektronski samopreklopni napajalnik 100-240V 50/60Hz, maksimalna poraba 300W, DMX in RDM krmiljenje, vsaj 5 polni DMX vhod in izhod, PowerCon vhod in izhod, CE certificiran, teža ne presega 8kg. Dobavljen v kompletu z napajalnim vodnikom s dolžine 1.5m s šuko vtikačem črne barve, višje kvalitete. Kot naprimer tip ROBE Parfect 150 RGBW"]
["2.4","Lučni krmilnik","kos",1,null,{"$f":"E104*D104","v":0},{"$f":"+E104*MM","v":0},{"$f":"+G104*D104","v":0},{"$f":"+E104-G104","v":0},{"$f":"+I104*D104","v":0}]
[null,"Profesionalni lučni krmilnik z vsaj 48 večfunkcijskimi drsniki, vsaj 5 x 90 palet, vsaj 1 x master predvajalnik z go tipko, vgrajen vsaj 7\" na večkratni dotik občutljiv zaslon, Art-Net in sACN podpora, 1024 DMX kanalov, 2 x DMX izhod, 4 x enkoder kolo za nastavitve, color picker, podpora za iOS in Android aplikacija za oddaljeno krmiljenje, možnost shranjevanja posamičnih ali več cue-jev na drsnike, možen priklop zunanjega na dotik občjutljivega zaslona, 2 x USB priključek, RDM podpora. Kot naprimer tip Zero 88 FLX S48 2U"]
["2.5","DMX delilnik ","kos",1,null,{"$f":"E106*D106","v":0},{"$f":"+E106*MM","v":0},{"$f":"+G106*D106","v":0},{"$f":"+E106-G106","v":0},{"$f":"+I106*D106","v":0}]
[null,"1 x DMX/RDM delilnik z 2 x DMX 5P vhodom in 10 x DMX 5P izhodom, možnostjo izbire vhoda za vsak izhod, RDM filtriranjem za vsak vhod, RDM filtriranjem za vsak izhod, možnostjo nadgradnje programske opreme preko RDM protokola, popolna galvanska in optična izolacija na vsakem izhodu, RGB indikacijske LED za prikaz prisotnosti signala, HTP/LTP način združevanja, način redundančnega delovanja, možnost izbire uporabniško prednastavljenih profilov, v 19\" ohišju. Dobavljen s šuko napajalnim vodnikom. Kot naprimer tip Luminex Lumisplit 2.10"]
["2.6","DMX konektor 5P M kot tip NEUTRIK","kos",10,null,{"$f":"E108*D108","v":0},{"$f":"+E108*MM","v":0},{"$f":"+G108*D108","v":0},{"$f":"+E108-G108","v":0},{"$f":"+I108*D108","v":0}]
[null,"Profesionalni kabelski XLR 5 polni konektor kot tip NEUTRIK, moški, črn, s pozlačenimi kontakti. "]
["2.7","DMX konektor 5P Ž kot tip NEUTRIK","kos",2,null,{"$f":"E110*D110","v":0},{"$f":"+E110*MM","v":0},{"$f":"+G110*D110","v":0},{"$f":"+E110-G110","v":0},{"$f":"+I110*D110","v":0}]
[null,"Profesionalni kabelski XLR 5 polni konektor, kot tip NEUTRIK, ženski, črn, s pozlačenimi kontakti. "]
["2.8","DMX vgradni konektor 5P M kot tip NEUTRIK s pripadajočim materialom za montažo v talno dozo","kos",2,null,{"$f":"E112*D112","v":0},{"$f":"+E112*MM","v":0},{"$f":"+G112*D112","v":0},{"$f":"+E112-G112","v":0},{"$f":"+I112*D112","v":0}]
[null,"Profesionalni, vgradni XLR 5 polni konektor kot tip NEUTRIK, moški, črn, s pozlačenimi kontakti in pripadajočim materialom za montažo v talno dozo. "]
["2.9","DMX kabel dolžine 2.5m","kos",16,null,{"$f":"E114*D114","v":0},{"$f":"+E114*MM","v":0},{"$f":"+G114*D114","v":0},{"$f":"+E114-G114","v":0},{"$f":"+I114*D114","v":0}]
[null,"Profesionalni DMX kabel višje kvalitete z XLR 5P konektorjema (črne barve, pozlačeni kontakti) konektorji kot tip NEUTRIK. "]
["2.10","DMX kabel dolžine 5m","kos",4,null,{"$f":"E116*D116","v":0},{"$f":"+E116*MM","v":0},{"$f":"+G116*D116","v":0},{"$f":"+E116-G116","v":0},{"$f":"+I116*D116","v":0}]
[null,"Profesionalni DMX kabel višje kvalitete z XLR 5P konektorjema (črne barve, pozlačeni kontakti) konektorji kot tip NEUTRIK. "]
["2.11","DMX kabel dolžine 10m","kos",4,null,{"$f":"E118*D118","v":0},{"$f":"+E118*MM","v":0},{"$f":"+G118*D118","v":0},{"$f":"+E118-G118","v":0},{"$f":"+I118*D118","v":0}]
[null,"Profesionalni DMX kabel višje kvalitete z XLR 5P konektorjema (črne barve, pozlačeni kontakti) konektorji kot tip NEUTRIK. "]
["2.12","Kabelski podaljšek 3 x 220V 3m","kos",8,null,{"$f":"E120*D120","v":0},{"$f":"+E120*MM","v":0},{"$f":"+G120*D120","v":0},{"$f":"+E120-G120","v":0},{"$f":"+I120*D120","v":0}]
[null,"Kabelski podaljšek s tremi šuko vtičnicami, šuko vtikačem na 3m vodniku 3x1.5mm2, tokovna zaščita 16A. "]
["2.13","Kljuka za obešanje svetil ","kos",18,null,{"$f":"E122*D122","v":0},{"$f":"+E122*MM","v":0},{"$f":"+G122*D122","v":0},{"$f":"+E122-G122","v":0},{"$f":"+I122*D122","v":0}]
[null,"Aluminijasta kljuka za obešanje svetil, nosilnost vsaj 100kg (8 kratni varnostni faktor), za cevi premera 45-50mm, vijačenje s strani, možnost obešanja z in zapenjanja z eno roko, priložen M8 vijak za pritrditev na svetila, s krilato matico (oboje črne barve). Kot naprimer DOUGHTY Slimline Quick trigger clamp black"]
["2.14","Varovalna jeklenica 15kg","kos",18,null,{"$f":"E124*D124","v":0},{"$f":"+E124*MM","v":0},{"$f":"+G124*D124","v":0},{"$f":"+E124-G124","v":0},{"$f":"+I124*D124","v":0}]
[null,"Varovalna jeklenica nosilnosti 15kg, 3mm x 585mm, z M6 karabinom, črne barve, TUV certificirana."]
["2.15","Priključno polje DMX 1-9","kos",8,null,{"$f":"E126*D126","v":0},{"$f":"+E126*MM","v":0},{"$f":"+G126*D126","v":0},{"$f":"+E126-G126","v":0},{"$f":"+I126*D126","v":0}]
[null,"Priključno polje z 1 x XLR  5P M konektorjem kot tip NEUTRIK v kompletu z pripadajočo dozo in paneli za dozo. "]
["2.16","Montaža scenske osvetlitve","kos",1,null,{"$f":"E128*D128","v":0},{"$f":"+E128*MM","v":0},{"$f":"+G128*D128","v":0},{"$f":"+E128-G128","v":0},{"$f":"+I128*D128","v":0}]
[null,"Dostava opreme na objekt, montaža opreme na položeno in preizkušeno signalno in elektro inštalacijo, morebitno zaključevanje signalnih in mrežnih vodnikov, montaža opreme na lokacijah, testiranje, spuščanje v pogon. Montaža ne vključuje gradbenih del in elektro razvodov. Montaža vključuje zagon sistema in prvotno programiranje lučnega krmilnika. Dobavitelj je po zaključeni montaži dolžan zagotoviti podatke za izdelavo PID. "]
["2.17","Šolanje uporabnika","kos",1,null,{"$f":"E130*D130","v":0},{"$f":"+E130*MM","v":0},{"$f":"+G130*D130","v":0},{"$f":"+E130-G130","v":0},{"$f":"+I130*D130","v":0}]
[null,"Izobraževanje uporabnika v obsegu vsaj 8 ur (v slovenskem jeziku)."]
[]
["3.","MREŽNA OPREMA"]
["3.1","Mrežno prespojno polje 19\" 24 portno - CAT6","kos",1,null,{"$f":"E134*D134","v":0},{"$f":"+E134*MM","v":0},{"$f":"+G134*D134","v":0},{"$f":"+E134-G134","v":0},{"$f":"+I134*D134","v":0}]
[null,"Mrežno prespojno polje 24 portno, CAT6, F/FTP, primerno za 10 GBaseT, črne barve"]
["3.2","Mrežno stikalo, layer 3, 20 portov","kos",1,null,{"$f":"E136*D136","v":0},{"$f":"+E136*MM","v":0},{"$f":"+G136*D136","v":0},{"$f":"+E136-G136","v":0},{"$f":"+I136*D136","v":0}]
[null,"Managirano mrežno stikalo z vsaj 20 porti\nBrez vgrajenih ventilatorjev\nKapaciteta 56 Gbps\nVsaj 2 x SFP \nPoraba 20W\nNapajanje 100-240V (avtomatsko preklapljanje)\nBuffer 12MB\nSpomin (flash) 256MB\nRAM 512 MB\nKapaciteta (aktivni VLAN) 4096\nDimenzije 440 x 44 x 20,2 mm\nTeža 2.75kg\nKot naprimer CISCO "]
["3.3","Patch kabel CAT6 ","kos",20,null,{"$f":"E138*D138","v":0},{"$f":"+E138*MM","v":0},{"$f":"+G138*D138","v":0},{"$f":"+E138-G138","v":0},{"$f":"+I138*D138","v":0}]
[null,"Patch kabel višje kvalitete, razred vsaj CAT6, vsaj U/FTP ali boljše ščitenje, dolžina 1.5m"]
["3.4","Mrežni konektor ETHERCON kot tip NEUTRIK","kos",12,null,{"$f":"E140*D140","v":0},{"$f":"+E140*MM","v":0},{"$f":"+G140*D140","v":0},{"$f":"+E140-G140","v":0},{"$f":"+I140*D140","v":0}]
[null,"Profesionalni CAT6 mrežni konektor črne barve, kot tip NEUTRIK EtherCon, dobavljen v kompletu s pripadajočo dozo"]
["3.5","Montaža mrežne opreme","kpl",1,null,{"$f":"E142*D142","v":0},{"$f":"+E142*MM","v":0},{"$f":"+G142*D142","v":0},{"$f":"+E142-G142","v":0},{"$f":"+I142*D142","v":0}]
[null,"Dostava opreme na objekt, montaža opreme na položeno in preizkušeno signalno in elektro inštalacijo,  zaključevanje mrežnih vodnikov, montaža opreme na lokacijah, testiranje, spuščanje v pogon, Montaža ne vključuje gradbenih del in elektro razvodov. Montaža vključuje zagon sistema in prvotno nastavitev stikala ter wifi dostopne točke. Dobavitelj je po zaključeni montaži dolžan zagotoviti podatke za izdelavo PID. "]
[]
["A10","MULTIMEDIJA SKUPAJ",null,null,null,{"$f":"SUM(F10:F144)","v":0},null,{"$f":"SUM(H10:H144)","v":0},null,{"$f":"SUM(J10:J144)","v":0}]

{"sheet":"CDE-OZVOČENJE+URE","index":104,"n_rows":40,"n_cols":10,"rows_kept":40,"cut":false,"hidden":false,"merged":[]}
[null,"Objekt C, D in E,  ELEKTROINŠTALACIJSKA  DELA"]
[]
["ZAP. ŠT.","OPIS","     ME","KOLIČUNA","CENA/ENOTO","SKUPAJ","POPUST","POPUST SKUPAJ","CENA/ENOTO S POPUSTOM","SKUPAJ S POPUSTOM"]
[]
[null,"OPREMA ŠOLSKEGA   OZVOČENJA"]
["1.","Oprema za dogradnjo v obstoječe šplsko ozvočenje:","kpl","0"]
[" -","Močnostni avdio ojačevalnik 360W/100V,  4 izhodi abc, vgrani  za 19\" omaro."]
[" -","Vgradnja in povezava na obstoječo napravo ozvočenja.","kpl","0"]
[]
["3.","Zvočni viri  in regulatorji glasnosti"]
[" -","SNZ1070 nadometni zvočnik 5W100V, beli  , SPL 94/104dB","kos","0"]
[" -","SNZ2110 vgradni zvočnik 5W100V, beli  , SPL 94/104dB","kos","0"]
[" -","SNA1040 T  - lokalni regulator glasnosti 30W za dozo Fi 60 za TEM program, beli","kos","0"]
[" -","LR1100R  lokalni regulator glasnosti 100W za dozo Fi 68  beli","kos","0"]
[]
["4.","Instalacijski materiali in dela  ( elektro instalater-dobava in vgradnja)"]
[" -","Brezhalogeni finožični kabel FG16OM16- 3 x 1, 5 mm2    cca                  ","m","0"]
[" -","Brezhalogeni finožični kabel FG16OM16- 2 x 1, 5 mm2     cca         ","m","0"]
[" -","Brezhalogeni finožični kabel FG16OM16- 3 x 2, 5 mm2     cca        ","m","0"]
[" -","Vgradne doze- globoke  , Fi 60 za regulatorje glasnosti","kos","0"]
[" -","Vgradna doza- globoka  , Fi 68 za regulatorj glasnosti100W","kos","0"]
[" -","Priključna omarica cca 25x30cm,  komplet s priključnimi sponkami in  ploščo za montažo regulatorja glasnosti 100W/100V , nameščena v posameznem  nadstropju in v posameznem nadstropju nekje na  hodniku","kos","0"]
[" -","Izvedba instalacije","kpl","0"]
[" -","Dokumentacija","kpl","0"]
[" -","Manipulativni stroški","kpl","0"]
[]
["5.","Priklop opreme ozvočenja na predhodno izvedeno in  označeno instalacijo, zagon, nastavitve .","kpl","0"]
[null,"Skupaj  A, brez DDV",null,null,null,{"$f":"SUM(F6:F27)","v":0},null,{"$f":"SUM(H6:H27)","v":0},null,{"$f":"SUM(J6:J27)","v":0}]
[]
["B.","OPREMA ZA PRIKAZOVANJE ČASA"]
["1.","Analogna 24V minutna ura, enostranska premer 300mm , komplet z montažni priborom za enostransko izvedbo\n(kot npr. VME-31 ali enakovredna)","kos","0"]
["2.","Analogna 24V minutna ura, dvostranska, premer 300mm, komplet z montažni priborom za stropno montažo\n(kot npr. 2VME-31 ali enakovredna)","kos","0"]
["4.","Brezhalogeni finožični kabel FG16OM16- 2 x 1, 5 mm2                 ","m","0"]
["5.","Instalacijska gibliva samogasna cev fi 16mm                         cca","m","0"]
["6.","Montaža ur in ožičenje  ","kpl","0"]
["7.","Priklop   ur na obstoječi sistem  obstoječe šole","kpl","0"]
["           SKUPAJ B -OPREMA ZA PRIKAZOVANJE ČASA,brez DDV",null,null,null,null,{"$f":"SUM(F31:F36)","v":0},null,{"$f":"SUM(H31:H36)","v":0},null,{"$f":"SUM(J31:J36)","v":0}]
[]
[]
["A11","OPREMA ŠOLSKEGA OZVOČENJA IN PRIKAZOVANJA ČASA SKUPAJ",null,null,null,{"$f":"SUM(F28,F37)","v":0},null,{"$f":"SUM(H28,H37)","v":0},null,{"$f":"SUM(J28,J37)","v":0}]

{"sheet":"CDE-ODT","index":105,"n_rows":17,"n_cols":10,"rows_kept":17,"cut":false,"hidden":false,"merged":[[4,1,4,2],[5,1,5,2],[7,1,7,2]]}
[null,"Objekt C, D in E,   ELEKTROINŠTALACIJSKA  DELA"]
[]
["ZAP. ŠT.","OPIS","     ME","KOLIČUNA","CENA/ENOTO","SKUPAJ","POPUST","POPUST SKUPAJ","CENA/ENOTO S POPUSTOM","SKUPAJ S POPUSTOM"]
[]
["A12","OPOMBA:\nKabliranje je zajeto v podstavki A1.2 Močnostne inštalacije"]
[]
["1.0.","NARAVNI ODVOD DIMA IN TOPLOTE TER NARAVNA VENTILACIJA"]
[null,"(dobava in montaža)"]
[null,"Krmilna centrala za proženje 24V DC elementov namenjena odvodu dima in toplote.\nAvtonomija sekundarne močnostne podpore 72ur, avtomatski preklop na rezervno napajanje in nazaj.\nVse linije kontrolirane.\nProizvajalec: D+H Mechatronic AG\nDobavitelj: ZIP inženiring d.o.o. Tolmin\nSkladno s standardom EN 12101-10; Oskrba z energijo\nVsi krmilni elementi so medsebojno usklajeni na krmilno omarico dobavitelja ZIP inženiring."]
[null,"Opis krmilnih funkcij:\n. 72 ur podpore rezervnega napajanja;\n. požarno proženje po požarnih sektorjih;\n. proženje preko vmesnika požarne centrale in večfunkcijskega ročnega javljalnika \n. svetlobno javljanje napak (napaka centrale, izpad omrežja, napaka akku, prekinitev linije do motornih \n  pogonov in ročnih javljalnikov), se identificira na ročnih javljalnikih in na osnovni centralni plošči\n. sistem prenosa za javljanje požarnega alarma in javljanje napake centrale na nadzorni center\n. sistem se lahko koristi tudi za dnevno zračenje preko ventilacijskih tipk \n. samodejno zapiranje v primeru dežja / vetra\n(kabliranje izvedeno skladno z navodili ZIP Inženiring d.o.o. Tolmin)"]
[1,"Krmilna centrala RZN 4416-M; Dobavitelj: ZIP inženiring d.o.o. Tolmin\n- 1x ohišje\n- 1x identifikacija napake; stanje krmilja, kontrola linij, izpad omrežja, napaka Akku, itd.\n- 1x požarna linija\n- 3x grupa motornih pogonov 24Vdc\n- Akku\n- Vds certifikat EN 12101-10","kpl",2,null,{"$f":"+E11*D11","v":0},{"$f":"+E11*MM","v":0},{"$f":"+G11*D11","v":0},{"$f":"+E11-G11","v":0},{"$f":"+I11*D11","v":0}]
[2,"SHEV ročni javljalnik RT45/G; funkcija - normalno, napaka, požar, reset -","kpl",6,null,{"$f":"+E12*D12","v":0},{"$f":"+E12*MM","v":0},{"$f":"+G12*D12","v":0},{"$f":"+E12-G12","v":0},{"$f":"+I12*D12","v":0}]
[3,"Ventilacijska tipka LT 84-U; funkcija - odpira, stop, zapira - ","kpl",4,null,{"$f":"+E13*D13","v":0},{"$f":"+E13*MM","v":0},{"$f":"+G13*D13","v":0},{"$f":"+E13-G13","v":0},{"$f":"+I13*D13","v":0}]
[4,"Dežni / veterni senzor WRS-S","kpl",1,null,{"$f":"+E14*D14","v":0},{"$f":"+E14*MM","v":0},{"$f":"+G14*D14","v":0},{"$f":"+E14-G14","v":0},{"$f":"+I14*D14","v":0}]
[5,"Testiranje, zagon sistema, predaja in šolanje uporabnika","kpl",1,null,{"$f":"+E15*D15","v":0},{"$f":"+E15*MM","v":0},{"$f":"+G15*D15","v":0},{"$f":"+E15-G15","v":0},{"$f":"+I15*D15","v":0}]
[null,"Vsi krmilni elementi so medsebojno usklajeni na krmilno omarico dobavitelja ZIP inženiring d.o.o. Tolmin. "]
["A12","NARAVNI ODVOD DIMA IN TOPLOTE TER NARAVNA VENTILACIJA",null,null,null,{"$f":"SUM(F11:F16)","v":0},null,{"$f":"SUM(H11:H15)","v":0},null,{"$f":"SUM(J11:J15)","v":0}]

{"sheet":"CDE-RUŠITVE","index":106,"n_rows":77,"n_cols":10,"rows_kept":77,"cut":false,"hidden":false,"merged":[]}
[null,"Objekt C, D in E,   ELEKTROINŠTALACIJSKA  DELA"]
[]
["ZAP. ŠT.","OPIS","     ME","KOLIČUNA","CENA/ENOTO","SKUPAJ","POPUST","POPUST SKUPAJ","CENA/ENOTO S POPUSTOM","SKUPAJ S POPUSTOM"]
[]
[null,"RUŠITVE"]
[]
[null,"OPOMBA:"]
[null,"Z odpadki je potrebno ravnati skladno s predpisi."]
[null,"Vso demontirano opremo je potrebno odpeljati na reciklažo v kolikor je za dotično opremo reciklaža predpisana in na trajno deponijo vso ostalo demontirano opremo."]
[null,"Iz objekta dela objekta, ki se ruši / prenavlja, se odstrani celotna el. Inštalacija."]
[null,"Plinska kotlovnica na lokaciji trakt \"E\" se demontira in prestavi v novo stavbo, ko se le ta izgradi."]
[null,"Spodaj popisana el. inštalacije predstavlja oceno el. inštalacije v delu OŠ Savsko Naselje, ki se ruši / prenavlja. Možno je odstopanje od dejanskega stanja, zato se priporoča ogled na lokaciji."]
[]
[null,"Za vse postavke velja demontaža in odvoz na reciklažo / deponijo."]
[]
[1,"Elektro razdelileci s vso opremo","kpl",2,null,{"$f":"D16*E16","v":0},{"$f":"+E16*MM","v":0},{"$f":"+G16*D16","v":0},{"$f":"+E16-G16","v":0},{"$f":"+I16*D16","v":0}]
[]
["2.","Svetilke komplet s šinami in obešalnim priborom","kos",95,null,{"$f":"D18*E18","v":0},{"$f":"+E18*MM","v":0},{"$f":"+G18*D18","v":0},{"$f":"+E18-G18","v":0},{"$f":"+I18*D18","v":0}]
[]
[3,"Posluževalni tablo","kpl",1,null,{"$f":"D20*E20","v":0},{"$f":"+E20*MM","v":0},{"$f":"+G20*D20","v":0},{"$f":"+E20-G20","v":0},{"$f":"+I20*D20","v":0}]
[]
[4,"Električni kabli in vodniki PP-Y, PP, PP-00Y"]
[null,"2x1,5mm2","m",150,null,{"$f":"D23*E23","v":0},{"$f":"+E23*MM","v":0},{"$f":"+G23*D23","v":0},{"$f":"+E23-G23","v":0},{"$f":"+I23*D23","v":0}]
[null,"3x1,5mm2","m",1600,null,0,0,0,0,0]
[null,"4x1,5mm2","m",380,null,0,0,0,0,0]
[null,"5x1,5mm2","m",900,null,0,0,0,0,0]
[null,"3x2,5mm2","m",1850,null,0,0,0,0,0]
[null,"5x2,5mm2","m",420,null,0,0,0,0,0]
[null,"5x4mm2","m",30,null,0,0,0,0,0]
[null,"5x6mm2","m",20,null,0,0,0,0,0]
[null,"5x10mm2","m",150,null,0,0,0,0,0]
[null,"5x16mm2","m",70,null,0,0,0,0,0]
[null,"7x1,5mm2","m",200,null,0,0,0,0,0]
[null,"12x1,5mm2","m",40,null,0,0,0,0,0]
[null,"24x1,5mm2","m",20,null,0,0,0,0,0]
[null,"4x35mm2","m",30,null,0,0,0,0,0]
[null,"4x120mm2","m",30,null,0,0,0,0,0]
[]
["5.","Šibkotočni električni vodniki"]
[null,"JYStY 2x2x0,6mm2","m",40,null,{"$f":"D40*E40","v":0},{"$f":"+E40*MM","v":0},{"$f":"+G40*D40","v":0},{"$f":"+E40-G40","v":0},{"$f":"+I40*D40","v":0}]
[null,"JYStY 10x2x0,6mm2","m",50,null,0,0,0,0,0]
[null,"JYStY 4x2x0,6mm2","m",40,null,0,0,0,0,0]
[null,"JYStY 4x2x0,6mm2","m",40,null,0,0,0,0,0]
[null,"F/UTP","m",400,null,0,0,0,0,0]
[null,"ES 485-CAT 5 4x2x0,24mm","m",240,null,0,0,0,0,0]
[]
["6.","Električni vodniki P/F-Y "]
[null,"6mm2","m",360,null,{"$f":"D48*E48","v":0},{"$f":"+E48*MM","v":0},{"$f":"+G48*D48","v":0},{"$f":"+E48-G48","v":0},{"$f":"+I48*D48","v":0}]
[null,"16mm2","m",240,null,{"$f":"D49*E49","v":0},{"$f":"+E49*MM","v":0},{"$f":"+G49*D49","v":0},{"$f":"+E49-G49","v":0},{"$f":"+I49*D49","v":0}]
[null,"25mm2","m",80,null,{"$f":"D50*E50","v":0},{"$f":"+E50*MM","v":0},{"$f":"+G50*D50","v":0},{"$f":"+E50-G50","v":0},{"$f":"+I50*D50","v":0}]
[]
["7.","Instalacijske cevi PN ","m",1000,null,{"$f":"D52*E52","v":0},{"$f":"+E52*MM","v":0},{"$f":"+G52*D52","v":0},{"$f":"+E52-G52","v":0},{"$f":"+I52*D52","v":0}]
[]
["8.","Kabelske police z nosilci"]
[null,"100mm","m",40,null,{"$f":"D55*E55","v":0},{"$f":"+E55*MM","v":0},{"$f":"+G55*D55","v":0},{"$f":"+E55-G55","v":0},{"$f":"+I55*D55","v":0}]
[null,"200mm","m",6,null,{"$f":"D56*E56","v":0},{"$f":"+E56*MM","v":0},{"$f":"+G56*D56","v":0},{"$f":"+E56-G56","v":0},{"$f":"+I56*D56","v":0}]
[null,"300mm","m",40,null,{"$f":"D57*E57","v":0},{"$f":"+E57*MM","v":0},{"$f":"+G57*D57","v":0},{"$f":"+E57-G57","v":0},{"$f":"+I57*D57","v":0}]
[]
["9.","Omarice za izenačitev potencial","kos",15,null,{"$f":"D59*E59","v":0},{"$f":"+E59*MM","v":0},{"$f":"+G59*D59","v":0},{"$f":"+E59-G59","v":0},{"$f":"+I59*D59","v":0}]
[]
["10.","Stikala","kos",52,null,{"$f":"D61*E61","v":0},{"$f":"+E61*MM","v":0},{"$f":"+G61*D61","v":0},{"$f":"+E61-G61","v":0},{"$f":"+I61*D61","v":0}]
[]
["11.","Vtičnice 230V in 400V","kos",95,null,{"$f":"D63*E63","v":0},{"$f":"+E63*MM","v":0},{"$f":"+G63*D63","v":0},{"$f":"+E63-G63","v":0},{"$f":"+I63*D63","v":0}]
[]
["12.","Vtičnice RJ45","kos",14,null,{"$f":"D65*E65","v":0},{"$f":"+E65*MM","v":0},{"$f":"+G65*D65","v":0},{"$f":"+E65-G65","v":0},{"$f":"+I65*D65","v":0}]
[]
["13.","Razvodne doze","kos",200,null,{"$f":"D67*E67","v":0},{"$f":"+E67*MM","v":0},{"$f":"+G67*D67","v":0},{"$f":"+E67-G67","v":0},{"$f":"+I67*D67","v":0}]
[]
["14.","Zvonec","kos",3,null,{"$f":"D69*E69","v":0},{"$f":"+E69*MM","v":0},{"$f":"+G69*D69","v":0},{"$f":"+E69-G69","v":0},{"$f":"+I69*D69","v":0}]
[]
["15.","Demontaža ozvočenja","kpl",1,null,{"$f":"D71*E71","v":0},{"$f":"+E71*MM","v":0},{"$f":"+G71*D71","v":0},{"$f":"+E71-G71","v":0},{"$f":"+I71*D71","v":0}]
[]
["16.","Demontaža telefonije","kpl",1,null,{"$f":"D73*E73","v":0},{"$f":"+E73*MM","v":0},{"$f":"+G73*D73","v":0},{"$f":"+E73-G73","v":0},{"$f":"+I73*D73","v":0}]
[]
["17.","Demontaža in ponovna montaža el. maretiala v plinski kotlovnici v traktu \"E\"","kpl",1,null,{"$f":"D75*E75","v":0},{"$f":"+E75*MM","v":0},{"$f":"+G75*D75","v":0},{"$f":"+E75-G75","v":0},{"$f":"+I75*D75","v":0}]
[]
["A13","DEMONTAŽA IN ODVOZ NA DEPONIJO / RECIKLAŽO SKUPAJ",null,null,null,{"$f":"SUM(F8:F76)","v":0},null,{"$f":"SUM(H8:H76)","v":0},null,{"$f":"SUM(J8:J76)","v":0}]

{"sheet":"CDE-REKAP. PLINSKI PRIKLJUČ ","index":107,"n_rows":20,"n_cols":5,"rows_kept":20,"cut":false,"hidden":false,"merged":[]}
["Investitor:   ","Mestna občina Ljubljana"]
[null,"Konzorcij družb Petrol d. d. in Resalta d. o. o. "]
["Objekt:      ","OŠ Savsko naselje, Matjaževa ulica 4, Ljubljana"]
[null," - Celovita prenova objekta s statično, požarno in energetsko sanacijo."]
["Štev. proj.:     "]
["Datum:      ","April 2022"]
[]
[]
[]
[]
[null,"REKAPITULACIJA"]
[null,"PLINSKI PRIKLJUČEK  objekta C, D in E"]
[]
[]
[null,"Ponudbena vrednost - skupna rekapitulacija","Vrednost  brez popusta","Popust","Vrednost s popustom"]
[null,{"$f":"'CDE-PP GRADBENA DELA'!$B$7","v":"PRIKLJUČNI PLINOVOD - GRADBENA DELA"},{"$f":"'CDE-PP GRADBENA DELA'!$F$39","v":0},{"$f":"'CDE-PP GRADBENA DELA'!$H$39","v":0},{"$f":"'CDE-PP GRADBENA DELA'!$J$39","v":0}]
[null,"PRIKLJUČNI PLINOVOD - STROJNA DELA",{"$f":"'CDE-PP STROJNA DELA '!$F$40","v":0},{"$f":"'CDE-PP STROJNA DELA '!$H$40","v":0},{"$f":"'CDE-PP STROJNA DELA '!$J$40","v":0}]
[null,"SKUPAJ",{"$f":"SUM(C16:C17)","v":0},{"$f":"SUM(D16:D17)","v":0},{"$f":"SUM(E16:E17)","v":0}]
[null,"22% DDV",null,null,{"$f":"+E18*0.22","v":0}]
[null,"PLINSKI PRIKLJUČEK  C+D+E  SKUPAJ Z DDV",null,null,{"$f":"+E18+E19","v":0}]

{"sheet":"CDE-PP GRADBENA DELA","index":108,"n_rows":39,"n_cols":10,"rows_kept":39,"cut":false,"hidden":false,"merged":[]}
[null,"Objekt C, D in E,  PLINSKI PRIKLJUČEK"]
[]
["ZAP. ŠT.","OPIS","     ME","KOLIČUNA","CENA/ENOTO","SKUPAJ","POPUST","POPUST SKUPAJ","CENA/ENOTO S POPUSTOM","SKUPAJ S POPUSTOM"]
[]
[]
[]
["1.","PRIKLJUČNI PLINOVOD - GRADBENA DELA"]
[]
[{"$f":"MAX($A$1:A7)+1","v":1},"Zakoličba"]
[null,"Priprava gradbišča, zarisovanje trase, določitev globin izkopa in zakoličba trase, zavarovanje zakoličbe in izdelava zakoličbenega načrta."]
[null,"PE63x5,8","m",190,null,{"$f":"D11*E11","v":0},{"$f":"+E11*MM","v":0},{"$f":"+G11*D11","v":0},{"$f":"+E11-G11","v":0},{"$f":"+I11*D11","v":0}]
[]
[{"$f":"MAX($A$1:A11)+1","v":2},"Planiranje dna jarka"]
[null,"Planiranje dna jarka z natančnostjo +,- 3 cm.","m2",87,null,{"$f":"D14*E14","v":0},{"$f":"+E14*MM","v":0},{"$f":"+G14*D14","v":0},{"$f":"+E14-G14","v":0},{"$f":"+I14*D14","v":0}]
[]
[{"$f":"MAX($A$1:A14)+1","v":3},"Kombinirani izkop - odmet ob rob jarka"]
[null,"Kombinirani izkop jarka za cevovod v terenu III-V kategorije, globine do 2,0 m, z odmetom na rob jarka oz. na začasno deponijo na gradbišču. "]
[null,"a) strojni izkop","m3",160,null,{"$f":"D18*E18","v":0},{"$f":"+E18*MM","v":0},{"$f":"+G18*D18","v":0},{"$f":"+E18-G18","v":0},{"$f":"+I18*D18","v":0}]
[null,"b) ročni izkop","m3",30,null,{"$f":"D19*E19","v":0},{"$f":"+E19*MM","v":0},{"$f":"+G19*D19","v":0},{"$f":"+E19-G19","v":0},{"$f":"+I19*D19","v":0}]
[]
[{"$f":"MAX($A$1:A19)+1","v":4},"Zasip - posteljica / plinovodi"]
[null,"Dobava in vgradnja posteljice z dopeljanim peskom 0/4 mm za posteljico in obsip plinovoda, do višine 10 cm nad temenom cevi (po detajlu iz projekta), s planiranjem in utrjevanjem. Natančnost izdelave posteljice je +/- 1 cm.","m3",15,null,{"$f":"D22*E22","v":0},{"$f":"+E22*MM","v":0},{"$f":"+G22*D22","v":0},{"$f":"+E22-G22","v":0},{"$f":"+I22*D22","v":0}]
[]
[{"$f":"MAX($A$1:A22)+1","v":5},"Zasip - obstoječi izkopani material"]
[null,"Zasip z obstoječim materialom do višine potrebne za končno ureditev terena, s komprimiranjem v slojih deb. 20 - 30 cm do predpisane zbitosti in planiranje površine s točnostjo +- 1.0 cm ","m3",167,null,{"$f":"D25*E25","v":0},{"$f":"+E25*MM","v":0},{"$f":"+G25*D25","v":0},{"$f":"+E25-G25","v":0},{"$f":"+I25*D25","v":0}]
[]
[{"$f":"MAX($A$1:A25)+1","v":6},"Odvoz materiala"]
[null,"Odvoz odvečnega izkopanega materiala, z vsemi manipulacijami na stalno deponijo, vključno s pristojbino.","m3",15,null,{"$f":"D28*E28","v":0},{"$f":"+E28*MM","v":0},{"$f":"+G28*D28","v":0},{"$f":"+E28-G28","v":0},{"$f":"+I28*D28","v":0}]
[]
[{"$f":"MAX($A$1:A28)+1","v":7},"Opozorilni trak"]
[null,"Dobava in polaganje opozorilnega PVC traku, rumene barve z oznako POZOR PLINOVOD.","m",190,null,{"$f":"D31*E31","v":0},{"$f":"+E31*MM","v":0},{"$f":"+G31*D31","v":0},{"$f":"+E31-G31","v":0},{"$f":"+I31*D31","v":0}]
[]
[{"$f":"MAX($A$1:A31)+1","v":8},"Geodetski posnetek"]
[null,"Geodetski posnetki s kartiranjem.","m",190,null,{"$f":"D34*E34","v":0},{"$f":"+E34*MM","v":0},{"$f":"+G34*D34","v":0},{"$f":"+E34-G34","v":0},{"$f":"+I34*D34","v":0}]
[]
[{"$f":"MAX($A$1:A34)+1","v":9},"Zavarovanje in nadzor podzemnih instalacij"]
[null,"Zakoličba obstoječih komunalnih naprav (križanja in približevanja) in nadzor upravljalca podzemnih instalacij (vodovod, kanalizacija, plin, vročevod, elektro, javna razsvetljava, TK voj, KTV), ki prečkajo ali kako drugače segajo v profil izkopa (glede na obsežnost objekta in po računu upravljalca). ",null,0.03,{"$f":"SUM(F11:F34)*D37","v":0},{"$f":"+E37","v":0},{"$f":"+E37*MM","v":0},{"$f":"+G37","v":0},{"$f":"+E37-G37","v":0},{"$f":"+I37","v":0}]
[]
[null,"PRIKLJUČNI PLINOVOD - GRADBENA DELA SKUPAJ",null,null,null,{"$f":"SUM(F8:F38)","v":0},null,{"$f":"SUM(H8:H38)","v":0},null,{"$f":"SUM(J8:J38)","v":0}]

{"sheet":"CDE-PP STROJNA DELA ","index":109,"n_rows":40,"n_cols":10,"rows_kept":40,"cut":false,"hidden":false,"merged":[]}
[null,"Objekt C, D in E,  PLINSKI PRIKLJUČEK"]
[]
["ZAP. ŠT.","OPIS","     ME","KOLIČUNA","CENA/ENOTO","SKUPAJ","POPUST","POPUST SKUPAJ","CENA/ENOTO S POPUSTOM","SKUPAJ S POPUSTOM"]
[]
["2.","PRIKLJUČNI PLINOVOD - STROJNA DELA"]
[]
[{"$f":"COUNT($A$1:A6)+1","v":1},"Cev iz materiala PE100 - SDR 11"]
[null,"Cev iz materiala PE100, po SIST EN 12007-2, SDR 11 skupaj z dodatkom za razrez."]
[null,"PE63x5,8","m",190,0,{"$f":"D9*E9","v":0},{"$f":"+E9*MM","v":0},{"$f":"+G9*D9","v":0},{"$f":"+E9-G9","v":0},{"$f":"+I9*D9","v":0}]
[]
[{"$f":"COUNT($A$1:A10)+1","v":2},"Prehodni kos JE DN50 / PE d63"]
[null,"+GF+ 775 641 524","kos",2,null,{"$f":"D12*E12","v":0},{"$f":"+E12*MM","v":0},{"$f":"+G12*D12","v":0},{"$f":"+E12-G12","v":0},{"$f":"+I12*D12","v":0}]
[]
[{"$f":"COUNT($A$1:A13)+1","v":3},"Jeklena plinska cev"]
[null,"Cevovodi iz srednjetežkih črnih navojnih cevi EN 10255 (DIN 2440) varjenih, z atestom za plin, spajanje z varjenjem, vključno fazonski kosi. Vključno pritrditev cevi."]
[null,"DN50","m",2,null,{"$f":"D16*E16","v":0},{"$f":"+E16*MM","v":0},{"$f":"+G16*D16","v":0},{"$f":"+E16-G16","v":0},{"$f":"+I16*D16","v":0}]
[]
[{"$f":"COUNT($A$1:A17)+1","v":4},"Zaščita jeklene plinske cevi"]
[null,"Plinska cev napeljana v terenu 800 (min 600 mm) korzijska in mehanska zaščita (dvojni ovoj izolacije)","m",2,null,{"$f":"D19*E19","v":0},{"$f":"+E19*MM","v":0},{"$f":"+G19*D19","v":0},{"$f":"+E19-G19","v":0},{"$f":"+I19*D19","v":0}]
[]
[{"$f":"COUNT($A$1:A20)+1","v":5},"Omarica za glavno plinsko zaporno pipo dim: š350x v400x g250 mm, izdelana iz nerjaveče pločevine po delavniški risbi proizvajalca, prirejena za pritrditev v zid in z napisom: \nGLAVNA PLINSKA POŽARNA PIPA."]
[null,null,"kos",1,null,{"$f":"D22*E22","v":0},{"$f":"+E22*MM","v":0},{"$f":"+G22*D22","v":0},{"$f":"+E22-G22","v":0},{"$f":"+I22*D22","v":0}]
[]
[{"$f":"COUNT($A$1:A23)+1","v":6},"Krogelna pipa z navojnima priključkoma, tlačne stopnje PN 16, standardne dolžine, atestirana za zemeljski    plin, z ročko za posluževanje, skupaj z izolirnim kosom in tesnilnim materialom."]
[null,"DN50","kos",1,null,{"$f":"D25*E25","v":0},{"$f":"+E25*MM","v":0},{"$f":"+G25*D25","v":0},{"$f":"+E25-G25","v":0},{"$f":"+I25*D25","v":0}]
[]
[{"$f":"COUNT($A$1:A26)+1","v":7},"Cevne podpore izdelane iz jeklenih profilov in cevnih objemk, skupaj z montažo v zid ali varjenjem na nosilno konstrukcijo in barvane po predhodnem čiščenju in barvanju s temeljno barvo.","kg",2,null,{"$f":"D27*E27","v":0},{"$f":"+E27*MM","v":0},{"$f":"+G27*D27","v":0},{"$f":"+E27-G27","v":0},{"$f":"+I27*D27","v":0}]
[]
[{"$f":"COUNT($A$1:A28)+1","v":8},"Zaščita vidnih cevi z barvanjem po predhodnem čiščenju in barvanju s temeljno barvo.","m2",4,null,{"$f":"D29*E29","v":0},{"$f":"+E29*MM","v":0},{"$f":"+G29*D29","v":0},{"$f":"+E29-G29","v":0},{"$f":"+I29*D29","v":0}]
[]
[{"$f":"COUNT($A$1:A30)+1","v":9},"Tlačni preizkusi"]
[null,"Tlačni preizkusi plinovoda, izvedeni po navodilih iz projekta, skupaj z izdelavo zapisnikov o preizkusih.","m",190,null,{"$f":"D32*E32","v":0},{"$f":"+E32*MM","v":0},{"$f":"+G32*D32","v":0},{"$f":"+E32-G32","v":0},{"$f":"+I32*D32","v":0}]
[]
[{"$f":"COUNT($A$1:A33)+1","v":10},"Spuščanje plina"]
[null,"Spuščanje plina v plinovod, ki ga opravi distributer plina.",null,0.02,{"$f":"SUM(F9:F32)*D35","v":0},{"$f":"+E35","v":0},{"$f":"+E35*MM","v":0},{"$f":"+G35","v":0},{"$f":"+E35-G35","v":0},{"$f":"+I35","v":0}]
[]
[{"$f":"COUNT($A$1:A36)+1","v":11},"Prevezava plinovoda"]
[null,"Prevezava novoprojektiranega plinovoda na obstoječe plinovodno omrežje, ki ga opravi distributer plina. (Obračun po dejanskih stroških distributerja!)",null,0.02,{"$f":"SUM(F9:F35)*D38","v":0},{"$f":"+E38","v":0},{"$f":"+E38*MM","v":0},{"$f":"+G38","v":0},{"$f":"+E38-G38","v":0},{"$f":"+I38","v":0}]
[]
["2.","PRIKLJUČNI PLINOVOD - STROJNA DELA  SKUPAJ",null,null,null,{"$f":"SUM(F6:F38)","v":0},null,{"$f":"SUM(H6:H38)","v":0},null,{"$f":"SUM(J6:J38)","v":0}]

{"sheet":"CDE. REKAP. TOPLOTNA POSTAJA","index":110,"n_rows":21,"n_cols":5,"rows_kept":21,"cut":false,"hidden":false,"merged":[]}
["Investitor:   ","Mestna občina Ljubljana"]
[null,"Konzorcij družb Petrol d. d. in Resalta d. o. o. "]
["Objekt:      ","OŠ Savsko naselje, Matjaževa ulica 4, Ljubljana"]
[null," - Celovita prenova objekta s statično, požarno in energetsko sanacijo."]
["Štev. proj.:     "]
["Datum:      ","April 2022"]
[]
[]
[]
[]
[null,"REKAPITULACIJA"]
[null,"PLINSKI PRIKLJUČEK  objekta C, D in E"]
[]
[]
[null,"Ponudbena vrednost - skupna rekapitulacija","Vrednost  brez popusta","Popust","Vrednost s popustom"]
["1.","PERIFERNA OPREMA",{"$f":"'CDE-Periferna oprema'!$F$39","v":0},{"$f":"'CDE-Periferna oprema'!$H$39","v":0},{"$f":"'CDE-Periferna oprema'!$J$39","v":0}]
["2.","KRMILNA OPREMA"]
["3.","ELEKTRO DELA",{"$f":"'CDE-Elektro dela'!$F$89","v":0},{"$f":"'CDE-Elektro dela'!$H$89","v":0},{"$f":"'CDE-Elektro dela'!$J$89","v":0}]
[null,"SKUPAJ",{"$f":"SUM(C16:C18)","v":0},{"$f":"SUM(D16:D18)","v":0},{"$f":"SUM(E16:E18)","v":0}]
[null,"22% DDV",null,null,{"$f":"+E19*0.22","v":0}]
[null,"PLINSKI PRIKLJUČEK  C+D+E  SKUPAJ Z DDV",null,null,{"$f":"+E19+E20","v":0}]

{"sheet":"CDE-Periferna oprema","index":111,"n_rows":39,"n_cols":10,"rows_kept":39,"cut":false,"hidden":false,"merged":[]}
[null,"Objekt CDE,   TOPLOTNA POSTAJA"]
[]
[null,"PERIFERNA OPREMA"]
[]
["ZAP. ŠT.","OPIS","     ME","KOLIČUNA","CENA/ENOTO","SKUPAJ","POPUST","POPUST SKUPAJ","CENA/ENOTO S POPUSTOM","SKUPAJ S POPUSTOM"]
[]
[1,"PERIFERNA OPREMA ZA TOPLOTNO POSTAJO OGREVANJE IN PRIPRAVO SANITARNE TOPLE VODE"]
[]
[null,"Opomba za poglavje 2.:"]
[null," - vsa oprema zajema dobavo \n"]
[]
[null,"Periferna oprema - TP ogrevanje"]
[]
[1,"Tipalo temperature zunaje.; Ni1000; bel","kos",1,null,{"$f":"D14*E14","v":0},{"$f":"+E14*MM","v":0},{"$f":"+G14*D14","v":0},{"$f":"+E14-G14","v":0},{"$f":"+I14*D14","v":0}]
[""]
[2,"Tipalo temperature; stebelno; Ni1000;  v kompletu z tulko L= 100 mm","kos",11,null,{"$f":"D16*E16","v":0},{"$f":"+E16*MM","v":0},{"$f":"+G16*D16","v":0},{"$f":"+E16-G16","v":0},{"$f":"+I16*D16","v":0}]
[""]
[3,"Univerzalni termostat , dvojni, ;L=0.7m, ogrevanje","kos",1,null,{"$f":"D18*E18","v":0},{"$f":"+E18*MM","v":0},{"$f":"+G18*D18","v":0},{"$f":"+E18-G18","v":0},{"$f":"+I18*D18","v":0}]
[]
[4,"Univerzalni termostat , dvojni, ;L=0.7m, talno ogrevanje","kos",1,null,{"$f":"D20*E20","v":0},{"$f":"+E20*MM","v":0},{"$f":"+G20*D20","v":0},{"$f":"+E20-G20","v":0},{"$f":"+I20*D20","v":0}]
[]
[4,"Tipalo tlaka 24V za območje 0-6 bar; 0..10V","kos",1,null,{"$f":"D22*E22","v":0},{"$f":"+E22*MM","v":0},{"$f":"+G22*D22","v":0},{"$f":"+E22-G22","v":0},{"$f":"+I22*D22","v":0}]
[""]
[6,"3p regulacijski ventil, navojni, z elektromotornim pogonom, 0-10V, 24V, \n- dimenzija: 20\n- kvs: 6,3 m3/h\nz priključnimi spoji\n(radiatorji kuhinja Vrtec)","kos",1,null,{"$f":"D24*E24","v":0},{"$f":"+E24*MM","v":0},{"$f":"+G24*D24","v":0},{"$f":"+E24-G24","v":0},{"$f":"+I24*D24","v":0}]
["",null,"kos",1,null,{"$f":"D25*E25","v":0},{"$f":"+E25*MM","v":0},{"$f":"+G25*D25","v":0},{"$f":"+E25-G25","v":0},{"$f":"+I25*D25","v":0}]
[""]
[7,"2p regulacijski ventil, navojni, z elektromotornim pogonom, 0-10V, 24V,\n- dimenzija: 15\n- kvs: 2,5 m3/h\nz priključnimi spoji\n(talno ogrevanje kuhinja)","kos",1,null,{"$f":"D27*E27","v":0},{"$f":"+E27*MM","v":0},{"$f":"+G27*D27","v":0},{"$f":"+E27-G27","v":0},{"$f":"+I27*D27","v":0}]
["",null,"kos",1,null,{"$f":"D28*E28","v":0},{"$f":"+E28*MM","v":0},{"$f":"+G28*D28","v":0},{"$f":"+E28-G28","v":0},{"$f":"+I28*D28","v":0}]
[""]
[null,"Periferna oprema - TP STV"]
[]
[8,"Tipalo temperature; stebelno; Ni1000;  v kompletu z tulko L= 100 mm","kos",3,null,{"$f":"D32*E32","v":0},{"$f":"+E32*MM","v":0},{"$f":"+G32*D32","v":0},{"$f":"+E32-G32","v":0},{"$f":"+I32*D32","v":0}]
[""]
[9,"Tipalo temperature; stebelno; Ni1000; v kompetu z tulko L= 200 mm za akumulator","kos",2,null,{"$f":"D34*E34","v":0},{"$f":"+E34*MM","v":0},{"$f":"+G34*D34","v":0},{"$f":"+E34-G34","v":0},{"$f":"+I34*D34","v":0}]
[""]
[9,"Univerzalni termostat , dvojni, ;L=0.7m, STV"]
[null,null,"kos",1,null,{"$f":"D37*E37","v":0},{"$f":"+E37*MM","v":0},{"$f":"+G37*D37","v":0},{"$f":"+E37-G37","v":0},{"$f":"+I37*D37","v":0}]
[]
[null,"SKUPAJ PERIFERNA OPREMA:",null,null,null,{"$f":"SUM(F6:F37)","v":0},null,{"$f":"SUM(H6:H37)","v":0},null,{"$f":"SUM(J6:J37)","v":0}]

{"sheet":"CDE-Krmilna oprema","index":112,"n_rows":46,"n_cols":10,"rows_kept":46,"cut":false,"hidden":false,"merged":[]}
[null,"Objekt CDE,   TOPLOTNA POSTAJA"]
[]
[null,"KRMILNA OPREMA"]
[]
["ZAP. ŠT.","OPIS","     ME","KOLIČUNA","CENA/ENOTO","SKUPAJ","POPUST","POPUST SKUPAJ","CENA/ENOTO S POPUSTOM","SKUPAJ S POPUSTOM"]
[]
["2.","KRMILNA OPREMA IN STORITVE NA KRMILNEM NIVOJU"]
[]
[null," - Vsa krmilna oprema zajema dobavo. Montaža zajeta v sklopu dobave elektro-krmilne omare."]
[]
["2.1.","Toplotna postaja"]
[]
[1,"Modularni prostoprogramabilni krmilnik z procesorsko enoto in napajalnikom; Integrirana WEB strežnik za daljinski nadzor in upravljanje (WEB CNS); Ethernet CNS komunikacija, protokol BACnet/IP-Ethernet (ustreza standardu ISO-EN-16484-5);  napajanje 24Vdc;\nRazširljiv do 24 I/O modulov."]
[null,"ustreza: SAUTER tip EY6AS60F011 + napajalnik 24Vdc","kos","0"]
[]
[2,"Vhodno / Izhodni modul za mudularno enoto EY6AS60 (Bacnet/IP):\nŠtevilo vhodov: 8xUI + 8xDI\n"]
[null,"ustreza: SAUTER EY6IO31F001","kos","0"]
[]
[3,"Vhodno / Izhodni modul za mudularno enoto EY6AS60 (Bacnet/IP):\nŠtevilo vhodov / izhodov: 6xDO"]
[null,"ustreza: SAUTER tip EY6IO50F001","kos","0"]
[]
[4,"Vhodno / Izhodni modul za mudularno enoto EY6AS60 (Bacnet/IP):\nŠtevilo vhodov: 8xDI\nŠtevilo izhodov: 8xAO"]
[null,"ustreza: SAUTER EY6IO71F001","kos","0"]
[]
[5,"Mikroprocesorski MASTER krmilnik; prostoprogramabilni; 2x RJ45; Ethernet CNS komunikacija  protokol BACnet/IP-Ethernet (ustreza standrdu ISO-EN-16484-5); z integriranim vmesnikom za priklop naslednjih komunikacijskih protokolov:\n1 x Mbus"]
["","ustreza: SAUTER tip EY-RC504F0D1","kos","0"]
[]
[6,"Lokalna operaterska enota; LCD zaslon 10,2-inch; vključno z napajalnikom, ethernet vmesnikom in okvirjem za nadometno montažo."]
[null,"ustreza: SUATER modulo6-LCD10 kit","kpl","0"]
[]
[7,"Programiranje krmilnika strojnih sistemov energetske strojnice (ES) po projektnih zahtevah; zajema naslednje sklope:\n'- priključni vročevod - toplotna postaja;\n'- razdelilnik ogrevanja (zvezno vodenje, kontrola, zajem meritev);\n'- priprava tople sanitarne vode;\n'- integracija M-Bus protokola za zajem meritev (kalorimeter, vodomer);","kpl","0"]
[]
[8,"Vnos programa v krmilnike, testiranje vhodno/izhodnih signalov na objektu (IQ test), funkcijski zagon na objektu (OQ test), nastavitev delovnih in regulacijskih parametrov, vzpostavitev ethernet komunikacije za CNS, integracija M-Bus merilnikov na krmilnem nivoju, integracija ModBus protokola na krmilnem nivoju;","kpl","0"]
[]
[9,"Izdelava uporabniških navodil za delo na krmilnem nivoju; šolanje uporabnika za upravljanje z krmilno-regulacijsko opremo na lokalnem nivoju","kpl","0"]
[]
[10,"Prilagoditev elektro-vezalne sheme razdelilnika (PZI) na dejansko dobavljeno strojno opremo","kpl","0"]
[null,"Skupaj"]
[]
["3.","STORITVE NA CNS NIVOJU"]
[]
[11,"Konfiguracija BacNet-IP WEB strežnika in izdelava CNS aplikacije;\nGrafična vizalizacija z dinamično predstavitvijo za sisteme:\n- toplotna postaja\n- M-Bus meritve\nNastavitev zgodovine, alarmov, časovnih programov, pravice dostopov;\nVzpostavitev komunikacije z krmilniki, adresiranje;\nTestiranje aplikacije in zagon na objektu","kpl","0"]
[]
[12,"Izdelava tehnične dokumentacije za uporabnika; šolanje uporabnika in predaja dokumentacije","kpl","0"]
[]
[null,"SKUPAJ KRMILNA OPREMA:",null,null,null,{"$f":"SUM(F6:F45)","v":0},null,{"$f":"SUM(H6:H45)","v":0},null,{"$f":"SUM(J6:J45)","v":0}]

{"sheet":"CDE-Elektro dela","index":113,"n_rows":89,"n_cols":10,"rows_kept":89,"cut":false,"hidden":false,"merged":[]}
[null,"Objekt C, D in E,  PLINSKI PRIKLJUČEK"]
[]
[null,"ELEKTRO DELA"]
[]
["ZAP. ŠT.","OPIS","     ME","KOLIČUNA","CENA/ENOTO","SKUPAJ","POPUST","POPUST SKUPAJ","CENA/ENOTO S POPUSTOM","SKUPAJ S POPUSTOM"]
[]
["1.","EL. RAZDELILCI ZA POTREBE KRMILENJA STROJNIH NAPRAV IN SISTEMOV VEZANIH NA CNS"]
[]
[null,"Opomba:"]
[null," - vsa oprema zajema dobavo in montažo                                   "]
[null," - dimenzije stikalnih blokov uskladiti s prostorom, ki je na razpolago na predvideni lokaciji za namestitev na objektu"]
[]
["1.1.","Elektro-krmilna omara za energetsko strojnico"]
[]
[1,"Razdelilnik izdelan iz kovinske omare dimenzij npr.  (v/š/g) 1000x1000x250 mm, antikorozijsko zaščiten, sive barve, zaščita IP40; z vso potrebno opremo za montažo. Razdelilnik ima vgrajeno sledečo opremo:","kos",1]
[null,"Grebenasto stikalo za montažo na vrata razdelilnika, 4 polno, 3x230/400V, 50Hz, nazivni izklopni tok 40A","kos",1]
[null,"Prenapetostna zaščita C karakteristike, 275/350V, nazivni odvodni tok 15kA, kratkostična trdnost 25kA/50Hz","kom",3]
[null,"Nadzorni rele izpada, zaporedja in asimetrij v 3f omrežju (UR5P3011)","kos",1]
[null,"Grebenasto stikalo, tropoložajno 1-0-2; 230V, 50Hz, nazivni izklopnim tok 10A  ","kos",14]
[null,"Instalacijski odklopnik, 230V, 50Hz, 1 polni, nazivna kratkostična zmoglivost 10kA,  nazivni tok  16A / 10A / 6A / 4A","kos",16]
[null,"Instalacijski odklopnik, 230V, 50Hz, 3 polni, nazivna kratkostična zmoglivost 10kA,  nazivni tok  16A / 10A / 6A","kos",6]
[null,"Preklopni rele s 3 preklopnimi kontakti 230V; AC; nazivnim tokom 6A, z ločenim podnožjem; za krmilno napetost 24VAC/DC ali 230VAC; komplet z podnožjem","kpl",18]
[null,"Transformator z ločenim navitje za prestavno razmerje 230V/24V 50Hz, nazivna priključna moč 200 VA; ","kos",1]
[null,"Napajalnik 230V/24VDC, 1,5A","kos",1]
[null,"Vtičnica za vgradnjo v omaro na DIN letev, z ozem. kontaktom 2P; nazivno napetost  230V 50Hz; za nazivni tok 16A","kos",1]
[null,"Linestra 230V AC 60 W dolžine 500 mm s stikalom","kos",1]
[null,"Ventilator s termostatom","kos",1]
[null,"Signalna svetilka za montažo v panel , z rumenim odsevnikom, velikosti premera 22mm, skupaj z montažnim prioborom, napajalnim modulom za nazivno napetost 24V AC, in LED signalno diodo za nazivno napetost 24V AC ","kos",5]
[null,"Uvodnice Pg z tesnilnim obročem","kpl",1]
[null,"Vtičniški  modul 1xRJ-45 kat. 5 za vgradnjo v na vrata stikalnega bloka","kos",1]
[null,"Priključne vrstne sponke za montažo na DIN letev vijačne izvedbe","kos",100]
[null,"Samo vgradnja in ožičenje krmilnika. Krmilnik je razpisan pod krmilno opremo za CNS sistem. ","kom",1]
[null,"Samo montaža operaterske enote na vrata stikalnega bloka. OE je razpisana pod krmilno opremo za CNS sistem. ","kom",1]
[null,"Drobni in vezni material kot so PVC kanali, vijaki, žica ustreznega preseka, zaključne letve za vrstne ponke, vezice, obešalo za dokumentacijo, označevalne ploščice za elemente, napisne ploščice stikal in lučk,...","kpl",1]
[]
[null,"Skupaj","kpl",1,null,{"$f":"D36*E36","v":0},{"$f":"+E36*MM","v":0},{"$f":"+G36*D36","v":0},{"$f":"+E36-G36","v":0},{"$f":"+I36*D36","v":0}]
[]
[null,"Skupaj EL. RAZDELILCI ZA POTREBE KRMILENJA STROJNIH NAPRAV IN SISTEMOV VEZANIH NA CNS",null,null,null,{"$f":"SUM(F36:F37)","v":0},null,{"$f":"SUM(H36:H37)","v":0},null,{"$f":"SUM(J36:J37)","v":0}]
[]
["2.","KABLIRANJE, MONTAŽA IN EL. PRIKLOP KRMILNIH IN PERIFERNIH ELEMENTOV VEZANIH NA CNS"]
[]
[null,"Opomba:"]
[null," - glavni dovodni kabli do el. razdelilnikov so zajeti v popisu jakotočnih elektroinštalacij                      "]
[]
["2.1.","Energetska strojnica"]
[]
[1,"Dobava in polaganje kabla"]
[null,"tip NYM-JZ 5x6 mm2","m",50,null,{"$f":"D48*E48","v":0},{"$f":"+E48*MM","v":0},{"$f":"+G48*D48","v":0},{"$f":"+E48-G48","v":0},{"$f":"+I48*D48","v":0}]
[null,"tip H05VV-F 4x2,5 mm2","m",50,null,0,0,0,0,0]
[null,"tip H05VV-F 3x1,5 mm2","m",100,null,0,0,0,0,0]
[null,"tip YSLY-OZ 9x0,75 mm2","m",20,null,0,0,0,0,0]
[null,"tip YSLY-OZ 6x0,75 mm2","m",50,null,0,0,0,0,0]
[null,"tip YSLY-OZ 3x0,75 mm2","m",200,null,0,0,0,0,0]
[null,"tip YSLY-OZ 2x0,75 mm2","m",200,null,0,0,0,0,0]
[null,"tip IY(St)Y 2x2x0,8 mm2","m",100,null,0,0,0,0,0]
[]
[2,"Dobava in montaža kabelska perforirana polica s pokrovom in ustreznimi nosilci"]
[null,"100 x 50 mm","m",15,null,{"$f":"D58*E58","v":0},{"$f":"+E58*MM","v":0},{"$f":"+G58*D58","v":0},{"$f":"+E58-G58","v":0},{"$f":"+I58*D58","v":0}]
[null,"50 x 50 mm","m",10,null,{"$f":"D59*E59","v":0},{"$f":"+E59*MM","v":0},{"$f":"+G59*D59","v":0},{"$f":"+E59-G59","v":0},{"$f":"+I59*D59","v":0}]
[]
[3,"Cev gibljiva PVC različnih dimenzij z skopami za pritrditev","m",300,null,{"$f":"D61*E61","v":0},{"$f":"+E61*MM","v":0},{"$f":"+G61*D61","v":0},{"$f":"+E61-G61","v":0},{"$f":"+I61*D61","v":0}]
[]
[4,"Razdelilne PVC doze 100x100 mm, nadometne","kos",10,null,{"$f":"D63*E63","v":0},{"$f":"+E63*MM","v":0},{"$f":"+G63*D63","v":0},{"$f":"+E63-G63","v":0},{"$f":"+I63*D63","v":0}]
[]
[5,"Drobni in vezni material kot so vezice, napisne ploščice za oznako kablov, skrčke, sponke","kpl",1,null,{"$f":"D65*E65","v":0},{"$f":"+E65*MM","v":0},{"$f":"+G65*D65","v":0},{"$f":"+E65-G65","v":0},{"$f":"+I65*D65","v":0}]
[]
[6,"Montaža perifernih regulacijskih elementov kot so: "]
[null," - senzorji in tipala (temp. tipala, termostati…)","kom",16,null,{"$f":"D68*E68","v":0},{"$f":"+E68*MM","v":0},{"$f":"+G68*D68","v":0},{"$f":"+E68-G68","v":0},{"$f":"+I68*D68","v":0}]
[null," - EM pogoni (za reg. ventile)","kom",1,null,{"$f":"D69*E69","v":0},{"$f":"+E69*MM","v":0},{"$f":"+G69*D69","v":0},{"$f":"+E69-G69","v":0},{"$f":"+I69*D69","v":0}]
[]
[7,"Priključitev perifernih regulacijskih elementov (na strani elementa in krmilne omare), označevanje in testiranje povezav ko so:"]
[null," - senzorji (temp.tipala, termostati…)","kom",16,null,{"$f":"D72*E72","v":0},{"$f":"+E72*MM","v":0},{"$f":"+G72*D72","v":0},{"$f":"+E72-G72","v":0},{"$f":"+I72*D72","v":0}]
[null," - aktuatorji (motorji, črpalke, elektro-motorni pogoni  ventilov,...)","kom",10,null,{"$f":"D73*E73","v":0},{"$f":"+E73*MM","v":0},{"$f":"+G73*D73","v":0},{"$f":"+E73-G73","v":0},{"$f":"+I73*D73","v":0}]
[]
[8,"Izvedba izenačitev potencialov v strojnici; meritve el. inštalacij","kpl",1,null,{"$f":"D75*E75","v":0},{"$f":"+E75*MM","v":0},{"$f":"+G75*D75","v":0},{"$f":"+E75-G75","v":0},{"$f":"+I75*D75","v":0}]
[]
[null,"Skupaj KABLIRANJE, MONTAŽA IN EL. PRIKLOP KRMILNIH IN PERIFERNIH ELEMENTOV VEZANIH NA CNS",null,null,null,{"$f":"SUM(F48:F76)","v":0},null,{"$f":"SUM(H48:H76)","v":0},null,{"$f":"SUM(J48:J76)","v":0}]
[]
["3.","BUS komunikacije za CNS"]
[]
[1,"Dobava in polaganje kabla po že položenih policah"]
[null,"tip U/FTP Cat.6","m",200,null,{"$f":"D82*E82","v":0},{"$f":"+E82*MM","v":0},{"$f":"+G82*D82","v":0},{"$f":"+E82-G82","v":0},{"$f":"+I82*D82","v":0}]
[null,"tip IY(St)Y 2x2x0,8 mm2","m",200,null,0,{"$f":"+E83*MM","v":0},0,0,0]
[]
[2,"Priključitev krmilnikov na BUS komunikacijski kabel","kpl",2,null,{"$f":"D85*E85","v":0},{"$f":"+E85*MM","v":0},{"$f":"+G85*D85","v":0},{"$f":"+E85-G85","v":0},{"$f":"+I85*D85","v":0}]
[]
[null,"SKUPAJ BUS komunikacije za CNS",null,null,null,{"$f":"SUM(F78:F86)","v":0},null,{"$f":"SUM(H78:H86)","v":0},null,{"$f":"SUM(J78:J86)","v":0}]
[]
[null,"SKUPAJ ELEKTRO DELA:",null,null,null,{"$f":"+F87+F77+F38","v":0},null,{"$f":"+H87+H77+H38","v":0},null,{"$f":"+J87+J77+J38","v":0}]

{"sheet":"CDE-REKAP. NN KABELSKI VOD","index":114,"n_rows":20,"n_cols":5,"rows_kept":20,"cut":false,"hidden":false,"merged":[]}
["Investitor:   ","Mestna občina Ljubljana"]
[null,"Konzorcij družb Petrol d. d. in Resalta d. o. o. "]
["Objekt:      ","OŠ Savsko naselje, Matjaževa ulica 4, Ljubljana"]
[null," - Celovita prenova objekta s statično, požarno in energetsko sanacijo."]
["Štev. proj.:     "]
["Datum:      ","April 2022"]
[]
[]
[]
[]
[null,"REKAPITULACIJA"]
[null,"NN KABELSKI VOD  objekta C, D in E"]
[]
[]
[null,"Ponudbena vrednost - skupna rekapitulacija","Vrednost  brez popusta","Popust","Vrednost s popustom"]
[null,{"$f":"'CDE-NN KABELSKI VOD '!$B$7","v":"1. Gradbena obrtniška dela "},{"$f":"'CDE-NN KABELSKI VOD '!$F$54","v":0},{"$f":"'CDE-NN KABELSKI VOD '!$H$54","v":0},{"$f":"'CDE-NN KABELSKI VOD '!$J$54","v":0}]
[null,{"$f":"'CDE-NN KABELSKI VOD '!$B$57","v":"2. Elektromontažna dela NN kablovod"},{"$f":"'CDE-NN KABELSKI VOD '!$F$67","v":0},{"$f":"'CDE-NN KABELSKI VOD '!$H$67","v":0},{"$f":"'CDE-NN KABELSKI VOD '!$J$67","v":0}]
[null,"SKUPAJ",{"$f":"SUM(C16:C17)","v":0},{"$f":"SUM(D16:D17)","v":0},{"$f":"SUM(E16:E17)","v":0}]
[null,"22% DDV",null,null,{"$f":"+E18*0.22","v":0}]
[null,"NN KABELSKI VOD  C+D+E  SKUPAJ Z DDV",null,null,{"$f":"+E18+E19","v":0}]

{"sheet":"CDE-NN KABELSKI VOD ","index":115,"n_rows":67,"n_cols":10,"rows_kept":67,"cut":false,"hidden":false,"merged":[]}
[null,"Objekt C, D in E, NN KABELSKI VOD"]
[]
["ZAP. ŠT.","OPIS","     ME","KOLIČUNA","CENA/ENOTO","SKUPAJ","POPUST","POPUST SKUPAJ","CENA/ENOTO S POPUSTOM","SKUPAJ S POPUSTOM"]
[]
[null,"NN kabelski vod za objekt OSNOVNA ŠOLA SAVSKO NASELJE"]
[]
[null,"1. Gradbena obrtniška dela "]
[]
[1,"Priprava gradbišča za začetek izvajanja po elaboratu ureditve gradbišča, ki vključuje postavitev gradbiščne table, postavitev gradbiščne ograje, zagotovitev električne energije, vse spremljajoče prostore, zavarovanje gradbišča, prijava gradbišča, organiziranje in zagotovitev začasnih skladišč in deponij ","kpl",1,0,{"$f":"D9*E9","v":0},{"$f":"+E9*MM","v":0},{"$f":"+G9*D9","v":0},{"$f":"+E9-G9","v":0},{"$f":"+I9*D9","v":0}]
[]
[2,"Zakoličba skupne trase EKK.","m",120,null,{"$f":"D11*E11","v":0},{"$f":"+E11*MM","v":0},{"$f":"+G11*D11","v":0},{"$f":"+E11-G11","v":0},{"$f":"+I11*D11","v":0}]
[]
[3,"Zakoličba točkovnih elementov.  (jaški, jame, drogovi….) – ocena","kom",3,null,{"$f":"D13*E13","v":0},{"$f":"+E13*MM","v":0},{"$f":"+G13*D13","v":0},{"$f":"+E13-G13","v":0},{"$f":"+I13*D13","v":0}]
[]
[4,"Zakoličba – označevanje obstoječih vodov. Znesek in količina sta ocenjena. Obračun se izvede po prejetih računih upravljalcev. Oceni se vrednost 300 eur","kpl",1,null,{"$f":"D15*E15","v":0},{"$f":"+E15*MM","v":0},{"$f":"+G15*D15","v":0},{"$f":"+E15-G15","v":0},{"$f":"+I15*D15","v":0}]
[]
[5,"Strojni izkop jarka v zemljini III.ktg, z odlaganjem na rob izkopa, za elektro-kabelsko kanalizacijo – skupna trasa","m3",108.9,null,{"$f":"D17*E17","v":0},{"$f":"+E17*MM","v":0},{"$f":"+G17*D17","v":0},{"$f":"+E17-G17","v":0},{"$f":"+I17*D17","v":0}]
[]
[6,"Planiranje dna kanala s točnostjo +-3,0cm -","m2",90,null,{"$f":"D19*E19","v":0},{"$f":"+E19*MM","v":0},{"$f":"+G19*D19","v":0},{"$f":"+E19-G19","v":0},{"$f":"+I19*D19","v":0}]
[]
[7,"Nakladanje in odvoz preostalega materiala na deponijo do 5km","m3",120,null,{"$f":"D21*E21","v":0},{"$f":"+E21*MM","v":0},{"$f":"+G21*D21","v":0},{"$f":"+E21-G21","v":0},{"$f":"+I21*D21","v":0}]
[]
[8,"Zavarovanje brežine oboda gradbene jame proti izpiranju s PVC folijo - jaški.","m2",25,null,{"$f":"D23*E23","v":0},{"$f":"+E23*MM","v":0},{"$f":"+G23*D23","v":0},{"$f":"+E23-G23","v":0},{"$f":"+I23*D23","v":0}]
[]
[9,"Elektro kabelski jašek; Dobava in izdelava elektro kabelskega jaška notranjih dimenzij 140×120×180 cm, izkop v zemljini III.-IV. ktg. v povoznih površinah . V ceni tudi tesnjenje in čiščenje jaška. ","kom",5,null,{"$f":"D25*E25","v":0},{"$f":"+E25*MM","v":0},{"$f":"+G25*D25","v":0},{"$f":"+E25-G25","v":0},{"$f":"+I25*D25","v":0}]
[null,"Tesnenje:"]
[null,"Prehod cevi EKK skozi jašek:"]
[null,"Odprtina se zapolni z drobnozrnatim ekspanzivnim betonom C 25/30 (kot npr. nabrekajoča malta 0-4 mm, T.S. …)"]
[null,"Stik spodnje plošče in sten jaška:"]
[null,"Pred betoniranjem sten se po celotnem obodu namesti nabrekajoči tesnilni trak."]
[null,"Stik zgornje plošče in nastavkov:"]
[null,"V primeru nesočasne izvedbe zgornje plošče in nastavkov je potrebno pred betoniranjem stika plošča-nastavek namestiti epoksidni vezni premaz za dobetoniranje svežega betona na strjeno betonsko podlago. Nanos se izvede neposredno pred betoniranjem. Na zunanjo obodno površino stika nastavka s ploščo se namesti PU kit."]
[null,"Izdelava po statičnem izračunu in pozicijskem ter armaturnem načrtu - Priloga"]
[null,"Izkopi in zasipi, ter uvaljanje tamponske podlage pod jaškom (odriv humusa v svoji postavki). Izkop dimenzije 240x220x230 cm."]
[null,"JAŠEK Z DVOJNIM POKROVOM  \nnpr. Norinco ERMATIC D 400 (1220×600 )mm"]
[]
[10,"Elektro kabelska kanalizacija večcevna;"]
[]
[null,"Dobava materiala in izdelava cevne kabelske kanalizacije različnih presekov iz Stigmaflex cevi Ø 160 mm. Obbetonirana EKK se ne opaži. izkop je širina EKK."]
[null,"Presek betona:                     (glej tip EKK)"]
[null,"Širina izkopa:                           56 in 76cm "]
[null,"Globina izkopa:                         do 110  cm"]
[]
[null,"SESTAVA OBBETONIRANE EKK: "]
[null,"beton C 25/30, XC2, PV II., D max. 16, armatura MAG R 226 (spodaj + zgoraj), cev Stigmaflex Ø 160 mm,"]
[null,"ozemljitev, valjanec FeZn 25 x 4 mm, PVC distančnik, PVC opozorilni trak.                                                                            "]
[]
[null,"Tip A – 6 cevi v betonu","m",1,null,{"$f":"D48*E48","v":0},{"$f":"+E48*MM","v":0},{"$f":"+G48*D48","v":0},{"$f":"+E48-G48","v":0},{"$f":"+I48*D48","v":0}]
[null,"Tip B – 4 cevi v betonu","m",23.5,null,{"$f":"D49*E49","v":0},{"$f":"+E49*MM","v":0},{"$f":"+G49*D49","v":0},{"$f":"+E49-G49","v":0},{"$f":"+I49*D49","v":0}]
[null,"Tip C – 2 cevi v betonu","m",93,null,{"$f":"D50*E50","v":0},{"$f":"+E50*MM","v":0},{"$f":"+G50*D50","v":0},{"$f":"+E50-G50","v":0},{"$f":"+I50*D50","v":0}]
[]
[11,"Zaščita komunalnih vodov na mestu prečkanj EKK s PVC cevjo večjega preseka od tangiranega voda v dolžini 1 m pod EKK po navodilih upravljalca - ocena","kpl",5,null,{"$f":"D52*E52","v":0},{"$f":"+E52*MM","v":0},{"$f":"+G52*D52","v":0},{"$f":"+E52-G52","v":0},{"$f":"+I52*D52","v":0}]
[]
[null,"SKUPAJ ",null,null,null,{"$f":"SUM(F9:F53)","v":0},null,{"$f":"SUM(H9:H53)","v":0},null,{"$f":"SUM(J9:J53)","v":0}]
[]
[]
[null,"2. Elektromontažna dela NN kablovod"]
[]
[1,"Demontaža in odstranitev podnožja izvoda v TP (odstrani se obstoječega in poleg njega še rezervnega) ","kpl",2,null,{"$f":"D59*E59","v":0},{"$f":"+E59*MM","v":0},{"$f":"+G59*D59","v":0},{"$f":"+E59-G59","v":0},{"$f":"+I59*D59","v":0}]
[2,"Dobava in montaža novega podnožja za paralelni priklop BTVC-D","kpl",1,null,0,0,0,0,0]
[3,"Dobava in strojno uvlačenje  kabla NA2XY-J 4×240mm2 v cevi predhodno izdelane kabelske kanalizacije ter po policah v objektu   TP – PMO","m",250,null,0,0,0,0,0]
[4,"Priklop novega kabla v omaricah ","kpl",4,null,0,0,0,0,0]
[5,"Dobava in montaža kabelskega končnika za zaključke elektro energetskih kablov NA2XY-J 4×240mm2 vključno s kabelskimi čevlji ","kpl",4,null,0,0,0,0,0]
[6,"Dobava in montaža vgradne priključno merilne omarice po priloženi enopolni shemi in izgledu ","kpl",1,null,0,0,0,0,0]
[7,"Označevanje NN kabelskega voda v jaških in v omarici, in TP","kom",12,null,0,0,0,0,0]
[]
[null,"SKUPAJ ",null,null,null,{"$f":"SUM(F59:F65)","v":0},null,{"$f":"SUM(H59:H65)","v":0},null,{"$f":"SUM(J59:J65)","v":0}]

{"sheet":"CDE-REKAP. TEHNOLOGIJA","index":116,"n_rows":44,"n_cols":5,"rows_kept":44,"cut":false,"hidden":false,"merged":[]}
["Investitor:   ","Mestna občina Ljubljana"]
[null,"Konzorcij družb Petrol d. d. in Resalta d. o. o. "]
["Objekt:      ","OŠ Savsko naselje, Matjaževa ulica 4, Ljubljana"]
[null," - Celovita prenova objekta s statično, požarno in energetsko sanacijo."]
["Štev. proj.:     "]
["Datum:      ","April 2022"]
[]
[]
[]
[]
[null,"REKAPITULACIJA"]
[null,"TEHNOLOŠKA OPREMA KUHINJE objekta C, D in E"]
[]
[]
[null,"Ponudbena vrednost - skupna rekapitulacija","Vrednost  brez popusta","Popust","Vrednost s popustom"]
[null,"KLET"]
["A","VHOD ZA ZAPOSLENE"]
["B","SANITARIJE IN GARDEROBE ZA ZAPOSLENE V KUHINJI",{"$f":"'CDE-TEHNOLOŠKA OPREMA'!$F$23","v":0},{"$f":"'CDE-TEHNOLOŠKA OPREMA'!$H$23","v":0},{"$f":"'CDE-TEHNOLOŠKA OPREMA'!$J$23","v":0}]
["C","MANIPULACIJA",{"$f":"'CDE-TEHNOLOŠKA OPREMA'!$F$51","v":0},{"$f":"'CDE-TEHNOLOŠKA OPREMA'!$H$51","v":0},{"$f":"'CDE-TEHNOLOŠKA OPREMA'!$J$51","v":0}]
["D","SUHO SKLADIŠČE",{"$f":"'CDE-TEHNOLOŠKA OPREMA'!$F$71","v":0},{"$f":"'CDE-TEHNOLOŠKA OPREMA'!$H$71","v":0},{"$f":"'CDE-TEHNOLOŠKA OPREMA'!$J$71","v":0}]
["E","PRIPRAVA SLAŠČIC",{"$f":"'CDE-TEHNOLOŠKA OPREMA'!$F$207","v":0},{"$f":"'CDE-TEHNOLOŠKA OPREMA'!$H$207","v":0},{"$f":"'CDE-TEHNOLOŠKA OPREMA'!$J$207","v":0}]
["F","PRIPRAVA ZELENJAVE",{"$f":"'CDE-TEHNOLOŠKA OPREMA'!$F$345","v":0},{"$f":"'CDE-TEHNOLOŠKA OPREMA'!$H$345","v":0},{"$f":"'CDE-TEHNOLOŠKA OPREMA'!$J$345","v":0}]
["G","KOMORA",{"$f":"'CDE-TEHNOLOŠKA OPREMA'!$F$386","v":0},{"$f":"'CDE-TEHNOLOŠKA OPREMA'!$H$386","v":0},{"$f":"'CDE-TEHNOLOŠKA OPREMA'!$J$386","v":0}]
["H","STOPNIŠČE / POVEZAVA Z NADSTROPJEM "]
["I","TOVORNO DVIGALO"]
[null,"PRITLIČJE"]
["H","STOPNIŠČE / POVEZAVA Z NADSTROPJEM "]
["I","TOVORNO DVIGALO"]
["J","SPREJEM",{"$f":"'CDE-TEHNOLOŠKA OPREMA'!$F$441","v":0},{"$f":"'CDE-TEHNOLOŠKA OPREMA'!$H$441","v":0},{"$f":"'CDE-TEHNOLOŠKA OPREMA'!$J$441","v":0}]
["K","PREDPROSTOR",{"$f":"'CDE-TEHNOLOŠKA OPREMA'!$F$455","v":0},{"$f":"'CDE-TEHNOLOŠKA OPREMA'!$H$455","v":0},{"$f":"'CDE-TEHNOLOŠKA OPREMA'!$J$455","v":0}]
["L","FINA PRIPRAVA/PRIPRAVA MALIC",{"$f":"'CDE-TEHNOLOŠKA OPREMA'!$F$638","v":0},{"$f":"'CDE-TEHNOLOŠKA OPREMA'!$H$638","v":0},{"$f":"'CDE-TEHNOLOŠKA OPREMA'!$J$638","v":0}]
["M","FINA PRIPRAVA / DIETE",{"$f":"'CDE-TEHNOLOŠKA OPREMA'!$F$714","v":0},{"$f":"'CDE-TEHNOLOŠKA OPREMA'!$H$714","v":0},{"$f":"'CDE-TEHNOLOŠKA OPREMA'!$J$714","v":0}]
["N","TERMIČNA PRIPRAVA ",{"$f":"'CDE-TEHNOLOŠKA OPREMA'!$F$1167","v":0},{"$f":"'CDE-TEHNOLOŠKA OPREMA'!$H$1167","v":0},{"$f":"'CDE-TEHNOLOŠKA OPREMA'!$J$1167","v":0}]
["O","IZDAJNA LINIJA",{"$f":"'CDE-TEHNOLOŠKA OPREMA'!$F$1226","v":0},{"$f":"'CDE-TEHNOLOŠKA OPREMA'!$H$1226","v":0},{"$f":"'CDE-TEHNOLOŠKA OPREMA'!$J$1226","v":0}]
["P","JEDILNICA"]
["R","VRAČANJE POSODE / SORTIRANJE ODPADKOV",{"$f":"'CDE-TEHNOLOŠKA OPREMA'!$F$1247","v":0},{"$f":"'CDE-TEHNOLOŠKA OPREMA'!$H$1247","v":0},{"$f":"'CDE-TEHNOLOŠKA OPREMA'!$J$1247","v":0}]
["S","POMIVANJE JEDILNE POSODE",{"$f":"'CDE-TEHNOLOŠKA OPREMA'!$F$1454","v":0},{"$f":"'CDE-TEHNOLOŠKA OPREMA'!$H$1454","v":0},{"$f":"'CDE-TEHNOLOŠKA OPREMA'!$J$1454","v":0}]
["T","POMIVANJE KUHINJSKE POSODE",{"$f":"'CDE-TEHNOLOŠKA OPREMA'!$F$1570","v":0},{"$f":"'CDE-TEHNOLOŠKA OPREMA'!$H$1570","v":0},{"$f":"'CDE-TEHNOLOŠKA OPREMA'!$J$1570","v":0}]
["U","PROSTOR ZA ČISTILA",{"$f":"'CDE-TEHNOLOŠKA OPREMA'!$F$1600","v":0},{"$f":"'CDE-TEHNOLOŠKA OPREMA'!$H$1600","v":0},{"$f":"'CDE-TEHNOLOŠKA OPREMA'!$J$1600","v":0}]
[null,{"$f":"'CDE-TEHNOLOŠKA OPREMA'!$B$1614","v":"DODATNA OPREMA  SKUPAJ"},{"$f":"'CDE-TEHNOLOŠKA OPREMA'!$F$1614","v":0},{"$f":"'CDE-TEHNOLOŠKA OPREMA'!$H$1614","v":0},{"$f":"'CDE-TEHNOLOŠKA OPREMA'!$J$1614","v":0}]
[null,{"$f":"'CDE-TEHNOLOŠKA OPREMA'!$B$1632","v":"IZVEDBENI STROŠKI  SKUPAJ"},{"$f":"'CDE-TEHNOLOŠKA OPREMA'!$F$1632","v":0},{"$f":"'CDE-TEHNOLOŠKA OPREMA'!$H$1632","v":0},{"$f":"'CDE-TEHNOLOŠKA OPREMA'!$J$1632","v":0}]
[null,"SKUPAJ",{"$f":"SUM(C17:C41)","v":0},{"$f":"SUM(D17:D41)","v":0},{"$f":"SUM(E17:E41)","v":0}]
[null,"22% DDV",null,null,{"$f":"+E42*0.22","v":0}]
[null,"TEHNOLOŠKA OPREMA KUHINJE  SKUPAJ Z DDV",null,null,{"$f":"+E42+E43","v":0}]

{"sheet":"CDE-TEH. KUH. ZAHTEVE ","index":117,"n_rows":51,"n_cols":2,"rows_kept":51,"cut":false,"hidden":false,"merged":[]}
[null,"Objekt C, D in E, "]
[]
[null,"ZAHTEVE GLEDE PONUJENEGA PREDMETA JAVNEGA NAROČILA"]
[null,"(1)     S strani naročnika podana specifikacija zahtevanega predmeta javnega naročila je dokončna in za ponudnike zavezujoča in je v fazi ponujanja ni dovoljeno spreminjati (razen, če jo naročnik spremeni skladno z veljavno zakonodajo)."]
[null,"(2)    Ponudnik mora ponujen predmet javnega naročila v ponudbi jasno in nedvoumno opredeliti in sicer na način, da pri postavkah, kjer je to predvideno, jasno in nedvoumno opredeli: "]
[null,"a.       proizvajalca oziroma dobavitelja opreme,"]
[null,"b.       model oziroma tip ponujene opreme,"]
[null,"Ponudnik lahko model oziroma tip ponujene opreme opredeli z navedbo \"izdelano po meri\" ali \"izdelano po specifikaciji\", vendar pa mora v tem primeru priložiti podrobno skico izdelave iz katere je razvidno, da ponujeni element v celoti izpolnjuje podane tehnične zahteve, pri čemer za grafični prikaz v tem primeru niso dovoljene opombe kot so slika/skica je simbolična, itd. "]
[null,"V primeru, da je izpolnjevanje tehničnih zahtev glede predmeta javnega naročila za posamezno postavko vezano na nudenje dodatne oziroma opcijske opreme morajo ponudniki poleg zgoraj zahtevanih informacij jasno navesti, da je ponujen artikel z zahtevano dodatno oziroma opcijsko opremo ter navesti ustrezen model oziroma tip ponujene dodatne oziroma opcijske opreme."]
[null,"(3)    Ponudnik mora v dokaz izpolnjevanja tehničnih zahtev predmeta javnega naročila za to postavko predložiti ustrezna dokazila oziroma dokumentacijo, katalog ali tehnični list, pri čemer mora ponudnik v ponudbi jasno označiti kateri dokumenti se nanašajo na katero postavko in sicer na način, da navede strani ponudbe, ki se nanašajo na dokazila za posamezno postavko ter, da na vsako od dokazil zapiše zaporedno številko postavke na katero se dokazilo nanaša. Za hladilne in zamrzovalne omare je k ponudbi potrebno priložiti energetske nalepke . Ponudbe brez energetskskih nalepk bo naročnik, brez pozivanja k dopolnitvi, izločil. Naročnik ne sprejema prototipe ponujene opreme, strojev, brez ustreznih certifikatov."]
[null,"(4)    Ponudnik mora v zvezi z obveznostjo iz točki 2 in 3 v ponudbi jasno označiti katera dokazila oziroma dokumenti se nanašajo na katero postavko in sicer na način, da navede strani ponudbe, ki se nanašajo na dokazila za posamezno postavko ter, da na vsako od dokazil zapiše zaporedno številko postavke na katero se dokazilo nanaša."]
[null,"(5)    V kolikor ponudnik ne izpolni obveznosti iz točke 2, in ponudnik ne predloži dokumentov iz točke 3 iz katerih bi bil jasno razvidena opredelitev ponujenega predmeta, bo naročnik štel, da ponujen predmet ni opredeljen oziroma je opredeljen nejasno ali dvoumno, zaradi česar bo naročnik ob upoštevanju veljavne zakonodaje takšno ponudbo brez pozivanja na dopolnitev izločil iz postopka javnega naročila."]
[null,"(6)    V kolikor ponudnik izpolni obveznost iz točke 2, ne izpolni pa obveznosti iz točke 3, zaradi česar naročnik iz podanih informacij ne bo mogel potrditi tehnične ustreznosti ponujene opreme lahko naročnik ponudnika pozove k dopolnitvi ali pojasnilu ponudbe ali predložitvi vzorca ponujene opreme ali preveri tehnične navedbe ponudnika z ogledom istovrstne opreme. "]
[null,"(7)    V kolikor ponudnik ne izpolni obveznosti iz točke 4 bo naročnik ravnal skladno s točko 6 ali 7 glede na omejitve iz petega in šestega odstavka 89. člena ZJN-3."]
[null,"(8)    Obveznost iz točk 3 in 4 ne velja za postavke, v katerih ponudnik ponudi predmet javnega naročila, kot je bil primeroma podan v opisu zadevne postavke."]
[null,"9)     V kolikor ponudnik ne izpolni obveznosti iz točke 2 bo naročnik štel, da ponujen predmet ni opredeljen oziroma je opredeljen nejasno ali dvoumno, zaradi česar bo naročnik ob upoštevanju veljavne zakonodaje takšno ponudbo brez pozivanja na dopolnitev izločil iz postopka javnega naročila."]
[null,"10)     V kolikor ponudnik izpolni obveznost iz točke 2, ne izpolni pa obveznosti iz točke 3, zaradi česar naročnik iz podanih informacij ne bo mogel potrditi tehnične ustreznosti ponujene opreme lahko naročnik ponudnika pozove k dopolnitvi ali pojasnilu ponudbe ali predložitvi vzorca ponujene opreme ali preveri tehnične navedbe ponudnika z ogledom istovrstne opreme."]
[null,"11)  V kolikor ponudnik ne izpolni obveznosti iz točke 4 bo naročnik ravnal skladno s točko 6 ali 7 glede na omejitve iz petega in šestega odstavka 89. člena ZJN-3."]
[null,"12)  Vsa ponujena oprema mora imeti ES Izjavo o skladnosti, oznako CE in navodila v slovenskem jeziku."]
[null,"13)  Naročnik ne bo priznal ponudbe, ki bo navajala da se bo oprema, ki mora imeti ustrezne tehnične certifikate (CE in podobno), izdelala po naročilu, opisu ali meri. Za tako navedeno ponujeno opremo mora ponudnik takoj predložiti ustrezen certifikat (ES, CE, EN oz. IEC)."]
[null,"14)  Garancija za opremo je minimalno 36 mesecev od primopredajnega zapisnika. Ponudnik mora, pri označenih pozicijah opreme, k ponudbi priložiti izjavo proizvajalca opreme z navedbo pooblaščenega servisa v Sloveniji, ki bo zagotavljal garancijske popravila v skladu z razpisnimi pogoji."]
[null,"15)  Rezervni deli morajo biti na voljo najmanj 10 let. Ponudnik mora, pri označenih pozicijah opreme, k ponudbi priložiti originalno izjavo proizvajalca opreme, da bo za objekt (navedba javnega naročila) zagotavljal rezervne del v skladu z razpisnimi zahtevami."]
[null,"16) Izdelki morajo biti testirani na varno in zanesljivo obratovanje ter certificirani po EN oz. IEC standardih."]
[null,"17)  Ponudnik bo preveril dejanske mere na objektu in temu prilagodil opremo. Mere za opremo so informativne, če je predvidena oprema daljša ali krajša jo je potrebno prilagoditi dejanskemu stanju na objektu. Prilagoditev opreme na dejanske mere na objektu ni razlog za podaljšanje dobavnega roka opreme."]
[null,"18)  Izbrani ponudnik mora izdelati popravek projekt potrebnih mikrolokacij za montažo opreme."]
[null,"19)  V ceni ponudbe morajo biti zajeti še naslednji stroški:  en (1) izvod tehnične dokumentacije z ustreznimi certifikati o kakovosti opreme,  en (1)tiskan izvod navodil za varno rokovanje in vzdrževanje z opremo v slovenskem jeziku. Izdelava POV projektov, en (1) tiskan izvod, en (1) izvod v elektronki obliki,"]
[null,"22)  V primeru, da se popisi oziroma tehnične specifikacije sklicujejo na posamezno znamko ali vir se pri takem sklicevanju skladno s 68. členom ZJN-3 upošteva, da lahko ponudnik ponudi »enakovreden« predmet oziroma artikel."]
[null,"23) V primeru neskladij med risbo tehnološke opreme in popisom del se pri razlagi prioritetno upošteva popis del."]
[]
[null,"TEHNIČNE ZAHTEVE GLEDE PONUJENEGA PREDMETA JAVNEGA NAROČILA"]
[null,"a)     Vsa oprema mora biti izdelana, razen pri opremi kjer je v specifikaciji opreme podana drugačna zahteva navedeno, iz nerjaveče pločevine minimalne debeline 1 mm, AISI 304."]
[null,"b)     Dovoljena uporaba materiala: Nerjavna pločevina AISI 304."]
[null,"c)     Vsi elementi, ki so nameščeni pri steni, morajo imeti privih pri steni, vsa korita in mize morajo imeti v spodnjem delu polico ali tristransko ojačitev (zaradi trdnosti). Vsa korita morajo biti tristransko zaprta."]
[null,"d)     Delovna površina izdelana iz AISI 304 debeline min 1 mm  z vgrajeno izolacijo za zmanjševanje vibracij in hrupa, kortia profilirana z utorom 12 mm, spodaj zaščitena z inox pl. deb.  min. 0,6 mm."]
[null,"e)     Debelina zgornjih površin min. 50 mm,  z vgrajeno izolacijo za zmanjševanje vibracij in hrupa, vodoodporna  vezana plošča debeline min. 46 mm."]
[null,"f)      Vsi predali morajo imeti vgrajena RF teleskopska popolnoma izvlečna vodila."]
[null,"g)     Vsi elementi morajo imeti predpripravo za priklop ozemljitve."]
[null,"h)     Vsi elementi morajo imeti popolnoma zaprto izvedbo odkapnih robov"]
[null,"i)       Vsi dostopni robovi morajo biti stisnjeni oziroma razigljeni - pobrušeni, da ne more priti do poškodb oziroma urezov pri uporabi."]
[null,"j)       Vsa hladilna oprema in toplovodne kopeli, ki predstavljajo kritične kontrolne točke v kuhinji morajo imeti vgrajene kontrolnike temperature, ki jih lahko priključimo na računalniški sistem za arhiviranje temperatur, alarmiranje in nastavljanje parametrov obratovanja na priključenih aparatih."]
[null,"k)     Termični elementi morajo biti izdelani tako, da so robovi površin spojeni \"rob na rob\" in je na ta način preprečeno zatekanje med elementi."]
[null,"l)       Prekucne ponve morajo imeti lasten dotok hladne in tople vode in dvoslojno dno posode."]
[null,"m)   Termični elementi morajo biti izdelani tako, da omogočajo zapiranje prostora od tal do spodnjega roba elementa - RF zapora \"cokl\"."]
[null,"n)     Plinski štedilniki morajo omogočati izbiro moči posameznih gorilcev, omogočati morajo izbiro zaprtih ali odprtih plošč - rešetk."]
[null,"p)      Površina termičnih elementov mora biti izdelana iz nerjaveče pločevine minimalne debeline 3,0 mm."]
[null,"q)     Regulacijska stikala - gumbi na stikalni plošči morajo biti izvedeni tako, da preprečujejo vstop vode za stikalno ploščo."]
[null,"r)      Vsa korita imajo Inox prelivno cev in sifon."]
[null,"s)      Vsa oprema mora biti izdelana z varjenimi robovi. Vari morajo biti gladko zloščeni tako, da se ujemajo s površino. Vari ne smejo imeti vdolbin, raz, razpok. Vari spodnjih delov morajo biti po vsej dolžini enakomerni.  Naročnik ne bo prevzel opreme s točkovnimi vari in vdobinami."]
[null,"t)      Zaradi vnosa so lahko elementi večji od npr. tovornega dvigala ali širši od vhodnih vrata izdelani iz več segmentov. Te elemente je potrebno pri montaži sestaviti z varjenjem. Izvedbo je potrebno natančno definirati in prikazati v tehničnem listu elementa."]
[null,"u)     Pri delovni pultih  je potrebno delovne pulte sestaviti s postopkom varjenja delovne površine, ter primerno finalno mehansko obdelavo, ki mesto varjenja približa končni obdelavi ostale delovne površine. Minimalna debelina pločevine uporabljena za delovne površine je 1 mm."]
[null,"v)     Dovoljena odstopanja: Dimenzije aparatov 5%, Priključne moči 5%, Moči črpalk in motorjev 5%, Poraba= 5%, Ostale vrednosti= 5%, Kapaciteta 5%. Dovoljena odstopanja inox oprema: dolžina 5%. Višina, globina, debelina delovne površine in debelina inox materiala 0%."]

{"sheet":"CDE-TEHNOLOŠKA OPREMA","index":118,"n_rows":1632,"n_cols":10,"rows_kept":1632,"cut":false,"hidden":false,"merged":[]}
[null,"Objekt C, D in E, TEHNOLOŠKA OPREMA KUHINJE"]
[]
["ZAP. ŠT.","OPIS","     ME","KOLIČUNA","CENA/ENOTO","SKUPAJ","POPUST","POPUST SKUPAJ","CENA/ENOTO S POPUSTOM","SKUPAJ S POPUSTOM"]
[]
[null,"KLET"]
[]
["A","VHOD ZA ZAPOSLENE"]
[]
["B","SANITARIJE IN GARDEROBE ZA ZAPOSLENE V KUHINJI"]
[]
["1.","PRALNI STROJ",null,1,null,{"$f":"D11*E11","v":0},{"$f":"+E11*MM","v":0},{"$f":"+G11*D11","v":0},{"$f":"+E11-G11","v":0},{"$f":"+I11*D11","v":0}]
[null,"dim. 600x600x850 mm"]
[null,"priključna moč: 2,3kW 1N~230V"]
[null,"priklop vode: HV DN15"]
[null,"odtok: DN32"]
[null,"OBRAČUN VREDNOSTI:  odklop, demontažo, pregled in servis, skladiščenje v času obnove, ponovno vgradnjo, priklop in zagon. Skupaj z manipulativno stroški in drobnim montažnim materialom. Poročilo o opravljenem servisu."]
[]
["2.","KONDENZACIJSKI SUŠILNI STROJ",null,1,null,{"$f":"D18*E18","v":0},{"$f":"+E18*MM","v":0},{"$f":"+G18*D18","v":0},{"$f":"+E18-G18","v":0},{"$f":"+I18*D18","v":0}]
[null,"dim. 600x600x850 mm"]
[null,"priključna moč: 1,8kW 1N~230V"]
[null,"OBRAČUN VREDNOSTI:  odklop, demontažo, pregled in servis, skladiščenje v času obnove, ponovno vgradnjo, priklop in zagon. Skupaj z manipulativno stroški in drobnim montažnim materialom. Poročilo o opravljenem servisu."]
[]
[null,"SKUPAJ SANITARIJE IN GARDEROBE ZA ZAPOSLENE V KUHINJI",null,null,null,{"$f":"SUM(F10:F22)","v":0},null,{"$f":"SUM(H10:H22)","v":0},null,{"$f":"SUM(J10:J22)","v":0}]
[]
["C","MANIPULACIJA"]
[]
["1.","INOX SANITARNI UMIVALNIK KOLENSKI VKLOP",null,1,null,{"$f":"D27*E27","v":0},{"$f":"+E27*MM","v":0},{"$f":"+G27*D27","v":0},{"$f":"+E27-G27","v":0},{"$f":"+I27*D27","v":0}]
[null,"vgrajena samodejno odpiralna HTV mešalna baterija,"]
[null,"v celoti izdelan iz nerjaveče pločevine AISI 304,"]
[null,"- kolensko upravljanje"]
[null,"komplet s konzolami, inox izpustnim navojnim grlom,"]
[null,"PVC čepom, PVC sifonom"]
[null,"dim. 400x400x250 mm"]
[null,"priklop vode: THV 1/2\""]
[null,"odtok: Æ50"]
[]
["2.","INOX TALNA REŠETKA ",null,1,null,{"$f":"D37*E37","v":0},{"$f":"+E37*MM","v":0},{"$f":"+G37*D37","v":0},{"$f":"+E37-G37","v":0},{"$f":"+I37*D37","v":0}]
[null,"· izvedba v inox Aisi 304"]
[null,"· bazenom iz inox pločevine debeline 1,5 mm"]
[null,"· višina bazena z rešetko je 145 mm"]
[null,"· sifoniziran odtok fi 75 - horizontalni"]
[null,"· inox sito za večje odpadke z luknjami fi 7"]
[null,"· inox pohodna mreža nedrsna izdelana iz lasersko rezanih profilov debeline 2 mm, višine 20 mm ter sestavljena v mrežo s kvadratnimi luknjami 25x25"]
[null,"· inox zapora pri glodalcem"]
[null,"· privarjena sidra za vgradnjo"]
[null,"· prirobnica za hidro izolacijo"]
[null,"dim. 300x300x145 mm"]
[null,"odtok: Æ75"]
[null,"Dobavitelj tehnološke opreme dovabi talno rešetko. Vgradnjo in povezavo izvede izvajalec vodovodnih instalacij."]
[]
[null,"SKUPAJ MANIPULACIJA",null,null,null,{"$f":"SUM(F26:F50)","v":0},null,{"$f":"SUM(H26:H50)","v":0},null,{"$f":"SUM(J26:J50)","v":0}]
[]
["D","SUHO SKLADIŠČE"]
[]
["1.","INOX ODPRT KOVINSKI REGAL ",null,5,null,{"$f":"D55*E55","v":0},{"$f":"+E55*MM","v":0},{"$f":"+G55*D55","v":0},{"$f":"+E55-G55","v":0},{"$f":"+I55*D55","v":0}]
[null,"v celoti izdelan iz AISI 304 nerjavečega jekla"]
[null,"Splošne zahteve:"]
[null,"police morajo biti prestavljive brez uporabe orodja in jih lahko izvede sam uporabnik oz. osebje kuhinje med vsakodnevnim delom;"]
[null,"minimalna nosilnost posamezne police mora biti 150 kg/meter posamezne police in min. 500 kg/tm regala;"]
[null,"Konstrukcija:"]
[null,"nosilni stojni elementi iz inox  cevi  fi 40 mm z rastrom nastavitve 100 mm"]
[null,"nosilni stojni elementi morajo biti izdelani brez odprtin oz. lukenj;"]
[null,"zgoraj morajo biti zaprti s plastičnim pokrovom ali zavarjenim inox pokrovčkom;"]
[null,"spodaj morajo biti opremljeni s plastično nastavljivo nogico; višina se lahko nastavlja brez uporabe orodja;"]
[null,"Polica:"]
[null,"police naj bodo izdelane iz nerjaveče pločevine debeline min. 1 mm s primernimi U ojačitvami, za zagotavljanja nosilnosti;"]
[null," police morajo biti obvezno izdelane s prekritimi robovi, ki preprečujejo poškodbe pri delu;"]
[null,"če ni opisano drugače pri posamezni poziciji je potrebno pri vsakem segmentu regalu upoštevati 5x polno polico ustrezne dimenzije glede na celotno dolžino;"]
[null,"skupna dolžina 1000x600x2000 mm"]
[]
[null,"SKUPAJ SUHO SKLADIŠČE",null,null,null,{"$f":"SUM(F55:F70)","v":0},null,{"$f":"SUM(H55:H70)","v":0},null,{"$f":"SUM(J55:J70)","v":0}]
[]
["E","PRIPRAVA SLAŠČIC"]
[]
["1.","INOX PULT S KORITOM IN SANITARNIM UMIVALNIKOM",null,1,null,{"$f":"D75*E75","v":0},{"$f":"+E75*MM","v":0},{"$f":"+G75*D75","v":0},{"$f":"+E75-G75","v":0},{"$f":"+I75*D75","v":0}]
[null,"Delovna površina "]
[null,"v celoti izdelan iz nerjaveče pločevine AISI 304."]
[null,"Delovna površina izdelana iz AISI 304 debeline min 1 mm  z vgrajeno izolacijo za zmanjševanje vibracij in hrupa, kortia profilirana z utorom 12 mm, spodaj zaščitena z inox pl. deb.  min. 0,6 mm."]
[null," Debelina zgornjih površin min. 50 mm,  z vgrajeno izolacijo za zmanjševanje vibracij in hrupa, vodoodporna  vezana plošča debeline min. 46 mm."]
[null,"Konstrukcija"]
[null,"Konstrukcija inox AISI 304 cevni profil min. 40x40 mm.  Stranice, hrbet in dno elementa iz inox AISI 304."]
[null,"Korita"]
[null,"Korito poglobljeno 2 mm od delovne površine. Vsi robovi korit so zaokroženi, dno je profilirano, da se zagotovi popolno odvajanje vode. Vsa korita morajo biti tristransko zaprta"]
[null,"levo sanitarni umivalnik (340x400x200 mm) "]
[null,"sanitarna pregrada"]
[null,"korito (400x500x250 mm)"]
[null,"Spodaj"]
[null,"spodaj zaprto s krilnimi vrati"]
[null,"Stenski zavih"]
[null,"Stenski zavih zadaj in levo bočno100 /20 mm."]
[null,"priklop vode: 2x THV DN15"]
[null,"odtoki: 2x DN50"]
[null,"Dimenzija elementa"]
[null,"dim. 1000x700x900/1000 mm"]
[null,"Dodatne zahteve"]
[null,"Enotna delovna površina poziciji 1 in 2"]
[null,"Enotna delovna površina.  Iz priložene skice mora biti jasno razvidna izvedba enotne delovne površine."]
[]
["1.1","NAMIZNA ENOROČNA MEŠALNA BATERIJA ",null,1,null,{"$f":"D99*E99","v":0},{"$f":"+E99*MM","v":0},{"$f":"+G99*D99","v":0},{"$f":"+E99-G99","v":0},{"$f":"+I99*D99","v":0}]
[null,"komolčno upravljanje"]
[null,"dolžina izliva 225 mm"]
[]
["1.2","NAMIZNA ENOROČNA MEŠALNA BATERIJA ",null,1,null,{"$f":"D103*E103","v":0},{"$f":"+E103*MM","v":0},{"$f":"+G103*D103","v":0},{"$f":"+E103-G103","v":0},{"$f":"+I103*D103","v":0}]
[null,"komolčno upravljanje"]
[null,"dolžina izliva 225 mm"]
[]
["2.","INOX PULT VGRAJEN SET PREDALOV",null,1,null,{"$f":"D107*E107","v":0},{"$f":"+E107*MM","v":0},{"$f":"+G107*D107","v":0},{"$f":"+E107-G107","v":0},{"$f":"+I107*D107","v":0}]
[null,"Delovna površina "]
[null,"v celoti izdelan iz nerjaveče pločevine AISI 304."]
[null,"Delovna površina izdelana iz AISI 304 debeline min 1 mm  z vgrajeno izolacijo za zmanjševanje vibracij in hrupa, kortia profilirana z utorom 12 mm, spodaj zaščitena z inox pl. deb.  min. 0,6 mm."]
[null,"Debelina zgornjih površin min. 50 mm,  z vgrajeno izolacijo za zmanjševanje vibracij in hrupa, vodoodporna  vezana plošča debeline min. 46 mm."]
[null,"Konstrukcija"]
[null,"Konstrukcija inox AISI 304 cevni profil min. 40x40 mm.  Stranice, hrbet in dno elementa iz inox AISI 304."]
[null,"Predali"]
[null,"Levo vgrajen set treh predalov,  Inox  teleskopska popolnoma izvlečna vodila. (kot naprimer FULTERER INOX AISI 430, enakovredno ali boljše).-SOFT zapiranje."]
[null,"Stenski zavih"]
[null,"Stenski zavih zadaj in desno bočno.100 /20 mm."]
[null,"Spodnja polica"]
[null,"Spodnja in vmesna polica"]
[null,"Dimenzija elementa"]
[null,"dim. 1710x700x900/1000 mm"]
[null,"Dodatne zahteve"]
[null,"Enotna delovna površina poziciji 1 in 2"]
[null,"Enotna delovna površina.  Iz priložene skice mora biti jasno razvidna izvedba enotne delovne površine."]
[]
["3.","INOX KONZOLNA POLICA",null,1,null,{"$f":"D126*E126","v":0},{"$f":"+E126*MM","v":0},{"$f":"+G126*D126","v":0},{"$f":"+E126-G126","v":0},{"$f":"+I126*D126","v":0}]
[null,"v celoti izdelana iz AISI 304,"]
[null,"v kompletu inox konzole in pritrditveni material"]
[null,"dim. 1700x350x40/180 mm"]
[]
["4.","MEŠALEC ZA TESTO 40L",null,1,null,{"$f":"D131*E131","v":0},{"$f":"+E131*MM","v":0},{"$f":"+G131*D131","v":0},{"$f":"+E131-G131","v":0},{"$f":"+I131*D131","v":0}]
[null,"dim. 630x620x1010 mm"]
[null,"- kapaciteta posode: 40l "]
[null,"- 3 hitrosti"]
[null,"- priključek za mešanje, stepanje in gnetenje"]
[null,"priključna moč: 1,5kW 3N-400V"]
[null,"Ponudnik mora v dokaz izpolnjevanja tehničnih zahtev predmeta javnega naročila za to postavko predložiti ustrezna dokazila oziroma dokumentacijo, kot je katalog ali tehnični list, pri čemer mora ponudnik v ponudbi jasno označiti kateri dokumenti se nanašajo na katero postavko in sicer na način, da navede strani ponudbe, ki se nanašajo na dokazila za posamezno postavko ter, da na vsako od dokazil zapiše zaporedno številko postavke na katero se dokazilo nanaša."]
[]
["5.","INOX PULT VGRAJEN SET PREDALOV",null,1,null,{"$f":"D139*E139","v":0},{"$f":"+E139*MM","v":0},{"$f":"+G139*D139","v":0},{"$f":"+E139-G139","v":0},{"$f":"+I139*D139","v":0}]
[null,"Delovna površina "]
[null,"v celoti izdelan iz nerjaveče pločevine AISI 304."]
[null,"Delovna površina izdelana iz AISI 304 debeline min 1 mm  z vgrajeno izolacijo za zmanjševanje vibracij in hrupa, kortia profilirana z utorom 12 mm, spodaj zaščitena z inox pl. deb.  min. 0,6 mm."]
[null,"Debelina zgornjih površin min. 50 mm,  z vgrajeno izolacijo za zmanjševanje vibracij in hrupa, vodoodporna  vezana plošča debeline min. 46 mm."]
[null,"Konstrukcija"]
[null,"Konstrukcija inox AISI 304 cevni profil min. 40x40 mm.  Stranice, hrbet in dno elementa iz inox AISI 304."]
[null,"Predali"]
[null,"Desno vgrajen set treh predalov,  Inox  teleskopska popolnoma izvlečna vodila. (kot naprimer FULTERER INOX AISI 430, enakovredno ali boljše).-SOFT zapiranje."]
[null,"Stenski zavih"]
[null,"Stenski zavih zadaj 100 /20 mm."]
[null,"Spodnja polica"]
[null,"spodnja in vmesna polica"]
[null,"Dimenzija elementa"]
[null,"dim. 1180x700x900/1000 mm"]
[]
["6.","INOX HLADILNA OMARA",null,1,null,{"$f":"D155*E155","v":0},{"$f":"+E155*MM","v":0},{"$f":"+G155*D155","v":0},{"$f":"+E155-G155","v":0},{"$f":"+I155*D155","v":0}]
[null,"Temperaturno območjo, ° C -2 / +8"]
[null,"Energetska učinkovitost razreda A"]
[null,"Prostornina LT 600"]
[null,"3 mreže z vodili GN 2/1"]
[null,"Podnebje razred 5"]
[null,"Plin / R290"]
[null,"Vgrajen kompresor, digitalna regulacija"]
[null,"Uporabna dimenzija komore/ 600x650x1400 mm"]
[null,"Odtajanje avtomatsko z vročim plinom"]
[null,"Izhlapevanje kondenza avtomatsko"]
[null,"Frekvenca / Napetost 230V 1N ~ / 50Hz"]
[null,"Priključna moč elektrika, 210W"]
[null,"Notranjost z zaobljenimi notranjimi vogali"]
[null,"Zunanji material AISI 304 nerjaveče jeklo (razen hrbtnega in talnega panela)"]
[null,"Notranji material AISI 304 nerjaveče jeklo"]
[null,"Debelina izolacije, mm 75"]
[null,"1 vrata v AISI 304 nerjaveče jeklo"]
[null,"Standardno tečaji vrat na desni / reverzibilni"]
[null,"Kljuka integrirana po celotni višini vrat"]
[null,"Možnost odpiranja vrat z nožnim pedalom"]
[null,"Višina nog, mm 100 ÷ 150"]
[null,"Elektronska regulacija"]
[null,"Vgrajena ključavnica"]
[null,"Vgrajena LED luč"]
[null,"Alarm ob odprtih vratih in temperaturi izven nastavljenega območja"]
[null,"Nadzor naprave preko wi-fi povezave s pomočjo aplikacije na pametnem telefonu"]
[null,"Dimenzija  770x850x2000 mm"]
[null,"Ponudnik mora v dokaz izpolnjevanja tehničnih zahtev predmeta javnega naročila za to postavko predložiti ustrezna dokazila oziroma dokumentacijo, kot je katalog ali tehnični list, pri čemer mora ponudnik v ponudbi jasno označiti kateri dokumenti se nanašajo na katero postavko in sicer na način, da navede strani ponudbe, ki se nanašajo na dokazila za posamezno postavko ter, da na vsako od dokazil zapiše zaporedno številko postavke na katero se dokazilo nanaša."]
[null,"K ponudbi priložiti originalno izjavo proizvajalca opreme, da bo za objekt (navedba javnega naročila) zagotavljal rezervne del v skladu z razpisnimi zahtevami"]
[null,"K ponudbi priložiti izjavo proizvajalca opreme z navedbo pooblaščenega servisa, ki bo za objekt (navedba javnega naročila) zagotavljal garancijske popravila v skladu z razpisnimi pogoji."]
[null,"K ponudbi je potrebno priložiti energetsko nalepko."]
[]
["7.","INOX VOZIČEK Z VODILI ZA GN PLADNJE",null,1,null,{"$f":"D188*E188","v":0},{"$f":"+E188*MM","v":0},{"$f":"+G188*D188","v":0},{"$f":"+E188-G188","v":0},{"$f":"+I188*D188","v":0}]
[null,"dim. 655x740x1615 mm"]
[null,"- 18 etaž GN 2/1"]
[null,"Ponudnik mora v dokaz izpolnjevanja tehničnih zahtev predmeta javnega naročila za to postavko predložiti ustrezna dokazila oziroma dokumentacijo, kot je katalog ali tehnični list, pri čemer mora ponudnik v ponudbi jasno označiti kateri dokumenti se nanašajo na katero postavko in sicer na način, da navede strani ponudbe, ki se nanašajo na dokazila za posamezno postavko ter, da na vsako od dokazil zapiše zaporedno številko postavke na katero se dokazilo nanaša."]
[]
["8.","INOX TALNA REŠETKA ",null,1,null,{"$f":"D193*E193","v":0},{"$f":"+E193*MM","v":0},{"$f":"+G193*D193","v":0},{"$f":"+E193-G193","v":0},{"$f":"+I193*D193","v":0}]
[null,"· izvedba v inox Aisi 304"]
[null,"· bazenom iz inox pločevine debeline 1,5 mm"]
[null,"· višina bazena z rešetko je 145 mm"]
[null,"· sifoniziran odtok fi 75 - horizontalni"]
[null,"· inox sito za večje odpadke z luknjami fi 7"]
[null,"· inox pohodna mreža nedrsna izdelana iz lasersko rezanih profilov debeline 2 mm, višine 20 mm ter sestavljena v mrežo s kvadratnimi luknjami 25x25"]
[null,"· inox zapora pri glodalcem"]
[null,"· privarjena sidra za vgradnjo"]
[null,"· prirobnica za hidro izolacijo"]
[null,"dim. 300x300x145 mm"]
[null,"odtok: Æ75"]
[null,"Dobavitelj tehnološke opreme dovabi talno rešetko. Vgradnjo in povezavo izvede izvajalec vodovodnih instalacij."]
[]
[null,"SKUPAJ PRIPRAVA SLAŠČIC",null,null,null,{"$f":"SUM(F74:F206)","v":0},null,{"$f":"SUM(H74:H206)","v":0},null,{"$f":"SUM(J74:J206)","v":0}]
[]
["F","PRIPRAVA ZELENJAVE"]
[]
["1.","INOX ODPRT KOVINSKI REGAL ",null,1,null,{"$f":"D211*E211","v":0},{"$f":"+E211*MM","v":0},{"$f":"+G211*D211","v":0},{"$f":"+E211-G211","v":0},{"$f":"+I211*D211","v":0}]
[null,"v celoti izdelan iz AISI 304 nerjavečega jekla"]
[null,"Splošne zahteve:"]
[null,"police morajo biti prestavljive brez uporabe orodja in jih lahko izvede sam uporabnik oz. osebje kuhinje med vsakodnevnim delom;"]
[null,"minimalna nosilnost posamezne police mora biti 150 kg/meter posamezne police in min. 500 kg/tm regala;"]
[null,"Konstrukcija:"]
[null,"nosilni stojni elementi iz inox  cevi  fi 40 mm z rastrom nastavitve 100 mm"]
[null,"nosilni stojni elementi morajo biti izdelani brez odprtin oz. lukenj;"]
[null,"zgoraj morajo biti zaprti s plastičnim pokrovom ali zavarjenim inox pokrovčkom;"]
[null,"spodaj morajo biti opremljeni s plastično nastavljivo nogico; višina se lahko nastavlja brez uporabe orodja;"]
[null,"Polica:"]
[null,"police naj bodo izdelane iz nerjaveče pločevine debeline min. 1 mm s primernimi U ojačitvami, za zagotavljanja nosilnosti;"]
[null," police morajo biti obvezno izdelane s prekritimi robovi, ki preprečujejo poškodbe pri delu;"]
[null,"če ni opisano drugače pri posamezni poziciji je potrebno pri vsakem segmentu regalu upoštevati 5x polno polico ustrezne dimenzije glede na celotno dolžino;"]
[null,"skupna dolžina 1200x700x2000 mm"]
[]
["2.","INOX TALNA PODLOŽKA IZ NERJAVEČE PLOČEVINE",null,1,null,{"$f":"D227*E227","v":0},{"$f":"+E227*MM","v":0},{"$f":"+G227*D227","v":0},{"$f":"+E227-G227","v":0},{"$f":"+I227*D227","v":0}]
[null,"v celoti izdelana iz nerjaveče pločevine AISI 304"]
[null,"odlagalna površina inox polna plošča ojačana z \"U\""]
[null,"profilom, po višini nastavljive inox nogice s PVC čepi"]
[null,"nosilnost: 300 kg/m"]
[null,"dim.1400x700x210 mm"]
[]
["3.","LUPILNICA KROMPIRJA",null,1,null,{"$f":"D234*E234","v":0},{"$f":"+E234*MM","v":0},{"$f":"+G234*D234","v":0},{"$f":"+E234-G234","v":0},{"$f":"+I234*D234","v":0}]
[null,"Notranjost bobna in vrtljivi disk sta obložena s kakovostno korundno oblogo"]
[null,"Pogon vtrljivega diska kakovostno uležajen in primerno tesnjen"]
[null,"Časovno stikalo"]
[null,"Obloga diska in bobna: korund"]
[null,"Zmogljivost: 345 kg/h"]
[null,"Čas lupljenja: 15 kg krompirja / cca 1,5 min"]
[null,"Poraba vode na eno polnjenje: cca. 30 l"]
[null,"Enkratno polnjenje: 15 kg"]
[null,"priključna moč: 0,75kW 3N~400V"]
[null,"Električni priključek: 400V 3N 50Hz"]
[null,"priklop vode: HV DN20"]
[null,"odtok: DN100 preko talne rešetke 600x400 mm"]
[null,"Mere posode za prestrezanje olupkov: 440x290x300 mm"]
[null,"Mere lupilca krompirja: 440x495x1000 mm"]
[null,"Ponudnik mora v dokaz izpolnjevanja tehničnih zahtev predmeta javnega naročila za to postavko predložiti ustrezna dokazila oziroma dokumentacijo, kot je katalog ali tehnični list, pri čemer mora ponudnik v ponudbi jasno označiti kateri dokumenti se nanašajo na katero postavko in sicer na način, da navede strani ponudbe, ki se nanašajo na dokazila za posamezno postavko ter, da na vsako od dokazil zapiše zaporedno številko postavke na katero se dokazilo nanaša."]
[]
["3.1","INOX TALNA REŠTKA",null,1,null,{"$f":"D251*E251","v":0},{"$f":"+E251*MM","v":0},{"$f":"+G251*D251","v":0},{"$f":"+E251-G251","v":0},{"$f":"+I251*D251","v":0}]
[null,"· izvedba v inox Aisi 304"]
[null,"· bazenom iz inox pločevine debeline 1,5 mm"]
[null,"· višina bazena z rešetko je 180 mm"]
[null,"· sifoniziran odtok fi 110 - horizontalni"]
[null,"· inox sito za večje odpadke z luknjami fi 7"]
[null,"· inox pohodna mreža nedrsna izdelana iz lasersko rezanih profilov debeline 2 mm, višine 20 mm ter sestavljena v mrežo s kvadratnimi luknjami 25x25"]
[null,"· inox zapora pri glodalcem"]
[null,"· privarjena sidra za vgradnjo"]
[null,"· prirobnica za hidro izolacijo"]
[null,"dim. 700x400x210 mm"]
[null,"odtok: Æ 110"]
[null,"OPOMBA"]
[null,"Dobavitelj tehnološke opreme dovabi talno rešetko. Vgradnjo in povezavo izvede izvajalec vodovodnih instalacij."]
[]
["4.","INOX BAZEN VOZIČEK ZA ZELENJAVO",null,1,null,{"$f":"D266*E266","v":0},{"$f":"+E266*MM","v":0},{"$f":"+G266*D266","v":0},{"$f":"+E266-G266","v":0},{"$f":"+I266*D266","v":0}]
[null,"dim. 810x620x465 mm"]
[null,"- kapaciteta bazena:100 l"]
[null,"- izpustni ventil spodaj"]
[null,"- posoda vozička izdelana z zaokroženimi robovi"]
[null,"- višina vozička prilagojena višini lupilnice"]
[]
["5.","INOX DVOJNO KORITO",null,1,null,{"$f":"D273*E273","v":0},{"$f":"+E273*MM","v":0},{"$f":"+G273*D273","v":0},{"$f":"+E273-G273","v":0},{"$f":"+I273*D273","v":0}]
[null,"Delovna površina "]
[null,"v celoti izdelan iz nerjaveče pločevine AISI 304."]
[null,"Delovna površina izdelana iz AISI 304 debeline min 1 mm  z vgrajeno izolacijo za zmanjševanje vibracij in hrupa, kortia profilirana z utorom 12 mm, spodaj zaščitena z inox pl. deb.  min. 0,6 mm."]
[null," Debelina zgornjih površin min. 50 mm,  z vgrajeno izolacijo za zmanjševanje vibracij in hrupa, vodoodporna  vezana plošča debeline min. 46 mm."]
[null,"Konstrukcija"]
[null,"Konstrukcija inox AISI 304 cevni profil min. 40x40 mm.  Stranice, hrbet in dno elementa iz inox AISI 304."]
[null,"Korita"]
[null,"Korito poglobljeno 2 mm od delovne površine. Vsi robovi korit so zaokroženi, dno je profilirano, da se zagotovi popolno odvajanje vode. Vsa korita morajo biti tristransko zaprta"]
[null,"levo 2x korito 500x500x300 mm"]
[null,"sanitarna pregrada"]
[null,"korito (400x500x250 mm) z namizno mešalno baterijo, spodaj agregat za poz.2"]
[null,"Spodaj"]
[null,"spodnja polica"]
[null,"Stenski zavih"]
[null,"Stenski zavih zadaj in desno bočno100 /20 mm."]
[null,"priklop vode: THV DN15"]
[null,"odtoki: 2x DN50"]
[null,"Dimenzija elementa"]
[null,"dim. 1800x700x900/1000 mm"]
[]
["5.1","NAMIZNA ENOROČNA MEŠALNA BATERIJA Z VISEČIM TUŠEM",null,1,null,{"$f":"D294*E294","v":0},{"$f":"+E294*MM","v":0},{"$f":"+G294*D294","v":0},{"$f":"+E294-G294","v":0},{"$f":"+I294*D294","v":0}]
[null,"komolčno upravljanje"]
[null,"dolžina izliva 250 mm"]
[]
["6.","STROJ ZA PRANJE IN SUŠENJE ZELENJAVE IN SADJA",null,1,null,{"$f":"D298*E298","v":0},{"$f":"+E298*MM","v":0},{"$f":"+G298*D298","v":0},{"$f":"+E298-G298","v":0},{"$f":"+I298*D298","v":0}]
[null,"dim. 720x700x910 mm"]
[null,"- kapaciteta: 50/60 kg/h (listnata zelenjava)"]
[null,"- polnjenje: 3kg"]
[null,"- košara Ø500x220 mm"]
[null,"- tuš za izpiranje"]
[null,"- odtočna črpalka"]
[null,"priključna moč: 1,5kW 1N-230V"]
[null,"priklop vode: HV DN20"]
[null,"odtok: DN50"]
[null,"Ponudnik mora v dokaz izpolnjevanja tehničnih zahtev predmeta javnega naročila za to postavko predložiti ustrezna dokazila oziroma dokumentacijo, kot je katalog ali tehnični list, pri čemer mora ponudnik v ponudbi jasno označiti kateri dokumenti se nanašajo na katero postavko in sicer na način, da navede strani ponudbe, ki se nanašajo na dokazila za posamezno postavko ter, da na vsako od dokazil zapiše zaporedno številko postavke na katero se dokazilo nanaša."]
[]
["7.","INOX PULT ZAPRT S TREH STRANI VGRAJEN SET PREDALOV",null,1,null,{"$f":"D310*E310","v":0},{"$f":"+E310*MM","v":0},{"$f":"+G310*D310","v":0},{"$f":"+E310-G310","v":0},{"$f":"+I310*D310","v":0}]
[null,"Delovna površina "]
[null,"v celoti izdelan iz nerjaveče pločevine AISI 304."]
[null,"Delovna površina izdelana iz AISI 304 debeline min 1 mm  z vgrajeno izolacijo za zmanjševanje vibracij in hrupa, kortia profilirana z utorom 12 mm, spodaj zaščitena z inox pl. deb.  min. 0,6 mm."]
[null," Debelina zgornjih površin min. 50 mm,  z vgrajeno izolacijo za zmanjševanje vibracij in hrupa, vodoodporna  vezana plošča debeline min. 46 mm."]
[null,"Konstrukcija"]
[null,"Konstrukcija inox AISI 304 cevni profil min. 40x40 mm.  Stranice, hrbet in dno elementa iz inox AISI 304."]
[null,"Predali"]
[null,"Desno vgrajen set treh predalov,  Inox  teleskopska popolnoma izvlečna vodila. (kot naprimer FULTERER INOX AISI 430, enakovredno ali boljše).-SOFT zapiranje."]
[null,"Stenski zavih"]
[null,"Stenski zavih zadaj 100 /20 mm."]
[null,"Spodnja polica"]
[null,"spodnja in vmesna polica"]
[null,"Dimenzija elementa"]
[null,"dim. 1800x700x900/1000 mm"]
[]
["8.","INOX KONZOLNA POLICA",null,1,null,{"$f":"D326*E326","v":0},{"$f":"+E326*MM","v":0},{"$f":"+G326*D326","v":0},{"$f":"+E326-G326","v":0},{"$f":"+I326*D326","v":0}]
[null,"v celoti izdelana iz AISI 304,"]
[null,"v kompletu inox konzole in pritrditveni material"]
[null,"dim. 1800x300x40/180 mm"]
[]
["9.","INOX TALNA REŠETKA ",null,1,null,{"$f":"D331*E331","v":0},{"$f":"+E331*MM","v":0},{"$f":"+G331*D331","v":0},{"$f":"+E331-G331","v":0},{"$f":"+I331*D331","v":0}]
[null,"· izvedba v inox Aisi 304"]
[null,"· bazenom iz inox pločevine debeline 1,5 mm"]
[null,"· višina bazena z rešetko je 145 mm"]
[null,"· sifoniziran odtok fi 75 - horizontalni"]
[null,"· inox sito za večje odpadke z luknjami fi 7"]
[null,"· inox pohodna mreža nedrsna izdelana iz lasersko rezanih profilov debeline 2 mm, višine 20 mm ter sestavljena v mrežo s kvadratnimi luknjami 25x25"]
[null,"· inox zapora pri glodalcem"]
[null,"· privarjena sidra za vgradnjo"]
[null,"· prirobnica za hidro izolacijo"]
[null,"dim. 300x300x145 mm"]
[null,"odtok: Æ75"]
[null,"Dobavitelj tehnološke opreme dovabi talno rešetko. Vgradnjo in povezavo izvede izvajalec vodovodnih instalacij."]
[]
[null,"SKUPAJ PRIPRAVA SLAŠČIC",null,null,null,{"$f":"SUM(F210:F344)","v":0},null,{"$f":"SUM(H210:H344)","v":0},null,{"$f":"SUM(J210:J344)","v":0}]
[]
["G","KOMORA"]
[]
["1.","MONTAŽNA HLADILNA KOMORA",null,1,null,{"$f":"D349*E349","v":0},{"$f":"+E349*MM","v":0},{"$f":"+G349*D349","v":0},{"$f":"+E349-G349","v":0},{"$f":"+I349*D349","v":0}]
[null,"dim. 2700x2400x2300 mm"]
[null,"- poliuretan debeline 80 mm, stenski in stropni elementi iz nerjaveče pločevine"]
[null,"- vrata 80/200 cm obojestransko nerjaveča pločevina"]
[null,"- temperaturno območje: +2°C/+8°C"]
[null,"- stropni dinamični zračni uparjalnik s TE ventilom"]
[null,"- integrirana LED razsvetljava"]
[null,"- stikalna omarica z elektronskim regulatorjem"]
[null,"- hladilni agregat oddvojen (cca. 10m)"]
[null,"priključna moč: 1,4kW 3N-400V"]
[null,"odtok: DN32"]
[null,"Ponudnik mora v dokaz izpolnjevanja tehničnih zahtev predmeta javnega naročila za to postavko predložiti ustrezna dokazila oziroma dokumentacijo, kot je katalog ali tehnični list, pri čemer mora ponudnik v ponudbi jasno označiti kateri dokumenti se nanašajo na katero postavko in sicer na način, da navede strani ponudbe, ki se nanašajo na dokazila za posamezno postavko ter, da na vsako od dokazil zapiše zaporedno številko postavke na katero se dokazilo nanaša."]
[]
["2.","ODPRT REGAL - ALUPLAST",null,4,null,{"$f":"D362*E362","v":0},{"$f":"+E362*MM","v":0},{"$f":"+G362*D362","v":0},{"$f":"+E362-G362","v":0},{"$f":"+I362*D362","v":0}]
[null,"dim. 1100x400x1800 mm"]
[null,"- 4 prestavljive police"]
[null,"- nosilnost posamezne police 150 kg/m dolžine"]
[]
["3.","INOX VOZIČEK Z VODILI ZA GN PLADNJE",null,1,null,{"$f":"D367*E367","v":0},{"$f":"+E367*MM","v":0},{"$f":"+G367*D367","v":0},{"$f":"+E367-G367","v":0},{"$f":"+I367*D367","v":0}]
[null,"dim. 655x740x1615 mm"]
[null,"- 18 etaž GN 2/1"]
[null,"Ponudnik mora v dokaz izpolnjevanja tehničnih zahtev predmeta javnega naročila za to postavko predložiti ustrezna dokazila oziroma dokumentacijo, kot je katalog ali tehnični list, pri čemer mora ponudnik v ponudbi jasno označiti kateri dokumenti se nanašajo na katero postavko in sicer na način, da navede strani ponudbe, ki se nanašajo na dokazila za posamezno postavko ter, da na vsako od dokazil zapiše zaporedno številko postavke na katero se dokazilo nanaša."]
[]
["4.","INOX TALNA REŠETKA ",null,1,null,{"$f":"D372*E372","v":0},{"$f":"+E372*MM","v":0},{"$f":"+G372*D372","v":0},{"$f":"+E372-G372","v":0},{"$f":"+I372*D372","v":0}]
[null,"· izvedba v inox Aisi 304"]
[null,"· bazenom iz inox pločevine debeline 1,5 mm"]
[null,"· višina bazena z rešetko je 145 mm"]
[null,"· sifoniziran odtok fi 75 - horizontalni"]
[null,"· inox sito za večje odpadke z luknjami fi 7"]
[null,"· inox pohodna mreža nedrsna izdelana iz lasersko rezanih profilov debeline 2 mm, višine 20 mm ter sestavljena v mrežo s kvadratnimi luknjami 25x25"]
[null,"· inox zapora pri glodalcem"]
[null,"· privarjena sidra za vgradnjo"]
[null,"· prirobnica za hidro izolacijo"]
[null,"dim. 300x300x145 mm"]
[null,"odtok: Æ75"]
[null,"Dobavitelj tehnološke opreme dovabi talno rešetko. Vgradnjo in povezavo izvede izvajalec vodovodnih instalacij."]
[]
[null,"SKUPAJ KOMORA",null,null,null,{"$f":"SUM(F348:F385)","v":0},null,{"$f":"SUM(H348:H385)","v":0},null,{"$f":"SUM(J348:J385)","v":0}]
[]
["H","STOPNIŠČE / POVEZAVA Z NADSTROPJEM "]
[]
["I","TOVORNO DVIGALO"]
[]
[null,"PRITLIČJE"]
[]
["H","STOPNIŠČE / POVEZAVA Z NADSTROPJEM "]
[]
["I","TOVORNO DVIGALO"]
[]
["J","SPREJEM"]
[]
["1.","ELEKTRONSKA SKLADIŠČNA TEHTNICA - TALNA",null,1,null,{"$f":"D400*E400","v":0},{"$f":"+E400*MM","v":0},{"$f":"+G400*D400","v":0},{"$f":"+E400-G400","v":0},{"$f":"+I400*D400","v":0}]
[null,"dim. 420x635x765 mm"]
[null,"dim.platforme: 420x510 mm"]
[null,"nosilnost: 150 kg/50 g"]
[null,"sprejemnik bremena s skodelico iz nerjavečega jekla"]
[null,"z eno merilno celico in elektronski prikazovalnik z LCD zaslonom"]
[null,"električni priključek 1N-230V"]
[null,"Ponudnik mora v dokaz izpolnjevanja tehničnih zahtev predmeta javnega naročila za to postavko predložiti ustrezna dokazila oziroma dokumentacijo, kot je katalog ali tehnični list, pri čemer mora ponudnik v ponudbi jasno označiti kateri dokumenti se nanašajo na katero postavko in sicer na način, da navede strani ponudbe, ki se nanašajo na dokazila za posamezno postavko ter, da na vsako od dokazil zapiše zaporedno številko postavke na katero se dokazilo nanaša."]
[]
["2.","INOX DVOETAŽNI VOZIČEK",null,1,null,{"$f":"D409*E409","v":0},{"$f":"+E409*MM","v":0},{"$f":"+G409*D409","v":0},{"$f":"+E409-G409","v":0},{"$f":"+I409*D409","v":0}]
[null,"dim. 900x600x950 mm"]
[null,"- varjena konstrukcija"]
[null,"- velikost police: 800x500 mm"]
[null,"- 2 kolesi z zavoro, guma na kolesih živilske kvalitete"]
[null,"- voziček opremljen z gumi odbojniki živilske kvalitete"]
[null,"Ponudnik mora v dokaz izpolnjevanja tehničnih zahtev predmeta javnega naročila za to postavko predložiti ustrezna dokazila oziroma dokumentacijo, kot je katalog ali tehnični list, pri čemer mora ponudnik v ponudbi jasno označiti kateri dokumenti se nanašajo na katero postavko in sicer na način, da navede strani ponudbe, ki se nanašajo na dokazila za posamezno postavko ter, da na vsako od dokazil zapiše zaporedno številko postavke na katero se dokazilo nanaša."]
[]
["3.","INOX PLATO VOZIČEK ",null,1,null,{"$f":"D417*E417","v":0},{"$f":"+E417*MM","v":0},{"$f":"+G417*D417","v":0},{"$f":"+E417-G417","v":0},{"$f":"+I417*D417","v":0}]
[null,"dim. 1100x700x900 mm"]
[null,"- nosilnost: do 300kg"]
[null,"- varjena konstrukcija"]
[null,"- velikost platoja: 1000x600 mm"]
[null,"- v celoti izdelan iz nerjavečega jekla s kakovostnimi uležajenimi kolesi"]
[null,"- 2 kolesi z zavoro, guma na kolesih živilske kvalitete"]
[null,"- voziček opremljen z gumi odbojniki živilske kvalitete"]
[null,"Ponudnik mora v dokaz izpolnjevanja tehničnih zahtev predmeta javnega naročila za to postavko predložiti ustrezna dokazila oziroma dokumentacijo, kot je katalog ali tehnični list, pri čemer mora ponudnik v ponudbi jasno označiti kateri dokumenti se nanašajo na katero postavko in sicer na način, da navede strani ponudbe, ki se nanašajo na dokazila za posamezno postavko ter, da na vsako od dokazil zapiše zaporedno številko postavke na katero se dokazilo nanaša."]
[]
["4.","INOX TALNA REŠETKA ",null,1,null,{"$f":"D427*E427","v":0},{"$f":"+E427*MM","v":0},{"$f":"+G427*D427","v":0},{"$f":"+E427-G427","v":0},{"$f":"+I427*D427","v":0}]
[null,"· izvedba v inox Aisi 304"]
[null,"· bazenom iz inox pločevine debeline 1,5 mm"]
[null,"· višina bazena z rešetko je 145 mm"]
[null,"· sifoniziran odtok fi 75 - horizontalni"]
[null,"· inox sito za večje odpadke z luknjami fi 7"]
[null,"· inox pohodna mreža nedrsna izdelana iz lasersko rezanih profilov debeline 2 mm, višine 20 mm ter sestavljena v mrežo s kvadratnimi luknjami 25x25"]
[null,"· inox zapora pri glodalcem"]
[null,"· privarjena sidra za vgradnjo"]
[null,"· prirobnica za hidro izolacijo"]
[null,"dim. 300x300x145 mm"]
[null,"odtok: Æ75"]
[null,"Dobavitelj tehnološke opreme dovabi talno rešetko. Vgradnjo in povezavo izvede izvajalec vodovodnih instalacij."]
[]
[null,"SKUPAJ SPREJEM",null,null,null,{"$f":"SUM(F399:F440)","v":0},null,{"$f":"SUM(H399:H440)","v":0},null,{"$f":"SUM(J399:J440)","v":0}]
[]
["K","PREDPROSTOR"]
[]
["1.","INOX SANITARNI UMIVALNIK KOLENSKI VKLOP",null,1,null,{"$f":"D445*E445","v":0},{"$f":"+E445*MM","v":0},{"$f":"+G445*D445","v":0},{"$f":"+E445-G445","v":0},{"$f":"+I445*D445","v":0}]
[null,"vgrajena samodejno odpiralna HTV mešalna baterija,"]
[null,"v celoti izdelan iz nerjaveče pločevine AISI 304,"]
[null,"- kolensko upravljanje"]
[null,"komplet s konzolami, inox izpustnim navojnim grlom,"]
[null,"PVC čepom, PVC sifonom"]
[null,"dim. 400x400x250 mm"]
[null,"priklop vode: THV 1/2\""]
[null,"odtok: Æ50"]
[]
[null,"SKUPAJ PREDPROSTOR",null,null,null,{"$f":"SUM(F445:F454)","v":0},null,{"$f":"SUM(H445:H454)","v":0},null,{"$f":"SUM(J445:J454)","v":0}]
[]
["L","FINA PRIPRAVA/PRIPRAVA MALIC"]
[]
["1.","INOX ZAMRZOVALNA OMARA",null,2,null,{"$f":"D459*E459","v":0},{"$f":"+E459*MM","v":0},{"$f":"+G459*D459","v":0},{"$f":"+E459-G459","v":0},{"$f":"+I459*D459","v":0}]
[null,"Temperaturno območjo, ° C -18 / -22"]
[null,"Energetska učinkovitost razreda C"]
[null,"Prostornina LT 600"]
[null,"3 mreže z vodili GN 2/1"]
[null,"Podnebje razred 5"]
[null,"Plin / R290"]
[null,"Vgrajne kompresor, digitalna regulacija"]
[null,"Uporabna dimenzija komore/ 600x650x1400 mm"]
[null,"Odtajanje avtomatsko z vročim plinom"]
[null,"Izhlapevanje kondenza avtomatsko"]
[null,"Frekvenca / Napetost 230V 1N ~ / 50Hz"]
[null,"Priključna moč elektrika, 800W"]
[null,"Notranjost z zaobljenimi notranjimi vogali"]
[null,"Zunanji material AISI 304 nerjaveče jeklo (razen hrbtnega in talnega panela)"]
[null,"Notranji material AISI 304 nerjaveče jeklo"]
[null,"Debelina izolacije, mm 75"]
[null,"1 vrata v AISI 304 nerjaveče jeklo"]
[null,"Standardno tečaji vrat na desni / reverzibilni"]
[null,"Kljuka integrirana po celotni višini vrat"]
[null,"Možnost odpiranja vrat z nožnim pedalom"]
[null,"Višina nog, mm 100 ÷ 150"]
[null,"Elektronska regulacija"]
[null,"Vgrajena ključavnica"]
[null,"Vgrajena LED luč"]
[null,"Alarm ob odprtih vratih in temperaturi izven nastavljenega območja"]
[null,"Nadzor naprave preko wi-fi povezave s pomočjo aplikacije na pametnem telefonu"]
[null,"Dimenzija  770x850x2000 mm"]
[null,"Ponudnik mora v dokaz izpolnjevanja tehničnih zahtev predmeta javnega naročila za to postavko predložiti ustrezna dokazila oziroma dokumentacijo, kot je katalog ali tehnični list, pri čemer mora ponudnik v ponudbi jasno označiti kateri dokumenti se nanašajo na katero postavko in sicer na način, da navede strani ponudbe, ki se nanašajo na dokazila za posamezno postavko ter, da na vsako od dokazil zapiše zaporedno številko postavke na katero se dokazilo nanaša."]
[null,"K ponudbi priložiti originalno izjavo proizvajalca opreme, da bo za objekt (navedba javnega naročila) zagotavljal rezervne del v skladu z razpisnimi zahtevami"]
[null,"K ponudbi priložiti izjavo proizvajalca opreme z navedbo pooblaščenega servisa, ki bo za objekt (navedba javnega naročila) zagotavljal garancijske popravila v skladu z razpisnimi pogoji."]
[null,"K ponudbi je potrebno priložiti energetsko nalepko."]
[]
["2","INOX PULT VGRAJENO KORITO IN HITRI OHLAJEVALNI/ZAMRZOVALNIK",null,1,null,{"$f":"D492*E492","v":0},{"$f":"+E492*MM","v":0},{"$f":"+G492*D492","v":0},{"$f":"+E492-G492","v":0},{"$f":"+I492*D492","v":0}]
[null,"Kvalitetni razred inox pločevine"]
[null,"AISI 304"]
[null,"Delovna površina "]
[null,"Delovna površina izdelana iz AISI 304 debeline 1,5 mm  z vgrajeno izolacijo za zmanjševanje vibracij in hrupa, delovna površina spredaj zaključena v radij R15 in odkapnim robom 10 mm za preprečevanje zatekanja tekočin debeline 60 mm, profilirana z utorom 3 mm, spodaj zaščitena z inox pl. deb.  min. 1,0 mm.  Debelina zgornjih površin; min. 60mm odkapni rob/  min. 50 mm ostala površina,  z vgrajeno izolacijo za zmanjševanje vibracij in hrupa, vodoodporna  vezana plošča debeline min. 44 mm."]
[null,"Konstrukcija"]
[null,"Konstrukcija inox AISI 304 cevni profil min. 40x40 mm, debelina stene 1,5mm,  vertikalna obremenitev (min. 2000 N), stranska obremenitev (min. 1000 N). Stranice, hrbet in dno elementa iz inox AISI 304 debeline 1,25 mm"]
[null,"Korita"]
[null,"Korito poglobljeno 2 mm od delovne površine. Vsi robovi korit so zaokroženi, dno je profilirano, da se zagotovi popolno odvajanje vode. Vsa korita morajo biti tristransko zaprta"]
[null,"Vgrajena  korito 400x400x250 mm z inox navojnim grlom, prelivno cevjo in PVC sifonom"]
[null,"Stenski zavih"]
[null,"Stenski zavih zadaj  100 /20 mm zaključen v poševni rob (20/20 mm)"]
[null,"Hitri ohlajevalec zamrzovalnik"]
[null,"Temperaturno območjo, ° C -40 / +65"]
[null,"Prostornina LT 250"]
[null,"Kapacitete 7 GN 1/1 ali EN600x400"]
[null,"Razmik med vodili 75 mm"]
[null,"Hitro ohlajevanje - 35 kg = +90°C /+ 3°C"]
[null,"Šok zamrzovanje - 25 kg = +90°C / - 18°C"]
[null,"Plin / R452a"]
[null,"Dimenzija komore/610x550x590 mm"]
[null,"Funkcije:"]
[null,"možnost avtomatične in ročne izbire ciklusa"]
[null,"Hitro ohlajevanje in hitro zamrzovanje - šokiranje"]
[null,"Sušenje, vzhajanje in odtajevanje živil"]
[null,"Ohranjanje živil na določeni temperaturi"]
[null,"Vgrajena 3 točkovna sonda za merjenje temperature v jedru"]
[null,"možnost programiranja, spreminjanje in shranjevanje vstavljenih ciklov ohlajevanja in zamrzovanja"]
[null,"Zračno odtaljevanje"]
[null,"Frekvenca / Napetost 230V 1N ~ / 50Hz"]
[null,"Priključna moč elektrika, 760W"]
[null,"Notranjost z zaobljenimi notranjimi vogali"]
[null,"Zunanji material AISI 304 nerjaveče jeklo"]
[null,"Notranji material AISI 304 nerjaveče jeklo"]
[null,"Debelina izolacije, mm 60"]
[null,"Vrata 1 vrata v AISI 304 nerjavnega jekla"]
[null,"Standardna tečaji vrat na levi"]
[null,"Kljuka integrirana po celotni širini vrat"]
[null,"Višina nog, mm 100 ÷ 150"]
[null,"4,3-palčni zaslon na dotik s priključkom USB"]
[null,"Nadzor naprave preko wi-fi povezave s pomočjo aplikacije na pametnem telefonu"]
[null,"Dimenzija  1420x690x850 mm"]
[null,"Noge"]
[null,"Nastavljive noge izdelane iz kakovostne plastike, ki je odporna na praske in kemikalije, in omogoča enostavno čiščenje, razpon nastavitev min. od 25 ÷ -10 mm"]
[null,"Priključki"]
[null,"priklop vode: THV 1/2\""]
[null,"odtok: Æ50"]
[null,"Dimenzija"]
[null,"Skupna dolžina dim. 3100 x 700 x 850/950 mm"]
[null,"Dodatne zahteve"]
[null,"Enotna delovna površina poz. 2+5+7+8.  Iz priložene skice mora biti jasno razvidna izvedba enotne delovne površine."]
[null,"Zaradi vnosa so lahko elementi večji od npr. tovornega dvigala ali širši od vhodnih vrata izdelani iz več segmentov. Te elemente je potrebno pri montaži sestaviti z varjenjem. Izvedbo je potrebno natančno definirati in prikazati v tehničnem listu elementa."]
[null,"Ponudnik mora v dokaz izpolnjevanja tehničnih zahtev predmeta javnega naročila za to postavko predložiti ustrezna dokazila oziroma dokumentacijo, kot je katalog ali tehnični list, pri čemer mora ponudnik v ponudbi jasno označiti kateri dokumenti se nanašajo na katero postavko in sicer na način, da navede strani ponudbe, ki se nanašajo na dokazila za posamezno postavko ter, da na vsako od dokazil zapiše zaporedno številko postavke na katero se dokazilo nanaša."]
[null,"Dodatne zahteve HITRI OHLAJEVALEC ZAMRZOVALNIK"]
[null,"K ponudbi priložiti originalno izjavo proizvajalca opreme, da bo za objekt (navedba javnega naročila) zagotavljal rezervne del v skladu z razpisnimi zahtevami"]
[null,"K ponudbi priložiti izjavo proizvajalca opreme z navedbo pooblaščenega servisa, ki bo za objekt (navedba javnega naročila) zagotavljal garancijske popravila v skladu z razpisnimi pogoji."]
[]
["2.1","NAMIZNA ENOROČNA MEŠALNA BATERIJA ",null,1,null,{"$f":"D549*E549","v":0},{"$f":"+E549*MM","v":0},{"$f":"+G549*D549","v":0},{"$f":"+E549-G549","v":0},{"$f":"+I549*D549","v":0}]
[null,"komolčno upravljanje"]
[null,"dolžina izliva 225 mm"]
[]
[4,"INOX ZAPRTA VISEČA OMARICA",null,1,null,{"$f":"D553*E553","v":0},{"$f":"+E553*MM","v":0},{"$f":"+G553*D553","v":0},{"$f":"+E553-G553","v":0},{"$f":"+I553*D553","v":0}]
[null,"V celoti izdelana iz nerjaveče pločevine AISI 304"]
[null,"2x drsna vrata - drsna vrata dvostenske izvedbe in uležajena na PVC koleščkih, minimalna debelina vrat 15 mm, montažni material. Spodnja in vmesna polica izdelana z 20 mm vzdolžnimi robovi in z dvojno stisnjenimi robovi"]
[null,"dim.2500x350x600 mm"]
[]
[5,"INOX PULT ZAPRT S TREH STRANI VGRAJEN SET PREDALOV",null,"0",null,{"$f":"D558*E558","v":0},{"$f":"+E558*MM","v":0},{"$f":"+G558*D558","v":0},{"$f":"+E558-G558","v":0},{"$f":"+I558*D558","v":0}]
[null,"Delovna površina "]
[null,"v celoti izdelan iz nerjaveče pločevine AISI 304."]
[null,"Delovna površina izdelana iz AISI 304 debeline min 1 mm  z vgrajeno izolacijo za zmanjševanje vibracij in hrupa, kortia profilirana z utorom 12 mm, spodaj zaščitena z inox pl. deb.  min. 0,6 mm."]
[null," Debelina zgornjih površin min. 50 mm,  z vgrajeno izolacijo za zmanjševanje vibracij in hrupa, vodoodporna  vezana plošča debeline min. 46 mm."]
[null,"Konstrukcija"]
[null,"Konstrukcija inox AISI 304 cevni profil min. 40x40 mm.  Stranice, hrbet in dno elementa iz inox AISI 304."]
[null,"Predali"]
[null,"Desno vgrajen set treh predalov,  Inox  teleskopska popolnoma izvlečna vodila. (kot naprimer FULTERER INOX AISI 430, enakovredno ali boljše).-SOFT zapiranje."]
[null,"Stenski zavih"]
[null,"Stenski zavih zadaj 100 /20 mm."]
[null,"Spodnja polica"]
[null,"spodnja in vmesna polica"]
[null,"Dimenzija elementa"]
[null,"dim. 1800x700x900/1000 mm"]
[null,"Dodatne zahteve"]
[null,"Enotna delovna površina poz. 2+5+7+8.  Iz priložene skice mora biti jasno razvidna izvedba enotne delovne površine."]
[]
["6.","SALAMOREZNICA AVTOMATSKA",null,1,null,{"$f":"D576*E576","v":0},{"$f":"+E576*MM","v":0},{"$f":"+G576*D576","v":0},{"$f":"+E576-G576","v":0},{"$f":"+I576*D576","v":0}]
[null,"dim. 730 x 660 x 650 mm"]
[null,"premer noža  Æ 330 mm"]
[null,"max. debelina reza. 23 mm"]
[null,"max. premer reza: 210/310 mm"]
[null,"ergonomični gumbi, zaščita IP 67 "]
[null,"tri hitrosti rezanja"]
[null,"dodatno teflonski nož"]
[null,"nastevitev števila kosov s funkcijo STOP"]
[null,"moč motora 275W+200W"]
[null,"Ponudnik mora v dokaz izpolnjevanja tehničnih zahtev predmeta javnega naročila za to postavko predložiti ustrezna dokazila oziroma dokumentacijo, kot je katalog ali tehnični list, pri čemer mora ponudnik v ponudbi jasno označiti kateri dokumenti se nanašajo na katero postavko in sicer na način, da navede strani ponudbe, ki se nanašajo na dokazila za posamezno postavko ter, da na vsako od dokazil zapiše zaporedno številko postavke na katero se dokazilo nanaša."]
[]
["7.","INOX HLAJEN PULT",null,1,null,{"$f":"D588*E588","v":0},{"$f":"+E588*MM","v":0},{"$f":"+G588*D588","v":0},{"$f":"+E588-G588","v":0},{"$f":"+I588*D588","v":0}]
[null,"Temperaturno območjo, ° C -2 / +8"]
[null,"Prostornina LT 280"]
[null,"Plin 290R"]
[null,"2x vrata v AISI 304 nerjavnega jekla"]
[null,"Kljuka integrirana po celotni širini vrat"]
[null,"2 mreže z vodili GN 1/1"]
[null,"Avtomatsko električno odtaljevanje"]
[null,"Klimatski razred 5"]
[null,"Energetski razred A"]
[null,"Frekvenca / Napetost 230V 1N ~ / 50Hz"]
[null,"Priključna moč elektrika, 250W"]
[null,"Notranjost z zaobljenimi notranjimi vogali"]
[null,"Zunanji materiala AISI 304 nerjaveče jeklo "]
[null,"Notranji material AISI 304 nerjaveče jeklo"]
[null,"Debelina izolacije, mm 60"]
[null,"Višina nog, mm 100 ÷ 150"]
[null,"Nadzor naprave preko wi-fi povezave s pomočjo aplikacije na pametnem telefonu"]
[null,"Dimenzija  1400x680x860 mm"]
[null,"Dodatne zahteve"]
[null,"Enotna delovna površina poz. 2+5+7+8.  Iz priložene skice mora biti jasno razvidna izvedba enotne delovne površine."]
[null,"Zaradi vnosa so lahko elementi večji od npr. tovornega dvigala ali širši od vhodnih vrata izdelani iz več segmentov. Te elemente je potrebno pri montaži sestaviti z varjenjem. Izvedbo je potrebno natančno definirati in prikazati v tehničnem listu elementa."]
[null,"Enotna delovna površina.  Iz priložene skice mora biti jasno razvidna izvedba enotne delovne površine."]
[null,"Ponudnik mora v dokaz izpolnjevanja tehničnih zahtev predmeta javnega naročila za to postavko predložiti ustrezna dokazila oziroma dokumentacijo, kot je katalog ali tehnični list, pri čemer mora ponudnik v ponudbi jasno označiti kateri dokumenti se nanašajo na katero postavko in sicer na način, da navede strani ponudbe, ki se nanašajo na dokazila za posamezno postavko ter, da na vsako od dokazil zapiše zaporedno številko postavke na katero se dokazilo nanaša."]
[null,"K ponudbi priložiti originalno izjavo proizvajalca opreme, da bo za objekt (navedba javnega naročila) zagotavljal rezervne del v skladu z razpisnimi zahtevami"]
[null,"K ponudbi priložiti izjavo proizvajalca opreme z navedbo pooblaščenega servisa v Sloveniji, ki bo zagotavljal garancijske popravila v skladu z razpisnimi pogoji."]
[null,"K ponudbi je potrebno priložiti energetsko nalepko."]
[]
["8.","INOX PULT ZAPRT S TREH STRANI",null,1,null,{"$f":"D616*E616","v":0},{"$f":"+E616*MM","v":0},{"$f":"+G616*D616","v":0},{"$f":"+E616-G616","v":0},{"$f":"+I616*D616","v":0}]
[null,"Delovna površina "]
[null,"v celoti izdelan iz nerjaveče pločevine AISI 304."]
[null,"Delovna površina izdelana iz AISI 304 debeline min 1 mm  z vgrajeno izolacijo za zmanjševanje vibracij in hrupa, kortia profilirana z utorom 12 mm, spodaj zaščitena z inox pl. deb.  min. 0,6 mm."]
[null," Debelina zgornjih površin min. 50 mm,  z vgrajeno izolacijo za zmanjševanje vibracij in hrupa, vodoodporna  vezana plošča debeline min. 46 mm."]
[null,"Konstrukcija"]
[null,"Konstrukcija inox AISI 304 cevni profil min. 40x40 mm.  Stranice, hrbet in dno elementa iz inox AISI 304."]
[null,"Stenski zavih"]
[null,"Stenski zavih zadaj 100 /20 mm."]
[null,"Spodnja polica"]
[null,"spodnja in vmesna polica"]
[null,"Dimenzija elementa"]
[null,"dim. 1400x700x900/1000 mm"]
[null,"Dodatne zahteve"]
[null,"Enotna delovna površina poz. 2+5+7+8.  Iz priložene skice mora biti jasno razvidna izvedba enotne delovne površine."]
[]
["9.","INOX ZAPRTA VISEČA OMARICA",null,3,null,{"$f":"D632*E632","v":0},{"$f":"+E632*MM","v":0},{"$f":"+G632*D632","v":0},{"$f":"+E632-G632","v":0},{"$f":"+I632*D632","v":0}]
[null,"V celoti izdelana iz nerjaveče pločevine AISI 304"]
[null,"Drsna vrata - dvostenska izvedba, vmesna polica, montažni material"]
[null,"Spodnja in vmesna polica izdelana z 20 mm vzdolžnimi robovi in z dvojno stisnjenimi robovi"]
[null,"dim.1400x350x600 mm"]
[]
[null,"SKUPAJ FINA PRIPRAVA/PRIPRAVA MALIC",null,null,null,{"$f":"SUM(F458:F637)","v":0},null,{"$f":"SUM(H458:H637)","v":0},null,{"$f":"SUM(J458:J637)","v":0}]
[]
["M","FINA PRIPRAVA / DIETE"]
[]
["1.","INOX BLOK PULT S PREDALOM",null,1,null,{"$f":"D642*E642","v":0},{"$f":"+E642*MM","v":0},{"$f":"+G642*D642","v":0},{"$f":"+E642-G642","v":0},{"$f":"+I642*D642","v":0}]
[null,"dim. 400x900x900 mm"]
[null,"- predal"]
[null,"- spodaj odprto"]
[null,"Ponudnik mora v dokaz izpolnjevanja tehničnih zahtev predmeta javnega naročila za to postavko predložiti ustrezna dokazila oziroma dokumentacijo, kot je katalog ali tehnični list, pri čemer mora ponudnik v ponudbi jasno označiti kateri dokumenti se nanašajo na katero postavko in sicer na način, da navede strani ponudbe, ki se nanašajo na dokazila za posamezno postavko ter, da na vsako od dokazil zapiše zaporedno številko postavke na katero se dokazilo nanaša."]
[]
["2.","ELEKTRIČNI ŠTEDILNIK S STEKLOKERAMIČNO PLOŠČO",null,2,null,{"$f":"D648*E648","v":0},{"$f":"+E648*MM","v":0},{"$f":"+G648*D648","v":0},{"$f":"+E648-G648","v":0},{"$f":"+I648*D648","v":0}]
[null,"Konstrukcija iz planetarnega brušenega nerjavnega jekla 18.10"]
[null,"Debelina zgornjega dela: 2 mm"]
[null,"Spredaj: 1 mm planetarno brušena barva"]
[null,"Struktura: 1 mm iz nerjavečega jekla"]
[null,"Zadnji rob, ki tvori pokrov dimnika"]
[null,"Spredaj brez vidnega vijaka"]
[null,"Regulacija s termostatom"]
[null,"Sevalna kuhalna plošča pod vitroceram ploščo 530x325, dvojna regulacija"]
[null,"Moč: 2x3,8 kW"]
[null,"Spodaj odprt podstvek"]
[null,"dim. 800x725x900 mm"]
[null,"Ponudnik mora v dokaz izpolnjevanja tehničnih zahtev predmeta javnega naročila za to postavko predložiti ustrezna dokazila oziroma dokumentacijo, kot je katalog ali tehnični list, pri čemer mora ponudnik v ponudbi jasno označiti kateri dokumenti se nanašajo na katero postavko in sicer na način, da navede strani ponudbe, ki se nanašajo na dokazila za posamezno postavko ter, da na vsako od dokazil zapiše zaporedno številko postavke na katero se dokazilo nanaša."]
[null,"K ponudbi priložiti originalno izjavo proizvajalca opreme, da bo za objekt (navedba javnega naročila) zagotavljal rezervne del v skladu z razpisnimi zahtevami"]
[null,"K ponudbi priložiti izjavo proizvajalca opreme z navedbo pooblaščenega servisa, ki bo za objekt (navedba javnega naročila) zagotavljal garancijske popravila v skladu z razpisnimi pogoji."]
[]
["3.","INOX PULT S KORITOM IN SANITARNIM UMIVALNIKOM",null,1,null,{"$f":"D664*E664","v":0},{"$f":"+E664*MM","v":0},{"$f":"+G664*D664","v":0},{"$f":"+E664-G664","v":0},{"$f":"+I664*D664","v":0}]
[null,"Delovna površina "]
[null,"v celoti izdelan iz nerjaveče pločevine AISI 304."]
[null,"Delovna površina izdelana iz AISI 304 debeline min 1 mm  z vgrajeno izolacijo za zmanjševanje vibracij in hrupa, kortia profilirana z utorom 12 mm, spodaj zaščitena z inox pl. deb.  min. 0,6 mm."]
[null," Debelina zgornjih površin min. 50 mm,  z vgrajeno izolacijo za zmanjševanje vibracij in hrupa, vodoodporna  vezana plošča debeline min. 46 mm."]
[null,"Konstrukcija"]
[null,"Konstrukcija inox AISI 304 cevni profil min. 40x40 mm.  Stranice, hrbet in dno elementa iz inox AISI 304."]
[null,"Korita"]
[null,"Korito poglobljeno 2 mm od delovne površine. Vsi robovi korit so zaokroženi, dno je profilirano, da se zagotovi popolno odvajanje vode. Vsa korita morajo biti tristransko zaprta"]
[null,"- desno sanitarni umivalnik (340x400x200 mm) z namizno mešalno baterijo "]
[null,"- sanitarna pregrada"]
[null,"- korito (400x500x250 mm) z namizno mešalno baterijo, spodaj agregat za poz.2"]
[null,"Spodaj"]
[null,"spodaj zaprto s krilnimi vrati"]
[null,"- levo prostor za podpultni hladilnik"]
[null,"Stenski zavih"]
[null,"Stenski zavih zadaj in levo bočno100 /20 mm."]
[null,"priklop vode: 2x THV DN15"]
[null,"odtoki: 2x DN50"]
[null,"Dimenzija elementa"]
[null,"dim. 1600x700x900/1000 mm"]
[]
["3.1","NAMIZNA ENOROČNA MEŠALNA BATERIJA ",null,1,null,{"$f":"D686*E686","v":0},{"$f":"+E686*MM","v":0},{"$f":"+G686*D686","v":0},{"$f":"+E686-G686","v":0},{"$f":"+I686*D686","v":0}]
[null,"komolčno upravljanje"]
[null,"dolžina izliva 225 mm"]
[]
["3.2","NAMIZNA ENOROČNA MEŠALNA BATERIJA ",null,1,null,{"$f":"D690*E690","v":0},{"$f":"+E690*MM","v":0},{"$f":"+G690*D690","v":0},{"$f":"+E690-G690","v":0},{"$f":"+I690*D690","v":0}]
[null,"komolčno upravljanje"]
[null,"dolžina izliva 225 mm"]
[]
["4.","PODPULTNI HLADILNIK",null,1,null,{"$f":"D694*E694","v":0},{"$f":"+E694*MM","v":0},{"$f":"+G694*D694","v":0},{"$f":"+E694-G694","v":0},{"$f":"+I694*D694","v":0}]
[null,"dim. 600x615x830 mm"]
[null,"- volumen: 133 l"]
[null,"- steklena vrata"]
[null,"- 3 prestavljive police"]
[null,"- temperaturno območje: +1°C /+15°C"]
[null,"- ohišje in vrata in nerjavečega jekla/levo odpiranje vrat"]
[null,"električni priključek 1N-230V"]
[null,"Ponudnik mora v dokaz izpolnjevanja tehničnih zahtev predmeta javnega naročila za to postavko predložiti ustrezna dokazila oziroma dokumentacijo, kot je katalog ali tehnični list, pri čemer mora ponudnik v ponudbi jasno označiti kateri dokumenti se nanašajo na katero postavko in sicer na način, da navede strani ponudbe, ki se nanašajo na dokazila za posamezno postavko ter, da na vsako od dokazil zapiše zaporedno številko postavke na katero se dokazilo nanaša."]
[]
["5.","INOX ZAPRTA VISEČA OMARICA",null,1,null,{"$f":"D704*E704","v":0},{"$f":"+E704*MM","v":0},{"$f":"+G704*D704","v":0},{"$f":"+E704-G704","v":0},{"$f":"+I704*D704","v":0}]
[null,"V celoti izdelana iz nerjaveče pločevine AISI 304"]
[null,"2x drsna vrata - drsna vrata dvostenske izvedbe in uležajena na PVC koleščkih, minimalna debelina vrat 15 mm, montažni material. Spodnja in vmesna polica izdelana z 20 mm vzdolžnimi robovi in z dvojno stisnjenimi robovi"]
[null,"dim.2400x350x600 mm"]
[]
[6,"INOX STENSKI PAROLOV",null,"0"]
[null,"dim. 2200x900 mm"]
[null,"- s filtri, lovilci maščobe"]
[null,"V POPISU STROJNIH INSTALACIJ"]
[]
[null,"SKUPAJ FINA PRIPRAVA / DIETE",null,null,null,{"$f":"SUM(F641:F713)","v":0},null,{"$f":"SUM(H641:H713)","v":0},null,{"$f":"SUM(J641:J713)","v":0}]
[]
["N","TERMIČNA PRIPRAVA "]
[]
["1.","PLINSKA PARNO KONVEKCIJSKA PEČ",null,1,null,{"$f":"D718*E718","v":0},{"$f":"+E718*MM","v":0},{"$f":"+G718*D718","v":0},{"$f":"+E718-G718","v":0},{"$f":"+I718*D718","v":0}]
[null,"dim. 850x775/842x754 mm"]
[null,"- kapaciteta 6x GN 1/1"]
[null,"priključna moč plina: 13,5kW  DN20"]
[null,"priključna moč: 0,6kW 1N~230V"]
[null,"priklop vode: HV DN20"]
[null,"odtok: DN50"]
[null,"Aparat ima 7 kuharskih medijev in/ali 4 kuharske metode, temperaturna funkcija od 30 °C do 300 °C."]
[null,"Kuharski mediji – načini delovanja"]
[null," Inteligentni, avtomatični kuharski mediji: perutnina, meso, ribe, jajčne jedi/sladice, priloge/zelenjava, peka, Finishing® (avtomatični proces pogrevanja za krožnike-banket, bife, a la carte,…)"]
[null,"Kuharske metode: pečenje, kuhanje, peka, pečenje na žaru"]
[null,"Parnokonvekcijski, ročno nastavljivi način delovanja s 3 kuharskimi mediji:"]
[null,"Para 30 oC – 130 oC, Vroči zrak 30 oC – 300 oC , Kombinacija 30 oC – 300 oC "]
[null,"Inteligentni pomočniki"]
[null,"iDensityControl – inteligentno upravljanje klime, merjenje in regulacija vlage do odstotka natančno za vsako živilo, inteligentno uravnavanje kroženja zraka za najbolj učinkovit prenos energije v živilo, kar zagotavlja visoko kakovost in enakomernost pripravljenih jedi in minimalno porabo energije"]
[null,"iCookingSuite – kuharska inteligenca, s 7 kuharskimi mediji in 4 kuharskimi metodami prilagojenimi vsakemu živilu. Izberete želeni rezultat - inteligentni senzorji prepoznajo velikost, količino in stanje živil ter proces priprave, temperaturo, klimo, hitrost zraka in čas priprave prilagajajo vsako sekundo za dosego želenega rezultata.  "]
[null,"iProductionManager – organizira proces priprave inteligentno in prilagodljivo. Prikaže katera živila se lahko pripravljajo skupaj. Uporabnik se odloči ali bo pripravljal živila z energetsko ali časovno optimizacijo.  "]
[null,"iCareSystem – inteligentni sistem za avtomatično čiščenje kuhalnega prostora in odstranjevanje vodnega kamna. Prepoznava stopnjo umazanije in predlaga ustrezno stopnjo čiščenja. 9 čistilnih programov, ki se lahko izvedejo brez nadzora, tudi preko noči. Dodaten vmesni program hitrega čiščenja v 12 minutah."]
[null,"Inteligentne funkcije"]
[null,"Inteligentno upravljanje klime z natančnim merjenjem, nastavljanjem in nadzorom vlage"]
[null,"Trenutno izmerjena vlažnost v kuhalnem prostoru se lahko nastavi ali ponovno vzpostavi"]
[null,"Dinamično kroženje zraka v kuhalnem prostoru s pomočjo inteligentnega obračanja smeri vrtenja visoko kakovostnega ventilatorja s 5 hitrostmi, inteligentno uravnavanje ali ročno programiranje"]
[null,"Inteligentni nadzor kuharskih procesov z avtomatičnim prilagajanjem korakov priprave za doseganje želenega rezultata, ne glede na uporabnika, velikost proizvoda in količine polnitve"]
[null,"Natančen nadzor in izračun obarvanja, ki temelji na Maillardovi reakciji, za zagotovitev ponovljivih optimalnih rezultatov"]
[null,"Možnost prekinitve ineligentnega procesa priprave ali preskok iz funkcije iCookingSuite v funkcijo iProductionManager za maksimalno prilagodljivost priprave"]
[null,"Inteligentni korak priprave za fermentacijo/vzhajanje pekarskih proizvodov"]
[null,"Individualno, intuitivno programiranje do 1200 programov z do 12 možnimi koraki priprave"]
[null,"Enostaven prenos kuharskih programov na druge aparate z varno povezavo v oblaku s ConnectedCooking-om ali s pomočjo USB ključa"]
[null,"Avtomatizirano, inteligentno orodje za načrtovanje in nadzor iProductionManager za optimalno organizacijo večih kuharskih procesov in mešanih polnitev"]
[null,"Optična signalizacija polnitev in praznjenja živil s pomočjo energijsko učinkovite LED razsvetljave"]
[null,"Avtomatična vzpostavitev stanja in optimalno dokončanje kuharskega procesa v primeru izpada energije v trajanju manj kot 15 minut"]
[null,"Inteligentni, avtomatični čistilni sistem predlaga programe čiščenja in ustrezno količino čistilnih sredstev na podlagi umazanosti kuhalnega prostora"]
[null,"Izpis trenutnega statusa čiščenja in količine vodnega kamna"]
[null,"Kondenzacijske in klasične nape (kot dodatna oprema) se s svojim delovanjem prilagajajo situaciji in potrebam aparata (tudi ustrezno javljanje morebitnih napak v delovanju)"]
[null,"Kuharski mediji in funkcije"]
[null,"Učinkovit parni generator za optimalno proizvodnjo pare tudi pri temperaturah pod 100oC"]
[null,"PowerSteam funkcija: selektivno povečano dodajanje pare za uporabo v azijskem tipu kuhinje"]
[null,"Integrirano odvajanje odvečne maščobe, brez potrebe po vzdrževanju in brez filtra za maščobo"]
[null,"Cool-down funkcija za hitro ohlajevanje kuhalnega prostora, z dodatno možnostjo hitrega ohlajevanja s pršenjem vode"]
[null,"Sonda za merjenje temperature jedra s 6 merilnimi točkami, z avtomatično korekcijo pri napačnem vbodu. Dodatno: nosilec za sondo za lažje pozicioniranje sonde pri manjših živilih in tekočinah"]
[null,"Delta-T priprava, posebno nežna priprava z minimalnimi izgubami teže"]
[null,"Natančno dodajanje pare, količina dodajanja vode nastavljiva v 4 stopnjah in v temperaturnem razponu od 30oC – 260oC pri vročem zraku ali kombinaciji"]
[null,"Digitalni izpis temperature, nastavljiv za oC in oF, izpis nastavljenih in dejanskih vrednosti"]
[null,"Digitalni izpis vlažnosti kuhalnega prostora in časa, izpis nastavljenih in dejanskih vrednosti"]
[null,"Časovni format nastavljiv 24h ali am/pm"]
[null,"Ura na zaslonu v realnem času, z avtomatično spremembo zimskega in letnega časa v kolikor je aparat priključen na ConnectedCooking"]
[null,"Avtomatično prednastavljen začetni čas s prilagodljivim datumom in uro"]
[null,"Vgrajen ročni tuš z avtomatičnim povratnim navijanjem in dvema načinoma brizganja (prha ali curek)"]
[null,"Energetsko varčna LED razsvetljava kuhalnega prostora z dolgo življenjsko dobo in visoko barvno osvetlitvijo za lažje prepoznavanje stanja živil"]
[null,"Brezplačne kontaktne linije za pomoč glede tehnologije in aplikacij (ChefLine)"]
[null,"Varnost pri delu"]
[null,"Elektronsko temperaturno varovalo za parni generator in grelne elemente za vroči zrak"]
[null,"Integrirana zavora ventilatorja"]
[null,"Najvišja kontaktna temperatura vrat 73oC"]
[null,"Uporaba ekoloških čistilnih in negovalnih tablet (v trdem stanju) za optimalno varnost pri delu"]
[null,"HACCP – shranjevanje podatkov in prenos preko USB, opcijsko mogoč prenos in upravljanje podatkov preko oblaka z aplikacijo ConnectedCooking"]
[null,"Testirano in certificirano v skladu z nacionalnimi in mednarodnimi standardi za delovanje brez nadzora"]
[null,"VDE certifikat za uporabo brez nadzora – priprava preko noči"]
[null,"Višina najvišjega vodila na 1,6 m, tudi pri namiznih modelih ob uporabi ustreznih podstavkov"]
[null,"Ergonomski ročaj vrat, z odpiranjem v levo ali desno (pri namiznih modelih)"]
[null,"Povezovanje"]
[null,"Vgrajen Ethernet vmesnik, zaščiten z IP, za kabelsko povezavo na internet in aplikacijo ConnectedCooking"]
[null,"Vgrajen WLAN (Wi-Fi) vmesnik, za brezžično povezavo na internet in aplikacijo ConnectedCooking"]
[null,"Vgrajen USB priključek za prenos podatkov"]
[null,"ConnectedCooking – storitev v oblaku za centralno upravljanje aparatov, receptur, pripravo košaric, upravljanje s programi, HACCP podatki in stanjem vzdrževanja"]
[null," Čiščenje in nega"]
[null,"Avtomatični čistilni in negovalni sistem za kuhalni prostor in parni generator"]
[null,"9 čistilnih programov za čiščenje brez nadzora, tudi preko noči, z avtomatičnim čiščenjem in odstranjevanjem vodnega kamna iz parnega generatorja"]
[null,"Program zelo hitrega čiščenja v 12 minutah"]
[null,"Avtomatični varnostni proces v primeru izpada električne energije med programom čiščenja odstrani čistila iz kuhalnega prostora"]
[null,"Uporaba ekoloških čistil brez fosfatov in fosforja"]
[null,"Vrata aparata s trojno prezračevano zasteklitvijo, s temperaturno odbojnim premazom in z možnostjo odpiranja notranjih stekel zaradi čiščenja"]
[null,"Zunanji in notranji material – nerjaveče jeklo po DIN 1.4301, higienično izdelan kuhalni prostor brez utorov in z zaobljenimi vogali za optimalen pretok zraka"]
[null,"Enostavno in varno čiščenje zunanjih površin, zaščiteno pred brizganjem vode po varnostnem razredu IPX5"]
[null,"Možnost nadzora avtomatičnega čiščenja preko aplikacije ConnectedCooking"]
[null,"Delovanje"]
[null,"Barvni zaslon na dotik z visoko ločljivostjo TFT 10.1˝ z enostavno razumljivimi simboli, za intuitivno upravljanje in nadzor"]
[null,"Zvočna in vidna opozorila, kadar aparat potrebuje dejanje uporabnika"]
[null,"Centralni nastavitveni gumb s potisno funkcijo za intuitivno izbiro in potrditev funkcij in vnosov"]
[null,"Več kot 55 nastavljivih uporabniških jezikov, izpisi in navodila v slovenskem jeziku"]
[null,"Osnovne kuharske nastavitve se lahko izberejo glede na posebnosti določene nacionalne kuhinje, neglede na izbran jezik"]
[null,"Posebni, prilagojeni kuharski parametri se lahko izberejo glede na mednarodno ali določeno nacionalno kuhinjo, neglede na izbran jezik"]
[null,"Široko uporabna funkcija iskanja za vse kuharske načine, primere uporabe in nastavitve"]
[null,"Integrirana navodila v slovenskem jeziku z vsebinsko prilagojenimi informacijami, ki so prikazane v funkciji »pomoči« za trenutno izvajani postopek priprave "]
[null,"Zagon postopka priprave direktno iz funkcije »pomoči«"]
[null,"Enostavne izbire kuharskih postopkov preko 7 kuharskih medijev in/ali preko 4 kuharskih metod"]
[null,"Cockpit funkcija za izpis vseh informacij o izvajanem procesu priprave"]
[null,"Prilagoditev in nadzor nad uporabniškimi profili in pravicami za dostop zaradi preprečitve napak pri uporabi"]
[null,"Interaktivna sporočila med potekom priprave, pozivi za potrebna dejanja, inteligentne funkcije in opozorila preko funkcije Messenger"]
[null,"Servisno diagnostični sistem z avtomatičnim izpisom servisnega sporočila "]
[null,"ENERGY STAR certifikat – energetska učinkovitost"]
[null,"Ponudnik mora v dokaz izpolnjevanja tehničnih zahtev predmeta javnega naročila za to postavko predložiti ustrezna dokazila oziroma dokumentacijo, kot je katalog ali tehnični list, pri čemer mora ponudnik v ponudbi jasno označiti kateri dokumenti se nanašajo na katero postavko in sicer na način, da navede strani ponudbe, ki se nanašajo na dokazila za posamezno postavko ter, da na vsako od dokazil zapiše zaporedno številko postavke na katero se dokazilo nanaša."]
[null,"K ponudbi priložiti originalno izjavo proizvajalca opreme, da bo za objekt (navedba javnega naročila) zagotavljal rezervne del v skladu z razpisnimi zahtevami"]
[null,"K ponudbi priložiti izjavo proizvajalca opreme z navedbo pooblaščenega servisa, ki bo za objekt (navedba javnega naročila) zagotavljal garancijske popravila v skladu z razpisnimi pogoji."]
[]
["1a","COMBI DUO MONTAŽNI SET 1/1 ",null,1,null,{"$f":"D813*E813","v":0},{"$f":"+E813*MM","v":0},{"$f":"+G813*D813","v":0},{"$f":"+E813-G813","v":0},{"$f":"+I813*D813","v":0}]
[null,"Ponudnik mora v dokaz izpolnjevanja tehničnih zahtev predmeta javnega naročila za to postavko predložiti ustrezna dokazila oziroma dokumentacijo, kot je katalog ali tehnični list, pri čemer mora ponudnik v ponudbi jasno označiti kateri dokumenti se nanašajo na katero postavko in sicer na način, da navede strani ponudbe, ki se nanašajo na dokazila za posamezno postavko ter, da na vsako od dokazil zapiše zaporedno številko postavke na katero se dokazilo nanaša."]
[]
["2.","ELEKTRO PARNO KONVEKCIJSKA PEČ",null,1,null,{"$f":"D816*E816","v":0},{"$f":"+E816*MM","v":0},{"$f":"+G816*D816","v":0},{"$f":"+E816-G816","v":0},{"$f":"+I816*D816","v":0}]
[null,"dim. 850x775/842x1014 mm"]
[null,"priključna moč: 18,9kW 3N~400N"]
[null,"priklop vode: HV DN20"]
[null,"odtok: DN50"]
[null,"Aparat ima 7 kuharskih medijev in/ali 4 kuharske metode, temperaturna funkcija od 30 °C do 300 °C."]
[null,"Kuharski mediji – načini delovanja"]
[null," Inteligentni, avtomatični kuharski mediji: perutnina, meso, ribe, jajčne jedi/sladice, priloge/zelenjava, peka, Finishing® (avtomatični proces pogrevanja za krožnike-banket, bife, a la carte,…)"]
[null,"Kuharske metode: pečenje, kuhanje, peka, pečenje na žaru"]
[null,"Parnokonvekcijski, ročno nastavljivi način delovanja s 3 kuharskimi mediji:"]
[null,"Para 30 oC – 130 oC, Vroči zrak 30 oC – 300 oC , Kombinacija 30 oC – 300 oC "]
[null,"Inteligentni pomočniki"]
[null,"iDensityControl – inteligentno upravljanje klime, merjenje in regulacija vlage do odstotka natančno za vsako živilo, inteligentno uravnavanje kroženja zraka za najbolj učinkovit prenos energije v živilo, kar zagotavlja visoko kakovost in enakomernost pripravljenih jedi in minimalno porabo energije"]
[null,"iCookingSuite – kuharska inteligenca, s 7 kuharskimi mediji in 4 kuharskimi metodami prilagojenimi vsakemu živilu. Izberete želeni rezultat - inteligentni senzorji prepoznajo velikost, količino in stanje živil ter proces priprave, temperaturo, klimo, hitrost zraka in čas priprave prilagajajo vsako sekundo za dosego želenega rezultata.  "]
[null,"iProductionManager – organizira proces priprave inteligentno in prilagodljivo. Prikaže katera živila se lahko pripravljajo skupaj. Uporabnik se odloči ali bo pripravljal živila z energetsko ali časovno optimizacijo.  "]
[null,"iCareSystem – inteligentni sistem za avtomatično čiščenje kuhalnega prostora in odstranjevanje vodnega kamna. Prepoznava stopnjo umazanije in predlaga ustrezno stopnjo čiščenja. 9 čistilnih programov, ki se lahko izvedejo brez nadzora, tudi preko noči. Dodaten vmesni program hitrega čiščenja v 12 minutah."]
[null,"Inteligentne funkcije"]
[null,"Inteligentno upravljanje klime z natančnim merjenjem, nastavljanjem in nadzorom vlage"]
[null,"Trenutno izmerjena vlažnost v kuhalnem prostoru se lahko nastavi ali ponovno vzpostavi"]
[null,"Dinamično kroženje zraka v kuhalnem prostoru s pomočjo inteligentnega obračanja smeri vrtenja visoko kakovostnega ventilatorja s 5 hitrostmi, inteligentno uravnavanje ali ročno programiranje"]
[null,"Inteligentni nadzor kuharskih procesov z avtomatičnim prilagajanjem korakov priprave za doseganje želenega rezultata, ne glede na uporabnika, velikost proizvoda in količine polnitve"]
[null,"Natančen nadzor in izračun obarvanja, ki temelji na Maillardovi reakciji, za zagotovitev ponovljivih optimalnih rezultatov"]
[null,"Možnost prekinitve ineligentnega procesa priprave ali preskok iz funkcije iCookingSuite v funkcijo iProductionManager za maksimalno prilagodljivost priprave"]
[null,"Inteligentni korak priprave za fermentacijo/vzhajanje pekarskih proizvodov"]
[null,"Individualno, intuitivno programiranje do 1200 programov z do 12 možnimi koraki priprave"]
[null,"Enostaven prenos kuharskih programov na druge aparate z varno povezavo v oblaku s ConnectedCooking-om ali s pomočjo USB ključa"]
[null,"Avtomatizirano, inteligentno orodje za načrtovanje in nadzor iProductionManager za optimalno organizacijo večih kuharskih procesov in mešanih polnitev"]
[null,"Optična signalizacija polnitev in praznjenja živil s pomočjo energijsko učinkovite LED razsvetljave"]
[null,"Avtomatična vzpostavitev stanja in optimalno dokončanje kuharskega procesa v primeru izpada energije v trajanju manj kot 15 minut"]
[null,"Inteligentni, avtomatični čistilni sistem predlaga programe čiščenja in ustrezno količino čistilnih sredstev na podlagi umazanosti kuhalnega prostora"]
[null,"Izpis trenutnega statusa čiščenja in količine vodnega kamna"]
[null,"Kondenzacijske in klasične nape (kot dodatna oprema) se s svojim delovanjem prilagajajo situaciji in potrebam aparata (tudi ustrezno javljanje morebitnih napak v delovanju)"]
[null,"Kuharski mediji in funkcije"]
[null,"Učinkovit parni generator za optimalno proizvodnjo pare tudi pri temperaturah pod 100oC"]
[null,"PowerSteam funkcija: selektivno povečano dodajanje pare za uporabo v azijskem tipu kuhinje"]
[null,"Integrirano odvajanje odvečne maščobe, brez potrebe po vzdrževanju in brez filtra za maščobo"]
[null,"Cool-down funkcija za hitro ohlajevanje kuhalnega prostora, z dodatno možnostjo hitrega ohlajevanja s pršenjem vode"]
[null,"Sonda za merjenje temperature jedra s 6 merilnimi točkami, z avtomatično korekcijo pri napačnem vbodu. Dodatno: nosilec za sondo za lažje pozicioniranje sonde pri manjših živilih in tekočinah"]
[null,"Delta-T priprava, posebno nežna priprava z minimalnimi izgubami teže"]
[null,"Natančno dodajanje pare, količina dodajanja vode nastavljiva v 4 stopnjah in v temperaturnem razponu od 30oC – 260oC pri vročem zraku ali kombinaciji"]
[null,"Digitalni izpis temperature, nastavljiv za oC in oF, izpis nastavljenih in dejanskih vrednosti"]
[null,"Digitalni izpis vlažnosti kuhalnega prostora in časa, izpis nastavljenih in dejanskih vrednosti"]
[null,"Časovni format nastavljiv 24h ali am/pm"]
[null,"Ura na zaslonu v realnem času, z avtomatično spremembo zimskega in letnega časa v kolikor je aparat priključen na ConnectedCooking"]
[null,"Avtomatično prednastavljen začetni čas s prilagodljivim datumom in uro"]
[null,"Vgrajen ročni tuš z avtomatičnim povratnim navijanjem in dvema načinoma brizganja (prha ali curek)"]
[null,"Energetsko varčna LED razsvetljava kuhalnega prostora z dolgo življenjsko dobo in visoko barvno osvetlitvijo za lažje prepoznavanje stanja živil"]
[null,"Brezplačne kontaktne linije za pomoč glede tehnologije in aplikacij (ChefLine)"]
[null,"Varnost pri delu"]
[null,"Elektronsko temperaturno varovalo za parni generator in grelne elemente za vroči zrak"]
[null,"Integrirana zavora ventilatorja"]
[null,"Najvišja kontaktna temperatura vrat 73oC"]
[null,"Uporaba ekoloških čistilnih in negovalnih tablet (v trdem stanju) za optimalno varnost pri delu"]
[null,"HACCP – shranjevanje podatkov in prenos preko USB, opcijsko mogoč prenos in upravljanje podatkov preko oblaka z aplikacijo ConnectedCooking"]
[null,"Testirano in certificirano v skladu z nacionalnimi in mednarodnimi standardi za delovanje brez nadzora"]
[null,"VDE certifikat za uporabo brez nadzora – priprava preko noči"]
[null,"Višina najvišjega vodila na 1,6 m, tudi pri namiznih modelih ob uporabi ustreznih podstavkov"]
[null,"Ergonomski ročaj vrat, z odpiranjem v levo ali desno (pri namiznih modelih)"]
[null,"Povezovanje"]
[null,"Vgrajen Ethernet vmesnik, zaščiten z IP, za kabelsko povezavo na internet in aplikacijo ConnectedCooking"]
[null,"Vgrajen WLAN (Wi-Fi) vmesnik, za brezžično povezavo na internet in aplikacijo ConnectedCooking"]
[null,"Vgrajen USB priključek za prenos podatkov"]
[null,"ConnectedCooking – storitev v oblaku za centralno upravljanje aparatov, receptur, pripravo košaric, upravljanje s programi, HACCP podatki in stanjem vzdrževanja"]
[null," Čiščenje in nega"]
[null,"Avtomatični čistilni in negovalni sistem za kuhalni prostor in parni generator"]
[null,"9 čistilnih programov za čiščenje brez nadzora, tudi preko noči, z avtomatičnim čiščenjem in odstranjevanjem vodnega kamna iz parnega generatorja"]
[null,"Program zelo hitrega čiščenja v 12 minutah"]
[null,"Avtomatični varnostni proces v primeru izpada električne energije med programom čiščenja odstrani čistila iz kuhalnega prostora"]
[null,"Uporaba ekoloških čistil brez fosfatov in fosforja"]
[null,"Vrata aparata s trojno prezračevano zasteklitvijo, s temperaturno odbojnim premazom in z možnostjo odpiranja notranjih stekel zaradi čiščenja"]
[null,"Zunanji in notranji material – nerjaveče jeklo po DIN 1.4301, higienično izdelan kuhalni prostor brez utorov in z zaobljenimi vogali za optimalen pretok zraka"]
[null,"Enostavno in varno čiščenje zunanjih površin, zaščiteno pred brizganjem vode po varnostnem razredu IPX5"]
[null,"Možnost nadzora avtomatičnega čiščenja preko aplikacije ConnectedCooking"]
[null,"Delovanje"]
[null,"Barvni zaslon na dotik z visoko ločljivostjo TFT 10.1˝ z enostavno razumljivimi simboli, za intuitivno upravljanje in nadzor"]
[null,"Zvočna in vidna opozorila, kadar aparat potrebuje dejanje uporabnika"]
[null,"Centralni nastavitveni gumb s potisno funkcijo za intuitivno izbiro in potrditev funkcij in vnosov"]
[null,"Več kot 55 nastavljivih uporabniških jezikov, izpisi in navodila v slovenskem jeziku"]
[null,"Osnovne kuharske nastavitve se lahko izberejo glede na posebnosti določene nacionalne kuhinje, neglede na izbran jezik"]
[null,"Posebni, prilagojeni kuharski parametri se lahko izberejo glede na mednarodno ali določeno nacionalno kuhinjo, neglede na izbran jezik"]
[null,"Široko uporabna funkcija iskanja za vse kuharske načine, primere uporabe in nastavitve"]
[null,"Integrirana navodila v slovenskem jeziku z vsebinsko prilagojenimi informacijami, ki so prikazane v funkciji »pomoči« za trenutno izvajani postopek priprave "]
[null,"Zagon postopka priprave direktno iz funkcije »pomoči«"]
[null,"Enostavne izbire kuharskih postopkov preko 7 kuharskih medijev in/ali preko 4 kuharskih metod"]
[null,"Cockpit funkcija za izpis vseh informacij o izvajanem procesu priprave"]
[null,"Prilagoditev in nadzor nad uporabniškimi profili in pravicami za dostop zaradi preprečitve napak pri uporabi"]
[null,"Interaktivna sporočila med potekom priprave, pozivi za potrebna dejanja, inteligentne funkcije in opozorila preko funkcije Messenger"]
[null,"Servisno diagnostični sistem z avtomatičnim izpisom servisnega sporočila "]
[null,"ENERGY STAR certifikat – energetska učinkovitost"]
[null,"Ponudnik mora v dokaz izpolnjevanja tehničnih zahtev predmeta javnega naročila za to postavko predložiti ustrezna dokazila oziroma dokumentacijo, kot je katalog ali tehnični list, pri čemer mora ponudnik v ponudbi jasno označiti kateri dokumenti se nanašajo na katero postavko in sicer na način, da navede strani ponudbe, ki se nanašajo na dokazila za posamezno postavko ter, da na vsako od dokazil zapiše zaporedno številko postavke na katero se dokazilo nanaša."]
[null,"K ponudbi priložiti originalno izjavo proizvajalca opreme, da bo za objekt (navedba javnega naročila) zagotavljal rezervne del v skladu z razpisnimi zahtevami"]
[null,"K ponudbi priložiti izjavo proizvajalca opreme z navedbo pooblaščenega servisa, ki bo za objekt (navedba javnega naročila) zagotavljal garancijske popravila v skladu z razpisnimi pogoji."]
[]
["3.","PLINSKA PARNO KONVEKCIJSKA PEČ",null,1,null,{"$f":"D909*E909","v":0},{"$f":"+E909*MM","v":0},{"$f":"+G909*D909","v":0},{"$f":"+E909-G909","v":0},{"$f":"+I909*D909","v":0}]
[null,"dim.877x847/913x1807 mm"]
[null,"- kapaciteta 20x GN 1/1 "]
[null,"- vstavni voziček za konvektomat"]
[null,"priključna moč plina: 44,0kW  DN20"]
[null,"priključna moč: 1,3kW 1N~230V"]
[null,"priklop vode: HV DN20"]
[null,"odtok: DN50"]
[null,"Aparat ima 7 kuharskih medijev in/ali 4 kuharske metode, temperaturna funkcija od 30 °C do 300 °C."]
[null,"Kuharski mediji – načini delovanja"]
[null," Inteligentni, avtomatični kuharski mediji: perutnina, meso, ribe, jajčne jedi/sladice, priloge/zelenjava, peka, Finishing® (avtomatični proces pogrevanja za krožnike-banket, bife, a la carte,…)"]
[null,"Kuharske metode: pečenje, kuhanje, peka, pečenje na žaru"]
[null,"Parnokonvekcijski, ročno nastavljivi način delovanja s 3 kuharskimi mediji:"]
[null,"Para 30 oC – 130 oC, Vroči zrak 30 oC – 300 oC , Kombinacija 30 oC – 300 oC "]
[null,"Inteligentni pomočniki"]
[null,"iDensityControl – inteligentno upravljanje klime, merjenje in regulacija vlage do odstotka natančno za vsako živilo, inteligentno uravnavanje kroženja zraka za najbolj učinkovit prenos energije v živilo, kar zagotavlja visoko kakovost in enakomernost pripravljenih jedi in minimalno porabo energije"]
[null,"iCookingSuite – kuharska inteligenca, s 7 kuharskimi mediji in 4 kuharskimi metodami prilagojenimi vsakemu živilu. Izberete želeni rezultat - inteligentni senzorji prepoznajo velikost, količino in stanje živil ter proces priprave, temperaturo, klimo, hitrost zraka in čas priprave prilagajajo vsako sekundo za dosego želenega rezultata.  "]
[null,"iProductionManager – organizira proces priprave inteligentno in prilagodljivo. Prikaže katera živila se lahko pripravljajo skupaj. Uporabnik se odloči ali bo pripravljal živila z energetsko ali časovno optimizacijo.  "]
[null,"iCareSystem – inteligentni sistem za avtomatično čiščenje kuhalnega prostora in odstranjevanje vodnega kamna. Prepoznava stopnjo umazanije in predlaga ustrezno stopnjo čiščenja. 9 čistilnih programov, ki se lahko izvedejo brez nadzora, tudi preko noči. Dodaten vmesni program hitrega čiščenja v 12 minutah."]
[null,"Inteligentne funkcije"]
[null,"Inteligentno upravljanje klime z natančnim merjenjem, nastavljanjem in nadzorom vlage"]
[null,"Trenutno izmerjena vlažnost v kuhalnem prostoru se lahko nastavi ali ponovno vzpostavi"]
[null,"Dinamično kroženje zraka v kuhalnem prostoru s pomočjo inteligentnega obračanja smeri vrtenja visoko kakovostnega ventilatorja s 5 hitrostmi, inteligentno uravnavanje ali ročno programiranje"]
[null,"Inteligentni nadzor kuharskih procesov z avtomatičnim prilagajanjem korakov priprave za doseganje želenega rezultata, ne glede na uporabnika, velikost proizvoda in količine polnitve"]
[null,"Natančen nadzor in izračun obarvanja, ki temelji na Maillardovi reakciji, za zagotovitev ponovljivih optimalnih rezultatov"]
[null,"Možnost prekinitve ineligentnega procesa priprave ali preskok iz funkcije iCookingSuite v funkcijo iProductionManager za maksimalno prilagodljivost priprave"]
[null,"Inteligentni korak priprave za fermentacijo/vzhajanje pekarskih proizvodov"]
[null,"Individualno, intuitivno programiranje do 1200 programov z do 12 možnimi koraki priprave"]
[null,"Enostaven prenos kuharskih programov na druge aparate z varno povezavo v oblaku s ConnectedCooking-om ali s pomočjo USB ključa"]
[null,"Avtomatizirano, inteligentno orodje za načrtovanje in nadzor iProductionManager za optimalno organizacijo večih kuharskih procesov in mešanih polnitev"]
[null,"Optična signalizacija polnitev in praznjenja živil s pomočjo energijsko učinkovite LED razsvetljave"]
[null,"Avtomatična vzpostavitev stanja in optimalno dokončanje kuharskega procesa v primeru izpada energije v trajanju manj kot 15 minut"]
[null,"Inteligentni, avtomatični čistilni sistem predlaga programe čiščenja in ustrezno količino čistilnih sredstev na podlagi umazanosti kuhalnega prostora"]
[null,"Izpis trenutnega statusa čiščenja in količine vodnega kamna"]
[null,"Kondenzacijske in klasične nape (kot dodatna oprema) se s svojim delovanjem prilagajajo situaciji in potrebam aparata (tudi ustrezno javljanje morebitnih napak v delovanju)"]
[null,"Kuharski mediji in funkcije"]
[null,"Učinkovit parni generator za optimalno proizvodnjo pare tudi pri temperaturah pod 100oC"]
[null,"PowerSteam funkcija: selektivno povečano dodajanje pare za uporabo v azijskem tipu kuhinje"]
[null,"Integrirano odvajanje odvečne maščobe, brez potrebe po vzdrževanju in brez filtra za maščobo"]
[null,"Cool-down funkcija za hitro ohlajevanje kuhalnega prostora, z dodatno možnostjo hitrega ohlajevanja s pršenjem vode"]
[null,"Sonda za merjenje temperature jedra s 6 merilnimi točkami, z avtomatično korekcijo pri napačnem vbodu. Dodatno: nosilec za sondo za lažje pozicioniranje sonde pri manjših živilih in tekočinah"]
[null,"Delta-T priprava, posebno nežna priprava z minimalnimi izgubami teže"]
[null,"Natančno dodajanje pare, količina dodajanja vode nastavljiva v 4 stopnjah in v temperaturnem razponu od 30oC – 260oC pri vročem zraku ali kombinaciji"]
[null,"Digitalni izpis temperature, nastavljiv za oC in oF, izpis nastavljenih in dejanskih vrednosti"]
[null,"Digitalni izpis vlažnosti kuhalnega prostora in časa, izpis nastavljenih in dejanskih vrednosti"]
[null,"Časovni format nastavljiv 24h ali am/pm"]
[null,"Ura na zaslonu v realnem času, z avtomatično spremembo zimskega in letnega časa v kolikor je aparat priključen na ConnectedCooking"]
[null,"Avtomatično prednastavljen začetni čas s prilagodljivim datumom in uro"]
[null,"Vgrajen ročni tuš z avtomatičnim povratnim navijanjem in dvema načinoma brizganja (prha ali curek)"]
[null,"Energetsko varčna LED razsvetljava kuhalnega prostora z dolgo življenjsko dobo in visoko barvno osvetlitvijo za lažje prepoznavanje stanja živil"]
[null,"Brezplačne kontaktne linije za pomoč glede tehnologije in aplikacij (ChefLine)"]
[null,"Varnost pri delu"]
[null,"Elektronsko temperaturno varovalo za parni generator in grelne elemente za vroči zrak"]
[null,"Integrirana zavora ventilatorja"]
[null,"Najvišja kontaktna temperatura vrat 73oC"]
[null,"Uporaba ekoloških čistilnih in negovalnih tablet (v trdem stanju) za optimalno varnost pri delu"]
[null,"HACCP – shranjevanje podatkov in prenos preko USB, opcijsko mogoč prenos in upravljanje podatkov preko oblaka z aplikacijo ConnectedCooking"]
[null,"Testirano in certificirano v skladu z nacionalnimi in mednarodnimi standardi za delovanje brez nadzora"]
[null,"VDE certifikat za uporabo brez nadzora – priprava preko noči"]
[null,"Višina najvišjega vodila na 1,6 m, tudi pri namiznih modelih ob uporabi ustreznih podstavkov"]
[null,"Ergonomski ročaj vrat, z odpiranjem v levo ali desno (pri namiznih modelih)"]
[null,"Povezovanje"]
[null,"Vgrajen Ethernet vmesnik, zaščiten z IP, za kabelsko povezavo na internet in aplikacijo ConnectedCooking"]
[null,"Vgrajen WLAN (Wi-Fi) vmesnik, za brezžično povezavo na internet in aplikacijo ConnectedCooking"]
[null,"Vgrajen USB priključek za prenos podatkov"]
[null,"ConnectedCooking – storitev v oblaku za centralno upravljanje aparatov, receptur, pripravo košaric, upravljanje s programi, HACCP podatki in stanjem vzdrževanja"]
[null," Čiščenje in nega"]
[null,"Avtomatični čistilni in negovalni sistem za kuhalni prostor in parni generator"]
[null,"9 čistilnih programov za čiščenje brez nadzora, tudi preko noči, z avtomatičnim čiščenjem in odstranjevanjem vodnega kamna iz parnega generatorja"]
[null,"Program zelo hitrega čiščenja v 12 minutah"]
[null,"Avtomatični varnostni proces v primeru izpada električne energije med programom čiščenja odstrani čistila iz kuhalnega prostora"]
[null,"Uporaba ekoloških čistil brez fosfatov in fosforja"]
[null,"Vrata aparata s trojno prezračevano zasteklitvijo, s temperaturno odbojnim premazom in z možnostjo odpiranja notranjih stekel zaradi čiščenja"]
[null,"Zunanji in notranji material – nerjaveče jeklo po DIN 1.4301, higienično izdelan kuhalni prostor brez utorov in z zaobljenimi vogali za optimalen pretok zraka"]
[null,"Enostavno in varno čiščenje zunanjih površin, zaščiteno pred brizganjem vode po varnostnem razredu IPX5"]
[null,"Možnost nadzora avtomatičnega čiščenja preko aplikacije ConnectedCooking"]
[null,"Delovanje"]
[null,"Barvni zaslon na dotik z visoko ločljivostjo TFT 10.1˝ z enostavno razumljivimi simboli, za intuitivno upravljanje in nadzor"]
[null,"Zvočna in vidna opozorila, kadar aparat potrebuje dejanje uporabnika"]
[null,"Centralni nastavitveni gumb s potisno funkcijo za intuitivno izbiro in potrditev funkcij in vnosov"]
[null,"Več kot 55 nastavljivih uporabniških jezikov, izpisi in navodila v slovenskem jeziku"]
[null,"Osnovne kuharske nastavitve se lahko izberejo glede na posebnosti določene nacionalne kuhinje, neglede na izbran jezik"]
[null,"Posebni, prilagojeni kuharski parametri se lahko izberejo glede na mednarodno ali določeno nacionalno kuhinjo, neglede na izbran jezik"]
[null,"Široko uporabna funkcija iskanja za vse kuharske načine, primere uporabe in nastavitve"]
[null,"Integrirana navodila v slovenskem jeziku z vsebinsko prilagojenimi informacijami, ki so prikazane v funkciji »pomoči« za trenutno izvajani postopek priprave "]
[null,"Zagon postopka priprave direktno iz funkcije »pomoči«"]
[null,"Enostavne izbire kuharskih postopkov preko 7 kuharskih medijev in/ali preko 4 kuharskih metod"]
[null,"Cockpit funkcija za izpis vseh informacij o izvajanem procesu priprave"]
[null,"Prilagoditev in nadzor nad uporabniškimi profili in pravicami za dostop zaradi preprečitve napak pri uporabi"]
[null,"Interaktivna sporočila med potekom priprave, pozivi za potrebna dejanja, inteligentne funkcije in opozorila preko funkcije Messenger"]
[null,"Servisno diagnostični sistem z avtomatičnim izpisom servisnega sporočila "]
[null,"ENERGY STAR certifikat – energetska učinkovitost"]
[null,"Kapaciteta: 20 GN 1/1 ( 40 GN 1/2 )"]
[null,"Možnost vstavljanja GN: 1/1, 1/2, 2/3, 1/3, 2/8 "]
[null,"Širina: 877 mm"]
[null,"Globina: 847 mm"]
[null,"Višina: 1872 mm"]
[null,"Plinski aparati:"]
[null,"Moč \"vroči zrak\" 44 Kw"]
[null,"Ponudnik mora v dokaz izpolnjevanja tehničnih zahtev predmeta javnega naročila za to postavko predložiti ustrezna dokazila oziroma dokumentacijo, kot je katalog ali tehnični list, pri čemer mora ponudnik v ponudbi jasno označiti kateri dokumenti se nanašajo na katero postavko in sicer na način, da navede strani ponudbe, ki se nanašajo na dokazila za posamezno postavko ter, da na vsako od dokazil zapiše zaporedno številko postavke na katero se dokazilo nanaša."]
[null,"K ponudbi priložiti originalno izjavo proizvajalca opreme, da bo za objekt (navedba javnega naročila) zagotavljal rezervne del v skladu z razpisnimi zahtevami"]
[null,"K ponudbi priložiti izjavo proizvajalca opreme z navedbo pooblaščenega servisa, ki bo za objekt (navedba javnega naročila) zagotavljal garancijske popravila v skladu z razpisnimi pogoji."]
[]
["4.","VSTAVNI VOZIČEK ZA KONVEKTOMAT Z VODILI GN 1/1 - DODATNI",null,1,null,{"$f":"D1012*E1012","v":0},{"$f":"+E1012*MM","v":0},{"$f":"+G1012*D1012","v":0},{"$f":"+E1012-G1012","v":0},{"$f":"+I1012*D1012","v":0}]
[null,"dim.522x809x1718 mm"]
[null,"Ponudnik mora v dokaz izpolnjevanja tehničnih zahtev predmeta javnega naročila za to postavko predložiti ustrezna dokazila oziroma dokumentacijo, kot je katalog ali tehnični list, pri čemer mora ponudnik v ponudbi jasno označiti kateri dokumenti se nanašajo na katero postavko in sicer na način, da navede strani ponudbe, ki se nanašajo na dokazila za posamezno postavko ter, da na vsako od dokazil zapiše zaporedno številko postavke na katero se dokazilo nanaša."]
[]
["5.","INOX VARČNI STENSKI PAROLOV S SISTEMOM VRAČANJA TOPLOTE",null,"0"]
[null,"dim. 2400x1400 mm"]
[null,"- s filtri, lovilci maščobe"]
[null,"V POPISU STROJNIH INSTALACIJ"]
[]
["5.1","INOX TALNA REŠETKA ",null,1,null,{"$f":"D1021*E1021","v":0},{"$f":"+E1021*MM","v":0},{"$f":"+G1021*D1021","v":0},{"$f":"+E1021-G1021","v":0},{"$f":"+I1021*D1021","v":0}]
[null,"· izvedba v inox Aisi 304"]
[null,"· bazenom iz inox pločevine debeline 1,5 mm"]
[null,"· višina bazena z rešetko je 145 mm"]
[null,"· sifoniziran odtok fi 75 - horizontalni"]
[null,"· inox sito za večje odpadke z luknjami fi 7"]
[null,"· inox pohodna mreža nedrsna izdelana iz lasersko rezanih profilov debeline 2 mm, višine 20 mm ter sestavljena v mrežo s kvadratnimi luknjami 25x25"]
[null,"· inox zapora pri glodalcem"]
[null,"· privarjena sidra za vgradnjo"]
[null,"· prirobnica za hidro izolacijo"]
[null,"dim. 300x300x145 mm"]
[null,"odtok: Æ75"]
[null,"Dobavitelj tehnološke opreme dovabi talno rešetko. Vgradnjo in povezavo izvede izvajalec vodovodnih instalacij."]
[]
["6.","PLINSKA PREKUCNA PONEV 80L ",null,2,null,{"$f":"D1035*E1035","v":0},{"$f":"+E1035*MM","v":0},{"$f":"+G1035*D1035","v":0},{"$f":"+E1035-G1035","v":0},{"$f":"+I1035*D1035","v":0}]
[null,"Posoda izdelana iz enega dela 2 mm debeline. Inox konstrukcija debeline 2 mm. Električni vžig. Štiri nastavljive inox noge. Možnost medsebojnega spajanja elementov. Visoko zmogljivi gorilniki iz nerjavečega jekla z vgrajenim pilotnim plamenom in termočlenom. Popolnoma nagibna ponev. Dimenzija ponve je 36 dm2, izdelana iz debele nerjavne pločevine kar zagotavlja enakomeren prenos temperature. Zaobljeni vogali posode. Velik izlivni lijak ponve. Dovod tople in hladne vode preko integrirane pipe v sprednji maski aparata. Dvostenski uravnotežen pokrov. Električna digitalna termostatska regulacija nadzora temperature posode in temperature hrane. Električni nagib ponve z možnostjo zaustavitve na kateri koli poziciji. Digitalno upravljanje električnega nagiba ponve. Coumpaund dvojno dno ponve: 12 mm."]
[null,"Priključki za hladno in toplo vodo"]
[null,"Dimenzija: Širina x globina x višina 800 x 950 x 900 mm"]
[null,"Dimenzija posode: (širina x globina x višina) 640 x 580 x 250 mm"]
[null,"Uporabne površine 36 dm2"]
[null,"Uporabna prostornina 80 l"]
[null,"Priljuček plina"]
[null,"Navoj:  1/2\""]
[null,"Moč (kW) 12,5"]
[null,"Priključki za hladno in toplo vodo 1/2\""]
[null,"Priključek elektrike:"]
[null,"Enofazni 0,5kW , 230V, 50hZ"]
[null,"Izdelek skladen z CE standardom"]
[null,"Ponudnik mora v dokaz izpolnjevanja tehničnih zahtev predmeta javnega naročila za to postavko predložiti ustrezna dokazila oziroma dokumentacijo, kot je katalog ali tehnični list, pri čemer mora ponudnik v ponudbi jasno označiti kateri dokumenti se nanašajo na katero postavko in sicer na način, da navede strani ponudbe, ki se nanašajo na dokazila za posamezno postavko ter, da na vsako od dokazil zapiše zaporedno številko postavke na katero se dokazilo nanaša."]
[null,"K ponudbi priložiti originalno izjavo proizvajalca opreme, da bo za objekt (navedba javnega naročila) zagotavljal rezervne del v skladu z razpisnimi zahtevami"]
[null,"K ponudbi priložiti izjavo proizvajalca opreme z navedbo pooblaščenega servisa v Sloveniji, ki bo zagotavljal garancijske popravila v skladu z razpisnimi pogoji."]
[]
["6.1","TALNA REŠETKA",null,2,null,{"$f":"D1053*E1053","v":0},{"$f":"+E1053*MM","v":0},{"$f":"+G1053*D1053","v":0},{"$f":"+E1053-G1053","v":0},{"$f":"+I1053*D1053","v":0}]
[null,"· izvedba v inox Aisi 304"]
[null,"· bazenom iz inox pločevine debeline 1,5 mm"]
[null,"· višina bazena z rešetko je 134 mm"]
[null,"· sifoniziran odtok fi 75 - horizontalni"]
[null,"· inox pohodna mreža - nedrsna izdelana iz lamel 20x25x20 mm, luknjami fi 12 mm, debeline 1,5 mm in povezavo lamel fi 8 mm"]
[null,"· privarjena sidra za vgradnjo"]
[null,"dim. 700 x 500 x 134 mm"]
[null,"odtok: Æ75"]
[null,"Dobavitelj tehnološke opreme dovabi talno rešetko. Vgradnjo in povezavo izvede izvajalec vodovodnih instalacij."]
[]
["7.","BLOK PULT S POVIŠANO MEŠALNO BATERIJO",null,1,null,{"$f":"D1064*E1064","v":0},{"$f":"+E1064*MM","v":0},{"$f":"+G1064*D1064","v":0},{"$f":"+E1064-G1064","v":0},{"$f":"+I1064*D1064","v":0}]
[null,"dim. 400x950x900 mm"]
[null,"- predal"]
[null,"- spodaj zaprto s krilnimi vrati/prostor za priklop vodovodnih instalacij"]
[null,"- enoročna blok mešalna baterija/izliv z radijem min. 300mm, h izliva min. 300mm"]
[null,"- vtičnica na čelni plošči"]
[null,"priključna moč: 2,0kW 1N-230V/CCE vtičnica"]
[null,"priklop vode: THV DN15"]
[null,"Ponudnik mora v dokaz izpolnjevanja tehničnih zahtev predmeta javnega naročila za to postavko predložiti ustrezna dokazila oziroma dokumentacijo, kot je katalog ali tehnični list, pri čemer mora ponudnik v ponudbi jasno označiti kateri dokumenti se nanašajo na katero postavko in sicer na način, da navede strani ponudbe, ki se nanašajo na dokazila za posamezno postavko ter, da na vsako od dokazil zapiše zaporedno številko postavke na katero se dokazilo nanaša."]
[]
["8.","PLINSKI ŠTEDILNIK",null,1,null,{"$f":"D1074*E1074","v":0},{"$f":"+E1074*MM","v":0},{"$f":"+G1074*D1074","v":0},{"$f":"+E1074-G1074","v":0},{"$f":"+I1074*D1074","v":0}]
[null,"Delovna površina iz 3 mm nerjaveče pločevine. Konstrukcija iz 2 mm nerjaveče pločevine. Možno medsebojno spajanje elementov. Odstranljivi gorilniki. Odstranljiv vodotesen pladenj pod gorilci z možnostjo pomivanja v pomivalnem stroju. Izvlečni predal pod gorilci za zbiranje maščob in tekočin. Električni vžig gorilcev."]
[null,"Štiri nastavljive inox noge. Odstranjivi plinski gorilci z gorenjem po zunanji in notranji strani gorilnika. Ohišje odprtih gorilnikov iz inoxa, pokrovi gorilcev iz medenine. Mreža nad gorilci iz nerjavečega jekla. Zaščita za pilotni plamen. Moč odprtih gorilnikov: 4x 7 kW. Varnostni sistem plinskih ventilov s termočlenom. Podstavek zaprt s krilnimi vrati."]
[null,"Širina x globina x višina 800 x 950 x 900 mm"]
[null,"2x Inox vodila za lonce 390 x 610 mm"]
[null,"PLIN"]
[null,"Navoj:  3/4\""]
[null,"Priključek plina Moč (kW)28"]
[null,"ELEKTRIKA"]
[null,"Priključek elektrike 230V 1N"]
[null,"Izdelek skladen z CE standardom"]
[null,"Ponudnik mora v dokaz izpolnjevanja tehničnih zahtev predmeta javnega naročila za to postavko predložiti ustrezna dokazila oziroma dokumentacijo, kot je katalog ali tehnični list, pri čemer mora ponudnik v ponudbi jasno označiti kateri dokumenti se nanašajo na katero postavko in sicer na način, da navede strani ponudbe, ki se nanašajo na dokazila za posamezno postavko ter, da na vsako od dokazil zapiše zaporedno številko postavke na katero se dokazilo nanaša."]
[null,"K ponudbi priložiti originalno izjavo proizvajalca opreme, da bo za objekt (navedba javnega naročila) zagotavljal rezervne del v skladu z razpisnimi zahtevami"]
[null,"K ponudbi priložiti izjavo proizvajalca opreme z navedbo pooblaščenega servisa v Sloveniji, ki bo zagotavljal garancijske popravila v skladu z razpisnimi pogoji."]
[]
["9.","BLOK PULT ",null,2,null,{"$f":"D1089*E1089","v":0},{"$f":"+E1089*MM","v":0},{"$f":"+G1089*D1089","v":0},{"$f":"+E1089-G1089","v":0},{"$f":"+I1089*D1089","v":0}]
[null,"dim. 400x950x900 mm"]
[null,"- predal"]
[null,"- spodaj zaprto s krilnimi vrati"]
[null,"Ponudnik mora v dokaz izpolnjevanja tehničnih zahtev predmeta javnega naročila za to postavko predložiti ustrezna dokazila oziroma dokumentacijo, kot je katalog ali tehnični list, pri čemer mora ponudnik v ponudbi jasno označiti kateri dokumenti se nanašajo na katero postavko in sicer na način, da navede strani ponudbe, ki se nanašajo na dokazila za posamezno postavko ter, da na vsako od dokazil zapiše zaporedno številko postavke na katero se dokazilo nanaša."]
[]
["10.","ELEKTRIČNI ŠTEDILNIK",null,1,null,{"$f":"D1095*E1095","v":0},{"$f":"+E1095*MM","v":0},{"$f":"+G1095*D1095","v":0},{"$f":"+E1095-G1095","v":0},{"$f":"+I1095*D1095","v":0}]
[null,"dim. 800x950x900 mm"]
[null,"- 4 polne plošče"]
[null,"- konvekcijska pečica "]
[null,"priključna moč: 16,6kW 3N~400V"]
[null,"OBRAČUN VREDNOSTI:  odklop, demontažo, pregled in servis, skladiščenje v času obnove, ponovno vgradnjo, priklop in zagon. Skupaj z manipulativno stroški in drobnim montažnim materialom. Poročilo o opravljenem servisu."]
[]
["11.","BLOK PULT",null,1,null,{"$f":"D1102*E1102","v":0},{"$f":"+E1102*MM","v":0},{"$f":"+G1102*D1102","v":0},{"$f":"+E1102-G1102","v":0},{"$f":"+I1102*D1102","v":0}]
[null,"dim. 400x950x900 mm"]
[null,"- predal"]
[null,"- spodaj zaprto s krilnimi vrati/prostor za priklop vodovodnih instalacij"]
[null,"- vtičnica na čelni plošči"]
[null,"priključna moč: 2,0kW 1N-230V/CCE vtičnica"]
[null,"Ponudnik mora v dokaz izpolnjevanja tehničnih zahtev predmeta javnega naročila za to postavko predložiti ustrezna dokazila oziroma dokumentacijo, kot je katalog ali tehnični list, pri čemer mora ponudnik v ponudbi jasno označiti kateri dokumenti se nanašajo na katero postavko in sicer na način, da navede strani ponudbe, ki se nanašajo na dokazila za posamezno postavko ter, da na vsako od dokazil zapiše zaporedno številko postavke na katero se dokazilo nanaša."]
[]
["12.","ELEKTRIČNI KOTEL ZA KUHANJE Z OKROGLO POSODO",null,1,null,{"$f":"D1110*E1110","v":0},{"$f":"+E1110*MM","v":0},{"$f":"+G1110*D1110","v":0},{"$f":"+E1110-G1110","v":0},{"$f":"+I1110*D1110","v":0}]
[null,"dim.800x950x900 mm"]
[null,"- kapaciteta: 150 l"]
[null,"- dimenzija posode: Ø600x600 mm"]
[null,"- indirektno gretje (duplikator iz nerjaveče pločevine)"]
[null,"- dvoslojni pokrov"]
[null,"priključna moč: 18,6kW 3N~400V "]
[null,"priklop vode: THV DN15 "]
[null,"odtok: DN100 preko talne rešetke 800x400 mm"]
[null,"OBRAČUN VREDNOSTI:  odklop, demontažo, pregled in servis, skladiščenje v času obnove, ponovno vgradnjo, priklop in zagon. Skupaj z manipulativno stroški in drobnim montažnim materialom. Poročilo o opravljenem servisu."]
[]
["13.","PLINSKI KOTEL 150L",null,1,null,{"$f":"D1121*E1121","v":0},{"$f":"+E1121*MM","v":0},{"$f":"+G1121*D1121","v":0},{"$f":"+E1121-G1121","v":0},{"$f":"+I1121*D1121","v":0}]
[null,"Delovna površina: izdelana iz enega dela debeline 3 mm. Inox konstrukcija debeline 2 mm. Električni vžig. Štiri nastavljive inox noge. Možno medsebojno spajanje elementov. Okrogla posoda volumen 150 litrov. Posoda izdelana iz inox pločevine 316L. Debelina dna posode 3 mm. Posoda opremljena z odstranjivim cedilom z indikacijo nivoja. Dvojni plašč kotla ima avtomatsko polnenje mehčane vode z elektronskim nadzorom nivoje vode v plašču. Visoko zmogljivi gorilniki iz nerjavečega jekla z vgrajenim pilotnim plamenom in termočlenom. Indirektno gretje. Dvostenski uravnotežen pokrov z izoliranim ročajem. Dovod tople in hladne vode preko integrirane pipe v sprednji maski aparata. Električna digitalna termostatska regulacija nadzora temperature. \n"]
[null,"Priključki za hladno in toplo vodo 1/2\""]
[null,"Priključek za mehčano vodo 1/2\" "]
[null,"Dimenzija: Širina x globina x višina dim.800x950x900 mm"]
[null,"Dimenzija posode 600 x 560 mm"]
[null,"Kapaciteta posode 150 l"]
[null,"Priljuček plina: "]
[null,"Navoj:  1/2\""]
[null,"Moč (kW) 21"]
[null,"Priključek elektrike:"]
[null,"Enofazni kW 0,25, 230V, 50hZ"]
[null,"Izdelek skladen z CE standardom"]
[null,"Ponudnik mora v dokaz izpolnjevanja tehničnih zahtev predmeta javnega naročila za to postavko predložiti ustrezna dokazila oziroma dokumentacijo, kot je katalog ali tehnični list, pri čemer mora ponudnik v ponudbi jasno označiti kateri dokumenti se nanašajo na katero postavko in sicer na način, da navede strani ponudbe, ki se nanašajo na dokazila za posamezno postavko ter, da na vsako od dokazil zapiše zaporedno številko postavke na katero se dokazilo nanaša."]
[null,"K ponudbi priložiti originalno izjavo proizvajalca opreme, da bo za objekt (navedba javnega naročila) zagotavljal rezervne del v skladu z razpisnimi zahtevami"]
[null,"K ponudbi priložiti izjavo proizvajalca opreme z navedbo pooblaščenega servisa v Sloveniji, ki bo zagotavljal garancijske popravila v skladu z razpisnimi pogoji."]
[]
["13.1","TALNA REŠETKA",null,2,null,{"$f":"D1138*E1138","v":0},{"$f":"+E1138*MM","v":0},{"$f":"+G1138*D1138","v":0},{"$f":"+E1138-G1138","v":0},{"$f":"+I1138*D1138","v":0}]
[null,"· izvedba v inox Aisi 304"]
[null,"· bazenom iz inox pločevine debeline 1,5 mm"]
[null,"· višina bazena z rešetko je 134 mm"]
[null,"· sifoniziran odtok fi 75 - horizontalni"]
[null,"· inox pohodna mreža - nedrsna izdelana iz lamel 20x25x20 mm, luknjami fi 12 mm, debeline 1,5 mm in povezavo lamel fi 8 mm"]
[null,"· privarjena sidra za vgradnjo"]
[null,"dim. 800 x 500 x 134 mm"]
[null,"odtok: Æ75"]
[null,"Dobavitelj tehnološke opreme dovabi talno rešetko. Vgradnjo in povezavo izvede izvajalec vodovodnih instalacij."]
[]
["14.","V VARČNI STROPNI PAROLOV S SISTEMOM VRAČANJA TOPLOTE",null,"0"]
[null,"dim.3400x2400 mm"]
[null,"- s filtri, lovilci maščobe in razsvetljavo"]
[null,"V POPISU STROJNIH INSTALACIJ"]
[]
["15.","UNIVERZALNI KUHINJSKI STROJ",null,1,null,{"$f":"D1154*E1154","v":0},{"$f":"+E1154*MM","v":0},{"$f":"+G1154*D1154","v":0},{"$f":"+E1154-G1154","v":0},{"$f":"+I1154*D1154","v":0}]
[null,"- pogonski stroj AE-20 E dim.930x770x850 mm, podstavek na kolesih"]
[null,"- nastavek za rez. zelenjave AG-SG, nastavek za manjšo količino zelenjave SAS-SG"]
[null,"- lijačni nastavek za rezanje večjih količin zelenjave  TR-SG"]
[null,"- opornik GH , rotor RT"]
[null,"- srpasti nož za rezanje paradižnika, kuhanega. Krompirja 4 mm"]
[null,"- nastavljiv nož za rezanje zelja, čebule, kumaric 0-8 mm"]
[null,"- nož za kockasto rezanje WSE 10x10x10 mm"]
[null,"- cilinder za ribanje sadja in zelenjave, 3,5 in 7 mm"]
[null,"- pasirni cilinder za juhe, omake, čokoladne mase 3 mm"]
[null,"priključna moč: 1,9kW 3N-400V"]
[null,"Ponudnik mora v dokaz izpolnjevanja tehničnih zahtev predmeta javnega naročila za to postavko predložiti ustrezna dokazila oziroma dokumentacijo, kot je katalog ali tehnični list, pri čemer mora ponudnik v ponudbi jasno označiti kateri dokumenti se nanašajo na katero postavko in sicer na način, da navede strani ponudbe, ki se nanašajo na dokazila za posamezno postavko ter, da na vsako od dokazil zapiše zaporedno številko postavke na katero se dokazilo nanaša."]
[]
[null,"TERMIČNA PRIPRAVA SKUPAJ",null,null,null,{"$f":"SUM(F717:F1166)","v":0},null,{"$f":"SUM(H717:H1166)","v":0},null,{"$f":"SUM(J717:J1166)","v":0}]
[]
["O","IZDAJNA LINIJA"]
[]
["1.","INOX ELEMENT ZA PLADNJE, PRIBOR IN KRUH",null,1,null,{"$f":"D1171*E1171","v":0},{"$f":"+E1171*MM","v":0},{"$f":"+G1171*D1171","v":0},{"$f":"+E1171-G1171","v":0},{"$f":"+I1171*D1171","v":0}]
[null,"dim. 600x700x1580 mm"]
[null,"- v dveh etažah: 3x GN 1/1-150 + 1x GN 1/1-150"]
[]
["2.","INOX LINIJSKI PULT",null,1,null,{"$f":"D1175*E1175","v":0},{"$f":"+E1175*MM","v":0},{"$f":"+G1175*D1175","v":0},{"$f":"+E1175-G1175","v":0},{"$f":"+I1175*D1175","v":0}]
[null,"dim. 900x750x900 mm"]
[null,"- spodaj odprto, vmesna polica"]
[null,"Enotna delovna površina poz 1+3+4..  Iz priložene skice mora biti jasno razvidna izvedba enotne delovne površine."]
[null,"Izdelava podkonstrukcije za montažo lesene fasade, vodoodporna vezana plošča debeline 20 mm.."]
[null,"FASADA izdelana po skica interierja. Pripravi in potrdi arhitekt."]
[]
["3.","INOX TOPLOVODNA KOPEL Z OGREVANO OMARICO IN NADGRADNJO",null,1,null,{"$f":"D1182*E1182","v":0},{"$f":"+E1182*MM","v":0},{"$f":"+G1182*D1182","v":0},{"$f":"+E1182-G1182","v":0},{"$f":"+I1182*D1182","v":0}]
[null,"dim. 1400x750x900/1285 mm"]
[null,"- kapaciteta bazena 4x GN 1/1-200"]
[null,"- polnjenje s stikalom"]
[null,"- ogrevana omarica s krilnimi vrati"]
[null,"- polica iz nerjavnega jekla z grelniki, razsvetljavo in stekleno hig. zaščito - polovična"]
[null,"priključna moč: 7,1kW 3N~400V"]
[null,"priklop vode: TV DN20"]
[null,"odtok: DN50"]
[null,"Enotna delovna površina poz 1+3+4..  Iz priložene skice mora biti jasno razvidna izvedba enotne delovne površine."]
[null,"Izdelava podkonstrukcije za montažo lesene fasade, vodoodporna vezana plošča debeline 20 mm.."]
[null,"FASADA izdelana po skica interierja. Pripravi in potrdi arhitekt."]
[]
["4.","INOX HLAJEN LINIJSKI PULT Z NADGRADNJO",null,1,null,{"$f":"D1195*E1195","v":0},{"$f":"+E1195*MM","v":0},{"$f":"+G1195*D1195","v":0},{"$f":"+E1195-G1195","v":0},{"$f":"+I1195*D1195","v":0}]
[null,"dim. 1400x750x900/1285 mm"]
[null,"- 2x box z vodili za GN 1/1"]
[null,"- kompresor ventilacijsko hlajen, digitalna komandna plošča"]
[null,"- polica iz nerjavnega jekla z razsvetljavo in stekleno higiensko zaščito - polovična"]
[null,"priključna moč: 0,45kW 1N~230V"]
[null,"Enotna delovna površina poz 1+3+4..  Iz priložene skice mora biti jasno razvidna izvedba enotne delovne površine."]
[null,"Izdelava podkonstrukcije za montažo lesene fasade, vodoodporna vezana plošča debeline 20 mm.."]
[null,"FASADA izdelana po skica interierja. Pripravi in potrdi arhitekt."]
[]
["5.","INOX DRSNA POLICA",null,1,null,{"$f":"D1205*E1205","v":0},{"$f":"+E1205*MM","v":0},{"$f":"+G1205*D1205","v":0},{"$f":"+E1205-G1205","v":0},{"$f":"+I1205*D1205","v":0}]
[null,"dim. 3700 mm"]
[null,"- 6 konzol"]
[]
["6.","INOX PREKRIV REGULACIJSKIH NOGIC",null,1,null,{"$f":"D1209*E1209","v":0},{"$f":"+E1209*MM","v":0},{"$f":"+G1209*D1209","v":0},{"$f":"+E1209-G1209","v":0},{"$f":"+I1209*D1209","v":0}]
[null,"dim. 3700x155 mm"]
[]
["6.1","INOX TALNA REŠETKA ",null,1,null,{"$f":"D1212*E1212","v":0},{"$f":"+E1212*MM","v":0},{"$f":"+G1212*D1212","v":0},{"$f":"+E1212-G1212","v":0},{"$f":"+I1212*D1212","v":0}]
[null,"· izvedba v inox Aisi 304"]
[null,"· bazenom iz inox pločevine debeline 1,5 mm"]
[null,"· višina bazena z rešetko je 145 mm"]
[null,"· sifoniziran odtok fi 75 - horizontalni"]
[null,"· inox sito za večje odpadke z luknjami fi 7"]
[null,"· inox pohodna mreža nedrsna izdelana iz lasersko rezanih profilov debeline 2 mm, višine 20 mm ter sestavljena v mrežo s kvadratnimi luknjami 25x25"]
[null,"· inox zapora pri glodalcem"]
[null,"· privarjena sidra za vgradnjo"]
[null,"· prirobnica za hidro izolacijo"]
[null,"dim. 300x300x145 mm"]
[null,"odtok: Æ75"]
[null,"Dobavitelj tehnološke opreme dovabi talno rešetko. Vgradnjo in povezavo izvede izvajalec vodovodnih instalacij."]
[]
[null,"IZDAJNA LINIJA SKUPAJ",null,null,null,{"$f":"SUM(F1170:F1225)","v":0},null,{"$f":"SUM(H1170:H1225)","v":0},null,{"$f":"SUM(J1170:J1225)","v":0}]
[]
["P","JEDILNICA"]
[]
["R","VRAČANJE POSODE / SORTIRANJE ODPADKOV"]
[]
["1.","INOX PULT ZA SORTIRANJE UMAZANE POSODE",null,1,null,{"$f":"D1232*E1232","v":0},{"$f":"+E1232*MM","v":0},{"$f":"+G1232*D1232","v":0},{"$f":"+E1232-G1232","v":0},{"$f":"+I1232*D1232","v":0}]
[null,"Delovna površina "]
[null,"v celoti izdelan iz nerjaveče pločevine AISI 304."]
[null,"Delovna površina izdelana iz AISI 304 debeline min 1 mm  z vgrajeno izolacijo za zmanjševanje vibracij in hrupa, kortia profilirana z utorom 12 mm, spodaj zaščitena z inox pl. deb.  min. 0,6 mm."]
[null," Debelina zgornjih površin min. 50 mm,  z vgrajeno izolacijo za zmanjševanje vibracij in hrupa, vodoodporna  vezana plošča debeline min. 46 mm."]
[null,"Konstrukcija"]
[null,"Konstrukcija inox AISI 304 cevni profil min. 40x40 mm.  Stranice, hrbet in dno elementa iz inox AISI 304."]
[null,"- desno 2x omarica z odprtino za odpadke, zaprto s krilnimi vrati"]
[null,"Spodaj"]
[null,"- omarica za organske odpake, zaprto s krilnimi vrati"]
[null,"Stenski zavih"]
[null,"Stenski zavih zadaj in levo bočno100 /20 mm."]
[null,"Dimenzija elementa"]
[null,"dim. 1800x500x900/1000 mm"]
[]
[null,"VRAČANJE POSODE / SORTIRANJE ODPADKOV  SKUPAJ",null,null,null,{"$f":"SUM(F1231:F1246)","v":0},null,{"$f":"SUM(H1231:H1246)","v":0},null,{"$f":"SUM(J1231:J1246)","v":0}]
[]
["S","POMIVANJE JEDILNE POSODE"]
[]
["1.","INOX PULT ZA SPREJEM UMAZANE POSODE",null,1,null,{"$f":"D1251*E1251","v":0},{"$f":"+E1251*MM","v":0},{"$f":"+G1251*D1251","v":0},{"$f":"+E1251-G1251","v":0},{"$f":"+I1251*D1251","v":0}]
[null,"- odcejalni rob / višina kot pri vhodni mizi"]
[null,"Kvalitetni razred inox pločevine"]
[null,"AISI 304"]
[null,"Delovna površina "]
[null,"Delovna površina izdelana iz AISI 304 debeline 1,5 mm  z vgrajeno izolacijo za zmanjševanje vibracij in hrupa, delovna površina spredaj zaključena v radij R15 in odkapnim robom 10 mm za preprečevanje zatekanja tekočin debeline 60 mm, profilirana z utorom 3 mm, spodaj zaščitena z inox pl. deb.  min. 1,0 mm.  Debelina zgornjih površin; min. 60mm odkapni rob/  min. 50 mm ostala površina,  z vgrajeno izolacijo za zmanjševanje vibracij in hrupa, vodoodporna  vezana plošča debeline min. 44 mm."]
[null,"Konstrukcija"]
[null,"Konstrukcija inox AISI 304 cevni profil min. 40x40 mm, debelina stene 1,5mm,  vertikalna obremenitev (min. 2000 N), stranska obremenitev (min. 1000 N). Stranice, hrbet in dno elementa iz inox AISI 304 debeline 1,25 mm"]
[null,"Stenski zavih"]
[null,"Stenski zavih zadaj 300 /20 mm zaključen v poševni rob (20/20 mm)"]
[null,"Spodaj"]
[null,"- levo spodaj prostor za voziček za odpadke"]
[null,"Noge"]
[null,"Nastavljive noge izdelane iz kakovostne plastike, ki je odporna na praske in kemikalije, in omogoča enostavno čiščenje, razpon nastavitev min. od 25 ÷ -10 mm"]
[null,"Dimenzija"]
[null,"dim. 1900x600x900 mm"]
[]
["2.","INOX POVIŠANA POLICA",null,1,null,{"$f":"D1268*E1268","v":0},{"$f":"+E1268*MM","v":0},{"$f":"+G1268*D1268","v":0},{"$f":"+E1268-G1268","v":0},{"$f":"+I1268*D1268","v":0}]
[null,"dim. 1900x500x1300 mm"]
[null,"- vmesna polica"]
[null,"- zgornja polica za vertikalno shranjevanje košar"]
[]
["3.","INOX VHODNA MIZA ZA POMIVALNI STROJ – LEVA",null,1,null,{"$f":"D1273*E1273","v":0},{"$f":"+E1273*MM","v":0},{"$f":"+G1273*D1273","v":0},{"$f":"+E1273-G1273","v":0},{"$f":"+I1273*D1273","v":0}]
[null,"Kvalitetni razred inox pločevine"]
[null,"AISI 304"]
[null,"Delovna površina "]
[null,"Delovna površina izdelana iz AISI 304 debeline 1,5 mm  z vgrajeno izolacijo za zmanjševanje vibracij in hrupa, delovna površina spredaj zaključena v radij R15 in odkapnim robom 10 mm za preprečevanje zatekanja tekočin debeline 60 mm, profilirana z utorom 3 mm, spodaj zaščitena z inox pl. deb.  min. 1,0 mm.  Debelina zgornjih površin; min. 60mm odkapni rob/  min. 50 mm ostala površina,  z vgrajeno izolacijo za zmanjševanje vibracij in hrupa, vodoodporna  vezana plošča debeline min. 44 mm."]
[null,"Konstrukcija"]
[null,"Konstrukcija inox AISI 304 cevni profil min. 40x40 mm, debelina stene 1,5mm,  vertikalna obremenitev (min. 2000 N), stranska obremenitev (min. 1000 N). Stranice, hrbet in dno elementa iz inox AISI 304 debeline 1,25 mm"]
[null,"Korita"]
[null,"Korito poglobljeno 2 mm od delovne površine. Vsi robovi korit so zaokroženi, dno je profilirano, da se zagotovi popolno odvajanje vode. Vsa korita morajo biti tristransko zaprta"]
[null,"Vgrajena dva  korita 600x450x300 mm z inox navojnim grlom, prelivno cevjo in PVC sifonom. Vodila za košare pomivalnega stroja"]
[null,"Stenski zavih"]
[null,"Stenski zavih zadaj 300 /20 mm zaključen v poševni rob (20/20 mm)"]
[null,"Spodaj"]
[null,"Polica"]
[null,"- vodilo za košare po celotni dolžini"]
[null,"- spodaj prostor za mehčalno napravo"]
[null,"Noge"]
[null,"Nastavljive noge izdelane iz kakovostne plastike, ki je odporna na praske in kemikalije, in omogoča enostavno čiščenje, razpon nastavitev min. od 25 ÷ -10 mm"]
[null,"Priključki"]
[null,"priklop vode: THV 1/2\""]
[null,"odtok: Æ50"]
[null,"Dimenzija"]
[null,"dim. 1900x750x900/1100 mm"]
[]
["4.","NAMIZNA ENOROČNA MEŠALNA BATERIJA Z VISEČIM TUŠEM",null,1,null,{"$f":"D1297*E1297","v":0},{"$f":"+E1297*MM","v":0},{"$f":"+G1297*D1297","v":0},{"$f":"+E1297-G1297","v":0},{"$f":"+I1297*D1297","v":0}]
[null,"komolčno upravljanje"]
[null,"dolžina izliva 275 mm"]
[]
["5.","INOX VOZIČEK ZA ODPADKE",null,1,null,{"$f":"D1301*E1301","v":0},{"$f":"+E1301*MM","v":0},{"$f":"+G1301*D1301","v":0},{"$f":"+E1301-G1301","v":0},{"$f":"+I1301*D1301","v":0}]
[null,"dim. 370x500x580 mm"]
[null,"- odpiranje s pedalom"]
[null,"- volumen 60 l"]
[]
["6.","AVTOMATSKI MEHČALEC VODE",null,1,null,{"$f":"D1306*E1306","v":0},{"$f":"+E1306*MM","v":0},{"$f":"+G1306*D1306","v":0},{"$f":"+E1306-G1306","v":0},{"$f":"+I1306*D1306","v":0}]
[null,"Dimenzije 302x480/515x527 mm"]
[null,"Kapaciteta: 3100 lit pri trdoti vode 10°dH"]
[null,"Poraba soli na regeneracijski ciklus: 0,77 kg"]
[null,"Kontinuiran pretok: 18 lit/min"]
[null,"Priklopna temperatura: do 49°C"]
[null,"Avtomatska volumetrijsko krmiljena regeneracija"]
[null,"Elektronsko krmilna glava + LCD zaslon"]
[null,"Ohranjanje spomina ob izpadu električne energije: 72 ur"]
[null,"Vgrajen plovec za nivo vode v solni posodi"]
[null,"Volumen posode z ionsko maso: 9 lit"]
[null,"Prostornina solne posode: 20 kg"]
[null,"Prikazan pretok mehčane vode"]
[null,"Kot npr. Winterhalter Monosoft 9  ali enakovredno"]
[null,"Ponudnik mora v dokaz izpolnjevanja tehničnih zahtev predmeta javnega naročila za to postavko predložiti ustrezna dokazila oziroma dokumentacijo, kot je katalog ali tehnični list, pri čemer mora ponudnik v ponudbi jasno označiti kateri dokumenti se nanašajo na katero postavko in sicer na način, da navede strani ponudbe, ki se nanašajo na dokazila za posamezno postavko ter, da na vsako od dokazil zapiše zaporedno številko postavke na katero se dokazilo nanaša."]
[]
["7.","TRAČNI KOŠARNI POMIVALNI STROJ",null,1,null,{"$f":"D1322*E1322","v":0},{"$f":"+E1322*MM","v":0},{"$f":"+G1322*D1322","v":0},{"$f":"+E1322-G1322","v":0},{"$f":"+I1322*D1322","v":0}]
[null,"Kompaktni transportni pomivalni stroj z avtomatskim pomikom košar, ki izpolnjuje vse higienske standarde v skladu z DIN SPEC 10534. Priložiti potreben certifikat. "]
[null,"Stroj mora zagotavljati zahtevano temperaturo pomivanja po DIN. "]
[null,"Stroj mora zagotavljati možnost naknadne nadgraditve z dodatnimi conami (predpomivanje, sušenje..) "]
[null,"Kapaciteta pomivanja"]
[null,"od 50 - 195 košar / h, individualno nastavljivo"]
[null,"Kapaciteta pomivanja po DIN do 100 košar / h"]
[null,"Cona glavnega pomivanja in izpiranja"]
[null,"Temperatura pomivalne komore: 55 - 65 ° C"]
[null,"Prvo polnjenje pomivalne komore: max. 75 l"]
[null,"Črpalka za pomivanje: min. 2,2 kW"]
[null,"Temperatura izpiranja: 85 ° C"]
[null,"Poraba sveže vode: 114 l / h"]
[null,"Moč bojlerja: 22,5 kW (stroj je pripravljen za priklop na hladno vodo <20°C)"]
[null,"Kotna sušilna cona 795 mm M"]
[null,"Hitro sušenje pomite posode in pribora s suhim in toplim zrakom. "]
[null,"Dolžina: 795 mm"]
[null,"Priključna moč:  4,55 kW"]
[null,"Lastnosti"]
[null,"Dvostenska konstrukcija vrat in stranic stroja za termično in zvočno izolacijo"]
[null,"Odtočna črpalka za avtomatsko izpust vode iz tankov vezano na centralni odvod"]
[null,"Avtomatsko zaznavanje košare in aktiviranje posamezne cone za zmanjšanje obratovalnih stroškov;"]
[null,"Grelec pomivalne komore s samonastavljivo toplotno varovalko za zaščito pred pregrevanjem;"]
[null,"Avtomatska kontrola nivoja vode;"]
[null,"Sistem izpiranja s svežo vodo, neodvisno od vodnega tlaka na mestu postavitve, za zagotavljanje konstantno dobrega izpiranja;"]
[null,"Optična in zvočna  sporočila o napakah in tekstovni opis napake;"]
[null,"Stanje pripravljenosti za zmanjšanje porabe energije, kadar stroj ne deluje;"]
[null,"Vgrajeni dnevnik napak;"]
[null,"Prikaz interval rednega vzdrževanja;"]
[null,"Nogice nastavljive po višini;"]
[null,"Vgrajen USB-vmesnik za posodobitve programske opreme;"]
[null,"Dozirna naprava za pomivalno sredstvo in izpiralno sredstvo s sesalnima cevkama za priklop zunanjega kanistra, z avtomatskim nadzorom nivoja."]
[null,"Rezultat pomivanja"]
[null,"Samodejna prilagoditev količine izpiralne vode glede na hitrost pomivanja;"]
[null,"Pomivalni curki v konveksni obliki za najmanjšo izgubo pomivalnega pritiska pomivanja in optimalno pokritost;"]
[null,"Trije programi pomivanja z individualno nastavljivimi parametri pomivanja (hitrost pomika, količina vode za izpiranje na košaro, temperatura izpiranja, doziranje količine izpiralnega sredstva;"]
[null,"Programi za polnjenje in praznjenje pomivalnega tanka ter hitro polnjenje pomivalnega tanka;"]
[null,"Poseben program za odstranjevanje vodnega kamna in osnovno čiščenje posode."]
[null,"Higienski koncept"]
[null,"Odpiranje vrat spredaj, vrata vrtljiva za 180 °, notranjost stroja higiensko globoko vlečeno brez ostrih robov;"]
[null,"Popolnoma dostopna vrata omogočajo dnevno čiščenje vseh delov tudi v notranjem delu vrat;"]
[null,"Globoko vlečena pomivalna komora in tank;"]
[null,"Higienska notranjost gladka brez vodov in brez zarez;"]
[null,"Palični zaprti grelci tanka;"]
[null,"Pomivalne roke v zgornjem in spodnjem delu pomivalne komore, ki so enostavno odstranijo in zopet pritrdijo brez orodja;"]
[null,"Štirikratni sistem filtracije (sestavljen iz površinskega sita, fino sito, Mediamat sistem med vsakim pomivanjem, filter pred odtočno črpalko);"]
[null,"Sito tanka prvega izpiranja z max. 1,5 mm perforacija;"]
[null,"Vgrajen higienski dnevnik in shranjevanje za higieno relevantnih podatkov;"]
[null,"Program avtomatskega samočiščenja notranjosti stroja."]
[null,"Delovanje"]
[null,"Inovativni barvni zaslon na dotik z robustno stekleno površino (ocena IK7), nameščen na območju, kjer ni možnosti stika z vodo, na zunanji strani stroja in na primerni delovni višini;"]
[null,"Barvni prikaz procesa pomivanja;"]
[null,"Barvni prikaz poteka pomivanja, programa samočiščenja in polnjenja z ogrevanjem;"]
[null,"Jezikovno nevtralno, intuitivno delovanje s piktogrami in simboli;"]
[null,"Večjezični meni z izbiro min. 22 jezikov;"]
[null,"Časovno nadzorovana funkcija zagona in zaustavitve s samodejnim polnjenjem in odvoda vode;"]
[null,"Video-izboljšane smernice operaterja z video podprtimi napotki za uporabo."]
[null,"Hitri program"]
[null,"Možnost aktiviranja hitrega programa pomivanja"]
[null,"Program za pomivanje kozarcev"]
[null,"Možnost nastavitve posebnega programa za pomivanje kozarcev"]
[null,"Program za pomivanje GN posode"]
[null,"Možnost aktiviranja programa za pomivanje GN posode"]
[null,"Podatkovni vmesnik WLAN"]
[null,"Naprava je opremljena z integrirano funkcijo WLAN in je pripravljena na povezavo z internetom, da bi strežniku poslala ustrezne operacijske podatke."]
[null,"Povezava s spletno aplikacijo"]
[null,"Podatke o delovanju lahko stranka kadar koli posreduje prek interneta in dostopa do njih prek spletne aplikacije."]
[null,"Tehnični podatki"]
[null,"Material: nerjaveče jeklo 1.4301"]
[null,"Ogrevanje: električno"]
[null,"Električna mreža: 380-415 V / 3N ~ "]
[null,"Priključek za dovod vode: ¾ “"]
[null,"Priključek za odtok: DN 40/50 na stroju"]
[null,"Protikapljična zaščita: IP X5"]
[null,"Emisija hrupa: <70 dB"]
[null,"Skupna priključna moč: 35,00 - 37,00 kW"]
[null,"Dimenzije"]
[null,"Dolžina: 1.400/2.195 mm (brez cone sušenja / s cono sušenja)"]
[null,"Globina: max 800 mm"]
[null,"Višina: max 1.920 mm"]
[null,"Svetla vstavna višina: min 450 mm"]
[null,"Svetla vstavna širina: vodilo min 510 mm, širina komore: min 530 mm"]
[null,"Delovna višina: 900 mm "]
[null,"Povratno zajemanje toplote odpadnega zraka Energy"]
[null,"Toplotni izmenjevalnik je primeren za delovanje z mehko vodo in osmozno vodo (prevodnost> 5 µS);"]
[null,"Z odstranljivim filtrom maščob CNS;"]
[null,"Z izmenjevalnikom toplote se vroča para uporablja za predhodno segrevanje hladne dovodne vode (≤ 20 ° C);"]
[null,"Zmanjša obratovalne stroške in zmanjša emisijo pare."]
[null,"Kot npr. Winterhalter CTR M-Mk Energy ali enakovredno"]
[null,"Ponudnik mora v dokaz izpolnjevanja tehničnih zahtev predmeta javnega naročila za to postavko predložiti ustrezna dokazila oziroma dokumentacijo, kot je katalog ali tehnični list, pri čemer mora ponudnik v ponudbi jasno označiti kateri dokumenti se nanašajo na katero postavko in sicer na način, da navede strani ponudbe, ki se nanašajo na dokazila za posamezno postavko ter, da na vsako od dokazil zapiše zaporedno številko postavke na katero se dokazilo nanaša."]
[null,"K ponudbi priložiti originalno izjavo proizvajalca opreme, da bo za objekt (navedba javnega naročila) zagotavljal rezervne del v skladu z razpisnimi zahtevami"]
[null,"K ponudbi priložiti izjavo proizvajalca opreme z navedbo pooblaščenega servisa, ki bo za objekt (navedba javnega naročila) zagotavljal garancijske popravila v skladu z razpisnimi pogoji."]
[]
["8.","INOX IZHODNA MIZA Z VALJČKI – DESNA",null,1,null,{"$f":"D1415*E1415","v":0},{"$f":"+E1415*MM","v":0},{"$f":"+G1415*D1415","v":0},{"$f":"+E1415-G1415","v":0},{"$f":"+I1415*D1415","v":0}]
[null,"Izvedeno iz nerjavečega jekla "]
[null,"Zadaj in desno povišan rob, visok 100 mm"]
[null,"Na sprednji strani prirejeno za spajanje s pomivalnim strojem"]
[null,"Spodaj odprto "]
[null,"Smer: L-D "]
[null,"Izvedba: ravna miza"]
[null,"Dolžina: 1.000 mm"]
[null,"Globina: 650 mm"]
[null,"Višina: 900 mm"]
[null,"Končno stikalo",null,null,"¸¸"]
[null,"Ponudnik mora v dokaz izpolnjevanja tehničnih zahtev predmeta javnega naročila za to postavko predložiti ustrezna dokazila oziroma dokumentacijo, kot je katalog ali tehnični list, pri čemer mora ponudnik v ponudbi jasno označiti kateri dokumenti se nanašajo na katero postavko in sicer na način, da navede strani ponudbe, ki se nanašajo na dokazila za posamezno postavko ter, da na vsako od dokazil zapiše zaporedno številko postavke na katero se dokazilo nanaša."]
[]
["9.","INOX STENSKI PAROLOV",null,1]
[null,"dim. 1600x1100 mm"]
[null,"V POPISU STROJNIH INSTALACIJ"]
[null,"OBRAČUN VREDNOSTI:  odklop, demontažo, pregled in servis, skladiščenje v času obnove, ponovno vgradnjo, priklop in zagon. Skupaj z manipulativno stroški in drobnim montažnim materialom. Poročilo o opravljenem servisu."]
[]
["10. ","KOŠARE ZA POMIVALNI STROJ   - KPL",null,1,0,{"$f":"D1433*E1433","v":0},{"$f":"+E1433*MM","v":0},{"$f":"+G1433*D1433","v":0},{"$f":"+E1433-G1433","v":0},{"$f":"+I1433*D1433","v":0}]
[null,"3x Košara za krožnike s prsti 8/6 PVC, 500x500x105 mm"]
[null,"2x košara za pladnje s prsti 9 vrst 1 stran odprta PVC, 500x500x105 mm"]
[null,"2x košara ravna za skodelice PVC z 5 delnim vložkom iz plastificirane žice z nagibom, 500x500x105 mm"]
[null,"1x košara osnovna ravna PVC, 500x500x105h"]
[null,"2x vložek za pribor 8 delni PVC, 440x210x260 mm"]
[]
["11.","INOX TALNA REŠETKA ",null,1,null,{"$f":"D1440*E1440","v":0},{"$f":"+E1440*MM","v":0},{"$f":"+G1440*D1440","v":0},{"$f":"+E1440-G1440","v":0},{"$f":"+I1440*D1440","v":0}]
[null,"· izvedba v inox Aisi 304"]
[null,"· bazenom iz inox pločevine debeline 1,5 mm"]
[null,"· višina bazena z rešetko je 145 mm"]
[null,"· sifoniziran odtok fi 75 - horizontalni"]
[null,"· inox sito za večje odpadke z luknjami fi 7"]
[null,"· inox pohodna mreža nedrsna izdelana iz lasersko rezanih profilov debeline 2 mm, višine 20 mm ter sestavljena v mrežo s kvadratnimi luknjami 25x25"]
[null,"· inox zapora pri glodalcem"]
[null,"· privarjena sidra za vgradnjo"]
[null,"· prirobnica za hidro izolacijo"]
[null,"dim. 300x300x145 mm"]
[null,"odtok: Æ75"]
[null,"Dobavitelj tehnološke opreme dovabi talno rešetko. Vgradnjo in povezavo izvede izvajalec vodovodnih instalacij."]
[]
[null,"POMIVANJE JEDILNE POSODE SKUPAJ",null,null,null,{"$f":"SUM(F1250:F1453)","v":0},null,{"$f":"SUM(H1250:H1453)","v":0},null,{"$f":"SUM(J1250:J1453)","v":0}]
[]
["T","POMIVANJE KUHINJSKE POSODE"]
[]
["1.","INOX BAZEN KORITO",null,1,null,{"$f":"D1458*E1458","v":0},{"$f":"+E1458*MM","v":0},{"$f":"+G1458*D1458","v":0},{"$f":"+E1458-G1458","v":0},{"$f":"+I1458*D1458","v":0}]
[null,"dim. 900x700x900/1000 mm"]
[null,"- korito: 700x500x300 mm"]
[null,"- levo spodaj prostor za mehčalno napravo"]
[null,"odtok: DN50"]
[]
["2.","STENSKA MEŠALNA BATERIJA S TUŠEM",null,1,null,{"$f":"D1464*E1464","v":0},{"$f":"+E1464*MM","v":0},{"$f":"+G1464*D1464","v":0},{"$f":"+E1464-G1464","v":0},{"$f":"+I1464*D1464","v":0}]
[null,"priklop vode: THV DN15"]
[]
["3.","AVTOMATSKI MEHČALEC VODE",null,1,null,{"$f":"D1467*E1467","v":0},{"$f":"+E1467*MM","v":0},{"$f":"+G1467*D1467","v":0},{"$f":"+E1467-G1467","v":0},{"$f":"+I1467*D1467","v":0}]
[null,"dim.302x480x530 mm"]
[null,"- avtomatska volumetrijsko krmiljena regulacija"]
[null,"električni priključek 1N-230V"]
[null,"Ponudnik mora v dokaz izpolnjevanja tehničnih zahtev predmeta javnega naročila za to postavko predložiti ustrezna dokazila oziroma dokumentacijo, kot je katalog ali tehnični list, pri čemer mora ponudnik v ponudbi jasno označiti kateri dokumenti se nanašajo na katero postavko in sicer na način, da navede strani ponudbe, ki se nanašajo na dokazila za posamezno postavko ter, da na vsako od dokazil zapiše zaporedno številko postavke na katero se dokazilo nanaša."]
[]
["4.","STROJ ZA POMIVANJE KUHALNE POSODE S POVRATNIM ZAJEMANJEM TOPLOTE",null,1,null,{"$f":"D1473*E1473","v":0},{"$f":"+E1473*MM","v":0},{"$f":"+G1473*D1473","v":0},{"$f":"+E1473-G1473","v":0},{"$f":"+I1473*D1473","v":0}]
[null,"Teoretična kapaciteta:  "]
[null,"Standardni program 12 / 24 / 40 Košar/h"]
[null,"Kratki program 23 / 42 / 64 Košar/h"]
[null,"Programska oprema za uporabo v gastronomiji"]
[null,"Programska oprema za uporabo v pekarnah"]
[null,"Programska oprema za uporabo v mesariji"]
[null,"Nap: 3x400V 9,4 / 10,0 / 16,3 kW – možen preklop"]
[null,"Bojler: 10,2 kW"]
[null,"Stroj pripravljen za priklop na hladno vodo <20°C"]
[null,"Prvo polnjenje tanka s toplo vodo"]
[null,"Dimenzije: 775x870x1910h"]
[null,"Svetla vstavna višina s košaro: 640 mm"]
[null,"Svetla vstavna globina: 651 mm"]
[null,"1x osnovna RF ravna košara 612x672x134 mm; 65006235"]
[null,"1x RF košara – nosilec za pladnje in pekače 6 vrst 490x610x285 mm;85000550  "]
[null,"Črpalka za dvig pritiska izpiranja s svežo vodo"]
[null,"Poraba sveže vode za izpiranje: 4,7 lit/košaro"]
[null,"Črpalka za odvod vode"]
[null,"Črpalka za izpiralno sredstvo s sesalno palico"]
[null,"Črpalka za pomivalno sredstvo s sesalno palico"]
[null,"Program avtomatskega namakanja posode pred ciklusom pomivanja"]
[null,"Sistem prilagajanja pritiska pomivanja po posameznih programih"]
[null,"Možnost nastavitev pritiska pomivanja, časa pomivanja, temperature pomivanja in izpiranja ter koncentracijo pomivalnega in izpiralnega sredstva po posameznih programih. "]
[null,"Eliptična vrteča pomivalna polja z integriranim sistemom izpiranja s svežo vodo"]
[null,"Pomivalna polja izvedena iz RF nerjaveče pločevine"]
[null,"Sistem aktivnega upravljanja z energijo "]
[null,"Povratno zajemanje toplote v integrirani napi za odvod pare"]
[null,"Možnost preklopa spodnjega dela vrat navzdol za popoln dostop do stroja za lažje čiščenje"]
[null,"Dodatni opis:"]
[null,"Program za zamenjavo vode v tanku z večstopenjskim praznjenjem"]
[null,"Higienski dnevnik s podatkovno zgodovino HACCP"]
[null,"Vgrajen termostop, ki onemogoča izpiranje s prenizko temperaturo vode"]
[null,"Grelec tanka z nastavljivo termično varovalko"]
[null,"Filtracija pomivalne vode: pokrov tanka, valjčno sito, sito na sesalni odprtini črpalke z varnostnim sistemom in Mediamat"]
[null,"Signal za opozarjanje če valjasto sito ni pravilno nameščeno"]
[null,"Signal za opozarjanje v primeru zamašenosti valjastega filtra"]
[null,"Tipalo za motnost pomivalne vode"]
[null,"Prikaz izpraznjenosti posode s pomivalnim in izpiralnim sredstvom"]
[null,"Zaslon na dotik"]
[null,"Nadzor naprave preko wi-fi povezave "]
[null,"Barvno kodirano upravljanje z enim gumbom s prikazom napredovanja"]
[null,"Dodatna tipka za zagon programa pomivanja v stojni višini uporabnika"]
[null,"Vodeni program samočiščenja stroja"]
[null,"Časovno voden avtomatski vklop  in izklop stroja"]
[null,"Prikaz blokiranih pomivalnih polj ločeno zgoraj in spodaj"]
[null,"Prikaz vzdrževalnih intervalov"]
[null,"Upravljalni nivo za šefa kuhinje in nivo za serviserja zaščiten s PIN kodo"]
[null,"Animirana navodila za uporabo in nasveti za pomivanje v slovenskem jeziku"]
[null,"Dvostenska vrata z odpiranjem deljeno gor in navzven z možnostjo postavitve v zaskočni položaj"]
[null,"Globoko vlečen pomivalni tank"]
[null,"Počasni zagon pomivalne črpalke"]
[null,"Tipalo za puščanje vode z avtomatsko zaporo dovoda vode"]
[null,"Zaščita zadnjega dela stroja z RF ploščo   IPX 5"]
[null,"Kapaciteta pomivalnega tanka: 69 lit"]
[null,"Kapaciteta pomivalne črpalke: nastavljivo med 410 in 500 l/min"]
[null,"Izvedba stroja, temperature in rezultat pomivanja po DIN 10512"]
[null,"CE certifikat"]
[null,"Proizvajalec certificiran po ISO 9001"]
[null,"Kot npr. Winterhalter UF-M Energy PV ali enakovredno"]
[null,"Ponudnik mora v dokaz izpolnjevanja tehničnih zahtev predmeta javnega naročila za to postavko predložiti ustrezna dokazila oziroma dokumentacijo, kot je katalog ali tehnični list, pri čemer mora ponudnik v ponudbi jasno označiti kateri dokumenti se nanašajo na katero postavko in sicer na način, da navede strani ponudbe, ki se nanašajo na dokazila za posamezno postavko ter, da na vsako od dokazil zapiše zaporedno številko postavke na katero se dokazilo nanaša."]
[null,"K ponudbi priložiti originalno izjavo proizvajalca opreme, da bo za objekt (navedba javnega naročila) zagotavljal rezervne del v skladu z razpisnimi zahtevami"]
[null,"K ponudbi priložiti izjavo proizvajalca opreme z navedbo pooblaščenega servisa v Sloveniji, ki bo zagotavljal garancijske popravila v skladu z razpisnimi pogoji."]
[]
["5.","INOX NAMENSKI VOZIČEK ZA PREVOZ POSODE Z VODILOM ZA KOŠARO",null,1,null,{"$f":"D1537*E1537","v":0},{"$f":"+E1537*MM","v":0},{"$f":"+G1537*D1537","v":0},{"$f":"+E1537-G1537","v":0},{"$f":"+I1537*D1537","v":0}]
[null,"dim. 772x825x1100 mm"]
[]
["6.","INOX ODPRT KOVINSKI REGAL ",null,1,null,{"$f":"D1540*E1540","v":0},{"$f":"+E1540*MM","v":0},{"$f":"+G1540*D1540","v":0},{"$f":"+E1540-G1540","v":0},{"$f":"+I1540*D1540","v":0}]
[null,"v celoti izdelan iz AISI 304 nerjavečega jekla"]
[null,"Splošne zahteve:"]
[null,"police morajo biti prestavljive brez uporabe orodja in jih lahko izvede sam uporabnik oz. osebje kuhinje med vsakodnevnim delom;"]
[null,"minimalna nosilnost posamezne police mora biti 150 kg/meter posamezne police in min. 500 kg/tm regala;"]
[null,"Konstrukcija:"]
[null,"nosilni stojni elementi iz inox  cevi  fi 40 mm z rastrom nastavitve 100 mm"]
[null,"nosilni stojni elementi morajo biti izdelani brez odprtin oz. lukenj;"]
[null,"zgoraj morajo biti zaprti s plastičnim pokrovom ali zavarjenim inox pokrovčkom;"]
[null,"spodaj morajo biti opremljeni s plastično nastavljivo nogico; višina se lahko nastavlja brez uporabe orodja;"]
[null,"Polica:"]
[null,"police naj bodo izdelane iz nerjaveče pločevine debeline min. 1 mm s primernimi U ojačitvami, za zagotavljanja nosilnosti;"]
[null," police morajo biti obvezno izdelane s prekritimi robovi, ki preprečujejo poškodbe pri delu;"]
[null,"če ni opisano drugače pri posamezni poziciji je potrebno pri vsakem segmentu regalu upoštevati 5x polno polico ustrezne dimenzije glede na celotno dolžino;"]
[null,"skupna dolžina 1400x640x2000 mm"]
[]
["7.","INOX TALNA REŠETKA ",null,1,null,{"$f":"D1556*E1556","v":0},{"$f":"+E1556*MM","v":0},{"$f":"+G1556*D1556","v":0},{"$f":"+E1556-G1556","v":0},{"$f":"+I1556*D1556","v":0}]
[null,"· izvedba v inox Aisi 304"]
[null,"· bazenom iz inox pločevine debeline 1,5 mm"]
[null,"· višina bazena z rešetko je 145 mm"]
[null,"· sifoniziran odtok fi 75 - horizontalni"]
[null,"· inox sito za večje odpadke z luknjami fi 7"]
[null,"· inox pohodna mreža nedrsna izdelana iz lasersko rezanih profilov debeline 2 mm, višine 20 mm ter sestavljena v mrežo s kvadratnimi luknjami 25x25"]
[null,"· inox zapora pri glodalcem"]
[null,"· privarjena sidra za vgradnjo"]
[null,"· prirobnica za hidro izolacijo"]
[null,"dim. 300x300x145 mm"]
[null,"odtok: Æ75"]
[null,"Dobavitelj tehnološke opreme dovabi talno rešetko. Vgradnjo in povezavo izvede izvajalec vodovodnih instalacij."]
[]
[null,"POMIVANJE KUHINJSKE POSODE SKUPAJ",null,null,null,{"$f":"SUM(F1457:F1569)","v":0},null,{"$f":"SUM(H1457:H1569)","v":0},null,{"$f":"SUM(J1457:J1569)","v":0}]
[]
["U","PROSTOR ZA ČISTILA"]
[]
["1.","INOX IZLIVNO KORITO Z UMIVALNIKOM IN MEŠALNO BATERIJO",null,1,null,{"$f":"D1574*E1574","v":0},{"$f":"+E1574*MM","v":0},{"$f":"+G1574*D1574","v":0},{"$f":"+E1574-G1574","v":0},{"$f":"+I1574*D1574","v":0}]
[null,"dim. 500x600x850 mm"]
[null,"- dim. umivalnika: 340x240x150 mm, dim. korita: 370x240x150 mm"]
[null,"- iz nerjaveče pločevine"]
[null,"priklop vode: THV DN15"]
[null,"odtok: DN50"]
[]
["2.","INOX ZAPRTA VISEČA OMARICA",null,1,null,{"$f":"D1581*E1581","v":0},{"$f":"+E1581*MM","v":0},{"$f":"+G1581*D1581","v":0},{"$f":"+E1581-G1581","v":0},{"$f":"+I1581*D1581","v":0}]
[null,"dim.1800x350x600 mm"]
[null,"- krilna vrata"]
[null,"- vmesna polica nastavljiva po višini"]
[]
["3.","INOX TALNA REŠETKA ",null,1,null,{"$f":"D1586*E1586","v":0},{"$f":"+E1586*MM","v":0},{"$f":"+G1586*D1586","v":0},{"$f":"+E1586-G1586","v":0},{"$f":"+I1586*D1586","v":0}]
[null,"· izvedba v inox Aisi 304"]
[null,"· bazenom iz inox pločevine debeline 1,5 mm"]
[null,"· višina bazena z rešetko je 145 mm"]
[null,"· sifoniziran odtok fi 75 - horizontalni"]
[null,"· inox sito za večje odpadke z luknjami fi 7"]
[null,"· inox pohodna mreža nedrsna izdelana iz lasersko rezanih profilov debeline 2 mm, višine 20 mm ter sestavljena v mrežo s kvadratnimi luknjami 25x25"]
[null,"· inox zapora pri glodalcem"]
[null,"· privarjena sidra za vgradnjo"]
[null,"· prirobnica za hidro izolacijo"]
[null,"dim. 300x300x145 mm"]
[null,"odtok: Æ75"]
[null,"Dobavitelj tehnološke opreme dovabi talno rešetko. Vgradnjo in povezavo izvede izvajalec vodovodnih instalacij."]
[]
[null,"PROSTOR ZA ČISTILA SKUPAJ",null,null,null,{"$f":"SUM(F1573:F1599)","v":0},null,{"$f":"SUM(H1573:H1599)","v":0},null,{"$f":"SUM(J1573:J1599)","v":0}]
[]
["V","DODATNA OPREMA"]
[]
["1","INOX KOTNA ZAŠČITA VOGALOV ",null,31,null,{"$f":"D1604*E1604","v":0},{"$f":"+E1604*MM","v":0},{"$f":"+G1604*D1604","v":0},{"$f":"+E1604-G1604","v":0},{"$f":"+I1604*D1604","v":0}]
[null,"Izvedba iz inox pločevine debeline 1,5 mm AISI 304 brušene na granulacijo 400, dimenzija kotnika 40x40x2200, kotnik ima po višini na obeh straneh rahlo nakazan rob. Pritrditev na keramiko ali zid se izvede s silikonskimi lepili. (SIKA brezbarvi, enakovredno ali boljše)."]
[null,"dim. 40x40x2200 mm"]
[null,"Pred izdelavo preveriti dimenzije na objektu."]
[]
["2","INOX ODBOJNIK - OD 1",null,4,null,{"$f":"D1609*E1609","v":0},{"$f":"+E1609*MM","v":0},{"$f":"+G1609*D1609","v":0},{"$f":"+E1609-G1609","v":0},{"$f":"+I1609*D1609","v":0}]
[null,"Izvedba iz inox cevi 20x40 AISI 304 debelina stene 1,5 mm brušene na granulacijo 320, cevi so na konceh zaključene pod kotom 45 stopinj. Pritrditev v zid poteka na 1m z distančno cevko inox fi 21x20 tako, da je končni odmik od zida 40 mm. Vidne odprtine na steni za vijačenje zapolnjene z gumi zamaškom sive barve."]
[null,"dim. 2000 x40x20 mm"]
[null,"Pred izdelavo preveriti dimenzije na objektu."]
[]
[null,"DODATNA OPREMA  SKUPAJ",null,null,null,{"$f":"SUM(F1603:F1613)","v":0},null,{"$f":"SUM(H1603:H1613)","v":0},null,{"$f":"SUM(J1603:J1613)","v":0}]
[]
["Z","IZVEDBENI STROŠKI"]
[]
["1","DOSTAVA IN VNOS OPREME",null,1,null,{"$f":"D1618*E1618","v":0},{"$f":"+E1618*MM","v":0},{"$f":"+G1618*D1618","v":0},{"$f":"+E1618-G1618","v":0},{"$f":"+I1618*D1618","v":0}]
[]
["2","MONTAŽA OPREME NA PRIPRAVLJENE PRIKLJUČKE",null,1,null,{"$f":"D1620*E1620","v":0},{"$f":"+E1620*MM","v":0},{"$f":"+G1620*D1620","v":0},{"$f":"+E1620-G1620","v":0},{"$f":"+I1620*D1620","v":0}]
[]
["3","ZAGON OPREME IN IZDELAVA USTREZNIH POROČIL",null,1,null,{"$f":"D1622*E1622","v":0},{"$f":"+E1622*MM","v":0},{"$f":"+G1622*D1622","v":0},{"$f":"+E1622-G1622","v":0},{"$f":"+I1622*D1622","v":0}]
[]
["4","GROBO ČIŠČENJE OPREME IN ODVOZ EMBALAŽE",null,1,null,{"$f":"D1624*E1624","v":0},{"$f":"+E1624*MM","v":0},{"$f":"+G1624*D1624","v":0},{"$f":"+E1624-G1624","v":0},{"$f":"+I1624*D1624","v":0}]
[null,"Dobavitelj opreme je dolžan odstaniti zaščitno folijo, ki po montaži opreme ni več dosegljiva in vso ostalo zaščitno folijo po zahtevi naročnika."]
[]
["5","ŠOLANJE OSEBJA IN TESTNO KUHANJE",null,1,null,{"$f":"D1627*E1627","v":0},{"$f":"+E1627*MM","v":0},{"$f":"+G1627*D1627","v":0},{"$f":"+E1627-G1627","v":0},{"$f":"+I1627*D1627","v":0}]
[]
["6","PREGLED STROJEM IN NAPRAV S STRANI POOBLAŠČENEGA IZVAJALCA",null,1,null,{"$f":"D1629*E1629","v":0},{"$f":"+E1629*MM","v":0},{"$f":"+G1629*D1629","v":0},{"$f":"+E1629-G1629","v":0},{"$f":"+I1629*D1629","v":0}]
[null,"Poročilo o prgledu strojev in naprav"]
[]
[null,"IZVEDBENI STROŠKI  SKUPAJ",null,null,null,{"$f":"SUM(F1617:F1631)","v":0},null,{"$f":"SUM(H1617:H1631)","v":0},null,{"$f":"SUM(J1617:J1631)","v":0}]

{"sheet":"CDE-REKAP. NOTRANJA OPREMA","index":119,"n_rows":22,"n_cols":5,"rows_kept":22,"cut":false,"hidden":false,"merged":[]}
["Investitor:   ","Mestna občina Ljubljana"]
[null,"Konzorcij družb Petrol d. d. in Resalta d. o. o. "]
["Objekt:      ","OŠ Savsko naselje, Matjaževa ulica 4, Ljubljana"]
[null," - Celovita prenova objekta s statično, požarno in energetsko sanacijo."]
["Štev. proj.:     "]
["Datum:      ","April 2022"]
[]
[]
[]
[]
[null,"REKAPITULACIJA"]
[null,"NOTRANJA OPREMA  objekta C, D in E"]
[]
[]
[null,"Ponudbena vrednost - skupna rekapitulacija","Vrednost  brez popusta","Popust","Vrednost s popustom"]
[null,{"$f":"'CDE-OPREMA KLET'!$B$7","v":"OPREMA KLETI"},{"$f":"'CDE-OPREMA KLET'!$F$34","v":0},{"$f":"'CDE-OPREMA KLET'!$H$34","v":0},{"$f":"'CDE-OPREMA KLET'!$J$34","v":0}]
[null,{"$f":"'CDE-OPREMA PRITLIČJE '!$B$16","v":"OPREMA PRITLIČJA"},{"$f":"'CDE-OPREMA PRITLIČJE '!$G$457","v":0},{"$f":"'CDE-OPREMA PRITLIČJE '!$I$457","v":0},{"$f":"'CDE-OPREMA PRITLIČJE '!$K$457","v":0}]
[null,{"$f":"'CDE-OPREMA 1 NADSTROPJE'!$B$16","v":"OPREMA PRVEGA NADSTROPJA"},{"$f":"'CDE-OPREMA 1 NADSTROPJE'!$G$404","v":0},{"$f":"'CDE-OPREMA 1 NADSTROPJE'!$I$404","v":0},{"$f":"'CDE-OPREMA 1 NADSTROPJE'!$K$404","v":0}]
[null,{"$f":"'CDE-OPREMA 2 NADSTROPJE'!$B$9","v":"OPREMA DRUGEGA NADSTROPJA"},{"$f":"'CDE-OPREMA 2 NADSTROPJE'!$G$283","v":0},{"$f":"'CDE-OPREMA 2 NADSTROPJE'!$I$283","v":0},{"$f":"'CDE-OPREMA 2 NADSTROPJE'!$K$283","v":0}]
[null,"SKUPAJ",{"$f":"SUM(C16:C19)","v":0},{"$f":"SUM(D16:D19)","v":0},{"$f":"SUM(E16:E19)","v":0}]
[null,"22% DDV",null,null,{"$f":"+E20*0.22","v":0}]
[null,"NOTRANJA OPREMA  objekta C, D in E  SKUPAJ Z DDV",null,null,{"$f":"+E20+E21","v":0}]

{"sheet":"CDE-OPREMA KLET","index":120,"n_rows":34,"n_cols":10,"rows_kept":34,"cut":false,"hidden":false,"merged":[]}
[null,"Objekt C, D in E,  OPREMA KLET"]
[]
["ZAP. ŠT.","OPIS","     ME","KOLIČUNA","CENA/ENOTO","SKUPAJ","POPUST","POPUST SKUPAJ","CENA/ENOTO S POPUSTOM","SKUPAJ S POPUSTOM"]
[]
["I.","OPREMA"]
[]
["I.1.","OPREMA KLETI"]
[]
[null,"Klet - Graderoba, wc : KD_06"]
[]
[null,"K1- Koš za smeti ,npr. HAN GRIP","kos",2,null,{"$f":"D11*E11","v":0},{"$f":"+E11*MM","v":0},{"$f":"+G11*D11","v":0},{"$f":"+E11-G11","v":0},{"$f":"+I11*D11","v":0}]
[null,"dimenzije: 312 x 237 x 345 mm (DxGxV)                                                                                 volumen: 18 litrov                                                                                           https://www.enaa.com/kosi-za-smeti/han-kos-za-smeti-grip-siv  "]
[]
[null,"M1- wc ščetka, npr. Poseidon Ewa ","kos",1,null,{"$f":"D14*E14","v":0},{"$f":"+E14*MM","v":0},{"$f":"+G14*D14","v":0},{"$f":"+E14-G14","v":0},{"$f":"+I14*D14","v":0}]
[null,"širina: 12,5 cm\ndolžina: 12,5 cm\nvišina: 37 cm\nbarva: bela\nmaterial: umetna masa                                                                                           https://www.bauhaus.si/wc-garnitura-poseidon-ewa-bela-pvc  "]
[]
[null,"Klet - Manipulacije, priprave, skladišče, hlad.paneli,kuhinja : KD_05"]
[]
[null,"ST1 - Stol za zaposlene","kos",1,null,{"$f":"D19*E19","v":0},{"$f":"+E19*MM","v":0},{"$f":"+G19*D19","v":0},{"$f":"+E19-G19","v":0},{"$f":"+I19*D19","v":0}]
[null,"Dvižni vrtiljak za učitelje s polipropilensko školjko.\nPet (5) krako zvezda aluminijasto podnožje, prašno barvano po proizvajalčevi barvni skali, na kolesih za trda tla.\nSediščna školjka iz polipropilena, (AIR cushion) lita školjka z notranjim praznim prostorom, ergonomsko sedišče opremljeno s 3D gibljivim mehanizmom pod sediščem (aktivno sedenje) , \nS pripadajočimi certifikati: BIFMA, GREENGUARD GOLD, LGA, GS, AGR, THE GLOBAL COMPACT\nOBDELAVA;\nPodnožje: arctic \nSediščna školjka: green"]
[null,"Dim. 46 / 50 cm; višina sedišča 42,4 - 55,2 cm,\nKot npr.: PantoMove-LuPo; VS Vereinigte Spezialmöbelfabriken\nali popolnoma enakovredno (tehnično in oblikovno)"]
[]
[null,"M4 - Miza za učence","kos",1,null,{"$f":"D23*E23","v":0},{"$f":"+E23*MM","v":0},{"$f":"+G23*D23","v":0},{"$f":"+E23-G23","v":0},{"$f":"+I23*D23","v":0}]
[null,"Miza na štirih (4) nogah.\nKonstrukcija iz kovinski profilov, ki so med seboj varjeni in vijačeni, prašno barvani po proizvajalčevi barvni skali, noge na višinsko nastavljivih zaščitnih čepih,\nMizna plošča iz materiala LIGNOpal (iverna plošča je obeh straneh laminirana z dekorativno folijo, prevlečena z melaminsko smolo) v sivo beli barvi, rob mizne plošče v varjenem ABS materialu debeline 2.5mm,\nS pripadajočimi certifikati: Greenguard, BIFMA, GS-Geprüfte Sicherheit, PEFC, LGA, THE GLOBAL COMPACT, DIN ISO 38200\nOBDELAVA;\nPodnožje: arctic \nMizna plošča: white"]
[null,"Dim. 140 / 70 cm, višina mizne ploskve 76 cm\nKot npr.: EcoTable-R; VS Vereinigte Spezialmöbelfabriken\nali popolnoma enakovredno (tehnično in oblikovno)"]
[]
[null,"MPR - Mobilni predalnik","kos",1,null,{"$f":"D27*E27","v":0},{"$f":"+E27*MM","v":0},{"$f":"+G27*D27","v":0},{"$f":"+E27-G27","v":0},{"$f":"+I27*D27","v":0}]
[null,"Predalnik s štirimi (4) predali na kolesih.\nKonstrukcija - korpus iz materiala LINGOpal v barvi po proizvajalčevi barvni skali, robovi z varjenim ABS robom 1.5mm,\nPodnožje kolesa za trda tla,\nVrata iz materiala LINGOpal v barvi po proizvajalčevi barvni skali, robovi z varjenim ABS robom 1.5mm, \nSistem predalov proti prevrnitvi  (ORGA drawer - odprt je lahko le en predal hkrati),\nRazporeditev predalov; 1.5 + 2 + 2 + 4 HU, \nPredali opremljeni s cilindrično ključavnico, vsak predal ima kovinski ročaj, finalna obdelava nikelj,\nS pripadajočimi certifikati: Greenguard, BIFMA, GS-Geprüfte Sicherheit, PEFC, LGA, THE GLOBAL COMPACT, DIN ISO 38200\nOBDELAVA;\nKonstrukcija: white\nVrata - fronte: white"]
[null,"Dim.43 / 60 / 55cm; \nKot npr.: OfficeBox; VS Vereinigte Spezialmöbelfabriken\nali popolnoma enakovredno (tehnično in oblikovno)"]
[]
[null,"K2- Koš za smeti, npr. kovinski mrežasti","kos",1,null,{"$f":"D31*E31","v":0},{"$f":"+E31*MM","v":0},{"$f":"+G31*D31","v":0},{"$f":"+E31-G31","v":0},{"$f":"+I31*D31","v":0}]
[null,"Kovinski mrežasti koš za smeti\nVolumen 18 litrov\nDimenzije: višina 35,5 cm, premer 29,5                                                                                       Barva: črna\nhttps://www.11st-oprema.si/drugo/kosi-za-smeti/kovinski-mrezasti-kos-za-smeti"]
[]
[null,"SKUPAJ OPREMA KLET",null,null,null,{"$f":"SUM(F10:F33)","v":0},null,{"$f":"SUM(H10:H33)","v":0},null,{"$f":"SUM(J10:J33)","v":0}]

{"sheet":"CDE-OPREMA PRITLIČJE ","index":121,"n_rows":457,"n_cols":11,"rows_kept":457,"cut":false,"hidden":false,"merged":[]}
[null,"Objekt C, D in E,  OPREMA KLET"]
[]
["ZAP. ŠT.","OPIS","     ME","KOLIČUNA","SLIKA","CENA/ENOTO","SKUPAJ","POPUST","POPUST SKUPAJ","CENA/ENOTO S POPUSTOM","SKUPAJ S POPUSTOM"]
[]
["I.","OPREMA"]
[]
[null,"SPLOŠNE ZAHTEVE"]
[]
[null,"Stoli in mize za učence"]
[null,"Stoli in mize morajo biti izdelani skladno s standardom DIN EN 1729 oz. SIST ISO 5970."]
[null,"Skladno z zahtevami se v vsako matično učilnico (razredi 1-5)  razporedi stole 3 višin - 20% najnižjih, 50% srednje višine, 30%najvišjih; in sicer za prvi in drugi razred višine 1, 2 in 3; za tretji in četrti razred višine 2,3 in 4; za peti razred višine 3,4 in 5. "]
[null,"Skladno z navodili za graditev osnovnih šol v republiki Sloveniji (razpisno gradivo, maj 2007) se v vsako predmetno učilnico (razredi 6-9) razporedi stole 3 višin - 25% najnižjih, 50% srednje višine, 25%najvišjih; in sicer za šesti in sedmi razred višine 3,4 in 5; ter za osmi in deveti razred višine 4,5 in 6."]
[]
[null,"Končne višine stolov in miz za vsako učilnico določi predstavnik šole."]
[]
["I.2.","OPREMA PRITLIČJA"]
[null,null,null,null,null,null,"TRAKT C"]
[]
[null,"Vrtec, pritličje - Igralnica za otroke 1: PC_06"]
[]
[null,"M2 - Miza za otroke","kos",3,null,null,{"$f":"D21*F21","v":0},{"$f":"+F21*MM","v":0},{"$f":"+H21*D21","v":0},{"$f":"+F21-H21","v":0},{"$f":"+J21*D21","v":0}]
[null,"Miza unikatne oblike na štirih (4) nogah.\nKonstrukcija iz jeklenih cevi (noge iz okroglih, vezniki iz kvadratnih), ki so med seboj varjeni in vijačeni, prašno barvani po proizvajalčevi barvni skali - M1, noge na višinsko nastavljivih zaščitnih čepih, prilagojenimi za obstoječa tla.\nIverna mizna plošča (LIGNOpal), na obeh straneh laminirana z dekorativno folijo, prevlečena z melaminsko smolo\n(v barvi po proizvajalčevi barvni skali - L3) s tesno prilegajočim se plastičnim zaključnim robom (ABS 2,5 mm).\nS pripadajočimi certifikati: Greenguard, BIFMA, GS-Geprüfte Sicherheit, PEFC, LGA, THE GLOBAL COMPACT, DIN ISO 38200\nOBDELAVA;\nPodnožje: arctic \nMizna plošča: grey white"]
[null,"Dim. 165 / 114; višina mizne ploskve 40 cm,\nKot npr.: Puzzle free-form, VS Vereinigte Spezialmöbelfabriken\nali popolnoma enakovredno (tehnično in oblikovno)"]
[]
[null,"ST11 - Stol za otroke","kos",14,null,null,{"$f":"D25*F25","v":0},{"$f":"+F25*MM","v":0},{"$f":"+H25*D25","v":0},{"$f":"+F25-H25","v":0},{"$f":"+J25*D25","v":0}]
[null,"Lesen stol za manjše otroke z naslonom za roke. Okvir iz masivnega bukovega lesa, sedež in anslonjalo iz vezane bukove plošče. Drsniki prilagojeni tlem.\nS pripadajočimi certifikati: Greenguard, BIFMA, GS-Geprüfte Sicherheit, PEFC, LGA, THE GLOBAL COMPACT, DIN ISO 38200\nOBDELAVA;\nPodnožje: bukev\nSediščna školjka: bukev"]
[null,"Višina sedišča 26 cm,\nKot npr.: Bambino; VS Vereinigte Spezialmöbelfabriken\nali popolnoma enakovredno (tehnično in oblikovno)"]
[]
[3,"VOP - Visoka otroška posteljica s pripadajočo vzmetnico","kos",2,null,null,{"$f":"D29*F29","v":0},{"$f":"+F29*MM","v":0},{"$f":"+H29*D29","v":0},{"$f":"+F29-H29","v":0},{"$f":"+J29*D29","v":0}]
[null,"Visoka posteljica na štirih (4) nogah. Zgoraj posteljni del, s treh strani obdan z okroglimi lesenimi profili. Na sprednji strani drsna vrata, z varovalom in možnostjo odpiranja z zunanje strani. Konstrukcija iz masivnega bukovega lesa. V spodnjem delu odprtina za igranje.\nS pripadajočimi certifikati: GS-Geprüfte Sicherheit\nOBDELAVA;\nKonstrukcija: bukev"]
[null,"Dim. 127,5 / 67,5 / 180 cm\nKot npr.: Krippen-Hochbett; Matratze; Wehrfritz\nali popolnoma enakovredno (tehnično in oblikovno)"]
[]
[4,"KP - Korpus za previjanje","kos",1,null,null,{"$f":"D33*F33","v":0},{"$f":"+F33*MM","v":0},{"$f":"+H33*D33","v":0},{"$f":"+F33-H33","v":0},{"$f":"+J33*D33","v":0}]
[null,"Korpus s previjalno mizo, izvlečnimi stopnicami in umivalnikom. Konstrukcija - korpus iz troslojne iverne plošče, na obeh straneh laminirane z dekorativno folijo, prevlečene z melaminsko smolo, robovi z varjenim ABS robom 2mm. Levo izvlečne stopnice s štirimi (4) stopnicami z ročajem, v sredini omara z osmimi (8) predali, desno omara s štirimi (4) predali in umivalnikom. V zgornjem delu delovni pult iz HPL plošče in previjalalna podlaga. \nS pripadajočimi certifikati: GS-Geprüfte Sicherheit\nOBDELAVA;\nKonstrukcija: bela"]
[null,"Dim. 231 x V 115 x G 90 cm, višina za previjanje 92 cm\nKot npr.: Wickelanlage mit 14 Schubkästen und Treppe, ; Wehrfritz\nali popolnoma enakovredno (tehnično in oblikovno)"]
[]
[null,"VIO6 - Visoka omara s policami in predali","kos",2,null,null,{"$f":"D37*F37","v":0},{"$f":"+F37*MM","v":0},{"$f":"+H37*D37","v":0},{"$f":"+F37-H37","v":0},{"$f":"+J37*D37","v":0}]
[null,"Visoka omara s z dvojnimi (2) vrati (v notranjosti s premičnimi policami) in ključavnico  in desetimi (10) predali spodaj.\nKonstrukcija - korpus iz materiala LIGNOpal (iverna plošča je obeh straneh laminirana z dekorativno folijo, prevlečena z melaminsko smolo) v barvi po proizvajalčevi barvni skali, robovi z varjenim ABS robom 1.5mm,\nPodnožje iz materiala LINGOpal v barvi po proizvajalčevi barvni skali, robovi z varjenim ABS robom 1.5mm,\nVrata iz materiala LINGOpal v barvi po proizvajalčevi barvni skali, robovi z varjenim ABS robom 1.5mm, odmična spona 270°,\nVrata opremljena s cilindrično ključavnico, kovinski ročaj, finalna obdelava nikelj. Sistem predalov proti prevrnitvi  (ORGA drawer - odprt je lahko le en predal hkrati).\nPredali opremljeni s cilindrično ključavnico, vsak predal ima kovinski ročaj, finalna obdelava nikelj.\nS pripadajočimi certifikati: Greenguard, BIFMA, GS-Geprüfte Sicherheit, PEFC, LGA, THE GLOBAL COMPACT, DIN ISO 38200\nOBDELAVA;\nKonstrukcija: white\nPodnožje: white\nVrata - fronte: white"]
[null,"Dim. 120 / 58 / 197 cm;\nKot npr.: Serie 800 Cabinet; VS Vereinigte Spezialmöbelfabriken\nali popolnoma enakovredno (tehnično in oblikovno)"]
[]
[null,"VIO7- Visoka omara za shranjevanje ležalnikov","kos",2,null,null,{"$f":"D41*F41","v":0},{"$f":"+F41*MM","v":0},{"$f":"+H41*D41","v":0},{"$f":"+F41-H41","v":0},{"$f":"+J41*D41","v":0}]
[null,"Visoka omara z dvojnimi (2) klasičnimi vrati (s polico zgoraj) in ključavnico\nKonstrukcija - korpus iz materiala LIGNOpal (iverna plošča je obeh straneh laminirana z dekorativno folijo, prevlečena z melaminsko smolo) v barvi po proizvajalčevi barvni skali, robovi z varjenim ABS robom 1.5mm,\nPodnožje iz materiala LIGNOpal v barvi po proizvajalčevi barvni skali, robovi z varjenim ABS robom 1.5mm,\nVrata iz materiala LIGNOpal v barvi po proizvajalčevi barvni skali, robovi z varjenim ABS robom 1.5mm, odmična spona 270°,\nVrata opremljena s cilindrično ključavnico, kovinski ročaj, finalna obdelava nikelj,\nS pripadajočimi certifikati: Greenguard, BIFMA, GS-Geprüfte Sicherheit, PEFC, LGA, THE GLOBAL COMPACT, DIN ISO 38200\nOBDELAVA;\nKonstrukcija: grey white\nPodnožje: grey white\nVrata - fronte: grey white"]
[null,"Dim. 145 / 70 / 197 cm,\nKot npr.: Serie 800 Cabinet; VS Vereinigte Spezialmöbelfabriken\nali popolnoma enakovredno (tehnično in oblikovno)"]
[]
[null,"L1 - Ležalnik s pripadajočo rjuho","kos",14,null,null,{"$f":"D45*F45","v":0},{"$f":"+F45*MM","v":0},{"$f":"+H45*D45","v":0},{"$f":"+F45-H45","v":0},{"$f":"+J45*D45","v":0}]
[null,"Naložljiv ležalnik z aluminijastim ogrodjem s štirimi (4) plastičnimi nogami in plastično mrežo. Ležalnik je opremljen z elastično rjuho.\nS pripadajočimi certifikati:\nOBDELAVA:"]
[null,"Dim. Ležalnika in pripadajoče rjuhe 130 / 55 / 197 cm,\nKot npr.: Kunststoffliege; Wehrfritz\nali popolnoma enakovredno (tehnično in oblikovno)\""]
[]
[null,"DMV - Delovna miza vrtec","kos",1,null,null,{"$f":"D49*F49","v":0},{"$f":"+F49*MM","v":0},{"$f":"+H49*D49","v":0},{"$f":"+F49-H49","v":0},{"$f":"+J49*D49","v":0}]
[null,"Pisarniška miza na štirih (4) nogah.\nKonstrukcija iz kovinski profilov, ki so med seboj varjeni in vijačeni, prašno barvani po proizvajalčevi barvni skali, noge na višinsko nastavljivih zaščitnih čepih,\nMizna plošča iz materiala LIGNOpal (iverna plošča je obeh straneh laminirana z dekorativno folijo, prevlečena z melaminsko smolo) v beli barvi, rob mizne plošče v varjenem ABS materialu debeline 2.5mm,\nS pripadajočimi certifikati: Greenguard, BIFMA, GS-Geprüfte Sicherheit, PEFC, LGA, THE GLOBAL COMPACT, DIN ISO 38200\nOBDELAVA;\nPodnožje: arctic \nMizna plošča: white"]
[null,"Dim. 120 / 60 cm, višina mizne ploskve 76 cm\nKot npr.: EcoTable-R; VS Vereinigte Spezialmöbelfabriken\nali popolnoma enakovredno (tehnično in oblikovno)"]
[]
[null,"MPR - Mobilni predalnik","kos",1,null,null,{"$f":"D53*F53","v":0},{"$f":"+F53*MM","v":0},{"$f":"+H53*D53","v":0},{"$f":"+F53-H53","v":0},{"$f":"+J53*D53","v":0}]
[null,"Predalnik s štirimi (4) predali na kolesih.\nKonstrukcija - korpus iz materiala LINGOpal v barvi po proizvajalčevi barvni skali, robovi z varjenim ABS robom 1.5mm,\nPodnožje kolesa za trda tla,\nVrata iz materiala LINGOpal v barvi po proizvajalčevi barvni skali, robovi z varjenim ABS robom 1.5mm, \nSistem predalov proti prevrnitvi  (ORGA drawer - odprt je lahko le en predal hkrati),\nRazporeditev predalov; 1.5 + 2 + 2 + 4 HU, \nPredali opremljeni s cilindrično ključavnico, vsak predal ima kovinski ročaj, finalna obdelava nikelj,\nS pripadajočimi certifikati: Greenguard, BIFMA, GS-Geprüfte Sicherheit, PEFC, LGA, THE GLOBAL COMPACT, DIN ISO 38200\nOBDELAVA;\nKonstrukcija: white\nVrata - fronte: white"]
[null,"Dim. 43 / 60 / 55cm; \nKot npr.: OfficeBox; VS Vereinigte Spezialmöbelfabriken\nali popolnoma enakovredno (tehnično in oblikovno)"]
[]
[null,"K2- Koš za smeti, npr. kovinski mrežasti","kos",1,null,null,{"$f":"D57*F57","v":0},{"$f":"+F57*MM","v":0},{"$f":"+H57*D57","v":0},{"$f":"+F57-H57","v":0},{"$f":"+J57*D57","v":0}]
[null,"Kovinski mrežasti koš za smeti\nVolumen 18 litrov\nDimenzije: višina 35,5 cm, premer 29,5                                                                                Barva: črna\nhttps://www.11st-oprema.si/drugo/kosi-za-smeti/kovinski-mrezasti-kos-za-smeti"]
[]
[null,"ST1- Stol za zaposlene","kos",1,null,null,{"$f":"D60*F60","v":0},{"$f":"+F60*MM","v":0},{"$f":"+H60*D60","v":0},{"$f":"+F60-H60","v":0},{"$f":"+J60*D60","v":0}]
[null,"Dvižni vrtiljak za učitelje s polipropilensko školjko.\nPet (5) krako zvezda aluminijasto podnožje, prašno barvano po proizvajalčevi barvni skali, na kolesih za trda tla.\nErgonomska sediščna školjka iz vezane bukove ali hrastove plošče, prevlečena z barvo proti drsenju (v barvi po proizvajalčevi barvni skali).Odprtina v hrbtišču. Robovi sediščne školjke zaobljeni. Pritrditev sediščne školjke na podnožje nevidna.\nS pripadajočimi certifikati: Greenguard, BIFMA, GS-Geprüfte Sicherheit, PEFC, LGA, THE GLOBAL COMPACT, DIN ISO 38200\nOBDELAVA;\nPodnožje: arctic \nMizna plošča: light green"]
[null,"Dim. 46 / 50 cm; višina sedišča 42,4 - 55,2 cm,\nKot npr.: PantoMove-LuPo; VS Vereinigte Spezialmöbelfabriken\nali popolnoma enakovredno (tehnično in oblikovno)"]
[]
[null,"M11- Okrogla miza za delo na tleh","kos",1,null,null,{"$f":"D64*F64","v":0},{"$f":"+F64*MM","v":0},{"$f":"+H64*D64","v":0},{"$f":"+F64-H64","v":0},{"$f":"+J64*D64","v":0}]
[null,"Otroška miza z dodatno funkcijo shranjevalnega elementa in držala za pisala in nosilcem za šotorski element,\nKonstrukcija iz ABS plastike, rotacijsko lita in naložljiva,\nMizna plošča v CDF plošči (svisokotlačni laminat, krožne oblike z luknjo v sredini (držalo pisal), plošča debeline 13mm,\nS pripadajočimi certifikati: Greenguard, BIFMA, GS-Geprüfte Sicherheit, PEFC, LGA, THE GLOBAL COMPACT, DIN ISO 38200\nOBDELAVA;\nKonstrukcija: White \nMizna plošča: natural maple laminate"]
[null,"Dim.fi63cm; višina mizne ploskve 39.8cm,\nKot npr.: Gugl; VS Vereinigte Spezialmöbelfabriken\nali popolnoma enakovredno (tehnično in oblikovno)"]
[]
[null,"BL1 - Ukrivljena igralna blazina ","kos",6,null,null,{"$f":"D68*F68","v":0},{"$f":"+F68*MM","v":0},{"$f":"+H68*D68","v":0},{"$f":"+F68-H68","v":0},{"$f":"+J68*D68","v":0}]
[null,"Igralna blazina je sestavljena iz debelo obložene pene s\nprotizdrsnim dnom, bočno nosilno zanko in stranic, ki jih\nobdaja črni trak. Zgornja površina igralnih blazin je sestavljena iz trpežne, obarvane tkanine, ki je antibakterijska in enostavna za čiščenje. Požarna odpornost v skladu s standardom DIN 66084 - razredi P-c (nizka) in P-b (srednja). Opcijsko je pri tekstilu skupine S40 na voljo tudi z dodatno ognjevarno podlogo MVSS-303 (razred P-a (visok)), ki je všita pod plastjo\ntkanine.\nS pripadajočimi certifikati: Greenguard, BIFMA, GS-Geprüfte Sicherheit, LGA, THE GLOBAL COMPACT, DIN 66084\nOBDELAVA:\nBlazina: traffic red"]
[null,"Dim. 106 / 86,9 / 8 cm; \nKot npr.: Shift+ Landscape Padded mats; VS Vereinigte Spezialmöbelfabriken\nali popolnoma enakovredno (tehnično in oblikovno)"]
[]
[null,"BLS - Šotorski element za igralno blazino s pripadajočo torbo za shranjevanje","kos",8,null,null,{"$f":"D72*F72","v":0},{"$f":"+F72*MM","v":0},{"$f":"+H72*D72","v":0},{"$f":"+F72-H72","v":0},{"$f":"+J72*D72","v":0}]
[null,"Šotorski element je sestavljen iz raztegljive tkanine po proizvajalčevi barvni skali in palic iz steklenih vlaken za napenjanje trikotne površine, ki se na igralno površino pritrdi s tremi (3) točkami na dolgi in eno (1) točko na kratki stranici.\nS pripadajočimi certifikati: Greenguard, BIFMA, GS-Geprüfte Sicherheit, LGA, THE GLOBAL COMPACT, DIN 66084\nOBDELAVA:\nBlazina: yellow"]
[null,"Dim. Prb. 96 /226 cm; \nKot npr.: Leaf; VS Vereinigte Spezialmöbelfabriken\nali popolnoma enakovredno (tehnično in oblikovno)"]
[]
[null,"BL2 - Pravokotna igralna blazina ","kos",2,null,null,{"$f":"D76*F76","v":0},{"$f":"+F76*MM","v":0},{"$f":"+H76*D76","v":0},{"$f":"+F76-H76","v":0},{"$f":"+J76*D76","v":0}]
[null,"Igralna blazina je sestavljena iz debelo obložene pene s\nprotizdrsnim dnom, bočno nosilno zanko in stranic, ki jih\nobdaja črni trak. Zgornja površina igralnih blazin je sestavljena iz trpežne, obarvane tkanine, ki je antibakterijska in enostavna za čiščenje.\nS pripadajočimi certifikati: Greenguard, BIFMA, GS-Geprüfte Sicherheit, LGA, THE GLOBAL COMPACT, DIN 66084\nOBDELAVA:\nBlazina: yellow"]
[null,"Dim. 105 / 85 / 8 cm; \nKot npr.: Shift+ Landscape Padded mats; VS Vereinigte Spezialmöbelfabriken\nali popolnoma enakovredno (tehnično in oblikovno)"]
[]
[null,"V1 - Velika mehka vreča s polnilom","kos",1,null,null,{"$f":"D80*F80","v":0},{"$f":"+F80*MM","v":0},{"$f":"+H80*D80","v":0},{"$f":"+F80-H80","v":0},{"$f":"+J80*D80","v":0}]
[null,"Oblazinjena vrečka se sedenje, z snemljivo in pralno prevleko.\nNotranja vrečka polnjena z ekspandiranimi EPS polistirenskimi zrnci, v velikosti 3-6 mm. Snemljiva prevleka je iz tkanine (po\nproizvajalčevi barvni skali S41), ki je dvojno prevlečena s snovjo, odporno na vodo, olje in umazanijo. Vreča za sedenje je opremljena z ročajem in 2 žepoma. Požarna odpornost v skladu s standardom DIN 4102 B1.\nS pripadajočimi certifikati: BIFMA, GREENGUARD GOLD, LGA, GS, THE GLOBAL COMPACT, DIN 4102 B1"]
[null,"Dim.180/ 25 / 140cm; \nKot npr.: Cloud, Beanbag\nali popolnoma enakovredno (tehnično in oblikovno)"]
[]
[null,"MO1 - Mobilna omara ","kos",2,null,null,{"$f":"D84*F84","v":0},{"$f":"+F84*MM","v":0},{"$f":"+H84*D84","v":0},{"$f":"+F84-H84","v":0},{"$f":"+J84*D84","v":0}]
[null,"Mobilna omara s šestnajstimi (16) prekati, na kolesih. Konstrukcija - korpus iz materiala LIGNOpal  (iverna plošča je obeh straneh laminirana z dekorativno folijo, prevlečena z melaminsko smolo) v barvi po proizvajalčevi barvni skali, robovi z varjenim ABS robom 1.5mm,\nHrbtišče in stranice omare iz pločevine z vzorcem (perforacija) v barvi po proizvajalčevi barvni skali,\nPodnožje na kolesih z blokado za trda tla.\nS pripadajočimi certifikati: Greenguard, BIFMA, GS-Geprüfte Sicherheit, PEFC, LGA, THE GLOBAL COMPACT, DIN ISO 38200\nOBDELAVA;\nKonstrukcija: grey white\nHrbtišče: arctic"]
[null,"Dim. 125 / 48 / 89 cm,\nKot npr.: Serie 600 School; VS Vereinigte Spezialmöbelfabriken\nali popolnoma enakovredno (tehnično in oblikovno)"]
[]
[null,"LS1 - Lesena škatla za mobilno omaro MO1","kos",32,null,null,{"$f":"D88*F88","v":0},{"$f":"+F88*MM","v":0},{"$f":"+H88*D88","v":0},{"$f":"+F88-H88","v":0},{"$f":"+J88*D88","v":0}]
[null,"Lesena škatla iz bukovega lesa v barvi po proizvajalčevi barvni skali z izrezanim ročajem.\nS pripadajočimi certifikati: Greenguard, BIFMA, GS-Geprüfte Sicherheit, PEFC, LGA, THE GLOBAL COMPACT, DIN ISO 38200\nOBDELAVA;\nškatla: light green"]
[null,"Dim. 26 / 36 / 14 cm,\nKot npr.: Profil personal-property box; VS Vereinigte Spezialmöbelfabriken\nali popolnoma enakovredno (tehnično in oblikovno)"]
[]
[null,"Vrtec, pritličje - Igralnica za otroke 2: PC_05"]
[]
[null,"M6 - Miza za otroke ","kos",3,null,null,{"$f":"D94*F94","v":0},{"$f":"+F94*MM","v":0},{"$f":"+H94*D94","v":0},{"$f":"+F94-H94","v":0},{"$f":"+J94*D94","v":0}]
[null,"Miza unikatne oblike na štirih (4) nogah.\nKonstrukcija iz jeklenih cevi (noge iz okroglih, vezniki iz kvadratnih), ki so med seboj varjeni in vijačeni, prašno barvani po proizvajalčevi barvni skali - M1, noge na višinsko nastavljivih zaščitnih čepih, prilagojenimi za obstoječa tla.\nIverna mizna plošča (LIGNOpal), na obeh straneh laminirana z dekorativno folijo, prevlečena z melaminsko smolo\n(v barvi po proizvajalčevi barvni skali - L3) s tesno prilegajočim se plastičnim zaključnim robom (ABS 2,5 mm).\nS pripadajočimi certifikati: Greenguard, BIFMA, GS-Geprüfte Sicherheit, PEFC, LGA, THE GLOBAL COMPACT, DIN ISO 38200\nOBDELAVA;\nPodnožje: arctic \nMizna plošča: grey white"]
[null,"Dim. 165 / 114; višina mizne ploskve 53 cm,\nKot npr.: Puzzle free-form, VS Vereinigte Spezialmöbelfabriken\nali popolnoma enakovredno (tehnično in oblikovno)"]
[]
[null,"ST2 - Stol za otroke","kos",21,null,null,{"$f":"D98*F98","v":0},{"$f":"+F98*MM","v":0},{"$f":"+H98*D98","v":0},{"$f":"+F98-H98","v":0},{"$f":"+J98*D98","v":0}]
[null,"Stol s polipropilensko školjko na C podnožju.\nPodnožje iz krivljenih jeklenih cevi krožnega prereza, dodatna prečka varjena na podnožje, prašno barvano po proizvajalčevi barvni skali, na zaščitnih čepih za trda tla (filc),\nopremljeno s piggy-back sistemom (nalaganje na mizo),\nSediščna školjka iz polipropilena, (AIR cushion) lita školjka z notranjim praznim prostorom, ergonomsko sedišče v barvi po proizvajalčevi barvni skali, \nErgonomska sediščna školjka iz polipropilena po proizvajalčevi barvni skali - C1, (AIR cushion) lita školjka z notranjim\npraznim prostorom. Školjka ima odprtino v hrbtišču za lažjo manipulacijo. Robovi sediščne školjke so\nzaobljeni. Pritrditev sediščne školjke na podnožje je nevidna.\nS pripadajočimi certifikati: BIFMA, GREENGUARD GOLD, LGA, GS, AGR, CRADLE TO CRADLE, THE GLOBAL COMPACT\nOBDELAVA;\nPodnožje: arctic \nSediščna školjka: light blue"]
[null,"Dim. 33.8 / 37.7 /; višina sedišča 31 cm,\nKot npr.: PantoSwing-Lupo; VS Vereinigte Spezialmöbelfabriken\nali popolnoma enakovredno (tehnično in oblikovno)"]
[]
[null,"VIO2 - Visoka omara s policami","kos",1,null,null,{"$f":"D102*F102","v":0},{"$f":"+F102*MM","v":0},{"$f":"+H102*D102","v":0},{"$f":"+F102-H102","v":0},{"$f":"+J102*D102","v":0}]
[null,"Visoka omara z dvojnimi (2) vrati (v notranjosti s premičnimi policami) in ključavnico,\nKonstrukcija - korpus iz materiala LIGNOpal (iverna plošča je obeh straneh laminirana z dekorativno folijo, prevlečena z melaminsko smolo) v barvi po proizvajalčevi barvni skali, robovi z varjenim ABS robom 1.5mm,\nPodnožje iz materiala LINGOpal v barvi po proizvajalčevi barvni skali, robovi z varjenim ABS robom 1.5mm,\nVrata iz materiala LINGOpal v barvi po proizvajalčevi barvni skali, robovi z varjenim ABS robom 1.5mm, odmična spona 270°,\nVrata opremljena s cilindrično ključavnico, kovinski ročaj, finalna obdelava nikelj,\nS pripadajočimi certifikati: Greenguard, BIFMA, GS-Geprüfte Sicherheit, PEFC, LGA, THE GLOBAL COMPACT, DIN ISO 38200\nOBDELAVA;\nKonstrukcija: white\nPodnožje: white\nVrata - fronte: white"]
[null,"Dim. 120 / 58 / 197 cm; \nKot npr.: Serie 800 Cabinet; VS Vereinigte Spezialmöbelfabriken\nali popolnoma enakovredno (tehnično in oblikovno)"]
[]
[null,"VIO6 - Visoka omara s policami in predali ","kos",1,null,null,{"$f":"D106*F106","v":0},{"$f":"+F106*MM","v":0},{"$f":"+H106*D106","v":0},{"$f":"+F106-H106","v":0},{"$f":"+J106*D106","v":0}]
[null,"Visoka omara z dvojnimi (2) vrati (v notranjosti s premičnimi policami) in ključavnico  in desetimi (10) predali spodaj.\nKonstrukcija - korpus iz materiala LIGNOpal (iverna plošča je obeh straneh laminirana z dekorativno folijo, prevlečena z melaminsko smolo) v barvi po proizvajalčevi barvni skali, robovi z varjenim ABS robom 1.5mm,\nPodnožje iz materiala LINGOpal v barvi po proizvajalčevi barvni skali, robovi z varjenim ABS robom 1.5mm,\nVrata iz materiala LINGOpal v barvi po proizvajalčevi barvni skali, robovi z varjenim ABS robom 1.5mm, odmična spona 270°,\nVrata opremljena s cilindrično ključavnico, kovinski ročaj, finalna obdelava nikelj. Sistem predalov proti prevrnitvi  (ORGA drawer - odprt je lahko le en predal hkrati).\nPredali opremljeni s cilindrično ključavnico, vsak predal ima kovinski ročaj, finalna obdelava nikelj.\nS pripadajočimi certifikati: Greenguard, BIFMA, GS-Geprüfte Sicherheit, PEFC, LGA, THE GLOBAL COMPACT, DIN ISO 38200\nOBDELAVA;\nKonstrukcija: white\nPodnožje: white\nVrata - fronte: white"]
[null,"Dim. 120 / 58 / 197 cm\nKot npr.: Serie 800 Cabinet; VS Vereinigte Spezialmöbelfabriken\nali popolnoma enakovredno (tehnično in oblikovno)"]
[]
[null,"VIO7- Visoka omara za shranjevanje ležalnikov","kos",2,null,null,{"$f":"D110*F110","v":0},{"$f":"+F110*MM","v":0},{"$f":"+H110*D110","v":0},{"$f":"+F110-H110","v":0},{"$f":"+J110*D110","v":0}]
[null,"Visoka omara z dvojnimi(2) klasičnimi vrati (s polico zgoraj) in ključavnico\nKonstrukcija - korpus iz materiala LIGNOpal (iverna plošča je obeh straneh laminirana z dekorativno folijo, prevlečena z melaminsko smolo) v barvi po proizvajalčevi barvni skali, robovi z varjenim ABS robom 1.5mm,\nPodnožje iz materiala LIGNOpal v barvi po proizvajalčevi barvni skali, robovi z varjenim ABS robom 1.5mm,\nVrata iz materiala LIGNOpal v barvi po proizvajalčevi barvni skali, robovi z varjenim ABS robom 1.5mm, odmična spona 270°,\nVrata opremljena s cilindrično ključavnico, kovinski ročaj, finalna obdelava nikelj,\nS pripadajočimi certifikati: Greenguard, BIFMA, GS-Geprüfte Sicherheit, PEFC, LGA, THE GLOBAL COMPACT, DIN ISO 38200\nOBDELAVA;\nKonstrukcija: grey white\nPodnožje: grey white\nVrata - fronte: grey white"]
[null,"Dim. 145 / 70 / 197 cm,\nKot npr.: Serie 800 Cabinet; VS Vereinigte Spezialmöbelfabriken\nali popolnoma enakovredno (tehnično in oblikovno)"]
[]
[null,"MO1 - Mobilna omara ","kos",2,null,null,{"$f":"D114*F114","v":0},{"$f":"+F114*MM","v":0},{"$f":"+H114*D114","v":0},{"$f":"+F114-H114","v":0},{"$f":"+J114*D114","v":0}]
[null,"Mobilna omara s šestnajstimi (16) prekati, na kolesih. Konstrukcija - korpus iz materiala LIGNOpal  (iverna plošča je obeh straneh laminirana z dekorativno folijo, prevlečena z melaminsko smolo) v barvi po proizvajalčevi barvni skali, robovi z varjenim ABS robom 1.5mm,\nHrbtišče in stranice omare iz pločevine z vzorcem (perforacija) v barvi po proizvajalčevi barvni skali,\nPodnožje na kolesih z blokado za trda tla.\nS pripadajočimi certifikati: Greenguard, BIFMA, GS-Geprüfte Sicherheit, PEFC, LGA, THE GLOBAL COMPACT, DIN ISO 38200\nOBDELAVA;\nKonstrukcija: grey white\nHrbtišče: arctic"]
[null,"Dim. 125 / 48 / 89 cm,\nKot npr.: Serie 600 School; VS Vereinigte Spezialmöbelfabriken\nali popolnoma enakovredno (tehnično in oblikovno)"]
[]
[null,"LS1 - Lesena škatla za mobilno omaro MO1","kos",32,null,null,{"$f":"D118*F118","v":0},{"$f":"+F118*MM","v":0},{"$f":"+H118*D118","v":0},{"$f":"+F118-H118","v":0},{"$f":"+J118*D118","v":0}]
[null,"Lesena škatla iz bukovega lesa v barvi po proizvajalčevi barvni skali z izrezanim ročajem.\nS pripadajočimi certifikati: Greenguard, BIFMA, GS-Geprüfte Sicherheit, PEFC, LGA, THE GLOBAL COMPACT, DIN ISO 38200\nOBDELAVA;\nškatla: light green"]
[null,"Dim. 26 / 36 / 14 cm,\nKot npr.: Profil personal-property box; VS Vereinigte Spezialmöbelfabriken\nali popolnoma enakovredno (tehnično in oblikovno)"]
[]
[null,"MO2 - Mobilna omara ","kos",1,null,null,{"$f":"D122*F122","v":0},{"$f":"+F122*MM","v":0},{"$f":"+H122*D122","v":0},{"$f":"+F122-H122","v":0},{"$f":"+J122*D122","v":0}]
[null,"Mobilna omara s šestimi (6) prekatimi, štirimi (4) premičnimi policami, na kolesih. Konstrukcija - korpus iz materiala LIGNOpal  (iverna plošča je obeh straneh laminirana z dekorativno folijo, prevlečena z melaminsko smolo) v barvi po proizvajalčevi barvni skali, robovi z varjenim ABS robom 1.5mm,\nHrbtišče omare iz pločevine z vzorcem (perforacija) v barvi po proizvajalčevi barvni skali,\nPodnožje na kolesih z blokado za trda tla. Na omari sta dve (2) kovinski držali za transport\nS pripadajočimi certifikatI: Greenguard, BIFMA, GS-Geprüfte Sicherheit, PEFC, LGA, THE GLOBAL COMPACT, DIN ISO 38200\nOBDELAVA;\nKonstrukcija: grey white\nHrbtišče: arctic"]
[null,"Dim. 152.6 / 42,5/ 96.9 cm,\nKot npr.: Shift+ Landscape Mobile shelf units; VS Vereinigte Spezialmöbelfabriken\nali popolnoma enakovredno (tehnično in oblikovno)"]
[]
[null,"L1 - Ležalnik s pripadajočo rjuho","kos",21,null,null,{"$f":"D126*F126","v":0},{"$f":"+F126*MM","v":0},{"$f":"+H126*D126","v":0},{"$f":"+F126-H126","v":0},{"$f":"+J126*D126","v":0}]
[null,"Naložljiv ležalnik z aluminijastim ogrodjem s štirimi (4)\nplastičnimi nogami in plastično mrežo. Ležalnik je opremljen z elastično rjuho.\nS pripadajočimi certifikati:\nOBDELAVA:"]
[null,"Dim. Ležalnika in pripadajoče rjuhe 130 / 55 / 197 cm,\nKot npr.: Kunststoffliege; Wehrfritz\nali popolnoma enakovredno (tehnično in oblikovno)\""]
[]
[null,"DMV - Delovna miza vrtec","kos",1,null,null,{"$f":"D130*F130","v":0},{"$f":"+F130*MM","v":0},{"$f":"+H130*D130","v":0},{"$f":"+F130-H130","v":0},{"$f":"+J130*D130","v":0}]
[null,"Pisarniška miza na štirih (4) nogah.\nKonstrukcija iz kovinski profilov, ki so med seboj varjeni in vijačeni, prašno barvani po proizvajalčevi barvni skali, noge na višinsko nastavljivih zaščitnih čepih,\nMizna plošča iz materiala LIGNOpal (iverna plošča je obeh straneh laminirana z dekorativno folijo, prevlečena z melaminsko smolo) v beli barvi, rob mizne plošče v varjenem ABS materialu debeline 2.5mm,\nS pripadajočimi certifikati: Greenguard, BIFMA, GS-Geprüfte Sicherheit, PEFC, LGA, THE GLOBAL COMPACT, DIN ISO 38200\nOBDELAVA;\nPodnožje: arctic \nMizna plošča: white"]
[null,"Dim. 120 / 60 cm, višina mizne ploskve 76 cm\nKot npr.: EcoTable-R; VS Vereinigte Spezialmöbelfabriken\nali popolnoma enakovredno (tehnično in oblikovno)"]
[]
[null,"MPR - Mobilni predalnik","kos",1,null,null,{"$f":"D134*F134","v":0},{"$f":"+F134*MM","v":0},{"$f":"+H134*D134","v":0},{"$f":"+F134-H134","v":0},{"$f":"+J134*D134","v":0}]
[null,"Predalnik s štirimi (4) predali na kolesih.\nKonstrukcija - korpus iz materiala LINGOpal v barvi po proizvajalčevi barvni skali, robovi z varjenim ABS robom 1.5mm,\nPodnožje kolesa za trda tla,\nVrata iz materiala LINGOpal v barvi po proizvajalčevi barvni skali, robovi z varjenim ABS robom 1.5mm, \nSistem predalov proti prevrnitvi  (ORGA drawer - odprt je lahko le en predal hkrati),\nRazporeditev predalov; 1.5 + 2 + 2 + 4 HU, \nPredali opremljeni s cilindrično ključavnico, vsak predal ima kovinski ročaj, finalna obdelava nikelj,\nS pripadajočimi certifikati: Greenguard, BIFMA, GS-Geprüfte Sicherheit, PEFC, LGA, THE GLOBAL COMPACT, DIN ISO 38200\nOBDELAVA;\nKonstrukcija: white\nVrata - fronte: white"]
[null,"Dim.43 / 80 / 55cm; \nKot npr.: OfficeBox; VS Vereinigte Spezialmöbelfabriken\nali popolnoma enakovredno (tehnično in oblikovno)"]
[]
[null,"ST1 - Stol za zaposlene","kos",1,null,null,{"$f":"D138*F138","v":0},{"$f":"+F138*MM","v":0},{"$f":"+H138*D138","v":0},{"$f":"+F138-H138","v":0},{"$f":"+J138*D138","v":0}]
[null,"Dvižni vrtiljak za učitelje s polipropilensko školjko.\nPet (5) krako zvezda aluminijasto podnožje, prašno barvano po proizvajalčevi barvni skali, na kolesih za trda tla.\nErgonomska sediščna školjka iz vezane bukove ali hrastove plošče, prevlečena z barvo proti drsenju (v barvi po proizvajalčevi barvni skali).Odprtina v hrbtišču. Robovi sediščne školjke zaobljeni. Pritrditev sediščne školjke na podnožje nevidna.\nS pripadajočimi certifikati: Greenguard, BIFMA, GS-Geprüfte Sicherheit, PEFC, LGA, THE GLOBAL COMPACT, DIN ISO 38200\nOBDELAVA;\nPodnožje: arctic \nMizna plošča: light green"]
[null,"Dim. 46 / 50 cm; višina sedišča 42,4 - 55,2 cm,\nKot npr.: PantoMove-LuPo; VS Vereinigte Spezialmöbelfabriken\nali popolnoma enakovredno (tehnično in oblikovno)"]
[]
[null,"M11 - Okrogla miza za delo na tleh","kos",1,null,null,{"$f":"D142*F142","v":0},{"$f":"+F142*MM","v":0},{"$f":"+H142*D142","v":0},{"$f":"+F142-H142","v":0},{"$f":"+J142*D142","v":0}]
[null,"Otroška miza z dodatno funkcijo shranjevalnega elementa in držala za pisala in nosilcem za šotorski element,\nKonstrukcija iz ABS plastike, rotacijsko lita in naložljiva,\nMizna plošča v CDF plošči (svisokotlačni laminat, krožne oblike z luknjo v sredini (držalo pisal), plošča debeline 13mm,\nS pripadajočimi certifikati: Greenguard, BIFMA, GS-Geprüfte Sicherheit, PEFC, LGA, THE GLOBAL COMPACT, DIN ISO 38200\nOBDELAVA;\nKonstrukcija: White \nMizna plošča: natural maple laminate"]
[null,"Dim.fi63cm; višina mizne ploskve 39.8cm,\nKot npr.: Gugl; VS Vereinigte Spezialmöbelfabriken\nali popolnoma enakovredno (tehnično in oblikovno)"]
[]
[null,"BL1 - Ukrivljena igralna blazina ","kos",6,null,null,{"$f":"D146*F146","v":0},{"$f":"+F146*MM","v":0},{"$f":"+H146*D146","v":0},{"$f":"+F146-H146","v":0},{"$f":"+J146*D146","v":0}]
[null,"Igralna blazina je sestavljena iz debelo obložene pene s\nprotizdrsnim dnom, bočno nosilno zanko in stranic, ki jih\nobdaja črni trak. Zgornja površina igralnih blazin je sestavljena iz trpežne, obarvane tkanine, ki je antibakterijska in enostavna za čiščenje. Požarna odpornost v skladu s standardom DIN 66084 - razredi P-c (nizka) in P-b (srednja). Opcijsko je pri tekstilu skupine S40 na voljo tudi z dodatno ognjevarno podlogo MVSS-303 (razred P-a (visok)), ki je všita pod plastjo\ntkanine.\nS pripadajočimi certifikati: Greenguard, BIFMA, GS-Geprüfte Sicherheit, LGA, THE GLOBAL COMPACT, DIN 66084\nOBDELAVA:\nBlazina: traffic red"]
[null,"Dim. 106 / 86,9 / 8 cm; \nKot npr.: Shift+ Landscape Padded mats; VS Vereinigte Spezialmöbelfabriken\nali popolnoma enakovredno (tehnično in oblikovno)"]
[]
[null,"BLS - Šotorski element za igralno blazino s pripadajočo torbo za shranjevanje","kos",8,null,null,{"$f":"D150*F150","v":0},{"$f":"+F150*MM","v":0},{"$f":"+H150*D150","v":0},{"$f":"+F150-H150","v":0},{"$f":"+J150*D150","v":0}]
[null,"Šotorski element je sestavljen iz raztegljive tkanine po proizvajalčevi barvni skali in palic iz steklenih vlaken za napenjanje trikotne površine, ki se na igralno površino pritrdi s tremi (3) točkami na dolgi in eno (1) točko na kratki stranici.\nS pripadajočimi certifikati: Greenguard, BIFMA, GS-Geprüfte Sicherheit, LGA, THE GLOBAL COMPACT, DIN 66084\nOBDELAVA:\nBlazina: yellow"]
[null,"Dim. Prb. 96 /226 cm; \nKot npr.: Leaf; VS Vereinigte Spezialmöbelfabriken\nali popolnoma enakovredno (tehnično in oblikovno)"]
[]
[null,"BL2 - Pravokotna igralna blazina ","kos",2,null,null,{"$f":"D154*F154","v":0},{"$f":"+F154*MM","v":0},{"$f":"+H154*D154","v":0},{"$f":"+F154-H154","v":0},{"$f":"+J154*D154","v":0}]
[null,"Igralna blazina je sestavljena iz debelo obložene pene s\nprotizdrsnim dnom, bočno nosilno zanko in stranic, ki jih\nobdaja črni trak. Zgornja površina igralnih blazin je sestavljena iz trpežne, obarvane tkanine, ki je antibakterijska in enostavna za čiščenje.\nS pripadajočimi certifikati: Greenguard, BIFMA, GS-Geprüfte Sicherheit, LGA, THE GLOBAL COMPACT, DIN 66084\nOBDELAVA:\nBlazina: yellow"]
[null,"Dim. 105 / 85 / 8 cm; \nKot npr.: Shift+ Landscape Padded mats; VS Vereinigte Spezialmöbelfabriken\nali popolnoma enakovredno (tehnično in oblikovno)"]
[]
[null,"V1 - Velika mehka vreča s polnilom","kos",1,null,null,{"$f":"D158*F158","v":0},{"$f":"+F158*MM","v":0},{"$f":"+H158*D158","v":0},{"$f":"+F158-H158","v":0},{"$f":"+J158*D158","v":0}]
[null,"Oblazinjena vrečka se sedenje, z snemljivo in pralno prevleko.\nNotranja vrečka polnjena z ekspandiranimi EPS polistirenskimi zrnci, v velikosti 3-6 mm. Snemljiva prevleka je iz tkanine (po\nproizvajalčevi barvni skali S41), ki je dvojno prevlečena s snovjo, odporno na vodo, olje in umazanijo. Vreča za sedenje je opremljena z ročajem in 2 žepoma. Požarna odpornost v skladu s standardom DIN 4102 B1.\nS pripadajočimi certifikati: BIFMA, GREENGUARD GOLD, LGA, GS, THE GLOBAL COMPACT, DIN 4102 B1"]
[null,"Dim.180/ 25 / 140cm; \nKot npr.: Cloud, Beanbag\nali popolnoma enakovredno (tehnično in oblikovno)"]
[null,null,null,null,null,null,{"$f":"D161*F161","v":0}]
[null,"ST13- Stol za otroke","kos",2,null,null,{"$f":"D162*F162","v":0},{"$f":"+F162*MM","v":0},{"$f":"+H162*D162","v":0},{"$f":"+F162-H162","v":0},{"$f":"+J162*D162","v":0}]
[null,"Vse stranski element (sedišče) ki je namenjeno zlaganju, učenju, igri, sedenju itd. V kompletu dvanajst (12) elementov različnih barv.\nSedišča so naložljiva. Izdelano iz lahkega EPP (stiroporna pena), ki je netoksičen, odporen na obrabo in se 100% reciklira.\nS pripadajočimi certifikati: Greenguard, BIFMA, GS-Geprüfte Sicherheit, LGA, THE GLOBAL COMPACT\nOBDELAVA;\nSediščna školjka: raznobarvna"]
[null,"Dim.fi27cm; višina sedišča 12cm,\nKot npr.: Stapelstein; VS Vereinigte Spezialmöbelfabriken\nali popolnoma enakovredno (tehnično in oblikovno)"]
[]
[null,"PR - Plošča za ravnotežje","kos",4,null,null,{"$f":"D166*F166","v":0},{"$f":"+F166*MM","v":0},{"$f":"+H166*D166","v":0},{"$f":"+F166-H166","v":0},{"$f":"+J166*D166","v":0}]
[null,"Plošča za ravnotežje se lahko uporablja samostojno ali v kombinaciji z vse stranskimi elementi (STP5) pri igri, sedenju itd.\nIzdelano iz lahkega EPP (stiroporna pena), ki je netoksičen, odporen na obrabo in se 100% reciklira.\nS pripadajočimi certifikati: Greenguard, BIFMA, GS-Geprüfte Sicherheit, LGA, THE GLOBAL COMPACT\nOBDELAVA;\nSediščna školjka: raznobarvna"]
[null,"Dim.fi35.5 cm; višina sedišča 8 cm,\nKot npr.: Kreiselstein; VS Vereinigte Spezialmöbelfabriken\nali popolnoma enakovredno (tehnično in oblikovno)"]
[]
[null,"PBT - Kombinirana piši-briši tabla","kos",8,null,null,{"$f":"D170*F170","v":0},{"$f":"+F170*MM","v":0},{"$f":"+H170*D170","v":0},{"$f":"+F170-H170","v":0},{"$f":"+J170*D170","v":0}]
[null,"Unikatna prenosna kombinirana piši-briši tabla z belo površino in površino in filca. Akrilna osnova prevlečena s filcem. Zaobljeni robovi z vbočenim spodnjim robom za enostavnejše prilaganje telesu."]
[null,"Dim. 40 / 30 / 2,5 cm; \nKot npr.: ideenbrett madame Whiteboard; Imsinne\nali popolnoma enakovredno (tehnično in oblikovno)"]
[]
[null,"PBT1 - Kombinirana piši-briši tabla","kos",8,null,null,{"$f":"D174*F174","v":0},{"$f":"+F174*MM","v":0},{"$f":"+H174*D174","v":0},{"$f":"+F174-H174","v":0},{"$f":"+J174*D174","v":0}]
[null,"Unikatna prenosna kombinirana piši-briši tabla z belo površino in površino in filca. Akrilna osnova prevlečena s filcem. Zaobljeni robovi z vbočenim spodnjim robom za enostavnejše prilaganje telesu."]
[null,"Dim. 55 / 45 / 3 cm; \nKot npr.: ideenbrett herr Whiteboard; Imsinne\nali popolnoma enakovredno (tehnično in oblikovno)"]
[]
[null,"PBT2 - Kombinirana piši-briši tabla","kos",2,null,null,{"$f":"D178*F178","v":0},{"$f":"+F178*MM","v":0},{"$f":"+H178*D178","v":0},{"$f":"+F178-H178","v":0},{"$f":"+J178*D178","v":0}]
[null,"Unikatna prenosna kombinirana piši-briši tabla z belo površino in površino in filca. Akrilna osnova prevlečena s filcem. Zaobljeni robovi z vbočenim spodnjim robom za enostavnejše prilaganje telesu."]
[null,"Dim. 58 / 180 / 3 cm; \nKot npr.: ideenbrett sam Whiteboard; Imsinne\nali popolnoma enakovredno (tehnično in oblikovno)"]
[]
[null,"PBT3 - Stojalo za kombinirano piši-briši tablo","kos",1,null,null,{"$f":"D182*F182","v":0},{"$f":"+F182*MM","v":0},{"$f":"+H182*D182","v":0},{"$f":"+F182-H182","v":0},{"$f":"+J182*D182","v":0}]
[null,"Prenosno zložljivo stojalo za dve tabli piši-briši (PBT3) omogoča različne postavitve. Osnova iz recikliranega ultra lahkega materiala (PET steklenic) vključuje dve brisalki. "]
[null,"Dim. 62 / 44 / 7 cm; \nKot npr.: ideenstand; Imsinne\nali popolnoma enakovredno (tehnično in oblikovno)"]
[]
[null,"PBT4 - Tirnica za shranjevanje piši-briši tabel","kos",8,null,null,{"$f":"D186*F186","v":0},{"$f":"+F186*MM","v":0},{"$f":"+H186*D186","v":0},{"$f":"+F186-H186","v":0},{"$f":"+J186*D186","v":0}]
[null,"Stenska tirnica za shranjevanje piši-briši tabel (PBT2 IN PBT1) iz prašno barvane kovine. Material tirnice omogoča pritrjevanje magnetov."]
[null,"Dim. 120 / 6 / 1,5 cm; \nKot npr.: ideenhigh; Imsinne\nali popolnoma enakovredno (tehnično in oblikovno)"]
[]
[null,"PBT5 - Brisalka za piši-briši tablo","kos",10,null,null,{"$f":"D190*F190","v":0},{"$f":"+F190*MM","v":0},{"$f":"+H190*D190","v":0},{"$f":"+F190-H190","v":0},{"$f":"+J190*D190","v":0}]
[null,"Večnamenska brisalka unikatne oblike iz filca. Brisalka lahko služi tudi kot nosilec, držalo pisala ali kot spona."]
[null,"Dim. 9 / 9 / 1,5 cm; \nKot npr.: ideenzero; Imsinne\nali popolnoma enakovredno (tehnično in oblikovno)"]
[]
[null,"PBT6 - Pisala za piši-briši tablo","kos",10,null,null,{"$f":"D194*F194","v":0},{"$f":"+F194*MM","v":0},{"$f":"+H194*D194","v":0},{"$f":"+F194-H194","v":0},{"$f":"+J194*D194","v":0}]
[null,"Set dvanajstih (12) pisal za tablo piši-briši v desetih barvnih odtenkih. Pisala so preizkušena po standardu DIN EN 71 ter polnjena s kakovostnim črnilom. Oblika pisala omogoča umestitev v brisalko."]
[null,"Kot npr.: ideenconnect; Imsinne\nali popolnoma enakovredno (tehnično in oblikovno)"]
[]
[null,"LH1 - Lesena hiška","kos",1,null,null,{"$f":"D198*F198","v":0},{"$f":"+F198*MM","v":0},{"$f":"+H198*D198","v":0},{"$f":"+F198-H198","v":0},{"$f":"+J198*D198","v":0}]
[null,"Unikatna lesena hiška v dveh etažah iz brezove lesa s plezalnim vzponom z vrvico, podestom z mozaiokom, lestvijo do vhoda v hiško, hiško z oknom in svetlobnimi režami v tleh. Spodnja etaža hiške z dvema vhodnima luknjama nepravilne oblike s svetlobnimi režami in z zavesami v obliki listov.\nS pripadajočimi certifikati: GS-Geprüfte Sicherheit"]
[null,"Dim. 309 / 114 / 180 cm; \nKot npr.: Spielhaus grow upp Dachsbau, links; Wehrfritz\nali popolnoma enakovredno (tehnično in oblikovno)"]
[]
[null,"K2- Koš za smeti, npr. kovinski mrežasti","kos",1,null,null,{"$f":"D202*F202","v":0},{"$f":"+F202*MM","v":0},{"$f":"+H202*D202","v":0},{"$f":"+F202-H202","v":0},{"$f":"+J202*D202","v":0}]
[null,"Kovinski mrežasti koš za smeti\nVolumen 18 litrov\nDimenzije: višina 35,5 cm, premer 29,5                                                                                Barva: črna\nhttps://www.11st-oprema.si/drugo/kosi-za-smeti/kovinski-mrezasti-kos-za-smeti"]
[]
[null,"Vrtec, pritličje - Igralnica za otroke 3: PC_04"]
[]
[null,"M6 - Miza za otroke","kos",3,null,null,{"$f":"D207*F207","v":0},{"$f":"+F207*MM","v":0},{"$f":"+H207*D207","v":0},{"$f":"+F207-H207","v":0},{"$f":"+J207*D207","v":0}]
[null,"Miza unikatne oblike na štirih (4) nogah.\nKonstrukcija iz jeklenih cevi (noge iz okroglih, vezniki iz kvadratnih), ki so med seboj varjeni in vijačeni, prašno barvani po proizvajalčevi barvni skali - M1, noge na višinsko nastavljivih zaščitnih čepih, prilagojenimi za obstoječa tla.\nIverna mizna plošča (LIGNOpal), na obeh straneh laminirana z dekorativno folijo, prevlečena z melaminsko smolo\n(v barvi po proizvajalčevi barvni skali - L3) s tesno prilegajočim se plastičnim zaključnim robom (ABS 2,5 mm).\nS pripadajočimi certifikati: Greenguard, BIFMA, GS-Geprüfte Sicherheit, PEFC, LGA, THE GLOBAL COMPACT, DIN ISO 38200\nOBDELAVA;\nPodnožje: arctic \nMizna plošča: grey white"]
[null,"Dim. 165 / 114; višina mizne ploskve 53 cm,\nKot npr.: Puzzle free-form, VS Vereinigte Spezialmöbelfabriken\nali popolnoma enakovredno (tehnično in oblikovno)"]
[]
[null,"ST2 - Stol za otroke","kos",24,null,null,{"$f":"D211*F211","v":0},{"$f":"+F211*MM","v":0},{"$f":"+H211*D211","v":0},{"$f":"+F211-H211","v":0},{"$f":"+J211*D211","v":0}]
[null,"Stol s polipropilensko školjko na C podnožju.\nPodnožje iz krivljenih jeklenih cevi krožnega prereza, dodatna prečka varjena na podnožje, prašno barvano po proizvajalčevi barvni skali, na zaščitnih čepih za trda tla (filc),\nopremljeno s piggy-back sistemom (nalaganje na mizo),\nSediščna školjka iz polipropilena, (AIR cushion) lita školjka z notranjim praznim prostorom, ergonomsko sedišče v barvi po proizvajalčevi barvni skali, \nErgonomska sediščna školjka iz polipropilena po proizvajalčevi barvni skali - C1, (AIR cushion) lita školjka z notranjim\npraznim prostorom. Školjka ima odprtino v hrbtišču za lažjo manipulacijo. Robovi sediščne školjke so\nzaobljeni. Pritrditev sediščne školjke na podnožje je nevidna.\nS pripadajočimi certifikati: BIFMA, GREENGUARD GOLD, LGA, GS, AGR, CRADLE TO CRADLE, THE GLOBAL COMPACT\nOBDELAVA;\nPodnožje: arctic \nSediščna školjka: light blue"]
[null,"Dim. 33.8 / 37.7 /; višina sedišča 31 cm,\nKot npr.: PantoSwing-Lupo; VS Vereinigte Spezialmöbelfabriken\nali popolnoma enakovredno (tehnično in oblikovno)"]
[]
[null,"VIO2 - Visoka omara s policami","kos",1,null,null,{"$f":"D215*F215","v":0},{"$f":"+F215*MM","v":0},{"$f":"+H215*D215","v":0},{"$f":"+F215-H215","v":0},{"$f":"+J215*D215","v":0}]
[null,"Visoka omara z dvojnimi (2) vrati (v notranjosti s premičnimi policami) in ključavnico,\nKonstrukcija - korpus iz materiala LIGNOpal (iverna plošča je obeh straneh laminirana z dekorativno folijo, prevlečena z melaminsko smolo) v barvi po proizvajalčevi barvni skali, robovi z varjenim ABS robom 1.5mm,\nPodnožje iz materiala LINGOpal v barvi po proizvajalčevi barvni skali, robovi z varjenim ABS robom 1.5mm,\nVrata iz materiala LINGOpal v barvi po proizvajalčevi barvni skali, robovi z varjenim ABS robom 1.5mm, odmična spona 270°,\nVrata opremljena s cilindrično ključavnico, kovinski ročaj, finalna obdelava nikelj,\nS pripadajočimi certifikati: Greenguard, BIFMA, GS-Geprüfte Sicherheit, PEFC, LGA, THE GLOBAL COMPACT, DIN ISO 38200\nOBDELAVA;\nKonstrukcija: white\nPodnožje: white\nVrata - fronte: white"]
[null,"Dim. 120 / 58 / 197 cm;\nKot npr.: Serie 800 Cabinet; VS Vereinigte Spezialmöbelfabriken\nali popolnoma enakovredno (tehnično in oblikovno)"]
[]
[null,"VIO6 - Visoka omara s policami in predali ","kos",1,null,null,{"$f":"D219*F219","v":0},{"$f":"+F219*MM","v":0},{"$f":"+H219*D219","v":0},{"$f":"+F219-H219","v":0},{"$f":"+J219*D219","v":0}]
[null,"Visoka omara z dvojnimi (2) vrati (v notranjosti s premičnimi policami) in ključavnico  in desetimi (10) predali spodaj.\nKonstrukcija - korpus iz materiala LIGNOpal (iverna plošča je obeh straneh laminirana z dekorativno folijo, prevlečena z melaminsko smolo) v barvi po proizvajalčevi barvni skali, robovi z varjenim ABS robom 1.5mm,\nPodnožje iz materiala LINGOpal v barvi po proizvajalčevi barvni skali, robovi z varjenim ABS robom 1.5mm,\nVrata iz materiala LINGOpal v barvi po proizvajalčevi barvni skali, robovi z varjenim ABS robom 1.5mm, odmična spona 270°,\nVrata opremljena s cilindrično ključavnico, kovinski ročaj, finalna obdelava nikelj. Sistem predalov proti prevrnitvi  (ORGA drawer - odprt je lahko le en predal hkrati).\nPredali opremljeni s cilindrično ključavnico, vsak predal ima kovinski ročaj, finalna obdelava nikelj.\nS pripadajočimi certifikati: Greenguard, BIFMA, GS-Geprüfte Sicherheit, PEFC, LGA, THE GLOBAL COMPACT, DIN ISO 38200\nOBDELAVA;\nKonstrukcija: white\nPodnožje: white\nVrata - fronte: white"]
[null,"Dim. 120 / 58 / 197 cm;\nKot npr.: Serie 800 Cabinet; VS Vereinigte Spezialmöbelfabriken\nali popolnoma enakovredno (tehnično in oblikovno)"]
[]
[null,"VIO7- Visoka omara za shranjevanje ležalnikov","kos",2,null,null,{"$f":"D223*F223","v":0},{"$f":"+F223*MM","v":0},{"$f":"+H223*D223","v":0},{"$f":"+F223-H223","v":0},{"$f":"+J223*D223","v":0}]
[null,"Visoka omara z dvojnimi(2) klasičnimi vrati (s polico zgoraj) in ključavnico\nKonstrukcija - korpus iz materiala LIGNOpal (iverna plošča je obeh straneh laminirana z dekorativno folijo, prevlečena z melaminsko smolo) v barvi po proizvajalčevi barvni skali, robovi z varjenim ABS robom 1.5mm,\nPodnožje iz materiala LIGNOpal v barvi po proizvajalčevi barvni skali, robovi z varjenim ABS robom 1.5mm,\nVrata iz materiala LIGNOpal v barvi po proizvajalčevi barvni skali, robovi z varjenim ABS robom 1.5mm, odmična spona 270°,\nVrata opremljena s cilindrično ključavnico, kovinski ročaj, finalna obdelava nikelj,\nS pripadajočimi certifikati: Greenguard, BIFMA, GS-Geprüfte Sicherheit, PEFC, LGA, THE GLOBAL COMPACT, DIN ISO 38200\nOBDELAVA;\nKonstrukcija: grey white\nPodnožje: grey white\nVrata - fronte: grey white"]
[null,"Dim. 145 / 70 / 197 cm,\nKot npr.: Serie 800 Cabinet; VS Vereinigte Spezialmöbelfabriken\nali popolnoma enakovredno (tehnično in oblikovno)"]
[null,"MO1 - Mobilna omara ","kos",2,null,null,{"$f":"D226*F226","v":0},{"$f":"+F226*MM","v":0},{"$f":"+H226*D226","v":0},{"$f":"+F226-H226","v":0},{"$f":"+J226*D226","v":0}]
[null,"Mobilna omara s šestnajstimi (16) prekati, na kolesih. Konstrukcija - korpus iz materiala LIGNOpal  (iverna plošča je obeh straneh laminirana z dekorativno folijo, prevlečena z melaminsko smolo) v barvi po proizvajalčevi barvni skali, robovi z varjenim ABS robom 1.5mm,\nHrbtišče in stranice omare iz pločevine z vzorcem (perforacija) v barvi po proizvajalčevi barvni skali,\nPodnožje na kolesih z blokado za trda tla.\nS pripadajočimi certifikati: Greenguard, BIFMA, GS-Geprüfte Sicherheit, PEFC, LGA, THE GLOBAL COMPACT, DIN ISO 38200\nOBDELAVA;\nKonstrukcija: grey white\nHrbtišče: arctic"]
[null,"Dim. 125 / 48 / 89 cm,\nKot npr.: Serie 600 School; VS Vereinigte Spezialmöbelfabriken\nali popolnoma enakovredno (tehnično in oblikovno)"]
[]
[null,"LS1 - Lesena škatla za mobilno omaro MO1","kos",32,null,null,{"$f":"D230*F230","v":0},{"$f":"+F230*MM","v":0},{"$f":"+H230*D230","v":0},{"$f":"+F230-H230","v":0},{"$f":"+J230*D230","v":0}]
[null,"Lesena škatla iz bukovega lesa v barvi po proizvajalčevi barvni skali z izrezanim ročajem.\nS pripadajočimi certifikati: Greenguard, BIFMA, GS-Geprüfte Sicherheit, PEFC, LGA, THE GLOBAL COMPACT, DIN ISO 38200\nOBDELAVA;\nškatla: light green"]
[null,"Dim. 26 / 36 / 14 cm,\nKot npr.: Profil personal-property box; VS Vereinigte Spezialmöbelfabriken\nali popolnoma enakovredno (tehnično in oblikovno)"]
[]
[null,"MO2 - Mobilna omara ","kos",1,null,null,{"$f":"D234*F234","v":0},{"$f":"+F234*MM","v":0},{"$f":"+H234*D234","v":0},{"$f":"+F234-H234","v":0},{"$f":"+J234*D234","v":0}]
[null,"Mobilna omara s šestimi (6) prekatimi, štirimi (4) premičnimi policami, na kolesih. Konstrukcija - korpus iz materiala LIGNOpal  (iverna plošča je obeh straneh laminirana z dekorativno folijo, prevlečena z melaminsko smolo) v barvi po proizvajalčevi barvni skali, robovi z varjenim ABS robom 1.5mm,\nHrbtišče omare iz pločevine z vzorcem (perforacija) v barvi po proizvajalčevi barvni skali,\nPodnožje na kolesih z blokado za trda tla. Na omari sta dve (2) kovinski držali za transport\nS pripadajočimi certifikatI: Greenguard, BIFMA, GS-Geprüfte Sicherheit, PEFC, LGA, THE GLOBAL COMPACT, DIN ISO 38200\nOBDELAVA;\nKonstrukcija: grey white\nHrbtišče: arctic"]
[null,"Dim. 152.6 / 42,5/ 96.9 cm,\nKot npr.: Shift+ Landscape Mobile shelf units; VS Vereinigte Spezialmöbelfabriken\nali popolnoma enakovredno (tehnično in oblikovno)"]
[]
[null,"L1 - Ležalnik s pripadajočo rjuho","kos",24,null,null,{"$f":"D238*F238","v":0},{"$f":"+F238*MM","v":0},{"$f":"+H238*D238","v":0},{"$f":"+F238-H238","v":0},{"$f":"+J238*D238","v":0}]
[null,"Naložljiv ležalnik z aluminijastim ogrodjem s štirimi (4)\nplastičnimi nogami in plastično mrežo. Ležalnik je opremljen z elastično rjuho.\nS pripadajočimi certifikati:\nOBDELAVA:"]
[null,"Dim. Ležalnika in pripadajoče rjuhe 130 / 55 / 197 cm,\nKot npr.: Kunststoffliege; Wehrfritz\nali popolnoma enakovredno (tehnično in oblikovno)\""]
[]
[null,"DMV - Delovna miza vrtec","kos",1,null,null,{"$f":"D242*F242","v":0},{"$f":"+F242*MM","v":0},{"$f":"+H242*D242","v":0},{"$f":"+F242-H242","v":0},{"$f":"+J242*D242","v":0}]
[null,"Pisarniška miza na štirih (4) nogah.\nKonstrukcija iz kovinski profilov, ki so med seboj varjeni in vijačeni, prašno barvani po proizvajalčevi barvni skali, noge na višinsko nastavljivih zaščitnih čepih,\nMizna plošča iz materiala LIGNOpal (iverna plošča je obeh straneh laminirana z dekorativno folijo, prevlečena z melaminsko smolo) v beli barvi, rob mizne plošče v varjenem ABS materialu debeline 2.5mm,\nS pripadajočimi certifikati: Greenguard, BIFMA, GS-Geprüfte Sicherheit, PEFC, LGA, THE GLOBAL COMPACT, DIN ISO 38200\nOBDELAVA;\nPodnožje: arctic \nMizna plošča: white"]
[null,"Dim. 120 / 60 cm , višina mizne ploskve 76 cm\nKot npr.: EcoTable-R; VS Vereinigte Spezialmöbelfabriken\nali popolnoma enakovredno (tehnično in oblikovno)"]
[]
[null,"MPR - Mobilni predalnik","kos",1,null,null,{"$f":"D246*F246","v":0},{"$f":"+F246*MM","v":0},{"$f":"+H246*D246","v":0},{"$f":"+F246-H246","v":0},{"$f":"+J246*D246","v":0}]
[null,"Predalnik s štirimi (4) predali na kolesih.\nKonstrukcija - korpus iz materiala LINGOpal v barvi po proizvajalčevi barvni skali, robovi z varjenim ABS robom 1.5mm,\nPodnožje kolesa za trda tla,\nVrata iz materiala LINGOpal v barvi po proizvajalčevi barvni skali, robovi z varjenim ABS robom 1.5mm, \nSistem predalov proti prevrnitvi  (ORGA drawer - odprt je lahko le en predal hkrati),\nRazporeditev predalov; 1.5 + 2 + 2 + 4 HU, \nPredali opremljeni s cilindrično ključavnico, vsak predal ima kovinski ročaj, finalna obdelava nikelj,\nS pripadajočimi certifikati: Greenguard, BIFMA, GS-Geprüfte Sicherheit, PEFC, LGA, THE GLOBAL COMPACT, DIN ISO 38200\nOBDELAVA;\nKonstrukcija: white\nVrata - fronte: white"]
[null,"Dim.43 / 80 / 55cm; \nKot npr.: OfficeBox; VS Vereinigte Spezialmöbelfabriken\nali popolnoma enakovredno (tehnično in oblikovno)"]
[]
[null,"ST1 - Stol za zaposlene","kos",1,null,null,{"$f":"D250*F250","v":0},{"$f":"+F250*MM","v":0},{"$f":"+H250*D250","v":0},{"$f":"+F250-H250","v":0},{"$f":"+J250*D250","v":0}]
[null,"Dvižni vrtiljak za učitelje s polipropilensko školjko.\nPet (5) krako zvezda aluminijasto podnožje, prašno barvano po proizvajalčevi barvni skali, na kolesih za trda tla.\nErgonomska sediščna školjka iz vezane bukove ali hrastove plošče, prevlečena z barvo proti drsenju (v barvi po proizvajalčevi barvni skali).Odprtina v hrbtišču. Robovi sediščne školjke zaobljeni. Pritrditev sediščne školjke na podnožje nevidna.\nS pripadajočimi certifikati: Greenguard, BIFMA, GS-Geprüfte Sicherheit, PEFC, LGA, THE GLOBAL COMPACT, DIN ISO 38200\nOBDELAVA;\nPodnožje: arctic \nMizna plošča: light green"]
[null,"Dim. 46 / 50 cm; višina sedišča 42,4 - 55,2 cm,\nKot npr.: PantoMove-LuPo; VS Vereinigte Spezialmöbelfabriken\nali popolnoma enakovredno (tehnično in oblikovno)"]
[]
[null,"M11 - Okrogla miza za delo na tleh","kos",1,null,null,{"$f":"D254*F254","v":0},{"$f":"+F254*MM","v":0},{"$f":"+H254*D254","v":0},{"$f":"+F254-H254","v":0},{"$f":"+J254*D254","v":0}]
[null,"Otroška miza z dodatno funkcijo shranjevalnega elementa in držala za pisala in nosilcem za šotorski element,\nKonstrukcija iz ABS plastike, rotacijsko lita in naložljiva,\nMizna plošča v CDF plošči (svisokotlačni laminat, krožne oblike z luknjo v sredini (držalo pisal), plošča debeline 13mm,\nS pripadajočimi certifikati: Greenguard, BIFMA, GS-Geprüfte Sicherheit, PEFC, LGA, THE GLOBAL COMPACT, DIN ISO 38200\nOBDELAVA;\nKonstrukcija: White \nMizna plošča: natural maple laminate"]
[null,"Dim.fi63cm; višina mizne ploskve 39.8cm,\nKot npr.: Gugl; VS Vereinigte Spezialmöbelfabriken\nali popolnoma enakovredno (tehnično in oblikovno)"]
[]
[null,"BL1 - Ukrivljena igralna blazina ","kos",6,null,null,{"$f":"D258*F258","v":0},{"$f":"+F258*MM","v":0},{"$f":"+H258*D258","v":0},{"$f":"+F258-H258","v":0},{"$f":"+J258*D258","v":0}]
[null,"Igralna blazina je sestavljena iz debelo obložene pene s\nprotizdrsnim dnom, bočno nosilno zanko in stranic, ki jih\nobdaja črni trak. Zgornja površina igralnih blazin je sestavljena iz trpežne, obarvane tkanine, ki je antibakterijska in enostavna za čiščenje. Požarna odpornost v skladu s standardom DIN 66084 - razredi P-c (nizka) in P-b (srednja). Opcijsko je pri tekstilu skupine S40 na voljo tudi z dodatno ognjevarno podlogo MVSS-303 (razred P-a (visok)), ki je všita pod plastjo\ntkanine.\nS pripadajočimi certifikati: Greenguard, BIFMA, GS-Geprüfte Sicherheit, LGA, THE GLOBAL COMPACT, DIN 66084\nOBDELAVA:\nBlazina: traffic red"]
[null,"Dim. 106 / 86,9 / 8 cm; \nKot npr.: Shift+ Landscape Padded mats; VS Vereinigte Spezialmöbelfabriken\nali popolnoma enakovredno (tehnično in oblikovno)"]
[]
[null,"BLS - Šotorski element za igralno blazino s pripadajočo torbo za shranjevanje","kos",8,null,null,{"$f":"D262*F262","v":0},{"$f":"+F262*MM","v":0},{"$f":"+H262*D262","v":0},{"$f":"+F262-H262","v":0},{"$f":"+J262*D262","v":0}]
[null,"Šotorski element je sestavljen iz raztegljive tkanine po proizvajalčevi barvni skali in palic iz steklenih vlaken za napenjanje trikotne površine, ki se na igralno površino pritrdi s tremi (3) točkami na dolgi in eno (1) točko na kratki stranici.\nS pripadajočimi certifikati: Greenguard, BIFMA, GS-Geprüfte Sicherheit, LGA, THE GLOBAL COMPACT, DIN 66084\nOBDELAVA:\nBlazina: yellow"]
[null,"Dim. Prb. 96 /226 cm; \nKot npr.: Leaf; VS Vereinigte Spezialmöbelfabriken\nali popolnoma enakovredno (tehnično in oblikovno)"]
[]
[null,"BL2 - Pravokotna igralna blazina ","kos",2,null,null,{"$f":"D266*F266","v":0},{"$f":"+F266*MM","v":0},{"$f":"+H266*D266","v":0},{"$f":"+F266-H266","v":0},{"$f":"+J266*D266","v":0}]
[null,"Igralna blazina je sestavljena iz debelo obložene pene s\nprotizdrsnim dnom, bočno nosilno zanko in stranic, ki jih\nobdaja črni trak. Zgornja površina igralnih blazin je sestavljena iz trpežne, obarvane tkanine, ki je antibakterijska in enostavna za čiščenje.\nS pripadajočimi certifikati: Greenguard, BIFMA, GS-Geprüfte Sicherheit, LGA, THE GLOBAL COMPACT, DIN 66084\nOBDELAVA:\nBlazina: yellow"]
[null,"Dim. 105 / 85 / 8 cm; \nKot npr.: Shift+ Landscape Padded mats; VS Vereinigte Spezialmöbelfabriken\nali popolnoma enakovredno (tehnično in oblikovno)"]
[]
[null,"V1 - Velika mehka vreča s polnilom","kos",1,null,null,{"$f":"D270*F270","v":0},{"$f":"+F270*MM","v":0},{"$f":"+H270*D270","v":0},{"$f":"+F270-H270","v":0},{"$f":"+J270*D270","v":0}]
[null,"Oblazinjena vrečka se sedenje, z snemljivo in pralno prevleko.\nNotranja vrečka polnjena z ekspandiranimi EPS polistirenskimi zrnci, v velikosti 3-6 mm. Snemljiva prevleka je iz tkanine (po\nproizvajalčevi barvni skali S41), ki je dvojno prevlečena s snovjo, odporno na vodo, olje in umazanijo. Vreča za sedenje je opremljena z ročajem in 2 žepoma. Požarna odpornost v skladu s standardom DIN 4102 B1.\nS pripadajočimi certifikati: BIFMA, GREENGUARD GOLD, LGA, GS, THE GLOBAL COMPACT, DIN 4102 B1"]
[null,"Dim.180/ 25 / 140cm; \nKot npr.: Cloud, Beanbag\nali popolnoma enakovredno (tehnično in oblikovno)"]
[]
[null,"ST13 - Stol za otroke","kos",2,null,null,{"$f":"D274*F274","v":0},{"$f":"+F274*MM","v":0},{"$f":"+H274*D274","v":0},{"$f":"+F274-H274","v":0},{"$f":"+J274*D274","v":0}]
[null,"Vse stranski element (sedišče) ki je namenjeno zlaganju, učenju, igri, sedenju itd. V kompletu dvanajst (12) elementov različnih barv.\nSedišča so naložljiva. Izdelano iz lahkega EPP (stiroporna pena), ki je netoksičen, odporen na obrabo in se 100% reciklira.\nS pripadajočimi certifikati: Greenguard, BIFMA, GS-Geprüfte Sicherheit, LGA, THE GLOBAL COMPACT\nOBDELAVA;\nSediščna školjka: raznobarvna"]
[null,"Dim.fi27cm; višina sedišča 12cm,\nKot npr.: Stapelstein; VS Vereinigte Spezialmöbelfabriken\nali popolnoma enakovredno (tehnično in oblikovno)"]
[]
[null,"PR - Plošča za ravnotežje","kos",4,null,null,{"$f":"D278*F278","v":0},{"$f":"+F278*MM","v":0},{"$f":"+H278*D278","v":0},{"$f":"+F278-H278","v":0},{"$f":"+J278*D278","v":0}]
[null,"Plošča za ravnotežje se lahko uporablja samostojno ali v kombinaciji z vse stranskimi elementi (STP5) pri igri, sedenju itd.\nIzdelano iz lahkega EPP (stiroporna pena), ki je netoksičen, odporen na obrabo in se 100% reciklira.\nS pripadajočimi certifikati: Greenguard, BIFMA, GS-Geprüfte Sicherheit, LGA, THE GLOBAL COMPACT\nOBDELAVA;\nSediščna školjka: raznobarvna"]
[null,"Dim.fi35.5 cm; višina sedišča 8 cm,\nKot npr.: Kreiselstein; VS Vereinigte Spezialmöbelfabriken\nali popolnoma enakovredno (tehnično in oblikovno)"]
[]
[null,"PBT - Kombinirana piši-briši tabla","kos",8,null,null,{"$f":"D282*F282","v":0},{"$f":"+F282*MM","v":0},{"$f":"+H282*D282","v":0},{"$f":"+F282-H282","v":0},{"$f":"+J282*D282","v":0}]
[null,"Unikatna prenosna kombinirana piši-briši tabla z belo površino in površino in filca. Akrilna osnova prevlečena s filcem. Zaobljeni robovi z vbočenim spodnjim robom za enostavnejše prilaganje telesu."]
[null,"Dim. 40 / 30 / 2,5 cm; \nKot npr.: ideenbrett madame Whiteboard; Imsinne\nali popolnoma enakovredno (tehnično in oblikovno)"]
[]
[null,"PBT1 - Kombinirana piši-briši tabla","kos",8,null,null,{"$f":"D286*F286","v":0},{"$f":"+F286*MM","v":0},{"$f":"+H286*D286","v":0},{"$f":"+F286-H286","v":0},{"$f":"+J286*D286","v":0}]
[null,"Unikatna prenosna kombinirana piši-briši tabla z belo površino in površino in filca. Akrilna osnova prevlečena s filcem. Zaobljeni robovi z vbočenim spodnjim robom za enostavnejše prilaganje telesu."]
[null,"Dim. 55 / 45 / 3 cm; \nKot npr.: ideenbrett herr Whiteboard; Imsinne\nali popolnoma enakovredno (tehnično in oblikovno)"]
[]
[null,"PBT2 - Kombinirana piši-briši tabla","kos",2,null,null,{"$f":"D290*F290","v":0},{"$f":"+F290*MM","v":0},{"$f":"+H290*D290","v":0},{"$f":"+F290-H290","v":0},{"$f":"+J290*D290","v":0}]
[null,"Unikatna prenosna kombinirana piši-briši tabla z belo površino in površino in filca. Akrilna osnova prevlečena s filcem. Zaobljeni robovi z vbočenim spodnjim robom za enostavnejše prilaganje telesu."]
[null,"Dim. 58 / 180 / 3 cm; \nKot npr.: ideenbrett sam Whiteboard; Imsinne\nali popolnoma enakovredno (tehnično in oblikovno)"]
[]
[null,"PBT3 - Stojalo za kombinirano piši-briši tablo","kos",1,null,null,{"$f":"D294*F294","v":0},{"$f":"+F294*MM","v":0},{"$f":"+H294*D294","v":0},{"$f":"+F294-H294","v":0},{"$f":"+J294*D294","v":0}]
[null,"Prenosno zložljivo stojalo za dve tabli piši-briši (PBT3) omogoča različne postavitve. Osnova iz recikliranega ultra lahkega materiala (PET steklenic) vključuje dve brisalki. "]
[null,"Dim. 62 / 44 / 7 cm; \nKot npr.: ideenstand; Imsinne\nali popolnoma enakovredno (tehnično in oblikovno)"]
[]
[null,"PBT4 - Tirnica za shranjevanje piši-briši tabel","kos",8,null,null,{"$f":"D298*F298","v":0},{"$f":"+F298*MM","v":0},{"$f":"+H298*D298","v":0},{"$f":"+F298-H298","v":0},{"$f":"+J298*D298","v":0}]
[null,"Stenska tirnica za shranjevanje piši-briši tabel (PBT2 IN PBT1) iz prašno barvane kovine. Material tirnice omogoča pritrjevanje magnetov."]
[null,"Dim. 120 / 6 / 1,5 cm; \nKot npr.: ideenhigh; Imsinne\nali popolnoma enakovredno (tehnično in oblikovno)"]
[]
[null,"PBT5 - Brisalka za piši-briši tablo","kos",10,null,null,{"$f":"D302*F302","v":0},{"$f":"+F302*MM","v":0},{"$f":"+H302*D302","v":0},{"$f":"+F302-H302","v":0},{"$f":"+J302*D302","v":0}]
[null,"Večnamenska brisalka unikatne oblike iz filca. Brisalka lahko služi tudi kot nosilec, držalo pisala ali kot spona."]
[null,"Dim. 9 / 9 / 1,5 cm; \nKot npr.: ideenzero; Imsinne\nali popolnoma enakovredno (tehnično in oblikovno)"]
[]
[null,"PBT6 - Pisala za piši-briši tablo","kos",10,null,null,{"$f":"D306*F306","v":0},{"$f":"+F306*MM","v":0},{"$f":"+H306*D306","v":0},{"$f":"+F306-H306","v":0},{"$f":"+J306*D306","v":0}]
[null,"Set dvanajstih (12) pisal za tablo piši-briši v desetih barvnih odtenkih. Pisala so preizkušena po standardu DIN EN 71 ter polnjena s kakovostnim črnilom. Oblika pisala omogoča umestitev v brisalko."]
[null,"Kot npr.: ideenconnect; Imsinne\nali popolnoma enakovredno (tehnično in oblikovno)"]
[]
[null,"LH2 - Lesena hiška","kos",1,null,null,{"$f":"D310*F310","v":0},{"$f":"+F310*MM","v":0},{"$f":"+H310*D310","v":0},{"$f":"+F310-H310","v":0},{"$f":"+J310*D310","v":0}]
[null,"Kotna lesena hiška v dveh etažah s stopnicami na desni strani. Stopnice obdane  s protizdrsnim profilom. Zgoraj podest, obdan z leseno ograjo z okrolnimi profili. Spodnji del hiške ima okna in polkrožna vrata.\nS pripadajočimi certifikati: GS-Geprüfte Sicherheit"]
[null,"Dim. 252,8 / 187,8 / 248,1 cm; višina podesta 136 cm\nKot npr.: Haus Dachgarten, Treppe rechts; Wehrfritz\nali popolnoma enakovredno (tehnično in oblikovno)"]
[]
[null,"K2- Koš za smeti, npr. kovinski mrežasti","kos",1,null,null,{"$f":"D314*F314","v":0},{"$f":"+F314*MM","v":0},{"$f":"+H314*D314","v":0},{"$f":"+F314-H314","v":0},{"$f":"+J314*D314","v":0}]
[null,"Kovinski mrežasti koš za smeti\nVolumen 18 litrov\nDimenzije: višina 35,5 cm, premer 29,5                                                                                Barva: črna\nhttps://www.11st-oprema.si/drugo/kosi-za-smeti/kovinski-mrezasti-kos-za-smeti"]
[]
[null,"Pritličje - Čajna kuhinja in kuhinja in soba za načrtovanju: PC_02"]
[]
[null,"VIO1 - Visoka omara s kuhinjskimi pripomočki","kos",1,null,null,{"$f":"D319*F319","v":0},{"$f":"+F319*MM","v":0},{"$f":"+H319*D319","v":0},{"$f":"+F319-H319","v":0},{"$f":"+J319*D319","v":0}]
[null,"Visoka omara z dvojnimi (2) klasičnimi vrati in premično polico zgoraj ter dvojnimi (2) klasičnimi vrati spodaj. \nKonstrukcija - korpus iz materiala LIGNOpal (iverna plošča je obeh straneh laminirana z dekorativno folijo, prevlečena z melaminsko smolo) v barvi po proizvajalčevi barvni skali, robovi z varjenim ABS robom 1.5mm,\nPodnožje iz materiala LIGNOpal v barvi po proizvajalčevi barvni skali, robovi z varjenim ABS robom 1.5mm,\nVrata iz materiala LIGNOpal v barvi po proizvajalčevi barvni skali, robovi z varjenim ABS robom 1.5mm, odmična spona 270°,\nVrata opremljena s cilindrično ključavnico, kovinski ročaj, finalna obdelava nikelj.\nLevo zgoraj v delovno površino pozicionirano pomivalno korito iz belega emajliranega nerjavečega jekla, spodaj levo grelec (podpultna naprava z nizkim tlakom za priklop na lokaciji) za gretje 5 l vode. Desno zgoraj pozicionirana keramična kuhalna plošča z dvema (2) kuhalnima ploščama in krmilniki zgoraj. Spodaj desno hladilnik (110 l, 15l zamrzovalni predal.\nS pripadajočimi certifikati: Greenguard, BIFMA, GS-Geprüfte Sicherheit, PEFC, LGA, THE GLOBAL COMPACT, DIN ISO 38200\nOBDELAVA;\nKonstrukcija: white\nPodnožje: white\nVrata - fronte: white"]
[null,"Dim. 120 / 58 / 197 cm\nKot npr.: Serie 800 Cabinet; VS Vereinigte Spezialmöbelfabriken\nali popolnoma enakovredno (tehnično in oblikovno)"]
[]
[null,"VIO2 - Visoka omara s policami","kos",1,null,null,{"$f":"D323*F323","v":0},{"$f":"+F323*MM","v":0},{"$f":"+H323*D323","v":0},{"$f":"+F323-H323","v":0},{"$f":"+J323*D323","v":0}]
[null,"Visoka omara z dvojnimi (2) vrati (v notranjosti s premičnimi policami) in ključavnico,\nKonstrukcija - korpus iz materiala LIGNOpal (iverna plošča je obeh straneh laminirana z dekorativno folijo, prevlečena z melaminsko smolo) v barvi po proizvajalčevi barvni skali, robovi z varjenim ABS robom 1.5mm,\nPodnožje iz materiala LINGOpal v barvi po proizvajalčevi barvni skali, robovi z varjenim ABS robom 1.5mm,\nVrata iz materiala LINGOpal v barvi po proizvajalčevi barvni skali, robovi z varjenim ABS robom 1.5mm, odmična spona 270°,\nVrata opremljena s cilindrično ključavnico, kovinski ročaj, finalna obdelava nikelj,\nS pripadajočimi certifikati: Greenguard, BIFMA, GS-Geprüfte Sicherheit, PEFC, LGA, THE GLOBAL COMPACT, DIN ISO 38200\nOBDELAVA;\nKonstrukcija: white\nPodnožje: white\nVrata - fronte: white"]
[null,"Dim. 120 / 58 / 197 cm;  120 / 58 / 75 cm = 120 / 58/ 272 cm\nKot npr.: Serie 800 Cabinet; VS Vereinigte Spezialmöbelfabriken\nali popolnoma enakovredno (tehnično in oblikovno)"]
[]
[null,"NIO1 - Nizka omara ","kos",2,null,null,{"$f":"D327*F327","v":0},{"$f":"+F327*MM","v":0},{"$f":"+H327*D327","v":0},{"$f":"+F327-H327","v":0},{"$f":"+J327*D327","v":0}]
[null,"Nizka omara z dvojnimi (2) vrati (v notranjosti z dvema pomičnima policama) in ključavnico,\nKonstrukcija - korpus iz materiala LIGNOpal (iverna plošča je obeh straneh laminirana z dekorativno folijo, prevlečena z melaminsko smolo) v barvi po proizvajalčevi barvni skali, robovi z varjenim ABS robom 1.5mm,\nPodnožje iz materiala LINGOpal v barvi po proizvajalčevi barvni skali, robovi z varjenim ABS robom 1.5mm,\nVrata iz materiala LINGOpal v barvi po proizvajalčevi barvni skali, robovi z varjenim ABS robom 1.5mm, odmična spona 270°,\nVrata opremljena s cilindrično ključavnico, kovinski ročaj, finalna obdelava nikelj,\nS pripadajočimi certifikati: Greenguard, BIFMA, GS-Geprüfte Sicherheit, PEFC, LGA, THE GLOBAL COMPACT, DIN ISO 38200\nOBDELAVA;\nKonstrukcija: white\nPodnožje: white\nVrata - fronte: white"]
[null,"Dim. 120 / 58 / 84,5 cm,\nKot npr.: Serie 800 Cabinet; VS Vereinigte Spezialmöbelfabriken\nali popolnoma enakovredno (tehnično in oblikovno)"]
[]
[null,"DM - Delovna miza","kos",2,null,null,{"$f":"D331*F331","v":0},{"$f":"+F331*MM","v":0},{"$f":"+H331*D331","v":0},{"$f":"+F331-H331","v":0},{"$f":"+J331*D331","v":0}]
[null,"Pisarniška miza na štirih (4) nogah.\nKonstrukcija iz kovinski profilov, ki so med seboj varjeni in vijačeni, prašno barvani po proizvajalčevi barvni skali, noge na višinsko nastavljivih zaščitnih čepih,\nMizna plošča iz materiala LIGNOpal (iverna plošča je obeh straneh laminirana z dekorativno folijo, prevlečena z melaminsko smolo) v beli barvi, rob mizne plošče v varjenem ABS materialu debeline 2.5mm,\nmizna plošča opremljena z izpusti za elektriko na levi ali desni strani, okrasni kovinski pokrov.\nSpodaj snemljiva rešetka za elektrifikacijo, z držalom za računalnik pod mizo.\nS pripadajočimi certifikati: Greenguard, BIFMA, GS-Geprüfte Sicherheit, PEFC, LGA, THE GLOBAL COMPACT, DIN ISO 38200\nOBDELAVA;\nPodnožje: arctic \nMizna plošča: white"]
[null,"Dim. 180 / 80 cm, višina mizne ploskve 76 cm\nKot npr.: EcoTable-R; VS Vereinigte Spezialmöbelfabriken\nali popolnoma enakovredno (tehnično in oblikovno)"]
[]
[null,"MPR - Mobilni predalnik","kos",2,null,null,{"$f":"D335*F335","v":0},{"$f":"+F335*MM","v":0},{"$f":"+H335*D335","v":0},{"$f":"+F335-H335","v":0},{"$f":"+J335*D335","v":0}]
[null,"Predalnik s štirimi (4) predali na kolesih.\nKonstrukcija - korpus iz materiala LINGOpal v barvi po proizvajalčevi barvni skali, robovi z varjenim ABS robom 1.5mm,\nPodnožje kolesa za trda tla,\nVrata iz materiala LINGOpal v barvi po proizvajalčevi barvni skali, robovi z varjenim ABS robom 1.5mm, \nSistem predalov proti prevrnitvi  (ORGA drawer - odprt je lahko le en predal hkrati),\nRazporeditev predalov; 1.5 + 2 + 2 + 4 HU, \nPredali opremljeni s cilindrično ključavnico, vsak predal ima kovinski ročaj, finalna obdelava nikelj,\nS pripadajočimi certifikati: Greenguard, BIFMA, GS-Geprüfte Sicherheit, PEFC, LGA, THE GLOBAL COMPACT, DIN ISO 38200\nOBDELAVA;\nKonstrukcija: white\nVrata - fronte: white"]
[null,"Dim.43 / 80 / 55cm; \nKot npr.: OfficeBox; VS Vereinigte Spezialmöbelfabriken\nali popolnoma enakovredno (tehnično in oblikovno)"]
[]
[null,"ST1 - Stol za zaposlene","kos",2,null,null,{"$f":"D339*F339","v":0},{"$f":"+F339*MM","v":0},{"$f":"+H339*D339","v":0},{"$f":"+F339-H339","v":0},{"$f":"+J339*D339","v":0}]
[null,"Dvižni vrtiljak za učitelje s polipropilensko školjko.\nPet (5) krako zvezda aluminijasto podnožje, prašno barvano po proizvajalčevi barvni skali, na kolesih za trda tla.\nSediščna školjka iz polipropilena, (AIR cushion) lita školjka z notranjim praznim prostorom, ergonomsko sedišče opremljeno s 3D gibljivim mehanizmom pod sediščem (aktivno sedenje) , \nS pripadajočimi certifikati: BIFMA, GREENGUARD GOLD, LGA, GS, AGR, THE GLOBAL COMPACT\nOBDELAVA;\nPodnožje: arctic \nSediščna školjka: green"]
[null,"Dim. 46 / 50 cm; višina sedišča 42,4 - 55,2 cm,\nKot npr.: PantoMove-LuPo; VS Vereinigte Spezialmöbelfabriken\nali popolnoma enakovredno (tehnično in oblikovno)"]
[]
[null,"OSM1 - Oblazinjeni sedežni modul","kos",1,null,null,{"$f":"D343*F343","v":0},{"$f":"+F343*MM","v":0},{"$f":"+H343*D343","v":0},{"$f":"+F343-H343","v":0},{"$f":"+J343*D343","v":0}]
[null,"Oblazinjeni sedežni modul - pravokotne oblike, ki je popolnoma oblazinjen.\nKonstrukcija iz vezane plošče, podnožje na zaščitnih čepih prilogenim tlem (filc),\nObdano s poliuretansko 3D peno, ter oblazinjeno v več slojnem vodoodpornem kompozitu (Stamskin top; SergeFerrari) v barvi po proizvajalčevi barvni skali. Požarna odpornost v skladu s standardom DIN 66084 - razredi P-c (nizka) in P-b (srednja). Opcijsko je pri tekstilu\nskupine S40 na voljo tudi z dodatno ognjevarno podlogo MVSS-303 (razred P-a (visok)), ki je všita pod plastjo\ntkanine.\nS pripadajočimi certifikati: BIFMA, GREENGUARD GOLD, LGA, GS, THE GLOBAL COMPACT, DIN 4102 B1, PEFC, DIN ISO 3820, DIN 66084\nOBDELAVA;\nPodnožje: black \nOblazinjenje: green"]
[null,"Dim. 105.5 / 52.8,  višina sedišča 46 cm,\nKot npr.: Shift+ Landscape Seating Elements;  VS Vereinigte Spezialmöbelfabriken\nali popolnoma enakovredno (tehnično in oblikovno)"]
[]
[null,"K3- koš za ločevanje smeti","kos",1,null,null,{"$f":"D347*F347","v":0},{"$f":"+F347*MM","v":0},{"$f":"+H347*D347","v":0},{"$f":"+F347-H347","v":0},{"$f":"+J347*D347","v":0}]
[null,"tri delni koš                                                                                     https://sisale.2021outletshop.ru/content?c=ko%C5%A1%20za%20smeti%20lo%C4%8Devanje&id=19"]
[]
[null,"Pritličje - Predprostor z garderobami in skupnim prostorom: PC_03"]
[]
[null,"SGO8 - Sklop garderobnih omaric za 25 otrok","kos",1,null,null,{"$f":"D352*F352","v":0},{"$f":"+F352*MM","v":0},{"$f":"+H352*D352","v":0},{"$f":"+F352-H352","v":0},{"$f":"+J352*D352","v":0}]
[null,"Garderobne omare prirejene za otroke prve triade ali vrtca, sestavljene iz večih enakih ali podobnih sklopov. V najnižjem delu so predali za čevlji, sedalna polica in obešalnik za oblačila nad obešalnikom je predal za razne predmete.\nNad garderobnim delom viseča omara za shranjevanje z eno (1) premično polico in dvojimi (2) vrati .Omara ima hrbtišče iz enakega materiala kot je celotna konstrukcija. Vse omare na vratca imajo ključavnice in omejen dostop.(kapaciteta garderobe za 25 učencev: 5,26 m dolžine za hrambo predmetov,\nKonstrukcija je skladna z ostalo opremo, robovi z varjenim ABS robom 1.5mm. "]
[null,"Dim. 526/ 30 cm / višina; višina sedišča"]
[]
[null,"SGO2 - Sklop garderobnih omaric za 29 učencev","kos",1,null,null,{"$f":"D356*F356","v":0},{"$f":"+F356*MM","v":0},{"$f":"+H356*D356","v":0},{"$f":"+F356-H356","v":0},{"$f":"+J356*D356","v":0}]
[null,"Garderobne omare prirejene za otroke prve triade ali vrtca, sestavljene iz večih enakih ali podobnih sklopov. V najnižjem delu so predali za čevlji, sedalna polica in obešalnik za oblačila nad obešalnikom je predal za razne predmete.\nNad garderobnim delom viseča omara za shranjevanje z eno (1) premično polico in dvojimi (2) vrati .Omara ima hrbtišče iz enakega materiala kot je celotna konstrukcija. Vse omare na vratca imajo ključavnice in omejen dostop.(kapaciteta garderobe za 29 učencev: 6,11 m dolžine za hrambo predmetov,\nKonstrukcija je kot LINGOpal v barvi, ki je skladna z ostalo opremo, robovi z varjenim ABS robom 1.5mm. "]
[null,"Dim. 611 / 30 cm / višina; višina sedišča"]
[]
[null,"SGO3 - Sklop garderobnih omaric za 8 učencev","kos",1,null,null,{"$f":"D360*F360","v":0},{"$f":"+F360*MM","v":0},{"$f":"+H360*D360","v":0},{"$f":"+F360-H360","v":0},{"$f":"+J360*D360","v":0}]
[null,"Garderobne omare prirejene za otroke prve triade ali vrtca, sestavljene iz večih enakih ali podobnih sklopov. V najnižjem delu so predali za čevlji, sedalna polica in obešalnik za oblačila nad obešalnikom je predal za razne predmete.\nNad garderobnim delom viseča omara za shranjevanje z eno (1) premično polico in dvojimi (2) vrati. Omara ima hrbtišče iz enakega materiala kot je celotna konstrukcija. Vse omare na vratca imajo ključavnice in omejen dostop.          Kapaciteta garderobe za 8 učencev: 1,7 m dolžine za hrambo predmetov.\nKonstrukcija je skladna z ostalo opremo, robovi z varjenim ABS robom 1.5mm. "]
[null,"Dim. 170 / 30 cm / višina; višina sedišča"]
[]
[null,"KP - Korpus za previjanje","kos",1,null,null,{"$f":"D364*F364","v":0},{"$f":"+F364*MM","v":0},{"$f":"+H364*D364","v":0},{"$f":"+F364-H364","v":0},{"$f":"+J364*D364","v":0}]
[null,"Korpus s previjalno mizo, izvlečnimi stopnicami in umivalnikom. Konstrukcija - korpus iz troslojne iverne plošče, na obeh straneh laminirane z dekorativno folijo, prevlečene z melaminsko smolo, robovi z varjenim ABS robom 2mm. Levo izvlečne stopnice s štirimi (4) stopnicami z ročajem, v sredini omara z osmimi (8) predali, desno omara s štirimi (4) predali in umivalnikom. V zgornjem delu delovni pult iz HPL plošče in previjalalna podlaga. \nS pripadajočimi certifikati: GS-Geprüfte Sicherheit\nOBDELAVA;\nKonstrukcija: bela"]
[null,"Dim. 231 x V 115 x G 90 cm, višina za previjanje 92 cm\nKot npr.: Wickelanlage mit 14 Schubkästen und Treppe, ; Wehrfritz\nali popolnoma enakovredno (tehnično in oblikovno)"]
[]
[null,"K1- Koš za smeti ,npr. HAN GRIP","kos",1,null,null,{"$f":"D368*F368","v":0},{"$f":"+F368*MM","v":0},{"$f":"+H368*D368","v":0},{"$f":"+F368-H368","v":0},{"$f":"+J368*D368","v":0}]
[null,"dimenzije: 312 x 237 x 345 mm (DxGxV)                                                                                 volumen: 18 litrov                                                                                           https://www.enaa.com/kosi-za-smeti/han-kos-za-smeti-grip-siv  "]
[]
[null,"Pritličje - Sanitarije Ž: PC_07"]
[]
[null,"K1- koš za smeti ,npr. HAN GRIP","kos",1,null,null,{"$f":"D373*F373","v":0},{"$f":"+F373*MM","v":0},{"$f":"+H373*D373","v":0},{"$f":"+F373-H373","v":0},{"$f":"+J373*D373","v":0}]
[null,"dimenzije: 312 x 237 x 345 mm (DxGxV)                                                                                 volumen: 18 litrov                                                                                           https://www.enaa.com/kosi-za-smeti/han-kos-za-smeti-grip-siv  "]
[]
[null,"M1- wc ščetka, npr. Poseidon Ewa ","kos",2,null,null,{"$f":"D376*F376","v":0},{"$f":"+F376*MM","v":0},{"$f":"+H376*D376","v":0},{"$f":"+F376-H376","v":0},{"$f":"+J376*D376","v":0}]
[null,"širina: 12,5 cm\ndolžina: 12,5 cm\nvišina: 37 cm\nbarva: bela\nmaterial: umetna masa                                                                                           https://www.bauhaus.si/wc-garnitura-poseidon-ewa-bela-pvc  "]
[]
[null,"Pritličje - Sanitarije M: PC_08"]
[]
[null,"K1- koš za smeti ,npr. HAN GRIP","kos",1,null,null,{"$f":"D381*F381","v":0},{"$f":"+F381*MM","v":0},{"$f":"+H381*D381","v":0},{"$f":"+F381-H381","v":0},{"$f":"+J381*D381","v":0}]
[null,"dimenzije: 312 x 237 x 345 mm (DxGxV)                                                                                 volumen: 18 litrov                                                                                           https://www.enaa.com/kosi-za-smeti/han-kos-za-smeti-grip-siv  "]
[]
[null,"M1- wc ščetka, npr. Poseidon Ewa ","kos",2,null,null,{"$f":"D384*F384","v":0},{"$f":"+F384*MM","v":0},{"$f":"+H384*D384","v":0},{"$f":"+F384-H384","v":0},{"$f":"+J384*D384","v":0}]
[null,"širina: 12,5 cm\ndolžina: 12,5 cm\nvišina: 37 cm\nbarva: bela\nmaterial: umetna masa                                                                                           https://www.bauhaus.si/wc-garnitura-poseidon-ewa-bela-pvc  "]
[]
[null,"Pritličje - WC zaposleni: PC_09"]
[]
[null,"K1- koš za smeti ,npr. HAN GRIP","kos",1,null,null,{"$f":"D389*F389","v":0},{"$f":"+F389*MM","v":0},{"$f":"+H389*D389","v":0},{"$f":"+F389-H389","v":0},{"$f":"+J389*D389","v":0}]
[null,"dimenzije: 312 x 237 x 345 mm (DxGxV)                                                                                 volumen: 18 litrov                                                                                           https://www.enaa.com/kosi-za-smeti/han-kos-za-smeti-grip-siv  "]
[]
[null,"M1- wc ščetka, npr. Poseidon Ewa ","kos",1,null,null,{"$f":"D392*F392","v":0},{"$f":"+F392*MM","v":0},{"$f":"+H392*D392","v":0},{"$f":"+F392-H392","v":0},{"$f":"+J392*D392","v":0}]
[null,"širina: 12,5 cm\ndolžina: 12,5 cm\nvišina: 37 cm\nbarva: bela\nmaterial: umetna masa                                                                                           https://www.bauhaus.si/wc-garnitura-poseidon-ewa-bela-pvc  "]
[]
[]
[null,"Pritličje - Jedilnica + razdelilni del: PD_07"]
[]
[null,"M10 - Jedilniška miza (SPREMENJENA OZNAKA)","kos",36,null,null,{"$f":"D398*F398","v":0},{"$f":"+F398*MM","v":0},{"$f":"+H398*D398","v":0},{"$f":"+F398-H398","v":0},{"$f":"+J398*D398","v":0}]
[null,"Miza na štirih (4) nogah.\nKonstrukcija iz kovinski profilov, ki so med seboj varjeni in vijačeni, prašno barvani po proizvajalčevi barvni skali, noge na višinsko nastavljivih zaščitnih čepih,\nMizna plošča iz materiala LIGNOpal (iverna plošča je obeh straneh laminirana z dekorativno folijo, prevlečena z melaminsko smolo) v beli barvi, rob mizne plošče v varjenem ABS materialu debeline 2.5mm,\nS pripadajočimi certifikati: Greenguard, BIFMA, GS-Geprüfte Sicherheit, PEFC, LGA, THE GLOBAL COMPACT, DIN ISO 38200\nOBDELAVA;\nPodnožje: arctic \nMizna plošča: white"]
[null,"Dim. 140 / 80 cm, višina mizne ploskve 76 cm\nKot npr.: EcoTable-R; VS Vereinigte Spezialmöbelfabriken\nali popolnoma enakovredno (tehnično in oblikovno)"]
[]
[null,"ST14 - Jedilniški stol (SPREMENJENA OZNAKA)","kos",144,null,null,{"$f":"D402*F402","v":0},{"$f":"+F402*MM","v":0},{"$f":"+H402*D402","v":0},{"$f":"+F402-H402","v":0},{"$f":"+J402*D402","v":0}]
[null,"Stol s polipropilensko školjko na C podnožju.\nPodnožje iz krivljenih jeklenih cevi krožnega prereza, dodatna prečka varjena na podnožje, prašno barvano po proizvajalčevi barvni skali, na zaščitnih čepih za trda tla (filc),\nopremljeno s piggy-back sistemom (nalaganje na mizo),\nSediščna školjka iz polipropilena, (AIR cushion) lita školjka z notranjim praznim prostorom, ergonomsko sedišče v barvi po proizvajalčevi barvni skali, \nErgonomska sediščna školjka iz polipropilena po proizvajalčevi barvni skali - C1, (AIR cushion) lita školjka z notranjim\npraznim prostorom. Školjka ima odprtino v hrbtišču za lažjo manipulacijo. Robovi sediščne školjke so\nzaobljeni. Pritrditev sediščne školjke na podnožje je nevidna.\nS pripadajočimi certifikati: BIFMA, GREENGUARD GOLD, LGA, GS, AGR, CRADLE TO CRADLE, THE GLOBAL COMPACT\nOBDELAVA;\nPodnožje: arctic \nSediščna školjka: light blue, light green, dark blue"]
[null,"Dim. 33.8 / 37.7 /; višina sedišča 46 cm,\nKot npr.: PantoSwing-Lupo; VS Vereinigte Spezialmöbelfabriken\nali popolnoma enakovredno (tehnično in oblikovno)"]
[]
[null,"K1- Koš za smeti ,npr. HAN GRIP","kos",1,null,null,{"$f":"D406*F406","v":0},{"$f":"+F406*MM","v":0},{"$f":"+H406*D406","v":0},{"$f":"+F406-H406","v":0},{"$f":"+J406*D406","v":0}]
[null,"dimenzije: 312 x 237 x 345 mm (DxGxV)                                                                                 volumen: 18 litrov                                                                                           https://www.enaa.com/kosi-za-smeti/han-kos-za-smeti-grip-siv  "]
[]
[null,"DMV - Delovna miza vrtec","kos",1,null,null,{"$f":"D409*F409","v":0},{"$f":"+F409*MM","v":0},{"$f":"+H409*D409","v":0},{"$f":"+F409-H409","v":0},{"$f":"+J409*D409","v":0}]
[null,"Pisarniška miza na štirih (4) nogah.\nKonstrukcija iz kovinski profilov, ki so med seboj varjeni in vijačeni, prašno barvani po proizvajalčevi barvni skali, noge na višinsko nastavljivih zaščitnih čepih,\nMizna plošča iz materiala LIGNOpal (iverna plošča je obeh straneh laminirana z dekorativno folijo, prevlečena z melaminsko smolo) v beli barvi, rob mizne plošče v varjenem ABS materialu debeline 2.5mm,\nS pripadajočimi certifikati: Greenguard, BIFMA, GS-Geprüfte Sicherheit, PEFC, LGA, THE GLOBAL COMPACT, DIN ISO 38200\nOBDELAVA;\nPodnožje: arctic \nMizna plošča: white"]
[]
[null,"ST1 - Stol za zaposlene","kos",3,null,null,{"$f":"D412*F412","v":0},{"$f":"+F412*MM","v":0},{"$f":"+H412*D412","v":0},{"$f":"+F412-H412","v":0},{"$f":"+J412*D412","v":0}]
[null,"Dvižni vrtiljak za učitelje s polipropilensko školjko.\nPet (5) krako zvezda aluminijasto podnožje, prašno barvano po proizvajalčevi barvni skali, na kolesih za trda tla.\nSediščna školjka iz polipropilena, (AIR cushion) lita školjka z notranjim praznim prostorom, ergonomsko sedišče opremljeno s 3D gibljivim mehanizmom pod sediščem (aktivno sedenje) , \nS pripadajočimi certifikati: BIFMA, GREENGUARD GOLD, LGA, GS, AGR, THE GLOBAL COMPACT\nOBDELAVA;\nPodnožje: arctic \nSediščna školjka: green"]
[null,"Dim. 46 / 50 cm; višina sedišča 42,4 - 55,2 cm,\nKot npr.: PantoMove-LuPo; VS Vereinigte Spezialmöbelfabriken\nali popolnoma enakovredno (tehnično in oblikovno)"]
[]
[null,"Pritličje - Kabinet: PD_05"]
[]
[null,"DM - Delovna miza","kos",2,null,null,{"$f":"D418*F418","v":0},{"$f":"+F418*MM","v":0},{"$f":"+H418*D418","v":0},{"$f":"+F418-H418","v":0},{"$f":"+J418*D418","v":0}]
[null,"Pisarniška miza na štirih (4) nogah.\nKonstrukcija iz kovinski profilov, ki so med seboj varjeni in vijačeni, prašno barvani po proizvajalčevi barvni skali, noge na višinsko nastavljivih zaščitnih čepih,\nMizna plošča iz materiala LIGNOpal (iverna plošča je obeh straneh laminirana z dekorativno folijo, prevlečena z melaminsko smolo) v beli barvi, rob mizne plošče v varjenem ABS materialu debeline 2.5mm,\nmizna plošča opremljena z izpusti za elektriko na levi ali desni strani, okrasni kovinski pokrov.\nSpodaj snemljiva rešetka za elektrifikacijo, z držalom za računalnik pod mizo.\nS pripadajočimi certifikati: Greenguard, BIFMA, GS-Geprüfte Sicherheit, PEFC, LGA, THE GLOBAL COMPACT, DIN ISO 38200\nOBDELAVA;\nPodnožje: arctic \nMizna plošča: white"]
[null,"Dim. 180 / 80 cm, višina mizne ploskve 76 cm\nKot npr.: EcoTable-R; VS Vereinigte Spezialmöbelfabriken\nali popolnoma enakovredno (tehnično in oblikovno)"]
[]
[null,"MPR - Mobilni predalnik","kos",2,null,null,{"$f":"D422*F422","v":0},{"$f":"+F422*MM","v":0},{"$f":"+H422*D422","v":0},{"$f":"+F422-H422","v":0},{"$f":"+J422*D422","v":0}]
[null,"Predalnik s štirimi (4) predali na kolesih.\nKonstrukcija - korpus iz materiala LINGOpal v barvi po proizvajalčevi barvni skali, robovi z varjenim ABS robom 1.5mm,\nPodnožje kolesa za trda tla,\nVrata iz materiala LINGOpal v barvi po proizvajalčevi barvni skali, robovi z varjenim ABS robom 1.5mm, \nSistem predalov proti prevrnitvi  (ORGA drawer - odprt je lahko le en predal hkrati),\nRazporeditev predalov; 1.5 + 2 + 2 + 4 HU, \nPredali opremljeni s cilindrično ključavnico, vsak predal ima kovinski ročaj, finalna obdelava nikelj,\nS pripadajočimi certifikati: Greenguard, BIFMA, GS-Geprüfte Sicherheit, PEFC, LGA, THE GLOBAL COMPACT, DIN ISO 38200\nOBDELAVA;\nKonstrukcija: white\nVrata - fronte: white"]
[null,"Dim.43 / 80 / 55 cm; \nKot npr.: OfficeBox; VS Vereinigte Spezialmöbelfabriken\nali popolnoma enakovredno (tehnično in oblikovno)"]
[]
[null,"ST1 - Stol za zaposlene","kos",2,null,null,{"$f":"D426*F426","v":0},{"$f":"+F426*MM","v":0},{"$f":"+H426*D426","v":0},{"$f":"+F426-H426","v":0},{"$f":"+J426*D426","v":0}]
[null,"Dvižni vrtiljak za učitelje s polipropilensko školjko.\nPet (5) krako zvezda aluminijasto podnožje, prašno barvano po proizvajalčevi barvni skali, na kolesih za trda tla.\nSediščna školjka iz polipropilena, (AIR cushion) lita školjka z notranjim praznim prostorom, ergonomsko sedišče opremljeno s 3D gibljivim mehanizmom pod sediščem (aktivno sedenje) , \nS pripadajočimi certifikati: BIFMA, GREENGUARD GOLD, LGA, GS, AGR, THE GLOBAL COMPACT\nOBDELAVA;\nPodnožje: arctic \nSediščna školjka: green"]
[null,"Dim. 46 / 50 cm; višina sedišča 42,4 - 55,2 cm,\nKot npr.: PantoMove-LuPo; VS Vereinigte Spezialmöbelfabriken\nali popolnoma enakovredno (tehnično in oblikovno)"]
[]
[null,"VIO3 - Visoka omara","kos",1,null,null,{"$f":"D430*F430","v":0},{"$f":"+F430*MM","v":0},{"$f":"+H430*D430","v":0},{"$f":"+F430-H430","v":0},{"$f":"+J430*D430","v":0}]
[null,"Visoka omara z dvojnimi (2) vrati zgoraj in dvojnimi (2) vrati spodaj (v notranjosti s premičnimi policami) in ključavnico,\nKonstrukcija - korpus iz materiala LIGNOpal (iverna plošča je obeh straneh laminirana z dekorativno folijo, prevlečena z melaminsko smolo) v barvi po proizvajalčevi barvni skali, robovi z varjenim ABS robom 1.5mm,\nPodnožje iz materiala LINGOpal v barvi po proizvajalčevi barvni skali, robovi z varjenim ABS robom 1.5mm,\nVrata iz materiala LINGOpal v barvi po proizvajalčevi barvni skali, robovi z varjenim ABS robom 1.5mm, odmična spona 270°,\nVrata opremljena s cilindrično ključavnico, kovinski ročaj, finalna obdelava nikelj,\nS pripadajočimi certifikati: Greenguard, BIFMA, GS-Geprüfte Sicherheit, PEFC, LGA, THE GLOBAL COMPACT, DIN ISO 38200\nOBDELAVA;\nKonstrukcija: white\nPodnožje: white\nVrata - fronte: white"]
[null,"Dim. 100 / 42,5/ 197cm,\nKot npr.: Serie 800 Cabinet; VS Vereinigte Spezialmöbelfabriken\nali popolnoma enakovredno (tehnično in oblikovno)"]
[]
[null,"NIO2 - Nizka omara","kos",1,null,null,{"$f":"D434*F434","v":0},{"$f":"+F434*MM","v":0},{"$f":"+H434*D434","v":0},{"$f":"+F434-H434","v":0},{"$f":"+J434*D434","v":0}]
[null,"Nizka omara z dvojnimi (2) vrati, v notranjosti s premičnimi policami in ključavnico. Konstrukcija - korpus iz materiala LIGNOpal (iverna plošča je obeh straneh laminirana z dekorativno folijo, prevlečena z melaminsko smolo) v barvi po proizvajalčevi barvni skali, robovi z varjenim ABS robom 1.5mm,\nPodnožje iz materiala LINGOpal v barvi po proizvajalčevi barvni skali, robovi z varjenim ABS robom 1.5mm,\nVrata iz materiala LINGOpal v barvi po proizvajalčevi barvni skali, robovi z varjenim ABS robom 1.5mm, odmična spona 270°,\nVrata opremljena s cilindrično ključavnico, kovinski ročaj, finalna obdelava nikelj,\nS pripadajočimi certifikati: Greenguard, BIFMA, GS-Geprüfte Sicherheit, PEFC, LGA, THE GLOBAL COMPACT, DIN ISO 38200\nOBDELAVA;\nKonstrukcija: white\nPodnožje: white\nVrata - fronte: white"]
[null,"Dim. 100 / 42,5/ 84,5 cm,\nKot npr.: Serie 800 Cabinet; VS Vereinigte Spezialmöbelfabriken\nali popolnoma enakovredno (tehnično in oblikovno)"]
[]
[null,"NIO3 - NIZKA OMARA","kos",1,null,null,{"$f":"D438*F438","v":0},{"$f":"+F438*MM","v":0},{"$f":"+H438*D438","v":0},{"$f":"+F438-H438","v":0},{"$f":"+J438*D438","v":0}]
[null,"Nizka omara z dvojnimi (2) vrati, v notranjosti s premičnimi policami in ključavnico. Konstrukcija - korpus iz materiala LIGNOpal (iverna plošča je obeh straneh laminirana z dekorativno folijo, prevlečena z melaminsko smolo) v barvi po proizvajalčevi barvni skali, robovi z varjenim ABS robom 1.5mm,\nPodnožje iz materiala LINGOpal v barvi po proizvajalčevi barvni skali, robovi z varjenim ABS robom 1.5mm,\nVrata iz materiala LINGOpal v barvi po proizvajalčevi barvni skali, robovi z varjenim ABS robom 1.5mm, odmična spona 270°,\nVrata opremljena s cilindrično ključavnico, kovinski ročaj, finalna obdelava nikelj,\nS pripadajočimi certifikati: Greenguard, BIFMA, GS-Geprüfte Sicherheit, PEFC, LGA, THE GLOBAL COMPACT, DIN ISO 38200\nOBDELAVA;\nKonstrukcija: white\nPodnožje: white\nVrata - fronte: white"]
[null,"Dim. 50 / 42,5/ 84,5 cm,\nKot npr.: Serie 800 Cabinet; VS Vereinigte Spezialmöbelfabriken\nali popolnoma enakovredno (tehnično in oblikovno)"]
[]
[null,"K2- Koš za smeti, npr. kovinski mrežasti","kos",2,null,null,{"$f":"D442*F442","v":0},{"$f":"+F442*MM","v":0},{"$f":"+H442*D442","v":0},{"$f":"+F442-H442","v":0},{"$f":"+J442*D442","v":0}]
[null,"Kovinski mrežasti koš za smeti\nVolumen 18 litrov\nDimenzije: višina 35,5 cm, premer 29,5                                                                                Barva: črna\nhttps://www.11st-oprema.si/drugo/kosi-za-smeti/kovinski-mrezasti-kos-za-smeti"]
[]
[null,"O1- obešalnik, npr.GENT RUSKO","kos",1,null,null,{"$f":"D445*F445","v":0},{"$f":"+F445*MM","v":0},{"$f":"+H445*D445","v":0},{"$f":"+F445-H445","v":0},{"$f":"+J445*D445","v":0}]
[null,"kovinski obešalnik  v beli barvi\ndimenzije: 46 x 46 x 170 cm\nmaterial: kovina, les\nbarva: bela                                                                                                        https://www.shoppster.com/sl-SI/p/0695800/obesalniki-in-stojala/gent-obesalnik-rusko-bel"]
[]
[]
[null,"Pritličje - Hišniška dlavnica: PE_01"]
[]
[null,"O1- obešalnik, npr.GENT RUSKO","kos",1,null,null,{"$f":"D451*F451","v":0},{"$f":"+F451*MM","v":0},{"$f":"+H451*D451","v":0},{"$f":"+F451-H451","v":0},{"$f":"+J451*D451","v":0}]
[null,"kovinski obešalnik  v beli barvi\ndimenzije: 46 x 46 x 170 cm\nmaterial: kovina, les\nbarva: bela                                                                                                        https://www.shoppster.com/sl-SI/p/0695800/obesalniki-in-stojala/gent-obesalnik-rusko-bel"]
[]
[null,"K2- Koš za smeti, npr. kovinski mrežasti","kos",1,null,null,{"$f":"D454*F454","v":0},{"$f":"+F454*MM","v":0},{"$f":"+H454*D454","v":0},{"$f":"+F454-H454","v":0},{"$f":"+J454*D454","v":0}]
[null,"Kovinski mrežasti koš za smeti\nVolumen 18 litrov\nDimenzije: višina 35,5 cm, premer 29,5                                                                                Barva: črna\nhttps://www.11st-oprema.si/drugo/kosi-za-smeti/kovinski-mrezasti-kos-za-smeti"]
[]
[null,"SKUPAJ OPREMA PRITLIČJE",null,null,null,null,{"$f":"SUM(G21:G456)","v":0},null,{"$f":"SUM(I21:I456)","v":0},null,{"$f":"SUM(K21:K456)","v":0}]

{"sheet":"CDE-OPREMA 1 NADSTROPJE","index":122,"n_rows":404,"n_cols":11,"rows_kept":404,"cut":false,"hidden":false,"merged":[]}
[null,"Objekt C, D in E,  OPREMA KLET"]
[]
["ZAP. ŠT.","OPIS","     ME","KOLIČUNA","SLIKA","CENA/ENOTO","SKUPAJ","POPUST","POPUST SKUPAJ","CENA/ENOTO S POPUSTOM","SKUPAJ S POPUSTOM"]
[]
["I.","OPREMA"]
[]
[null,"SPLOŠNE ZAHTEVE"]
[]
[null,"Stoli in mize za učence"]
[null,"Stoli in mize morajo biti izdelani skladno s standardom DIN EN 1729 oz. SIST ISO 5970."]
[null,"Skladno z zahtevami se v vsako matično učilnico (razredi 1-5)  razporedi stole 3 višin - 20% najnižjih, 50% srednje višine, 30%najvišjih; in sicer za prvi in drugi razred višine 1, 2 in 3; za tretji in četrti razred višine 2,3 in 4; za peti razred višine 3,4 in 5. "]
[null,"Skladno z navodili za graditev osnovnih šol v republiki Sloveniji (razpisno gradivo, maj 2007) se v vsako predmetno učilnico (razredi 6-9) razporedi stole 3 višin - 25% najnižjih, 50% srednje višine, 25%najvišjih; in sicer za šesti in sedmi razred višine 3,4 in 5; ter za osmi in deveti razred višine 4,5 in 6."]
[]
[null,"Končne višine stolov in miz za vsako učilnico določi predstavnik šole."]
[]
["I.2.","OPREMA PRVEGA NADSTROPJA"]
[]
[null,"1. nadstropje - Večnamenski prostor - N1D_01"]
[]
[1,"OSM2 - Oblazinjeni sedežni modul","kos",8,null,null,{"$f":"D20*F20","v":0},{"$f":"+F20*MM","v":0},{"$f":"+H20*D20","v":0},{"$f":"+F20-H20","v":0},{"$f":"+J20*D20","v":0}]
[null,"Oblazinjeni sedežni modul - unikatne ukrivljene oblike je popolnoma oblazinjen.\nKonstrukcija iz vezane plošče, podnožje na zaščitnih čepih prilagojenim tlem (filc),\nObdano s poliuretansko 3D peno, ter oblazinjeno v več slojnem vodoodpornem kompozitu (Stamskin top; SergeFerrari) v barvi po proizvajalčevi barvni skali. Požarna odpornost v skladu s standardom DIN 66084 - razredi P-c (nizka) in P-b (srednja). Opcijsko je pri tekstilu\nskupine S40 na voljo tudi z dodatno ognjevarno podlogo MVSS-303 (razred P-a (visok)), ki je všita pod plastjo tkanine.\nS pripadajočimi certifikati: BIFMA, GREENGUARD GOLD, LGA, GS, THE GLOBAL COMPACT, DIN 4102 B1, PEFC, DIN ISO 3820, DIN 66084\nOBDELAVA;\nPodnožje: black \nOblazinjenje: green"]
[null,"Dim. 52.8 / 109 cm, višina sedišča 46 cm,\nKot npr.: Shift+ Landscape Seating Elements; VS Vereinigte Spezialmöbelfabriken\nali popolnoma enakovredno (tehnično in oblikovno)"]
[]
[2,"OSM1 - Oblazinjeni sedežni modul","kos",2,null,null,{"$f":"D24*F24","v":0},{"$f":"+F24*MM","v":0},{"$f":"+H24*D24","v":0},{"$f":"+F24-H24","v":0},{"$f":"+J24*D24","v":0}]
[null,"Oblazinjeni sedežni modul - pravokotne oblike je popolnoma oblazinjen.\nKonstrukcija iz vezane plošče, podnožje na zaščitnih čepih prilogojenim tlem (filc),\nObdano s poliuretansko 3D peno, ter oblazinjeno v več slojnem vodoodpornem kompozitu (Stamskin top; SergeFerrari) v barvi po proizvajalčevi barvni skali. Požarna odpornost v skladu s standardom DIN 66084 - razredi P-c (nizka) in P-b (srednja). Opcijsko je pri tekstilu\nskupine S40 na voljo tudi z dodatno ognjevarno podlogo MVSS-303 (razred P-a (visok)), ki je všita pod plastjo\ntkanine.\nS pripadajočimi certifikati BIFMA, GREENGUARD GOLD, LGA, GS, THE GLOBAL COMPACT, DIN 4102 B1, PEFC, DIN ISO 3820, DIN 66084\nOBDELAVA;\nPodnožje: black \nOblazinjenje: green"]
[null,"Dim. 105.5 / 52.8,  višina sedišča 46 cm,\nKot npr.: Shift+ Landscape Seating Elements; VS Vereinigte Spezialmöbelfabriken\nali popolnoma enakovredno (tehnično in oblikovno)"]
[]
[3,"RE - Regal / mizica","kos",1,null,null,{"$f":"D28*F28","v":0},{"$f":"+F28*MM","v":0},{"$f":"+H28*D28","v":0},{"$f":"+F28-H28","v":0},{"$f":"+J28*D28","v":0}]
[null,"Regal / mizica unikatne oblike. Konstrukcija - korpus iz materiala LIGNOpal  (iverna plošča na obeh straneh laminirana z dekorativno folijo, prevlečena z melaminsko smolo) v barvi po proizvajalčevi barvni skali, robovi z varjenim ABS robom 1.5mm. Hrbtišče in stranice iz pločevine z vzorcem (perforacija) v barvi po proizvajalčevi barvni skali. \nS pripadajočimi certifikati: Greenguard, BIFMA, GS-Geprüfte Sicherheit, PEFC, LGA, THE GLOBAL COMPACT, DIN ISO 38200,\nOBDELAVA;\nHrbtišče: arctic \nMizna plošča: white"]
[null,"Dim. 110 / 52,75 / 42 cm,\nKot npr.: Shift+ Landscape Seating Elements; VS Vereinigte Spezialmöbelfabriken\nali popolnoma enakovredno (tehnično in oblikovno)"]
[]
[4,"M2 - MIZA","kos",1,null,null,{"$f":"D32*F32","v":0},{"$f":"+F32*MM","v":0},{"$f":"+H32*D32","v":0},{"$f":"+F32-H32","v":0},{"$f":"+J32*D32","v":0}]
[null,"Miza unikatne oblike na štirih (4) nogah.\nKonstrukcija iz jeklenih cevi (noge iz okroglih, vezniki iz kvadratnih), ki so med seboj varjeni in vijačeni, prašno barvani po proizvajalčevi barvni skali, noge na višinsko nastavljivih zaščitnih čepih, prilagojenimi za obstoječa tla.\nIverna mizna plošča (LIGNOpal), na obeh straneh laminirana z dekorativno folijo, prevlečena z melaminsko smolo\n(v barvi po proizvajalčevi barvni skali - L3) s tesno prilegajočim se plastičnim zaključnim robom (ABS 2,5 mm).\nS pripadajočimi certifikati: Greenguard, BIFMA, GS-Geprüfte Sicherheit, PEFC, LGA, THE GLOBAL COMPACT, DIN ISO 38200\nOBDELAVA;\nPodnožje: arctic \nMizna plošča: white"]
[null,"Dim. 165 / 114; višina mizne ploskve 76 cm,\nKot npr.: Puzzle free-form, VS Vereinigte Spezialmöbelfabriken\nali popolnoma enakovredno (tehnično in oblikovno)"]
[]
[5,"M3 - Okrogla miza","kos",1,null,null,{"$f":"D36*F36","v":0},{"$f":"+F36*MM","v":0},{"$f":"+H36*D36","v":0},{"$f":"+F36-H36","v":0},{"$f":"+J36*D36","v":0}]
[null,"Pisarniška okrogla miza.\nKonstrukcija iz kovinski profilov, ki so med seboj varjeni in vijačeni, prašno barvani po proizvajalčevi barvni skali, noge na višinsko nastavljivih zaščitnih čepih,\nMizna plošča iz materiala LIGNOpal v sivo beli barvi, rob mizne plošče v varjenem ABS materialu debeline 2.5mm,\nS pripadajočimi certifikati: Greenguard, BIFMA, GS-Geprüfte Sicherheit, PEFC, LGA, THE GLOBAL COMPACT, DIN ISO 38200, \nOBDELAVA;\nPodnožje: arctic \nMizna plošča: white"]
[null,"Dim. fi70cm; višina mizne ploskve 74 cm,\nKot npr.: RondoSit-ST; VS Vereinigte Spezialmöbelfabriken\nali popolnoma enakovredno (tehnično in oblikovno)"]
[]
[6,"ST3 - Stol","kos",5,null,null,{"$f":"D40*F40","v":0},{"$f":"+F40*MM","v":0},{"$f":"+H40*D40","v":0},{"$f":"+F40-H40","v":0},{"$f":"+J40*D40","v":0}]
[null,"Stol brez hrbtišča za aktivno sedenje. Konstrukcija stola iz polipropilena v barvi po proizvajalčevi barvni skali - C2. Osnova stola ima konveksno obliko, v notranjosti je obtežena in omogoča gibanje s 360 stopinjskim vrtenjem.\nKonveksno dno oblečeno v gumo sega preko robov. Sedišče stola je ergonomsko oblikovano, oblazinjeno z mehkejšo peno.\nS pripadajočimi certifikati: BIFMA, GREENGUARD GOLD, LGA, GS, AGR, THE GLOBAL COMPACT\nOBDELAVA;\nSediščna školjka: Traffic red"]
[null,"Dim. 35 / 35 cm; višina sedišča 46 cm,\nKot npr.: Hokki; VS Vereinigte Spezialmöbelfabriken\nali popolnoma enakovredno (tehnično in oblikovno)"]
[]
[null,"K2- Koš za smeti, npr. kovinski mrežasti","kos",1,null,null,{"$f":"D44*F44","v":0},{"$f":"+F44*MM","v":0},{"$f":"+H44*D44","v":0},{"$f":"+F44-H44","v":0},{"$f":"+J44*D44","v":0}]
[null,"Kovinski mrežasti koš za smeti\nVolumen 18 litrov\nDimenzije: višina 35,5 cm, premer 29,5                                                                                           Barva: črna\nhttps://www.11st-oprema.si/drugo/kosi-za-smeti/kovinski-mrezasti-kos-za-smeti"]
[]
[null,"1. nadstropje - Sanitarije M - N1D_06"]
[]
[null,"K1- koš za smeti ,npr. HAN GRIP","kos",1,null,null,{"$f":"D49*F49","v":0},{"$f":"+F49*MM","v":0},{"$f":"+H49*D49","v":0},{"$f":"+F49-H49","v":0},{"$f":"+J49*D49","v":0}]
[null,"dimenzije: 312 x 237 x 345 mm (DxGxV)                                                                                     volumen: 18 litrov                                                                                           https://www.enaa.com/kosi-za-smeti/han-kos-za-smeti-grip-siv  "]
[]
[null,"M1- wc ščetka, npr. Poseidon Ewa ","kos",1,null,null,{"$f":"D52*F52","v":0},{"$f":"+F52*MM","v":0},{"$f":"+H52*D52","v":0},{"$f":"+F52-H52","v":0},{"$f":"+J52*D52","v":0}]
[null,"širina: 12,5 cm\ndolžina: 12,5 cm\nvišina: 37 cm\nbarva: bela\nmaterial: umetna masa                                                                                           https://www.bauhaus.si/wc-garnitura-poseidon-ewa-bela-pvc  "]
[]
[null,"1. nadstropje - Sanitarije I - N1D_06"]
[]
[null,"K1- koš za smeti ,npr. HAN GRIP","kos",1,null,null,{"$f":"D57*F57","v":0},{"$f":"+F57*MM","v":0},{"$f":"+H57*D57","v":0},{"$f":"+F57-H57","v":0},{"$f":"+J57*D57","v":0}]
[null,"dimenzije: 312 x 237 x 345 mm (DxGxV)                                                                                     volumen: 18 litrov                                                                                           https://www.enaa.com/kosi-za-smeti/han-kos-za-smeti-grip-siv  "]
[]
[null,"M1- wc ščetka, npr. Poseidon Ewa ","kos",1,null,null,{"$f":"D60*F60","v":0},{"$f":"+F60*MM","v":0},{"$f":"+H60*D60","v":0},{"$f":"+F60-H60","v":0},{"$f":"+J60*D60","v":0}]
[null,"širina: 12,5 cm\ndolžina: 12,5 cm\nvišina: 37 cm\nbarva: bela\nmaterial: umetna masa                                                                                           https://www.bauhaus.si/wc-garnitura-poseidon-ewa-bela-pvc  "]
[]
[null,"1. nadstropje - Sanitarije Ž - N1D_07"]
[]
[null,"K1- koš za smeti ,npr. HAN GRIP","kos",1,null,null,{"$f":"D65*F65","v":0},{"$f":"+F65*MM","v":0},{"$f":"+H65*D65","v":0},{"$f":"+F65-H65","v":0},{"$f":"+J65*D65","v":0}]
[null,"dimenzije: 312 x 237 x 345 mm (DxGxV)                                                                                     volumen: 18 litrov                                                                                           https://www.enaa.com/kosi-za-smeti/han-kos-za-smeti-grip-siv  "]
[]
[null,"M1- wc ščetka, npr. Poseidon Ewa ","kos",2,null,null,{"$f":"D68*F68","v":0},{"$f":"+F68*MM","v":0},{"$f":"+H68*D68","v":0},{"$f":"+F68-H68","v":0},{"$f":"+J68*D68","v":0}]
[null,"širina: 12,5 cm\ndolžina: 12,5 cm\nvišina: 37 cm\nbarva: bela\nmaterial: umetna masa                                                                                           https://www.bauhaus.si/wc-garnitura-poseidon-ewa-bela-pvc  "]
[]
[null,"1. nadstropje - Gospodinjska učilnica - N1D_08"]
[]
[7,"M4 - Miza za učence","kos",8,null,null,{"$f":"D73*F73","v":0},{"$f":"+F73*MM","v":0},{"$f":"+H73*D73","v":0},{"$f":"+F73-H73","v":0},{"$f":"+J73*D73","v":0}]
[null,"Miza na štirih (4) nogah.\nKonstrukcija iz kovinski profilov, ki so med seboj varjeni in vijačeni, prašno barvani po proizvajalčevi barvni skali, noge na višinsko nastavljivih zaščitnih čepih,\nMizna plošča iz materiala LIGNOpal (iverna plošča je obeh straneh laminirana z dekorativno folijo, prevlečena z melaminsko smolo) v sivo beli barvi, rob mizne plošče v varjenem ABS materialu debeline 2.5mm,\nS pripadajočimi certifikati: Greenguard, BIFMA, GS-Geprüfte Sicherheit, PEFC, LGA, THE GLOBAL COMPACT, DIN ISO 38200\nOBDELAVA;\nPodnožje: arctic \nMizna plošča: white"]
[null,"Dim. 140 / 70 cm, višina mizne ploskve 76 cm\nKot npr.: EcoTable-R; VS Vereinigte Spezialmöbelfabriken\nali popolnoma enakovredno (tehnično in oblikovno)"]
[]
[8,"ST4 - Stol","kos",16,null,null,{"$f":"D77*F77","v":0},{"$f":"+F77*MM","v":0},{"$f":"+H77*D77","v":0},{"$f":"+F77-H77","v":0},{"$f":"+J77*D77","v":0}]
[null,"Stol na fiksnem podnožju iz krivljenih jeklenih cevi (obrnjena črka V), prašno barvane v barvi po proizvajalčevi barvni skali, z zaščitnimi čepki (drsniki prilagojeni za obstoječa tla). Ergonomska sediščna školjka iz vezane bukove ali hrastove plošče, kompaktno prevlečena v tkanini (v barvi po proizvajalčevi barvni\nskali - S51, S52, S73, S74, S78, S79, S80). Robovi sediščne školjke zaobljeni. Pritrditev sediščne školjke na podnožje nevidna.\nS pripadajočimi certifikati: Greenguard, BIFMA, GS-Geprüfte Sicherheit, PEFC, LGA, THE GLOBAL COMPACT, DIN ISO 38200\nOBDELAVA;\nPodnožje: arctic \nMizna plošča: light green"]
[null,"Stol na fiksnem podnožju iz krivljenih jeklenih cevi (obrnjena črka V), prašno barvane v barvi po proizvajalčevi barvni skali, z zaščitnimi čepki (drsniki prilagojeni za obstoječa tla). Ergonomska sediščna školjka iz vezane bukove ali hrastove plošče, kompaktno prevlečena v tkanini (v barvi po proizvajalčevi barvni\nskali - S51, S52, S73, S74, S78, S79, S80). Robovi sediščne školjke zaobljeni. Pritrditev sediščne školjke na podnožje nevidna.\nS pripadajočimi certifikati: Greenguard, BIFMA, GS-Geprüfte Sicherheit, PEFC, LGA, THE GLOBAL COMPACT, DIN ISO 38200\nOBDELAVA;\nPodnožje: arctic \nMizna plošča: light green"]
[]
[9,"DM - Delovna miza","kos",1,null,null,{"$f":"D81*F81","v":0},{"$f":"+F81*MM","v":0},{"$f":"+H81*D81","v":0},{"$f":"+F81-H81","v":0},{"$f":"+J81*D81","v":0}]
[null,"Pisarniška miza na štirih (4) nogah.\nKonstrukcija iz kovinski profilov, ki so med seboj varjeni in vijačeni, prašno barvani po proizvajalčevi barvni skali, noge na višinsko nastavljivih zaščitnih čepih,\nMizna plošča iz materiala LIGNOpal (iverna plošča je obeh straneh laminirana z dekorativno folijo, prevlečena z melaminsko smolo) v beli barvi, rob mizne plošče v varjenem ABS materialu debeline 2.5mm,\nmizna plošča opremljena z izpusti za elektriko na levi ali desni strani, okrasni kovinski pokrov.\nSpodaj snemljiva rešetka za elektrifikacijo, z držalom za računalnik pod mizo.\nS pripadajočimi certifikati: Greenguard, BIFMA, GS-Geprüfte Sicherheit, PEFC, LGA, THE GLOBAL COMPACT, DIN ISO 38200\nOBDELAVA;\nPodnožje: arctic \nMizna plošča: white"]
[null,"Dim. 180 / 80 cm, višina mizne ploskve 76 cm\nKot npr.: EcoTable-R; VS Vereinigte Spezialmöbelfabriken\nali popolnoma enakovredno (tehnično in oblikovno)"]
[]
[10,"MPR - Mobilni predalnik","kos",1,null,null,{"$f":"D85*F85","v":0},{"$f":"+F85*MM","v":0},{"$f":"+H85*D85","v":0},{"$f":"+F85-H85","v":0},{"$f":"+J85*D85","v":0}]
[null,"Predalnik s štirimi (4) predali na kolesih.\nKonstrukcija - korpus iz materiala LINGOpal v barvi po proizvajalčevi barvni skali, robovi z varjenim ABS robom 1.5mm,\nPodnožje kolesa za trda tla,\nVrata iz materiala LINGOpal v barvi po proizvajalčevi barvni skali, robovi z varjenim ABS robom 1.5mm, \nSistem predalov proti prevrnitvi  (ORGA drawer - odprt je lahko le en predal hkrati),\nRazporeditev predalov; 1.5 + 2 + 2 + 4 HU, \nPredali opremljeni s cilindrično ključavnico, vsak predal ima kovinski ročaj, finalna obdelava nikelj,\nS pripadajočimi certifikati: Greenguard, BIFMA, GS-Geprüfte Sicherheit, PEFC, LGA, THE GLOBAL COMPACT, DIN ISO 38200\nOBDELAVA;\nKonstrukcija: white\nVrata - fronte: white"]
[null,"Dim.43 / 80 / 55cm; \nKot npr.: OfficeBox; VS Vereinigte Spezialmöbelfabriken\nali popolnoma enakovredno (tehnično in oblikovno)"]
[]
[11,"ST5 - Stol za zaposlene","kos",1,null,null,{"$f":"D89*F89","v":0},{"$f":"+F89*MM","v":0},{"$f":"+H89*D89","v":0},{"$f":"+F89-H89","v":0},{"$f":"+J89*D89","v":0}]
[null,"Dvižni vrtiljak za učitelje s polipropilensko školjko.\nPet (5) krako zvezda aluminijasto podnožje, prašno barvano po proizvajalčevi barvni skali, na kolesih za trda tla.\nErgonomska sediščna školjka iz vezane bukove ali hrastove plošče, prevlečena z barvo proti drsenju (v barvi po proizvajalčevi barvni skali).Odprtina v hrbtišču. Robovi sediščne školjke zaobljeni. Pritrditev sediščne školjke na podnožje nevidna.\nS pripadajočimi certifikati: Greenguard, BIFMA, GS-Geprüfte Sicherheit, PEFC, LGA, THE GLOBAL COMPACT, DIN ISO 38200\nOBDELAVA;\nPodnožje: arctic \nMizna plošča: light green"]
[null,"Dim. 58.1 / 57.9 /; višina sedišča 41.5 - 56.7 cm,\nKot npr.: PantoMove-VF; VS Vereinigte Spezialmöbelfabriken\nali popolnoma enakovredno (tehnično in oblikovno)"]
[]
[null,"K2- Koš za smeti, npr. kovinski mrežasti","kos",1,null,null,{"$f":"D93*F93","v":0},{"$f":"+F93*MM","v":0},{"$f":"+H93*D93","v":0},{"$f":"+F93-H93","v":0},{"$f":"+J93*D93","v":0}]
[null,"Kovinski mrežasti koš za smeti\nVolumen 18 litrov\nDimenzije: višina 35,5 cm, premer 29,5                                                                                           Barva: črna\nhttps://www.11st-oprema.si/drugo/kosi-za-smeti/kovinski-mrezasti-kos-za-smeti"]
[]
[null,"KDP - Kuhinski delovni pult","kos",3,null,null,{"$f":"D96*F96","v":0},{"$f":"+F96*MM","v":0},{"$f":"+H96*D96","v":0},{"$f":"+F96-H96","v":0},{"$f":"+J96*D96","v":0}]
[null,"Pultna plošča je debeline 4 cm, izdelana iz iverice, oplemenitene z ultrapasom (beljen hrast),                                                                                                                     Dimenzije: 124 x 244 cm ; višina mizne ploskve 87 cm     https://www.ikea.com/si/sl/p/ekbacken-delovna-plosca-bela-imitacija-marmorja-laminat-00335625/#content                                                                                                                    \n                     \n"]
[null,"PK - Umivalnik : 3 kos                                                                                                                                    velikost pomivalnika: 615 x 500 mm\nvelikost posode: 340 x 420 x 160 mm\nizvedba: reverzibilen\nnačin vgradnje: vsadni (I)\nvrsta materiala: Nerjavno jeklo\nstruktura: SAT (satin)                                               link:https://www.ideo.si/inox_pomivalna_korita/enojno_pomivalno_korito_z_odcejalnikom_LINE_60_SATIN_1065681_ALVEUS                "]
[null,"KA - Kuhinjska armatura, npr: GROHE Eurostyle Cosmopolitan 30221002 : 3 kos                                enoročna armatura za pomivalno korito 1/2\"\nvgradnja na eno odprtino\nkromirana površina\nvrtljiva cevasta pipa link:https://www.ideo.si/kuhinjske_armature/kuhinjska_armatura_enorocna_Eurostyle_Cosmopolitan_30221002_GROHE  "]
[null,"SKP - Bosch steklokeramična kuhalna plošča PKC875N14D : 3 kos                                    Dimenzije V4,8 × Š90 × G51 cm, elektronsko upravljanje na dotik                        https://trgovina-jana.si/beko-hii95310fht-indukcijska-kuhalna-plosca"]
[null,"P - Pečica: 3 kos                                                                                                                                    Dimenzije aparata V59,5 × Š59,4 × G54,8 cm\nDimenzije vgradne niše V57,5 – 59,7 × Š56 – 56,8 × G55 cm   https://www.mimovrste.com/pecice/bosch-hbf113eb0-vgradna-pecica-60-cm-crna "]
[null,"KE1 - Kuhinjski element 60/60/72 cm  x 12 kos\nKE2 - Kuhinjski element 50/60/72 cm  x 3 kos\nKE3 - Kuhinjski element, predali 60/60/72 cm  x  6 kos      https://www.pohistvo.si/kuhinjske-omare/zbirka-kuhinj-upa/omarica-za-pomivalno-korito-z-vrati-upa19.html"]
[]
[null,"HL1 - Hladilnik, npr.Bosch KGN392LEA","kos",1,null,null,{"$f":"D104*F104","v":0},{"$f":"+F104*MM","v":0},{"$f":"+H104*D104","v":0},{"$f":"+F104-H104","v":0},{"$f":"+J104*D104","v":0}]
[null,"Prostostoječi  hladilnik z zamrzovalnikom spodaj, inox look                                                                                                                                             Dimenzije : V 203/ Š 60/ G66 cm                                                                                                                     Barva: siva                                                                                                                                                               Prostornina hladilnega dela: 279 L\nProstornina zamrzovalnega dela: 89 L                                                                              https://www.harveynorman.si/prostostojeci-hladilnik-bosch-kgn392lea"]
[]
[null,"1. nadstropje - Večnamenska dvorana - N1D_09"]
[]
[12,"ST4 - Stol","kos",94,null,null,{"$f":"D109*F109","v":0},{"$f":"+F109*MM","v":0},{"$f":"+H109*D109","v":0},{"$f":"+F109-H109","v":0},{"$f":"+J109*D109","v":0}]
[null,"Stol na fiksnem podnožju iz krivljenih jeklenih cevi (obrnjena črka V), prašno barvane v barvi po proizvajalčevi barvni skali, z zaščitnimi čepki (drsniki prilagojeni za obstoječa tla). Ergonomska sediščna školjka iz vezane bukove ali hrastove plošče, kompaktno prevlečena v tkanini (v barvi po proizvajalčevi barvni\nskali - S51, S52, S73, S74, S78, S79, S80). Robovi sediščne školjke zaobljeni. Pritrditev sediščne školjke na podnožje nevidna.\nS pripadajočimi certifikati: Greenguard, BIFMA, GS-Geprüfte Sicherheit, PEFC, LGA, THE GLOBAL COMPACT, DIN ISO 38200\nOBDELAVA;\nPodnožje: arctic \nMizna plošča: light green"]
[null,"Dim. 48.3 / 56 cm; višina sedišča 46 cm,\nKot npr.: Compass-Soft; VS Vereinigte Spezialmöbelfabriken\nali popolnoma enakovredno (tehnično in oblikovno)"]
[]
[13,"M5 - Miza za ozvočenje","kos",1,null,null,{"$f":"D113*F113","v":0},{"$f":"+F113*MM","v":0},{"$f":"+H113*D113","v":0},{"$f":"+F113-H113","v":0},{"$f":"+J113*D113","v":0}]
[null,"Miza na štirih (4) nogah.\nKonstrukcija iz kovinski profilov, ki so med seboj varjeni in vijačeni, prašno barvani po proizvajalčevi barvni skali, noge na višinsko nastavljivih zaščitnih čepih,\nMizna plošča iz materiala LIGNOpal (iverna plošča je obeh straneh laminirana z dekorativno folijo, prevlečena z melaminsko smolo) v sivo beli barvi, rob mizne plošče v varjenem ABS materialu debeline 2.5mm,\nmizna plošča opremljena s tremi (3) izpusti za elektriko na sredini, levi in desni strani, okrasni kovinski pokrov.\nSpodaj snemljiva rešetka za elektrifikacijo. \nS pripadajočimi certifikati: Greenguard, BIFMA, GS-Geprüfte Sicherheit, PEFC, LGA, THE GLOBAL COMPACT, DIN ISO 38200\nOBDELAVA;\nPodnožje: arctic \nMizna plošča: white"]
[null,"Dim. 200 / 100 cm, višina mizne ploskve 76 cm\nKot npr.: EcoTable-R; VS Vereinigte Spezialmöbelfabriken\nali popolnoma enakovredno (tehnično in oblikovno)"]
[null,"Dim. 200 / 100 cm, višina mizne ploskve 76 cm\nKot npr.: EcoTable-R; VS Vereinigte Spezialmöbelfabriken\nali popolnoma enakovredno (tehnično in oblikovno)"]
[]
[null,"'PR1 - Laserski projektor z UST objektivom","kos",1,null,null,{"$f":"D118*F118","v":0},{"$f":"+F118*MM","v":0},{"$f":"+H118*D118","v":0},{"$f":"+F118-H118","v":0},{"$f":"+J118*D118","v":0}]
[null,"Projekcijski sistem: Tehnologija 3LCD; Zaslonka RGB s tekočimi kristali; Barvna svetilnost: 8.500 Lumnov; Ločljivost WUXGA, 1920 x 1200, 16:10; Vir svetlobe: Laser; Trapezna korekcija: Ročno navpično: ± 45 °, Ročno vodoravno ± 30 °;  Kensington-zaščita; Prag hrupa: Normalno: 35 dB(A) - Varčno: 30 dB(A); Priključki:  USB 2.0 vrste A (2x), USB 2.0 Type B (Service Only), RS-232C, Vmesnik ethernet (100 Base-TX/10 Base-T), Brezžično krajevno omrežje IEEE 802.11a/b/g/n (opcijsko), Vhod VGA, Vhod DVI, HDBaseT, Avdio-izhod – stereo mini vtič, HDMI (HDCP 2.3)\nObjektiv: Projekcijsko razmerje 0,35:1; F-število: 1,9; Goriščna razdalja: 5,8mm, Konektor: 24-Pin; Razpon premikov objektiva: vertikalno: +50% to +67% (H Center); Horizontalno:  -10% to +10% (Vertical+50%); \nZ ustreznim stropnim nosilcem"]
[null,"Dimenzije projektorja: max 545‎ x 436 x 189 mm (Širina x Globina x Višina), teža: max 16,3 kg\nKot npr.: Projektor Epson EB-PU1008W z Epson ELPLX01S objektivom"]
[]
[null,"PL1 - Motorizirano projekcijsko platno","kos",1,null,null,{"$f":"D122*F122","v":0},{"$f":"+F122*MM","v":0},{"$f":"+H122*D122","v":0},{"$f":"+F122-H122","v":0},{"$f":"+J122*D122","v":0}]
[null,"Projekcijska površina: 4500x2813 mm; brez robov; Projekcijska površina: VisionWhite; Priloženi nosilci za stensko ali stropno montažo; Priloženo stikalo; Dviganje in spuščanje motorizirano; Sistem CTS (Constant Tension System) , ki zagotavlja stalno samonapenjanje skozi čas, doseženo z dvema protiutežema."]
[null,"Skupna dimenzija platna: 4560x2990 mm; Projekcijska površina: 4500x2813mm; Neto teža: maksimalno 41 kg\nKot npr.: Adeo Alumid Motorizirano platno 4500x2813, VisionWhite"]
[]
[null,"K2 - Koš za smeti, npr. kovinski mrežasti","kos",1,null,null,{"$f":"D126*F126","v":0},{"$f":"+F126*MM","v":0},{"$f":"+H126*D126","v":0},{"$f":"+F126-H126","v":0},{"$f":"+J126*D126","v":0}]
[null,"Kovinski mrežasti koš za smeti\nVolumen 18 litrov\nDimenzije: višina 35,5 cm, premer 29,5                                                                                           Barva: črna\nhttps://www.11st-oprema.si/drugo/kosi-za-smeti/kovinski-mrezasti-kos-za-smeti"]
[]
[null,"O2 - stenski obešalnik za obleko po meri","kos",2,null,null,{"$f":"D129*F129","v":0},{"$f":"+F129*MM","v":0},{"$f":"+H129*D129","v":0},{"$f":"+F129-H129","v":0},{"$f":"+J129*D129","v":0}]
[null,"Iverna plošča, deb. 22 mm, dimenzije plošče 15/200 cm, finalna obdelava plošče: furnir ali ultrapas (imitacija beljen hrast) x 2 kom\nZložljiv kavelj Came (15 kom) - vtopljen v iverno ploščo, iz cinkove litine, videz inoxa, dimenzije 20/80/13,5 mm x 40 kom\nOpomba: obešalnik se pritrdi na steno v višini vhodnih vrat v prostoru! https://www.rovando.com/si/kavelj-za-obesanje-oblacil-zlozljiv                 https://trgovina.les3.si/index.php/lesene-plosce/iverne-plosce.html"]
[]
[null,"SNK - Izdelava in vgradnja stropne nosilne konstrukcije","kos",1,null,null,{"$f":"D132*F132","v":0},{"$f":"+F132*MM","v":0},{"$f":"+H132*D132","v":0},{"$f":"+F132-H132","v":0},{"$f":"+J132*D132","v":0}]
[null,"Dela obsegajo izdelavo in montažo stropne kovinske konstrukcije za namene obešanje lučne in odrske tehnike. Konstrukcija je narejena iz pohištvene cevi fi 48,3mm, debeline 3,2mm in je v celoti prašno barvana v črno mat fino strukturno barvo. Konstrukcija je izvedena kot \"grid\" in sicer s tremi vzdolžnimi in petimi prečnimi cevmi. Zunanja dimenzija celotne konkstrukcije je  450cm x 900cm. Razmik notranjih profilov cevi je enakomerno razporejena glede na število le teh. \nCelotna konstrukcija je vpeta v strop s pomočjo obešalnih konzol in sicer v 15 točkah (na stičiščih cevi) s pomočjo ustrezne HILTI sidrne tehnike ali enakovredno. Višina od stropa do osi cevne konstrukcije je 400mm. Pozicija montaže grida je navedena na načrtu.\n\n"]
[]
[null,"Z1 - Zavesa oder ","kos",1,null,null,{"$f":"D135*F135","v":0},{"$f":"+F135*MM","v":0},{"$f":"+H135*D135","v":0},{"$f":"+F135-H135","v":0},{"$f":"+J135*D135","v":0}]
[null,"Elektromotorni pogon glavne zavese : Dobava sistema motoriziranega pogona in vodila za horizontalno odpiranje dvodelne glavne gledališke  zavese. Vodilo se delno namesti na nosilno konzolo iz okrogle pohištvene cevi fi48,3 x 3,2mm (grid) in na ustrezne točke direktono v strop. Sredinsko prekrivanje zavese mora biti 1,0m. Hitrost odpiranja zavese je regulirana od 0 do 0,6 m/s. Pogon mora biti opremljen z dvojnimi končni stikali, za predustavljanje in ustavljanje, tako pri odpiranju kot zapiranju zavese. Motorni pogon mora biti opremljen z elektromagnetno zavoro, ki omogoča ročno odpiranje zavese v primeru izpada električne energije.\nVodilo je izvedeno v obliči črke \"U\" in sicer skupne dolžine 18,00m. Vodilo mora biti narejeno iz ekstrudiranega Aluminija in eloksirano v črno barvo. Vodilo mora imeti obešalne kljuke za obešanje na konstrukcijsko cev. Nosilnost vodila mora biti min. 60 kg razporejene nosilnosti na tekoči meter ob predpostavki, da je vodilo obešeno na 100 cm. Nosilni koleščki morajo biti kroglično uležajeni, nosilec na katerega se zavese obešajo pa imeti možnost 360° rotacije za lepše zlaganje in padec zavese. Nosilnost posameznega koleščka mora biti min. 10 kg. Koleščki morajo biti razporejeni vsakih 20 cm. Krmiljenje zavese se izvaja preko krmilne omarice scenske mehanike in daljinsko (npr. Iz produkcijske kabine) z radijskim daljinskim upravljalnikom."]
[]
[null,"Vodilo horizont zavese","kos",1,null,null,{"$f":"D138*F138","v":0},{"$f":"+F138*MM","v":0},{"$f":"+H138*D138","v":0},{"$f":"+F138-H138","v":0},{"$f":"+J138*D138","v":0}]
[null,"Dobava Alu vodila dolžine 9,80m za potrebe dvodelne zadnje zavese. Vodilo mora imeti obešalne kljuke za obešanje na kovinsko konstrukcijo. Sredinsko prekrivanje zadnje zavese je 0,25 m. Odpiranje/zapiranje zadnje zavese v celoti ročno. Vodilo mora biti narejeno iz ekstrudiranega Aluminija in eloksirano v črno barvo. Nosilnost vodila mora biti min. 60 kg razporejene nosilnosti na tekoči meter ob predpostavki, da je vodilo obešeno na 100 cm. Nosilni koleščki morajo biti kroglično uležajeni, nosilec na katerega se zavese obešajo pa imeti možnost 360° rotacije za lepše zlaganje in padec zavese. Nosilnost posameznega koleščka mora biti min. 10 kg. Koleščki morajo biti razporejeni vsakih 20 cm. "]
[null,"A. Harlekin (tekstilna oprema )","kos",1,null,null,{"$f":"D140*F140","v":0},{"$f":"+F140*MM","v":0},{"$f":"+H140*D140","v":0},{"$f":"+F140-H140","v":0},{"$f":"+J140*D140","v":0}]
[null,"Material: poliester (Trevira CS) Širina materiala: 140 cm, Spec. teža: 520 g/m2\nBarva: po izboru na osnovi dostavljenih vzorcev proizvajalca \nOgnjeodporno: DIN 4102 B1, DIN EN 13501-1 Končna velikost in obdelava materiala:\nTip: Enodelna zavesa z izvedenim fiksnim naborom\nŠirina: 10,0m, Višina: 0,4m, Nabor: 80% - fiksno všite gube\nObdelava: Vertikalni sestavni šivi\nZgornji rob: ojačitveni trak 5 cm z všitim ježek trakom\nStranski rob: Stranice ozko zarobljene\nSpodnji rob: višine 10 cm z obtežitveno vrvico 200 g/tm                                 Izbrani materiali morajo biti skladni z elaboratom prostorske akustike."]
[null,"B. Glavna zavesa (tekstilna oprema )","kos",1,null,null,{"$f":"D142*F142","v":0},{"$f":"+F142*MM","v":0},{"$f":"+H142*D142","v":0},{"$f":"+F142-H142","v":0},{"$f":"+J142*D142","v":0}]
[null,"Material: poliester (Trevira CS), Širina materiala: 140 cm, Spec. teža: 520 g/m2\nBarva: po izboru na osnovi dostavljenih vzorcev proizvajalca \nOgnjeodporno: DIN 4102 B1, DIN EN 13501-1                                                                            Končna velikost in obdelava materiala:\nTip: Dvodelna zavesa, Širina: 2 kosa - 9,50m + 0,60m aplavzni rob, Višina: 3,85 m, Nabor: 80% \nObdelava: , Vertikalni sestavni šivi, Zgornji rob: ojačitveni trak 5 cm z vgrajenimi kovinskimi očesci vsakih 20 cm , Stranski rob: Stranice ozko zarobljene, Spodnji rob: višine 10 cm z obtežitveno vrvico 200 g/tm        Izbrani materiali morajo biti skladni z elaboratom prostorske akustike."]
[null,"C. Podloga glavne zavese (tekstilna oprema )","kos",1,null,null,{"$f":"D144*F144","v":0},{"$f":"+F144*MM","v":0},{"$f":"+H144*D144","v":0},{"$f":"+F144-H144","v":0},{"$f":"+J144*D144","v":0}]
[null,"Material: Trevira CS, Širina materiala: 300 cm, Spec. teža: 320 g/m2, Barva: črna , Ognjeodporno: DIN 4102 B1, DIN EN 13501-1                                                                             Končna velikost in obdelava materiala:\nTip: Dvodelna zavesa, Širina: 2 kosa – 9,50m, Višina: 3,85 m, Nabor: 10% \nObdelava: Vertikalni sestavni šivi\nZgornji rob: ojačitveni trak 5 cm z vgrajenimi kovinskimi očesci vsakih 20 cm \nStranski rob: Stranice ozko zarobljene\nSpodnji rob: višine 10 cm z obtežitveno vrvico 200 g/tm                   Izbrani materiali morajo biti skladni z elaboratom prostorske akustike."]
[null,"D. Horizont zavesa","kos",1,null,null,{"$f":"D146*F146","v":0},{"$f":"+F146*MM","v":0},{"$f":"+H146*D146","v":0},{"$f":"+F146-H146","v":0},{"$f":"+J146*D146","v":0}]
[null,"Horizont zavesa se namesti na zadnji scenski vlak.                                                                   Material: Trevira CS, Širina materiala: 300 cm, Spec. Teža: 320 g/m2, Barva: črna \nOgnjeodporno: DIN 4102 B1, DIN EN 13501-1                                                                            Končna velikost in obdelava materiala: Tip: dvodelna zavesa, Širina:  5,15m - 2 kosa\nVišina: 3,85 m, Nabor: 0% \nObdelava: Vertikalni sestavni šivi\nZgornji rob: ojačitveni trak 5 cm z vgrajenimi kovinskimi očesci vsakih 20 cm \nStranski rob: Stranice ozko zarobljene\nSpodnji rob: višine 10 cm z obtežitveno vrvico 200 g/tm                                   Izbrani materiali morajo biti skladni z elaboratom prostorske akustike."]
[]
[null,"PO - Odrski podesti","kos",1,null,null,{"$f":"D149*F149","v":0},{"$f":"+F149*MM","v":0},{"$f":"+H149*D149","v":0},{"$f":"+F149-H149","v":0},{"$f":"+J149*D149","v":0}]
[null,"Dobava škarjastih odrskih podestov, ki imajo po celem obodu večnamenski kanal za med sebojno povezovanje odrskih enot ter pritrjevanje dodatne scenske opreme na same odrske enote. Povezovanje odrov poteka preko posebne ključavnice, ki se vstavi v večnamenski kanal in se z vijačenjem ključavnice, odrske enote fiksirajo. Ključavnica mora imeti  distančnik kateri točno dolača globino v kateri se odrske enote fiksirajo.\nSpodnji del – škarjaste noge pa so narejene iz kovinskih profilov 50 x 30 x 2,5 mm. Vsi kovinski profili so antikorozisko zaščiteni s postopkom elektrostičnega barvanja - črne mat barve. Podstavki odrskih enot so narejeni iz PVC materijala, ki ne smejo poškodovati občuljivih tal.\nDimenzije odrskih podestov so  2,0 m × 1,0 m. Minimalna nosilnost odrov: 750 kg/m2. Površina odrskih enot mora biti črna vlagoodporna vezana plošča debeline 22 mm. Odrske enote morajo imeti možnost nastavitve višine 20, 40, 60, 80 in 100 cm. Višina odrskih podestov se nastavlja preko ročice, ki je nameščena pod odrom in je lahko dostopna. Odrske enote morajo imeti TUV certifikat in mora biti narejena v skaldu s DIN 4112 in DIN 1055 in DIN 15920.\nKomplet mora vključevati: \n16 kos - Odrskih podestov 2,0x1,0m\n3 kpl - Voziček za prevoz odrskih podestov\n2 kpl - stopnic za postavitev do 100 cm višine odra "]
[]
[null,"Z2 - Zavesa okno","kos",1,null,null,{"$f":"D152*F152","v":0},{"$f":"+F152*MM","v":0},{"$f":"+H152*D152","v":0},{"$f":"+F152-H152","v":0},{"$f":"+J152*D152","v":0}]
[null,"Dobava zatemnitve dvodelne zavese za zastiranje oken. Zavesa mora biti narejena iz 100% Poliestera, ki ima lastnost 98% zatemnitve. Širina blaga mora biti 320 cm in teža le tega pa 260 g/m2. Nabor zavese je 50%. Barva se izbere na osnovi dostavljenih vzorcev. Blago mora biti trajno negorljivo po DIN4102 B1 ali EN13501-1 dokazljivo s certifikatom.\nObdelava zavese:\nZavesa mora biti po zgornjem notranjem robu ojačana s 5 cm trakom, ki omogoča zatikanje kovinskih obešal z notranje strani zavese skozi dve nosilna trakova. Spodnji rob zaves višine 10 cm z všito obtežitveno vrvico teže 200 g/tm. Stranici osko zarobljene z všitimi velcro trakom za medsebojno spajanje.\nCelotna dimenzija odpritne: 9,0 Širine in 3,25 m višine\nCena mora vsebovati enokanalno vodilo za zavese, ki je narejeno iz ekstrudiranega Aluminija. Vodilo mora biti opremljeno z vležajenimi koleški in ne drsniki. sistem vodila mora omogočati 10 cm prekrivanje zavese. Vodilo se montira s pomočjo bočnih konzol na steno.                                                      Izbrani materiali morajo biti skladni z elaboratom prostorske akustike."]
[]
[null,"Montaža kompletne opreme","kos",1,null,null,{"$f":"D155*F155","v":0},{"$f":"+F155*MM","v":0},{"$f":"+H155*D155","v":0},{"$f":"+F155-H155","v":0},{"$f":"+J155*D155","v":0}]
[null,"Kovinskih konstrukcij na oder"]
[null,"Montažo scenske mehanike"]
[null,"Priklop scenske mehanike"]
[null,"Postavka poleg dela in montažnega materiala in opreme mora vključuevati postavitev in uporabo delovnega odra, dvigal in pomožne opreme ter barvanje jeklenih delov (antikorozijsko in zaključno barvanje)."]
[]
[null,"1. nadstropje - Kabinet: N1C_07"]
[]
[14,"DM - Delovna miza","kos",2,null,null,{"$f":"D163*F163","v":0},{"$f":"+F163*MM","v":0},{"$f":"+H163*D163","v":0},{"$f":"+F163-H163","v":0},{"$f":"+J163*D163","v":0}]
[null,"Pisarniška miza na štirih (4) nogah.\nKonstrukcija iz kovinski profilov, ki so med seboj varjeni in vijačeni, prašno barvani po proizvajalčevi barvni skali, noge na višinsko nastavljivih zaščitnih čepih,\nMizna plošča iz materiala LIGNOpal (iverna plošča je obeh straneh laminirana z dekorativno folijo, prevlečena z melaminsko smolo) v beli barvi, rob mizne plošče v varjenem ABS materialu debeline 2.5mm,\nmizna plošča opremljena z izpusti za elektriko na levi ali desni strani, okrasni kovinski pokrov.\nSpodaj snemljiva rešetka za elektrifikacijo, z držalom za računalnik pod mizo.\nS pripadajočimi certifikati: Greenguard, BIFMA, GS-Geprüfte Sicherheit, PEFC, LGA, THE GLOBAL COMPACT, DIN ISO 38200\nOBDELAVA;\nPodnožje: arctic \nMizna plošča: white"]
[null,"Dim. 180 / 80 cm, višina mizne ploskve 76 cm\nKot npr.: EcoTable-R; VS Vereinigte Spezialmöbelfabriken\nali popolnoma enakovredno (tehnično in oblikovno)"]
[]
[15,"MPR - Mobilni predalnik","kos",2,null,null,{"$f":"D167*F167","v":0},{"$f":"+F167*MM","v":0},{"$f":"+H167*D167","v":0},{"$f":"+F167-H167","v":0},{"$f":"+J167*D167","v":0}]
[null,"Predalnik s štirimi (4) predali na kolesih.\nKonstrukcija - korpus iz materiala LINGOpal v barvi po proizvajalčevi barvni skali, robovi z varjenim ABS robom 1.5mm,\nPodnožje kolesa za trda tla,\nVrata iz materiala LINGOpal v barvi po proizvajalčevi barvni skali, robovi z varjenim ABS robom 1.5mm, \nSistem predalov proti prevrnitvi  (ORGA drawer - odprt je lahko le en predal hkrati),\nRazporeditev predalov; 1.5 + 2 + 2 + 4 HU, \nPredali opremljeni s cilindrično ključavnico, vsak predal ima kovinski ročaj, finalna obdelava nikelj,\nS pripadajočimi certifikati: Greenguard, BIFMA, GS-Geprüfte Sicherheit, PEFC, LGA, THE GLOBAL COMPACT, DIN ISO 38200\nOBDELAVA;\nKonstrukcija: white\nVrata - fronte: white"]
[null,"Dim.43 / 80 / 55cm; \nKot npr.: OfficeBox; VS Vereinigte Spezialmöbelfabriken\nali popolnoma enakovredno (tehnično in oblikovno)"]
[]
[16,"ST1 - Stol za zaposlene","kos",2,null,null,{"$f":"D171*F171","v":0},{"$f":"+F171*MM","v":0},{"$f":"+H171*D171","v":0},{"$f":"+F171-H171","v":0},{"$f":"+J171*D171","v":0}]
[null,"Dvižni vrtiljak za učitelje s polipropilensko školjko.\nPet (5) krako zvezda aluminijasto podnožje, prašno barvano po proizvajalčevi barvni skali, na kolesih za trda tla.\nSediščna školjka iz polipropilena, (AIR cushion) lita školjka z notranjim praznim prostorom, ergonomsko sedišče opremljeno s 3D gibljivim mehanizmom pod sediščem (aktivno sedenje) , \nS pripadajočimi certifikati: BIFMA, GREENGUARD GOLD, LGA, GS, AGR, THE GLOBAL COMPACT\nOBDELAVA;\nPodnožje: arctic \nSediščna školjka: green"]
[null,"Dim. 46 / 50 cm; višina sedišča 42,4 - 55,2 cm,\nKot npr.: PantoMove-LuPo; VS Vereinigte Spezialmöbelfabriken\nali popolnoma enakovredno (tehnično in oblikovno)"]
[]
[17,"VIO3 - Visoka omara","kos",3,null,null,{"$f":"D175*F175","v":0},{"$f":"+F175*MM","v":0},{"$f":"+H175*D175","v":0},{"$f":"+F175-H175","v":0},{"$f":"+J175*D175","v":0}]
[null,"Visoka omara z dvojnimi (2) vrati zgoraj in dvojnimi (2) vrati spodaj (v notranjosti s premičnimi policami) in ključavnico,\nKonstrukcija - korpus iz materiala LIGNOpal (iverna plošča je obeh straneh laminirana z dekorativno folijo, prevlečena z melaminsko smolo) v barvi po proizvajalčevi barvni skali, robovi z varjenim ABS robom 1.5mm,\nPodnožje iz materiala LINGOpal v barvi po proizvajalčevi barvni skali, robovi z varjenim ABS robom 1.5mm,\nVrata iz materiala LINGOpal v barvi po proizvajalčevi barvni skali, robovi z varjenim ABS robom 1.5mm, odmična spona 270°,\nVrata opremljena s cilindrično ključavnico, kovinski ročaj, finalna obdelava nikelj,\nS pripadajočimi certifikati: Greenguard, BIFMA, GS-Geprüfte Sicherheit, PEFC, LGA, THE GLOBAL COMPACT, DIN ISO 38200\nOBDELAVA;\nKonstrukcija: white\nPodnožje:  white\nVrata - fronte: white"]
[null,"Dim. 100 / 42,5/ 197 cm,\nKot npr.: Serie 800 Cabinet; VS Vereinigte Spezialmöbelfabriken\nali popolnoma enakovredno (tehnično in oblikovno)"]
[]
[18,"NIO2 - Nizka omara","kos",1,null,null,{"$f":"D179*F179","v":0},{"$f":"+F179*MM","v":0},{"$f":"+H179*D179","v":0},{"$f":"+F179-H179","v":0},{"$f":"+J179*D179","v":0}]
[null,"Nizka omara z dvojnimi (2) vrati, v notranjosti s premičnimi policami in ključavnico. Konstrukcija - korpus iz materiala LIGNOpal (iverna plošča je obeh straneh laminirana z dekorativno folijo, prevlečena z melaminsko smolo) v barvi po proizvajalčevi barvni skali, robovi z varjenim ABS robom 1.5mm,\nPodnožje iz materiala LINGOpal v barvi po proizvajalčevi barvni skali, robovi z varjenim ABS robom 1.5mm,\nVrata iz materiala LINGOpal v barvi po proizvajalčevi barvni skali, robovi z varjenim ABS robom 1.5mm, odmična spona 270°,\nVrata opremljena s cilindrično ključavnico, kovinski ročaj, finalna obdelava nikelj,\nS pripadajočimi certifikati: Greenguard, BIFMA, GS-Geprüfte Sicherheit, PEFC, LGA, THE GLOBAL COMPACT, DIN ISO 38200\nOBDELAVA;\nKonstrukcija: white\nPodnožje: white\nVrata - fronte: white"]
[null,"Dim. 100 / 42,5/ 84,5 cm,\nKot npr.: Serie 800 Cabinet; VS Vereinigte Spezialmöbelfabriken\nali popolnoma enakovredno (tehnično in oblikovno)"]
[]
[19,"NIO3 - Nizka omara","kos",1,null,null,{"$f":"D183*F183","v":0},{"$f":"+F183*MM","v":0},{"$f":"+H183*D183","v":0},{"$f":"+F183-H183","v":0},{"$f":"+J183*D183","v":0}]
[null,"Nizka omara dvojnimi (2) vrati, v notranjosti s premičnimi policami in ključavnico. Konstrukcija - korpus iz materiala LIGNOpal (iverna plošča je obeh straneh laminirana z dekorativno folijo, prevlečena z melaminsko smolo) v barvi po proizvajalčevi barvni skali, robovi z varjenim ABS robom 1.5mm,\nPodnožje iz materiala LINGOpal v barvi po proizvajalčevi barvni skali, robovi z varjenim ABS robom 1.5mm,\nVrata iz materiala LINGOpal v barvi po proizvajalčevi barvni skali, robovi z varjenim ABS robom 1.5mm, odmična spona 270°,\nVrata opremljena s cilindrično ključavnico, kovinski ročaj, finalna obdelava nikelj,\nS pripadajočimi certifikati: Greenguard, BIFMA, GS-Geprüfte Sicherheit, PEFC, LGA, THE GLOBAL COMPACT, DIN ISO 38200\nOBDELAVA;\nKonstrukcija: white\nPodnožje: white\nVrata - fronte: white"]
[null,"Dim. 50/ 42,5/ 84,5 cm,\nKot npr.: Serie 800 Cabinet; VS Vereinigte Spezialmöbelfabriken\nali popolnoma enakovredno (tehnično in oblikovno)"]
[]
[null,"K2- Koš za smeti, npr. kovinski mrežasti","kos",2,null,null,{"$f":"D187*F187","v":0},{"$f":"+F187*MM","v":0},{"$f":"+H187*D187","v":0},{"$f":"+F187-H187","v":0},{"$f":"+J187*D187","v":0}]
[null,"Kovinski mrežasti koš za smeti\nVolumen 18 litrov\nDimenzije: višina 35,5 cm, premer 29,5                                                                                             Barva: črna\nhttps://www.11st-oprema.si/drugo/kosi-za-smeti/kovinski-mrezasti-kos-za-smeti"]
[]
[null,"O1- obešalnik, npr.GENT RUSKO","kos",1,null,null,{"$f":"D190*F190","v":0},{"$f":"+F190*MM","v":0},{"$f":"+H190*D190","v":0},{"$f":"+F190-H190","v":0},{"$f":"+J190*D190","v":0}]
[null,"kovinski obešalnik  v beli barvi\ndimenzije: 46 x 46 x 170 cm\nmaterial: kovina, les\nbarva: bela                                                                                                        https://www.shoppster.com/sl-SI/p/0695800/obesalniki-in-stojala/gent-obesalnik-rusko-bel"]
[]
[null,"1. nadstropje - Prostor za individualno pomoč: N1C_08"]
[]
[19,"DM - Delovna miza","kos",1,null,null,{"$f":"D195*F195","v":0},{"$f":"+F195*MM","v":0},{"$f":"+H195*D195","v":0},{"$f":"+F195-H195","v":0},{"$f":"+J195*D195","v":0}]
[null,"Pisarniška miza na štirih (4) nogah.\nKonstrukcija iz kovinski profilov, ki so med seboj varjeni in vijačeni, prašno barvani po proizvajalčevi barvni skali, noge na višinsko nastavljivih zaščitnih čepih,\nMizna plošča iz materiala LIGNOpal (iverna plošča je obeh straneh laminirana z dekorativno folijo, prevlečena z melaminsko smolo) v beli barvi, rob mizne plošče v varjenem ABS materialu debeline 2.5mm,\nmizna plošča opremljena z izpusti za elektriko na levi ali desni strani, okrasni kovinski pokrov.\nSpodaj snemljiva rešetka za elektrifikacijo, z držalom za računalnik pod mizo.\nS pripadajočimi certifikati: Greenguard, BIFMA, GS-Geprüfte Sicherheit, PEFC, LGA, THE GLOBAL COMPACT, DIN ISO 38200\nOBDELAVA;\nPodnožje: arctic \nMizna plošča: white"]
[null,"Dim. 180 / 80 cm, višina mizne ploskve 76 cm\nKot npr.: EcoTable-R; VS Vereinigte Spezialmöbelfabriken\nali popolnoma enakovredno (tehnično in oblikovno)"]
[]
[20,"MPR - Mobilni predalnik","kos",1,null,null,{"$f":"D199*F199","v":0},{"$f":"+F199*MM","v":0},{"$f":"+H199*D199","v":0},{"$f":"+F199-H199","v":0},{"$f":"+J199*D199","v":0}]
[null,"Predalnik s štirimi (4) predali na kolesih.\nKonstrukcija - korpus iz materiala LINGOpal v barvi po proizvajalčevi barvni skali, robovi z varjenim ABS robom 1.5mm,\nPodnožje kolesa za trda tla,\nVrata iz materiala LINGOpal v barvi po proizvajalčevi barvni skali, robovi z varjenim ABS robom 1.5mm, \nSistem predalov proti prevrnitvi  (ORGA drawer - odprt je lahko le en predal hkrati),\nRazporeditev predalov; 1.5 + 2 + 2 + 4 HU, \nPredali opremljeni s cilindrično ključavnico, vsak predal ima kovinski ročaj, finalna obdelava nikelj,\nS pripadajočimi certifikati: Greenguard, BIFMA, GS-Geprüfte Sicherheit, PEFC, LGA, THE GLOBAL COMPACT, DIN ISO 38200\nOBDELAVA;\nKonstrukcija: white\nVrata - fronte: white"]
[null,"Dim.43 / 80 / 55cm; \nKot npr.: OfficeBox; VS Vereinigte Spezialmöbelfabriken\nali popolnoma enakovredno (tehnično in oblikovno)"]
[]
[21,"ST1 - Stol za zaposlene","kos",1,null,null,{"$f":"D203*F203","v":0},{"$f":"+F203*MM","v":0},{"$f":"+H203*D203","v":0},{"$f":"+F203-H203","v":0},{"$f":"+J203*D203","v":0}]
[null,"Dvižni vrtiljak za učitelje s polipropilensko školjko.\nPet (5) krako zvezda aluminijasto podnožje, prašno barvano po proizvajalčevi barvni skali, na kolesih za trda tla.\nSediščna školjka iz polipropilena, (AIR cushion) lita školjka z notranjim praznim prostorom, ergonomsko sedišče opremljeno s 3D gibljivim mehanizmom pod sediščem (aktivno sedenje) , \nS pripadajočimi certifikati: BIFMA, GREENGUARD GOLD, LGA, GS, AGR, THE GLOBAL COMPACT\nOBDELAVA;\nPodnožje: arctic \nSediščna školjka: green"]
[null,"Dim. 46 / 50 cm; višina sedišča 42,4 - 55,2 cm,\nKot npr.: PantoMove-LuPo; VS Vereinigte Spezialmöbelfabriken\nali popolnoma enakovredno (tehnično in oblikovno)"]
[]
[22,"VIO3 - Visoka omara","kos",2,null,null,{"$f":"D207*F207","v":0},{"$f":"+F207*MM","v":0},{"$f":"+H207*D207","v":0},{"$f":"+F207-H207","v":0},{"$f":"+J207*D207","v":0}]
[null,"Visoka omara z dvojnimi (2) vrati zgoraj in dvojnimi (2 ) vrati spodaj (v notranjosti s premičnimi policami) in ključavnico,\nKonstrukcija - korpus iz materiala LIGNOpal (iverna plošča je obeh straneh laminirana z dekorativno folijo, prevlečena z melaminsko smolo) v barvi po proizvajalčevi barvni skali, robovi z varjenim ABS robom 1.5mm,\nPodnožje iz materiala LINGOpal v barvi po proizvajalčevi barvni skali, robovi z varjenim ABS robom 1.5mm,\nVrata iz materiala LINGOpal v barvi po proizvajalčevi barvni skali, robovi z varjenim ABS robom 1.5mm, odmična spona 270°,\nVrata opremljena s cilindrično ključavnico, kovinski ročaj, finalna obdelava nikelj,\nS pripadajočimi certifikati: Greenguard, BIFMA, GS-Geprüfte Sicherheit, PEFC, LGA, THE GLOBAL COMPACT, DIN ISO 38200\nOBDELAVA;\nKonstrukcija: white\nPodnožje:  white\nVrata - fronte: white"]
[null,"Dim. 100 / 42,5/ 197 cm,\nKot npr.: Serie 800 Cabinet; VS Vereinigte Spezialmöbelfabriken\nali popolnoma enakovredno (tehnično in oblikovno)"]
[]
[23,"NIO3 - NIZKA OMARA","kos",1,null,null,{"$f":"D211*F211","v":0},{"$f":"+F211*MM","v":0},{"$f":"+H211*D211","v":0},{"$f":"+F211-H211","v":0},{"$f":"+J211*D211","v":0}]
[null,"Nizka omara z dvojnimi (2) vrati, v notranjosti s premičnimi policami in ključavnico. Konstrukcija - korpus iz materiala LIGNOpal (iverna plošča je obeh straneh laminirana z dekorativno folijo, prevlečena z melaminsko smolo) v barvi po proizvajalčevi barvni skali, robovi z varjenim ABS robom 1.5mm,\nPodnožje iz materiala LINGOpal v barvi po proizvajalčevi barvni skali, robovi z varjenim ABS robom 1.5mm,\nVrata iz materiala LINGOpal v barvi po proizvajalčevi barvni skali, robovi z varjenim ABS robom 1.5mm, odmična spona 270°,\nVrata opremljena s cilindrično ključavnico, kovinski ročaj, finalna obdelava nikelj,\nS pripadajočimi certifikati: Greenguard, BIFMA, GS-Geprüfte Sicherheit, PEFC, LGA, THE GLOBAL COMPACT, DIN ISO 38200\nOBDELAVA;\nKonstrukcija: white\nPodnožje: white\nVrata - fronte: white"]
[null,"Dim. 50 / 42,5/ 84,5 cm,\nKot npr.: Serie 800 Cabinet; VS Vereinigte Spezialmöbelfabriken\nali popolnoma enakovredno (tehnično in oblikovno)"]
[]
[24,"ST6 - Višinsko nastavljivi stol","kos",2,null,null,{"$f":"D215*F215","v":0},{"$f":"+F215*MM","v":0},{"$f":"+H215*D215","v":0},{"$f":"+F215-H215","v":0},{"$f":"+J215*D215","v":0}]
[null,"Stol brez hrbtišča za aktivno sedenje. Konstrukcija stola je iz polipropilena v barvi po proizvajalčevi barvni skali - C2. Osnova stola ima konveksno obliko, v notranjosti je obtežena in omogoča gibanje s 360 stopinjskim vrtenjem. Stol je opremljen s plinskim dvižnim mehanizmom, sprostitev je možna z vseh strani pod sedežem.\nKonveksno dno oblečeno v gumo sega preko robov. Sedišče stola je ergonomsko oblikovano, oblazinjeno z mehkejšo peno.\nS pripadajočimi certifikati: BIFMA, GREENGUARD GOLD, LGA, GS, AGR, THE GLOBAL COMPACT\nOBDELAVA;\nSediščna školjka: Traffic red"]
[null,"Dim. 35 / 35 cm; višina sedišča 38-50 cm,\nKot npr.: Hokki; VS Vereinigte Spezialmöbelfabriken\nali popolnoma enakovredno (tehnično in oblikovno)"]
[]
[25,"ST8 - Stol z višinsko nastavljivim naslonom za nogo","kos",1,null,null,{"$f":"D219*F219","v":0},{"$f":"+F219*MM","v":0},{"$f":"+H219*D219","v":0},{"$f":"+F219-H219","v":0},{"$f":"+J219*D219","v":0}]
[null,"Stol na fiksnem podnožju s polipropilensko školjko z dvema prečnima opornikoma iz krivljenih jeklenih cevi, ki so med seboj varjene, prašno barvane v barvi po proizvajalčevi barvni skali, z zaščitnimi čepki (drsniki prilagojenimi za obstoječa tla) z višinsko nastavljivim naslonom za nogo.\nErgonomska sediščna školjka iz polipropilena po proizvajalčevi barvni skali - C1, (AIR cushion) lita školjka z notranjim praznim prostorom. Školjka ima odprtino v hrbtišču za lažjo manipulacijo. Robovi sediščne školjke so zaobljeni. Pritrditev sediščne školjke na podnožje je nevidna.\nS pripadajočimi certifikati: BIFMA, GREENGUARD GOLD, LGA, GS, AGR, THE GLOBAL COMPACT\nOBDELAVA;\nPodnožje: Arctic\nSediščna školjka: Light green"]
[null,"Dim. 51,6 / 56,4 cm; višina sedišča 46 cm,\nKot npr.: Level-Lupo; VS Vereinigte Spezialmöbelfabriken\nali popolnoma enakovredno (tehnično in oblikovno)"]
[]
[null,"K2- Koš za smeti, npr. kovinski mrežasti","kos",1,null,null,{"$f":"D223*F223","v":0},{"$f":"+F223*MM","v":0},{"$f":"+H223*D223","v":0},{"$f":"+F223-H223","v":0},{"$f":"+J223*D223","v":0}]
[null,"Kovinski mrežasti koš za smeti\nVolumen 18 litrov\nDimenzije: višina 35,5 cm, premer 29,5                                                                                           Barva: črna\nhttps://www.11st-oprema.si/drugo/kosi-za-smeti/kovinski-mrezasti-kos-za-smeti"]
[]
[null,"O1- obešalnik, npr.GENT RUSKO","kos",1,null,null,{"$f":"D226*F226","v":0},{"$f":"+F226*MM","v":0},{"$f":"+H226*D226","v":0},{"$f":"+F226-H226","v":0},{"$f":"+J226*D226","v":0}]
[null,"kovinski obešalnik  v beli barvi\ndimenzije: 46 x 46 x 170 cm\nmaterial: kovina, les\nbarva: bela                                                                                                        https://www.shoppster.com/sl-SI/p/0695800/obesalniki-in-stojala/gent-obesalnik-rusko-bel"]
[]
[null,"1. nadstropje - Predprostor z garderobami in skupnim prostorom: N1C_03"]
[]
[26,"OSM3 - Oblazinjeni sedežni modul","kos",6,null,null,{"$f":"D231*F231","v":0},{"$f":"+F231*MM","v":0},{"$f":"+H231*D231","v":0},{"$f":"+F231-H231","v":0},{"$f":"+J231*D231","v":0}]
[null,"Oblazinjeni sedežni modul - unikatne ukrivljene oblike je popolnoma oblazinjen.\nKonstrukcija iz vezane plošče, podnožje na zaščitnih čepih prilagojenim tlem (filc),\nObdano s poliuretansko 3D peno, ter oblazinjeno v več slojnem vodoodpornem kompozitu (Stamskin top; SergeFerrari) v barvi po proizvajalčevi barvni skali. Požarna odpornost v skladu s standardom DIN 66084 - razredi P-c (nizka) in P-b (srednja). Opcijsko je pri tekstilu\nskupine S40 na voljo tudi z dodatno ognjevarno podlogo MVSS-303 (razred P-a (visok)), ki je všita pod plastjo tkanine.\nS pripadajočimi certifikati: BIFMA, GREENGUARD GOLD, LGA, GS, THE GLOBAL COMPACT, DIN 4102 B1, PEFC, DIN ISO 3820, DIN 66084\nOBDELAVA;\nPodnožje: black \nOblazinjenje: green"]
[null,"Dim. 52.8 / 109 cm, višina sedišča 38 cm,\nKot npr.: Shift+ Landscape Seating Elements; VS Vereinigte Spezialmöbelfabriken\nali popolnoma enakovredno (tehnično in oblikovno)"]
[]
[27,"RE - Regal / mizica","kos",2,null,null,{"$f":"D235*F235","v":0},{"$f":"+F235*MM","v":0},{"$f":"+H235*D235","v":0},{"$f":"+F235-H235","v":0},{"$f":"+J235*D235","v":0}]
[null,"Regal / mizica unikatne oblike. Konstrukcija - korpus iz materiala LIGNOpal  (iverna plošča na obeh straneh laminirana z dekorativno folijo, prevlečena z melaminsko smolo) v barvi po proizvajalčevi barvni skali, robovi z varjenim ABS robom 1.5mm. Hrbtišče in stranice iz pločevine z vzorcem (perforacija) v barvi po proizvajalčevi barvni skali. \nS pripadajočimi certifikati: Greenguard, BIFMA, GS-Geprüfte Sicherheit, PEFC, LGA, THE GLOBAL COMPACT, DIN ISO 38200,\nOBDELAVA;\nHrbtišče: arctic \nMizna plošča: white"]
[null,"Dim. 110 / 52,75 / 42 cm,\nKot npr.: Shift+ Landscape Seating Elements; VS Vereinigte Spezialmöbelfabriken\nali popolnoma enakovredno (tehnično in oblikovno)"]
[]
[28,"M6 - Miza","kos",1,null,null,{"$f":"D239*F239","v":0},{"$f":"+F239*MM","v":0},{"$f":"+H239*D239","v":0},{"$f":"+F239-H239","v":0},{"$f":"+J239*D239","v":0}]
[null,"Miza unikatne oblike na štirih (4) nogah.\nKonstrukcija iz jeklenih cevi (noge iz okroglih, vezniki iz kvadratnih), ki so med seboj varjeni in vijačeni, prašno barvani po proizvajalčevi barvni skali - M1, noge na višinsko nastavljivih zaščitnih čepih, prilagojenimi za obstoječa tla.\nIverna mizna plošča (LIGNOpal), na obeh straneh laminirana z dekorativno folijo, prevlečena z melaminsko smolo\n(v barvi po proizvajalčevi barvni skali - L3) s tesno prilegajočim se plastičnim zaključnim robom (ABS 2,5 mm).\nS pripadajočimi certifikati: Greenguard, BIFMA, GS-Geprüfte Sicherheit, PEFC, LGA, THE GLOBAL COMPACT, DIN ISO 38200\nOBDELAVA;\nPodnožje: arctic \nMizna plošča: white"]
[null,"Dim. 165 / 114; višina mizne ploskve 53 cm,\nKot npr.: Puzzle free-form, VS Vereinigte Spezialmöbelfabriken\nali popolnoma enakovredno (tehnično in oblikovno)"]
[]
[29,"ST7 - Stol","kos",5,null,null,{"$f":"D243*F243","v":0},{"$f":"+F243*MM","v":0},{"$f":"+H243*D243","v":0},{"$f":"+F243-H243","v":0},{"$f":"+J243*D243","v":0}]
[null,"Stol brez hrbtišča za aktivno sedenje. Konstrukcija stola je iz polipropilena v barvi po proizvajalčevi barvni skali - C2. Osnova stola ima konveksno obliko, v notranjosti je obtežena in omogoča gibanje s 360 stopinjskim vrtenjem.\nKonveksno dno oblečeno v gumo sega preko robov. Sedišče stola je ergonomsko oblikovano, oblazinjeno z mehkejšo peno.\nS pripadajočimi certifikati: BIFMA, GREENGUARD GOLD, LGA, GS, AGR, THE GLOBAL COMPACT\nOBDELAVA;\nSediščna školjka: Traffic red"]
[null,"Dim. 35 / 35 cm; višina sedišča 31 cm,\nKot npr.: Hokki; VS Vereinigte Spezialmöbelfabriken\nali popolnoma enakovredno (tehnično in oblikovno)"]
[]
[null,"M3 - Okrogla miza","kos",1,null,null,{"$f":"D247*F247","v":0},{"$f":"+F247*MM","v":0},{"$f":"+H247*D247","v":0},{"$f":"+F247-H247","v":0},{"$f":"+J247*D247","v":0}]
[30,"Pisarniška okrogla miza.\nKonstrukcija iz kovinski profilov, ki so med seboj varjeni in vijačeni, prašno barvani po proizvajalčevi barvni skali, noge na višinsko nastavljivih zaščitnih čepih,\nMizna plošča iz materiala LIGNOpal v sivo beli barvi, rob mizne plošče v varjenem ABS materialu debeline 2.5mm,\nS pripadajočimi certifikati: Greenguard, BIFMA, GS-Geprüfte Sicherheit, PEFC, LGA, THE GLOBAL COMPACT, DIN ISO 38200, \nOBDELAVA;\nPodnožje: arctic \nMizna plošča: white"]
[null,"Dim. fi70cm; višina mizne ploskve 74 cm,\nKot npr.: RondoSit-ST; VS Vereinigte Spezialmöbelfabriken\nali popolnoma enakovredno (tehnično in oblikovno)"]
[]
[null,"SGO1 - Sklop garderobnih omaric za 25 učencev","kos",1,null,null,{"$f":"D251*F251","v":0},{"$f":"+F251*MM","v":0},{"$f":"+H251*D251","v":0},{"$f":"+F251-H251","v":0},{"$f":"+J251*D251","v":0}]
[31,"Garderobne omare prirejene za otroke prve triade, sestavljene iz večih enakih ali podobnih sklopov. V najnižjem delu so predali za čevlji, sedalna polica in obešalnik za oblačila nad obešalnikom je predal za razne predmete.\nNad garderobnim delom viseča omara za shranjevanje z eno (1) premično polico in dvojimi (2) vrati .Omara ima hrbtišče iz enakega materiala kot je celotna konstrukcija. Vse omare na vratca imajo ključavnice in omejen dostop.\n(kapaciteta garderobe za 25 učencev: 5,27 m dolžine za hrambo predmetov,\nKonstrukcija je skladna z ostalo opremo, robovi z varjenim ABS robom 1.5mm. "]
[null,"Dim. 611 / 30 cm / višina; višina sedišča"]
[]
[null,"SGO2 - Sklop garderobnih omaric za 29 učencev","kos",1,null,null,{"$f":"D255*F255","v":0},{"$f":"+F255*MM","v":0},{"$f":"+H255*D255","v":0},{"$f":"+F255-H255","v":0},{"$f":"+J255*D255","v":0}]
[32,"Garderobne omare prirejene za otroke prve triade, sestavljene iz večih enakih ali podobnih sklopov. V najnižjem delu so predali za čevlji, sedalna polica in obešalnik za oblačila nad obešalnikom je predal za razne predmete.\nNad garderobnim delom viseča omara za shranjevanje z eno (1) premično polico in dvojimi (2) vrati .Omara ima hrbtišče iz enakega materiala kot je celotna konstrukcija. Vse omare na vratca imajo ključavnice in omejen dostop.(kapaciteta garderobe za 29 učencev: 6,11 m dolžine za hrambo predmetov,\nKonstrukcija je kot LINGOpal v barvi, ki je skladna z ostalo opremo, robovi z varjenim ABS robom 1.5mm. "]
[null,"Dim. 611 / 30 cm / višina; višina sedišča"]
[]
[null,"SGO3 - Sklop garderobnih omaric za 8 učencev","kos",3,null,null,{"$f":"D259*F259","v":0},{"$f":"+F259*MM","v":0},{"$f":"+H259*D259","v":0},{"$f":"+F259-H259","v":0},{"$f":"+J259*D259","v":0}]
[null,"Garderobne omare prirejene za otroke prve triade, sestavljene iz večih enakih ali podobnih sklopov. V najnižjem delu so predali za čevlji, sedalna polica in obešalnik za oblačila nad obešalnikom je predal za razne predmete.\nNad garderobnim delom viseča omara za shranjevanje z eno (1) premično polico in dvojimi (2) vrati .Omara ima hrbtišče iz enakega materiala kot je celotna konstrukcija. Vse omare na vratca imajo ključavnice in omejen dostop.(kapaciteta garderobe za 8 učencev: 1,7 m dolžine za hrambo predmetov,\nKonstrukcija je skladna z ostalo opremo, robovi z varjenim ABS robom 1.5mm. "]
[null,"Dim. 170 / 30 cm / višina; višina sedišča"]
[]
[null,"K2- Koš za smeti, npr. kovinski mrežasti","kos",1,null,null,{"$f":"D263*F263","v":0},{"$f":"+F263*MM","v":0},{"$f":"+H263*D263","v":0},{"$f":"+F263-H263","v":0},{"$f":"+J263*D263","v":0}]
[null,"Kovinski mrežasti koš za smeti\nVolumen 18 litrov\nDimenzije: višina 35,5 cm, premer 29,5                                                                                           Barva: črna\nhttps://www.11st-oprema.si/drugo/kosi-za-smeti/kovinski-mrezasti-kos-za-smeti"]
[]
[null,"1. nadstropje - 1. triada - učilnica 1: N1C_04"]
[]
[null,"M7 - Miza za učence","kos",12,null,null,{"$f":"D268*F268","v":0},{"$f":"+F268*MM","v":0},{"$f":"+H268*D268","v":0},{"$f":"+F268-H268","v":0},{"$f":"+J268*D268","v":0}]
[34,"Miza na dveh (2) nogah (T-podnožje), z zaščitnimi čepki prilagojeni za obstoječa tla. Konstrukcija iz ovalnih jeklenih cevi, ki so med seboj vijačene in varjene, prašno barvane v barvi po proizvajalčevi barvni skali. Opcijsko na voljo kavelj za torbo in kovinska polica, plastični pladenj ali nosilec za stol. Iverna mizna plošča (LIGNOpal-PUR), na obeh straneh laminirana z dekorativno folijo, prevlečena z melaminsko smolo, v barvi po proizvajalčevi barvni skali, s trpežnim poliuretanskim robom, ki se zlije z iverno ploščo in ne prepušča vode.\nS pripadajočimi certifikati: Greenguard, BIFMA, GS-Geprüfte Sicherheit, PEFC, LGA, THE GLOBAL COMPACT, DIN ISO 38200\nOBDELAVA;\nPodnožje: arctic \nMizna plošča: white"]
[null,"Dim. 58,6 / 79,7 cm; višina mizne ploskve 53 cm,\nKot npr.: UnoBean, VS Vereinigte Spezialmöbelfabriken\nali popolnoma enakovredno (tehnično in oblikovno)"]
[]
[null,"M8 - Miza za učence","kos",12,null,null,{"$f":"D272*F272","v":0},{"$f":"+F272*MM","v":0},{"$f":"+H272*D272","v":0},{"$f":"+F272-H272","v":0},{"$f":"+J272*D272","v":0}]
[35,"Miza na dveh (2) nogah (T-podnožje), z zaščitnimi čepki prilagojeni za obstoječa tla. Konstrukcija iz ovalnih jeklenih cevi, ki so med seboj vijačene in varjene, prašno barvane v barvi po proizvajalčevi barvni skali. Opcijsko na voljo kavelj za torbo in kovinska polica, plastični pladenj ali nosilec za stol. Iverna mizna plošča (LIGNOpal-PUR), na obeh straneh laminirana z dekorativno folijo, prevlečena z melaminsko smolo, v barvi po proizvajalčevi barvni skali, s trpežnim poliuretanskim robom, ki se zlije z iverno ploščo in ne prepušča vode.\nS pripadajočimi certifikati: Greenguard, BIFMA, GS-Geprüfte Sicherheit, PEFC, LGA, THE GLOBAL COMPACT, DIN ISO 38200\nOBDELAVA;\nPodnožje: arctic \nMizna plošča: white"]
[null,"Dim. 58,6 / 79,7 cm; višina mizne ploskve 59 cm,\nKot npr.: UnoBean, VS Vereinigte Spezialmöbelfabriken\nali popolnoma enakovredno (tehnično in oblikovno)"]
[]
[null,"ST9- Stol za učence","kos",12,null,null,{"$f":"D276*F276","v":0},{"$f":"+F276*MM","v":0},{"$f":"+H276*D276","v":0},{"$f":"+F276-H276","v":0},{"$f":"+J276*D276","v":0}]
[36,"Stol s polipropilensko školjko na C podnožju.\nPodnožje iz krivljenih jeklenih cevi krožnega prereza, dodatna prečka varjena na podnožje, prašno barvano po proizvajalčevi barvni skali, na zaščitnih čepih za trda tla (filc),\nopremljeno s piggy-back sistemom (nalaganje na mizo),\nSediščna školjka iz polipropilena, (AIR cushion) lita školjka z notranjim praznim prostorom, ergonomsko sedišče v barvi po proizvajalčevi barvni skali, \nErgonomska sediščna školjka iz polipropilena po proizvajalčevi barvni skali - C1, (AIR cushion) lita školjka z notranjim\npraznim prostorom. Školjka ima odprtino v hrbtišču za lažjo manipulacijo. Robovi sediščne školjke so\nzaobljeni. Pritrditev sediščne školjke na podnožje je nevidna.\nS pripadajočimi certifikati: BIFMA, GREENGUARD GOLD, LGA, GS, AGR, CRADLE TO CRADLE, THE GLOBAL COMPACT\nOBDELAVA;\nPodnožje: arctic \nSediščna školjka: light blue"]
[null,"Dim. 33.8 / 37.7 /; višina sedišča 31 cm,\nKot npr.: PantoSwing-Lupo; VS Vereinigte Spezialmöbelfabriken\nali popolnoma enakovredno (tehnično in oblikovno)"]
[]
[null,"ST10 - Stol za učence","kos",12,null,null,{"$f":"D280*F280","v":0},{"$f":"+F280*MM","v":0},{"$f":"+H280*D280","v":0},{"$f":"+F280-H280","v":0},{"$f":"+J280*D280","v":0}]
[37,"Stol s polipropilensko školjko na C podnožju.\nPodnožje iz krivljenih jeklenih cevi krožnega prereza, dodatna prečka varjena na podnožje, prašno barvano po proizvajalčevi barvni skali, na zaščitnih čepih za trda tla (filc),\nopremljeno s piggy-back sistemom (nalaganje na mizo),\nSediščna školjka iz polipropilena, (AIR cushion) lita školjka z notranjim praznim prostorom, ergonomsko sedišče v barvi po proizvajalčevi barvni skali, \nErgonomska sediščna školjka iz polipropilena po proizvajalčevi barvni skali - C1, (AIR cushion) lita školjka z notranjim\npraznim prostorom. Školjka ima odprtino v hrbtišču za lažjo manipulacijo. Robovi sediščne školjke so\nzaobljeni. Pritrditev sediščne školjke na podnožje je nevidna.\nS pripadajočimi certifikati: BIFMA, GREENGUARD GOLD, LGA, GS, AGR, CRADLE TO CRADLE, THE GLOBAL COMPACT\nOBDELAVA;\nPodnožje: arctic \nSediščna školjka: light blue"]
[null,"Dim. 33.8 / 37.7 /; višina sedišča 34 cm,\nKot npr.: PantoSwing-Lupo; VS Vereinigte Spezialmöbelfabriken\nali popolnoma enakovredno (tehnično in oblikovno)"]
[]
[null,"DM - Delovna miza","kos",1,null,null,{"$f":"D284*F284","v":0},{"$f":"+F284*MM","v":0},{"$f":"+H284*D284","v":0},{"$f":"+F284-H284","v":0},{"$f":"+J284*D284","v":0}]
[38,"Pisarniška miza na štirih (4) nogah.\nKonstrukcija iz kovinski profilov, ki so med seboj varjeni in vijačeni, prašno barvani po proizvajalčevi barvni skali, noge na višinsko nastavljivih zaščitnih čepih,\nMizna plošča iz materiala LIGNOpal (iverna plošča je obeh straneh laminirana z dekorativno folijo, prevlečena z melaminsko smolo) v beli barvi, rob mizne plošče v varjenem ABS materialu debeline 2.5mm,\nmizna plošča opremljena z izpusti za elektriko na levi ali desni strani, okrasni kovinski pokrov.\nSpodaj snemljiva rešetka za elektrifikacijo, z držalom za računalnik pod mizo.\nS pripadajočimi certifikati: Greenguard, BIFMA, GS-Geprüfte Sicherheit, PEFC, LGA, THE GLOBAL COMPACT, DIN ISO 38200\nOBDELAVA;\nPodnožje: arctic \nMizna plošča: white"]
[null,"Dim. 180 / 80 cm, višina mizne ploskve 76 cm\nKot npr.: EcoTable-R; VS Vereinigte Spezialmöbelfabriken\nali popolnoma enakovredno (tehnično in oblikovno)"]
[]
[null,"MPR - Mobilni predalnik","kos",1,null,null,{"$f":"D288*F288","v":0},{"$f":"+F288*MM","v":0},{"$f":"+H288*D288","v":0},{"$f":"+F288-H288","v":0},{"$f":"+J288*D288","v":0}]
[39,"Predalnik s štirimi (4) predali na kolesih.\nKonstrukcija - korpus iz materiala LINGOpal v barvi po proizvajalčevi barvni skali, robovi z varjenim ABS robom 1.5mm,\nPodnožje kolesa za trda tla,\nVrata iz materiala LINGOpal v barvi po proizvajalčevi barvni skali, robovi z varjenim ABS robom 1.5mm, \nSistem predalov proti prevrnitvi  (ORGA drawer - odprt je lahko le en predal hkrati),\nRazporeditev predalov; 1.5 + 2 + 2 + 4 HU, \nPredali opremljeni s cilindrično ključavnico, vsak predal ima kovinski ročaj, finalna obdelava nikelj,\nS pripadajočimi certifikati (...)\nOBDELAVA;\nKonstrukcija: white\nVrata - fronte: white"]
[null,"Dim.43 / 80 / 55cm; \nKot npr.: OfficeBox; VS Vereinigte Spezialmöbelfabriken\nali popolnoma enakovredno (tehnično in oblikovno)"]
[]
[null,"ST1 - Stol za zaposlene","kos",1,null,null,{"$f":"D292*F292","v":0},{"$f":"+F292*MM","v":0},{"$f":"+H292*D292","v":0},{"$f":"+F292-H292","v":0},{"$f":"+J292*D292","v":0}]
[40,"Dvižni vrtiljak za učitelje s polipropilensko školjko.\nPet (5) krako zvezda aluminijasto podnožje, prašno barvano po proizvajalčevi barvni skali, na kolesih za trda tla.\nSediščna školjka iz polipropilena, (AIR cushion) lita školjka z notranjim praznim prostorom, ergonomsko sedišče opremljeno s 3D gibljivim mehanizmom pod sediščem (aktivno sedenje) , \nS pripadajočimi certifikati: BIFMA, GREENGUARD GOLD, LGA, GS, AGR, THE GLOBAL COMPACT\nOBDELAVA;\nPodnožje: arctic \nSediščna školjka: green"]
[null,"Dim. 46 / 50 cm; višina sedišča 42,4 - 55,2 cm,\nKot npr.: PantoMove-LuPo; VS Vereinigte Spezialmöbelfabriken\nali popolnoma enakovredno (tehnično in oblikovno)"]
[]
[null,"VIO4 - Visoka omara","kos",2,null,null,{"$f":"D296*F296","v":0},{"$f":"+F296*MM","v":0},{"$f":"+H296*D296","v":0},{"$f":"+F296-H296","v":0},{"$f":"+J296*D296","v":0}]
[41,"Visoka omara z dvojnimi (2) vrati zgoraj in dvojnimi (2) vrati spodaj (v notranjosti s premičnimi policami) in ključavnico.\nKonstrukcija - korpus iz materiala LIGNOpal (iverna plošča je obeh straneh laminirana z dekorativno folijo, prevlečena z melaminsko smolo) v barvi po proizvajalčevi barvni skali, robovi z varjenim ABS robom 1.5mm,\nPodnožje iz materiala LINGOpal v barvi po proizvajalčevi barvni skali, robovi z varjenim ABS robom 1.5mm,\nVrata iz materiala LINGOpal v barvi po proizvajalčevi barvni skali, robovi z varjenim ABS robom 1.5mm, odmična spona 270°,\nVrata opremljena s cilindrično ključavnico, kovinski ročaj, finalna obdelava nikelj,\nS pripadajočimi certifikati: Greenguard, BIFMA, GS-Geprüfte Sicherheit, PEFC, LGA, THE GLOBAL COMPACT, DIN ISO 38200\nOBDELAVA;\nKonstrukcija: white\nPodnožje:  white\nVrata - fronte: white"]
[null,"Dim. 100 / 42,5/ 197 cm,\nKot npr.: Serie 800 Cabinet; VS Vereinigte Spezialmöbelfabriken\nali popolnoma enakovredno (tehnično in oblikovno)"]
[]
[null,"VIO5 - Visoka omara s predali","kos",3,null,null,{"$f":"D300*F300","v":0},{"$f":"+F300*MM","v":0},{"$f":"+H300*D300","v":0},{"$f":"+F300-H300","v":0},{"$f":"+J300*D300","v":0}]
[null,"Visoka omara z dvojnimi (2) vrati zgoraj s ključavnico (v notranjosti s premičnimi policami in desetimi (10) predali spodaj.\nKonstrukcija - korpus iz materiala LIGNOpal (iverna plošča je obeh straneh laminirana z dekorativno folijo, prevlečena z melaminsko smolo) v barvi po proizvajalčevi barvni skali, robovi z varjenim ABS robom 1.5mm,\nPodnožje iz materiala LIGNOpal v barvi po proizvajalčevi barvni skali, robovi z varjenim ABS robom 1.5mm,\nVrata iz materiala LIGNOpal v barvi po proizvajalčevi barvni skali, robovi z varjenim ABS robom 1.5mm, odmična spona 270°,\nVrata opremljena s cilindrično ključavnico, kovinski ročaj, finalna obdelava nikelj.\nSistem predalov proti prevrnitvi  (ORGA drawer - odprt je lahko le en predal hkrati).\nPredali opremljeni s cilindrično ključavnico, vsak predal ima kovinski ročaj, finalna obdelava nikelj.\nS pripadajočimi certifikati: Greenguard, BIFMA, GS-Geprüfte Sicherheit, PEFC, LGA, THE GLOBAL COMPACT, DIN ISO 38200\nOBDELAVA;\nKonstrukcija: white\nPodnožje:  white\nVrata - fronte: white"]
[null,"Dim. 100 / 42,5/ 197 cm,\nKot npr.: Serie 800 Cabinet; VS Vereinigte Spezialmöbelfabriken\nali popolnoma enakovredno (tehnično in oblikovno)"]
[]
[null,"INZ1 - Interaktivni zaslon na višinsko nastavljivem nosilcu","kos",1,null,null,{"$f":"D304*F304","v":0},{"$f":"+F304*MM","v":0},{"$f":"+H304*D304","v":0},{"$f":"+F304-H304","v":0},{"$f":"+J304*D304","v":0}]
[null,"Diagonala zaslona: 75\" ; Ločljivost: 3840x2160  (4K UHD), Tehnologija dotika: HyPr Touch™ z naprednim IR s podporo za Win10 in macOS; Minimalno 20 hkratnih točk dotika; Svetilnost: : ≥ 350 cd/m²; Vidni kot: 178° 2 x 15W zvočnika na sprednji strani zaslona; Vključena programska oprema: SMART Learning Suite; Poraba električne energije v normalnem načinu delovanja: maksimalno 150W;  Vgrajen računalnik: OS Android verzija 8 ali novejši v slovenskem jeziku, 4GB rama, 32GB vgrajenega spomina; Vgrajen Android računalnik ima pred nameščene aplikacije:\n-\tWhiteboard (digitalna bela površina)\n-\tSpletni brskalnik  \n-\tBrezžično deljenje zaslona mobilnih naprav (pametni telefoni, tablični računalniki, prenosniki) na interaktivni zaslon brez uporabe dodatnih aplikacij\n-\tMožnost vpisa v Android okolje z lastnim računom, ki omogoča uporabniku prilagojene nastavitve, aplikacije in ozadja; Vgrajen računalnik ima možnost nalaganja dodatnih aplikacij iz naložene trgovine z aplikacijami.                                "]
[null,"Vključen stenski nosilec, ki omogoča premikanje in višinsko nastavljivost interaktivnega zaslona navzgor in navzdol (400 mm) z roko (brez potrebe po električni povezavi) na podlagi vzmetnega sistema uravnoteženja."]
[null,"Dim. Interaktivnega zaslona: Š 174,4 cm x V 106,3 cm x G 10,4 cm\nKot npr.: SMART Board MX275 interaktivni zaslon z iQ tehnologijo in SMART Learning Suite programsko opremo\nDim. Višinsko nastavljivega nosilca: Š 55,6 cm x V 59,2 cm x G 8,1 cm  Kot npr.: BalanceBox ® 400 Light"]
[]
[null,"K2- Koš za smeti, npr. kovinski mrežasti","kos",1,null,null,{"$f":"D309*F309","v":0},{"$f":"+F309*MM","v":0},{"$f":"+H309*D309","v":0},{"$f":"+F309-H309","v":0},{"$f":"+J309*D309","v":0}]
[null,"Kovinski mrežasti koš za smeti\nVolumen 18 litrov\nDimenzije: višina 35,5 cm, premer 29,5                                                                                           Barva: črna\nhttps://www.11st-oprema.si/drugo/kosi-za-smeti/kovinski-mrezasti-kos-za-smeti"]
[]
[null,"1. nadstropje - 1. triada - učilnica 2: N1C_05"]
[]
[null,"M7 - Miza za učence","kos",12,null,null,{"$f":"D314*F314","v":0},{"$f":"+F314*MM","v":0},{"$f":"+H314*D314","v":0},{"$f":"+F314-H314","v":0},{"$f":"+J314*D314","v":0}]
[43,"Miza na dveh (2) nogah (T-podnožje), z zaščitnimi čepki prilagojeni za obstoječa tla. Konstrukcija iz ovalnih jeklenih cevi, ki so med seboj vijačene in varjene, prašno barvane v barvi po proizvajalčevi barvni skali. Opcijsko na voljo kavelj za torbo in kovinska polica, plastični pladenj ali nosilec za stol. Iverna mizna plošča (LIGNOpal-PUR), na obeh straneh laminirana z dekorativno folijo, prevlečena z melaminsko smolo, v barvi po proizvajalčevi barvni skali, s trpežnim poliuretanskim robom, ki se zlije z iverno ploščo in ne prepušča vode.\nS pripadajočimi certifikati: Greenguard, BIFMA, GS-Geprüfte Sicherheit, PEFC, LGA, THE GLOBAL COMPACT, DIN ISO 38200\nOBDELAVA;\nPodnožje: arctic \nMizna plošča: white"]
[null,"Dim. 58,6 / 79,7 cm; višina mizne ploskve 53 cm,\nKot npr.: UnoBean, VS Vereinigte Spezialmöbelfabriken\nali popolnoma enakovredno (tehnično in oblikovno)"]
[]
[null,"M8 - Miza za učence","kos",12,null,null,{"$f":"D318*F318","v":0},{"$f":"+F318*MM","v":0},{"$f":"+H318*D318","v":0},{"$f":"+F318-H318","v":0},{"$f":"+J318*D318","v":0}]
[44,"Miza na dveh (2) nogah (T-podnožje), z zaščitnimi čepki prilagojeni za obstoječa tla. Konstrukcija iz ovalnih jeklenih cevi, ki so med seboj vijačene in varjene, prašno barvane v barvi po proizvajalčevi barvni skali. Opcijsko na voljo kavelj za torbo in kovinska polica, plastični pladenj ali nosilec za stol. Iverna mizna plošča (LIGNOpal-PUR), na obeh straneh laminirana z dekorativno folijo, prevlečena z melaminsko smolo, v barvi po proizvajalčevi barvni skali, s trpežnim poliuretanskim robom, ki se zlije z iverno ploščo in ne prepušča vode.\nS pripadajočimi certifikati: Greenguard, BIFMA, GS-Geprüfte Sicherheit, PEFC, LGA, THE GLOBAL COMPACT, DIN ISO 38200\nOBDELAVA;\nPodnožje: arctic \nMizna plošča: white"]
[null,"Dim. 58,6 / 79,7 cm; višina mizne ploskve 59 cm,\nKot npr.: UnoBean, VS Vereinigte Spezialmöbelfabriken\nali popolnoma enakovredno (tehnično in oblikovno)"]
[]
[null,"ST9 - Stol za učence","kos",12,null,null,{"$f":"D322*F322","v":0},{"$f":"+F322*MM","v":0},{"$f":"+H322*D322","v":0},{"$f":"+F322-H322","v":0},{"$f":"+J322*D322","v":0}]
[45,"Stol s polipropilensko školjko na C podnožju.\nPodnožje iz krivljenih jeklenih cevi krožnega prereza, dodatna prečka varjena na podnožje, prašno barvano po proizvajalčevi barvni skali, na zaščitnih čepih za trda tla (filc),\nopremljeno s piggy-back sistemom (nalaganje na mizo),\nSediščna školjka iz polipropilena, (AIR cushion) lita školjka z notranjim praznim prostorom, ergonomsko sedišče v barvi po proizvajalčevi barvni skali, \nErgonomska sediščna školjka iz polipropilena po proizvajalčevi barvni skali - C1, (AIR cushion) lita školjka z notranjim\npraznim prostorom. Školjka ima odprtino v hrbtišču za lažjo manipulacijo. Robovi sediščne školjke so\nzaobljeni. Pritrditev sediščne školjke na podnožje je nevidna.\nS pripadajočimi certifikati: BIFMA, GREENGUARD GOLD, LGA, GS, AGR, CRADLE TO CRADLE, THE GLOBAL COMPACT\nOBDELAVA;\nPodnožje: arctic \nSediščna školjka: light blue"]
[null,"Dim. 33.8 / 37.7 /; višina sedišča 31 cm,\nKot npr.: PantoSwing-Lupo; VS Vereinigte Spezialmöbelfabriken\nali popolnoma enakovredno (tehnično in oblikovno)"]
[]
[null,"ST10 - Stol za učence","kos",12,null,null,{"$f":"D326*F326","v":0},{"$f":"+F326*MM","v":0},{"$f":"+H326*D326","v":0},{"$f":"+F326-H326","v":0},{"$f":"+J326*D326","v":0}]
[46,"Stol s polipropilensko školjko na C podnožju.\nPodnožje iz krivljenih jeklenih cevi krožnega prereza, dodatna prečka varjena na podnožje, prašno barvano po proizvajalčevi barvni skali, na zaščitnih čepih za trda tla (filc),\nopremljeno s piggy-back sistemom (nalaganje na mizo),\nSediščna školjka iz polipropilena, (AIR cushion) lita školjka z notranjim praznim prostorom, ergonomsko sedišče v barvi po proizvajalčevi barvni skali, \nErgonomska sediščna školjka iz polipropilena po proizvajalčevi barvni skali - C1, (AIR cushion) lita školjka z notranjim\npraznim prostorom. Školjka ima odprtino v hrbtišču za lažjo manipulacijo. Robovi sediščne školjke so\nzaobljeni. Pritrditev sediščne školjke na podnožje je nevidna.\nS pripadajočimi certifikati: BIFMA, GREENGUARD GOLD, LGA, GS, AGR, CRADLE TO CRADLE, THE GLOBAL COMPACT\nOBDELAVA;\nPodnožje: arctic \nSediščna školjka: light blue"]
[null,"Dim. 33.8 / 37.7 /; višina sedišča 34 cm,\nKot npr.: PantoSwing-Lupo; VS Vereinigte Spezialmöbelfabriken\nali popolnoma enakovredno (tehnično in oblikovno)"]
[]
[null,"DM - Delovna miza","kos",1,null,null,{"$f":"D330*F330","v":0},{"$f":"+F330*MM","v":0},{"$f":"+H330*D330","v":0},{"$f":"+F330-H330","v":0},{"$f":"+J330*D330","v":0}]
[47,"Pisarniška miza na štirih (4) nogah.\nKonstrukcija iz kovinski profilov, ki so med seboj varjeni in vijačeni, prašno barvani po proizvajalčevi barvni skali, noge na višinsko nastavljivih zaščitnih čepih,\nMizna plošča iz materiala LIGNOpal (iverna plošča je obeh straneh laminirana z dekorativno folijo, prevlečena z melaminsko smolo) v beli barvi, rob mizne plošče v varjenem ABS materialu debeline 2.5mm,\nmizna plošča opremljena z izpusti za elektriko na levi ali desni strani, okrasni kovinski pokrov.\nSpodaj snemljiva rešetka za elektrifikacijo, z držalom za računalnik pod mizo.\nS pripadajočimi certifikati: Greenguard, BIFMA, GS-Geprüfte Sicherheit, PEFC, LGA, THE GLOBAL COMPACT, DIN ISO 38200\nOBDELAVA;\nPodnožje: arctic \nMizna plošča: white"]
[null,"Dim. 180 / 80 cm, višina mizne ploskve 76 cm\nKot npr.: EcoTable-R; VS Vereinigte Spezialmöbelfabriken\nali popolnoma enakovredno (tehnično in oblikovno)"]
[]
[null,"MPR - Mobilni predalnik","kos",1,null,null,{"$f":"D334*F334","v":0},{"$f":"+F334*MM","v":0},{"$f":"+H334*D334","v":0},{"$f":"+F334-H334","v":0},{"$f":"+J334*D334","v":0}]
[48,"Predalnik s štirimi (4) predali na kolesih.\nKonstrukcija - korpus iz materiala LINGOpal v barvi po proizvajalčevi barvni skali, robovi z varjenim ABS robom 1.5mm,\nPodnožje kolesa za trda tla,\nVrata iz materiala LINGOpal v barvi po proizvajalčevi barvni skali, robovi z varjenim ABS robom 1.5mm, \nSistem predalov proti prevrnitvi  (ORGA drawer - odprt je lahko le en predal hkrati),\nRazporeditev predalov; 1.5 + 2 + 2 + 4 HU, \nPredali opremljeni s cilindrično ključavnico, vsak predal ima kovinski ročaj, finalna obdelava nikelj,\nS pripadajočimi certifikati (...)\nOBDELAVA;\nKonstrukcija: white\nVrata - fronte: white"]
[null,"Dim.43 / 80 / 55cm; \nKot npr.: OfficeBox; VS Vereinigte Spezialmöbelfabriken\nali popolnoma enakovredno (tehnično in oblikovno)"]
[]
[null,"ST1 - Stol za zaposlene","kos",1,null,null,{"$f":"D338*F338","v":0},{"$f":"+F338*MM","v":0},{"$f":"+H338*D338","v":0},{"$f":"+F338-H338","v":0},{"$f":"+J338*D338","v":0}]
[49,"Dvižni vrtiljak za učitelje s polipropilensko školjko.\nPet (5) krako zvezda aluminijasto podnožje, prašno barvano po proizvajalčevi barvni skali, na kolesih za trda tla.\nSediščna školjka iz polipropilena, (AIR cushion) lita školjka z notranjim praznim prostorom, ergonomsko sedišče opremljeno s 3D gibljivim mehanizmom pod sediščem (aktivno sedenje) , \nS pripadajočimi certifikati: BIFMA, GREENGUARD GOLD, LGA, GS, AGR, THE GLOBAL COMPACT\nOBDELAVA;\nPodnožje: arctic \nSediščna školjka: green"]
[null,"Dim. 46 / 50 cm; višina sedišča 42,4 - 55,2 cm,\nKot npr.: PantoMove-LuPo; VS Vereinigte Spezialmöbelfabriken\nali popolnoma enakovredno (tehnično in oblikovno)"]
[]
[null,"VIO4 - Visoka omara","kos",2,null,null,{"$f":"D342*F342","v":0},{"$f":"+F342*MM","v":0},{"$f":"+H342*D342","v":0},{"$f":"+F342-H342","v":0},{"$f":"+J342*D342","v":0}]
[50,"Visoka omara z dvojnimi (2) vrati zgoraj in dvojnimi (2) vrati spodaj (v notranjosti s premičnimi policami) in ključavnico.\nKonstrukcija - korpus iz materiala LIGNOpal (iverna plošča je obeh straneh laminirana z dekorativno folijo, prevlečena z melaminsko smolo) v barvi po proizvajalčevi barvni skali, robovi z varjenim ABS robom 1.5mm,\nPodnožje iz materiala LINGOpal v barvi po proizvajalčevi barvni skali, robovi z varjenim ABS robom 1.5mm,\nVrata iz materiala LINGOpal v barvi po proizvajalčevi barvni skali, robovi z varjenim ABS robom 1.5mm, odmična spona 270°,\nVrata opremljena s cilindrično ključavnico, kovinski ročaj, finalna obdelava nikelj,\nS pripadajočimi certifikati: Greenguard, BIFMA, GS-Geprüfte Sicherheit, PEFC, LGA, THE GLOBAL COMPACT, DIN ISO 38200\nOBDELAVA;\nKonstrukcija: white\nPodnožje:  white\nVrata - fronte: white"]
[null,"Dim. 100 / 42,5/ 197 cm,\nKot npr.: Serie 800 Cabinet; VS Vereinigte Spezialmöbelfabriken\nali popolnoma enakovredno (tehnično in oblikovno)"]
[]
[null,"VIO5 - Visoka omara s predali","kos",3,null,null,{"$f":"D346*F346","v":0},{"$f":"+F346*MM","v":0},{"$f":"+H346*D346","v":0},{"$f":"+F346-H346","v":0},{"$f":"+J346*D346","v":0}]
[null,"Visoka omara z dvojnimi (2) vrati zgoraj s ključavnico (v notranjosti s premičnimi policami in desetimi (10) predali spodaj.\nKonstrukcija - korpus iz materiala LIGNOpal (iverna plošča je obeh straneh laminirana z dekorativno folijo, prevlečena z melaminsko smolo) v barvi po proizvajalčevi barvni skali, robovi z varjenim ABS robom 1.5mm,\nPodnožje iz materiala LINGOpal v barvi po proizvajalčevi barvni skali, robovi z varjenim ABS robom 1.5mm,\nVrata iz materiala LINGOpal v barvi po proizvajalčevi barvni skali, robovi z varjenim ABS robom 1.5mm, odmična spona 270°,\nVrata opremljena s cilindrično ključavnico, kovinski ročaj, finalna obdelava nikelj.\nSistem predalov proti prevrnitvi  (ORGA drawer - odprt je lahko le en predal hkrati).\nPredali opremljeni s cilindrično ključavnico, vsak predal ima kovinski ročaj, finalna obdelava nikelj.\nS pripadajočimi certifikati: Greenguard, BIFMA, GS-Geprüfte Sicherheit, PEFC, LGA, THE GLOBAL COMPACT, DIN ISO 38200\nOBDELAVA;\nKonstrukcija: white\nPodnožje:  white\nVrata - fronte: white"]
[null,"Dim. 100 / 42,5/ 197 cm,\nKot npr.: Serie 800 Cabinet; VS Vereinigte Spezialmöbelfabriken\nali popolnoma enakovredno (tehnično in oblikovno)"]
[]
[null,"INZ1 - Interaktivni zaslon na višinsko nastavljivem nosilcu","kos",1,null,null,{"$f":"D350*F350","v":0},{"$f":"+F350*MM","v":0},{"$f":"+H350*D350","v":0},{"$f":"+F350-H350","v":0},{"$f":"+J350*D350","v":0}]
[null,"Diagonala zaslona: 75\" ; Ločljivost: 3840x2160  (4K UHD), Tehnologija dotika: HyPr Touch™ z naprednim IR s podporo za Win10 in macOS; Minimalno 20 hkratnih točk dotika; Svetilnost: : ≥ 350 cd/m²; Vidni kot: 178° 2 x 15W zvočnika na sprednji strani zaslona; Vključena programska oprema: SMART Learning Suite; Poraba električne energije v normalnem načinu delovanja: maksimalno 150W;  Vgrajen računalnik: OS Android verzija 8 ali novejši v slovenskem jeziku, 4GB rama, 32GB vgrajenega spomina; Vgrajen Android računalnik ima pred nameščene aplikacije:\n-\tWhiteboard (digitalna bela površina)\n-\tSpletni brskalnik  \n-\tBrezžično deljenje zaslona mobilnih naprav (pametni telefoni, tablični računalniki, prenosniki) na interaktivni zaslon brez uporabe dodatnih aplikacij\n-\tMožnost vpisa v Android okolje z lastnim računom, ki omogoča uporabniku prilagojene nastavitve, aplikacije in ozadja; Vgrajen računalnik ima možnost nalaganja dodatnih aplikacij iz naložene trgovine z aplikacijami.                                "]
[null,"Vključen stenski nosilec, ki omogoča premikanje in višinsko nastavljivost interaktivnega zaslona navzgor in navzdol (400 mm) z roko (brez potrebe po električni povezavi) na podlagi vzmetnega sistema uravnoteženja."]
[null,"Dim. Interaktivnega zaslona: Š 174,4 cm x V 106,3 cm x G 10,4 cm\nKot npr.: SMART Board MX275 interaktivni zaslon z iQ tehnologijo in SMART Learning Suite programsko opremo\nDim. Višinsko nastavljivega nosilca: Š 55,6 cm x V 59,2 cm x G 8,1 cm  Kot npr.: BalanceBox ® 400 Light"]
[]
[null,"K2- Koš za smeti, npr. kovinski mrežasti","kos",1,null,null,{"$f":"D355*F355","v":0},{"$f":"+F355*MM","v":0},{"$f":"+H355*D355","v":0},{"$f":"+F355-H355","v":0},{"$f":"+J355*D355","v":0}]
[null,"Kovinski mrežasti koš za smeti\nVolumen 18 litrov\nDimenzije: višina 35,5 cm, premer 29,5                                                                                           Barva: črna\nhttps://www.11st-oprema.si/drugo/kosi-za-smeti/kovinski-mrezasti-kos-za-smeti"]
[]
[null,"1. nadstropje - 1. triada - učilnica 3: N1C_06"]
[]
[null,"M7 - Miza za učence","kos",12,null,null,{"$f":"D360*F360","v":0},{"$f":"+F360*MM","v":0},{"$f":"+H360*D360","v":0},{"$f":"+F360-H360","v":0},{"$f":"+J360*D360","v":0}]
[52,"Miza na dveh (2) nogah (T-podnožje), z zaščitnimi čepki prilagojeni za obstoječa tla. Konstrukcija iz ovalnih jeklenih cevi, ki so med seboj vijačene in varjene, prašno barvane v barvi po proizvajalčevi barvni skali. Opcijsko na voljo kavelj za torbo in kovinska polica, plastični pladenj ali nosilec za stol. Iverna mizna plošča (LIGNOpal-PUR), na obeh straneh laminirana z dekorativno folijo, prevlečena z melaminsko smolo, v barvi po proizvajalčevi barvni skali, s trpežnim poliuretanskim robom, ki se zlije z iverno ploščo in ne prepušča vode.\nS pripadajočimi certifikati: Greenguard, BIFMA, GS-Geprüfte Sicherheit, PEFC, LGA, THE GLOBAL COMPACT, DIN ISO 38200\nOBDELAVA;\nPodnožje: arctic \nMizna plošča: white"]
[null,"Dim. 58,6 / 79,7 cm; višina mizne ploskve 53 cm,\nKot npr.: UnoBean, VS Vereinigte Spezialmöbelfabriken\nali popolnoma enakovredno (tehnično in oblikovno)"]
[]
[null,"M8 - Miza za učence","kos",12,null,null,{"$f":"D364*F364","v":0},{"$f":"+F364*MM","v":0},{"$f":"+H364*D364","v":0},{"$f":"+F364-H364","v":0},{"$f":"+J364*D364","v":0}]
[53,"Miza na dveh (2) nogah (T-podnožje), z zaščitnimi čepki prilagojeni za obstoječa tla. Konstrukcija iz ovalnih jeklenih cevi, ki so med seboj vijačene in varjene, prašno barvane v barvi po proizvajalčevi barvni skali. Opcijsko na voljo kavelj za torbo in kovinska polica, plastični pladenj ali nosilec za stol. Iverna mizna plošča (LIGNOpal-PUR), na obeh straneh laminirana z dekorativno folijo, prevlečena z melaminsko smolo, v barvi po proizvajalčevi barvni skali, s trpežnim poliuretanskim robom, ki se zlije z iverno ploščo in ne prepušča vode.\nS pripadajočimi certifikati: Greenguard, BIFMA, GS-Geprüfte Sicherheit, PEFC, LGA, THE GLOBAL COMPACT, DIN ISO 38200\nOBDELAVA;\nPodnožje: arctic \nMizna plošča: white"]
[null,"Dim. 58,6 / 79,7 cm; višina mizne ploskve 59 cm,\nKot npr.: UnoBean, VS Vereinigte Spezialmöbelfabriken\nali popolnoma enakovredno (tehnično in oblikovno)"]
[]
[null,"ST9 - Stol za učence","kos",12,null,null,{"$f":"D368*F368","v":0},{"$f":"+F368*MM","v":0},{"$f":"+H368*D368","v":0},{"$f":"+F368-H368","v":0},{"$f":"+J368*D368","v":0}]
[54,"Stol s polipropilensko školjko na C podnožju.\nPodnožje iz krivljenih jeklenih cevi krožnega prereza, dodatna prečka varjena na podnožje, prašno barvano po proizvajalčevi barvni skali, na zaščitnih čepih za trda tla (filc),\nopremljeno s piggy-back sistemom (nalaganje na mizo),\nSediščna školjka iz polipropilena, (AIR cushion) lita školjka z notranjim praznim prostorom, ergonomsko sedišče v barvi po proizvajalčevi barvni skali, \nErgonomska sediščna školjka iz polipropilena po proizvajalčevi barvni skali - C1, (AIR cushion) lita školjka z notranjim\npraznim prostorom. Školjka ima odprtino v hrbtišču za lažjo manipulacijo. Robovi sediščne školjke so\nzaobljeni. Pritrditev sediščne školjke na podnožje je nevidna.\nS pripadajočimi certifikati: BIFMA, GREENGUARD GOLD, LGA, GS, AGR, CRADLE TO CRADLE, THE GLOBAL COMPACT\nOBDELAVA;\nPodnožje: arctic \nSediščna školjka: light blue"]
[null,"Dim. 33.8 / 37.7 /; višina sedišča 31 cm,\nKot npr.: PantoSwing-Lupo; VS Vereinigte Spezialmöbelfabriken\nali popolnoma enakovredno (tehnično in oblikovno)"]
[]
[null,"ST10 - Stol za učence","kos",12,null,null,{"$f":"D372*F372","v":0},{"$f":"+F372*MM","v":0},{"$f":"+H372*D372","v":0},{"$f":"+F372-H372","v":0},{"$f":"+J372*D372","v":0}]
[55,"Stol s polipropilensko školjko na C podnožju.\nPodnožje iz krivljenih jeklenih cevi krožnega prereza, dodatna prečka varjena na podnožje, prašno barvano po proizvajalčevi barvni skali, na zaščitnih čepih za trda tla (filc),\nopremljeno s piggy-back sistemom (nalaganje na mizo),\nSediščna školjka iz polipropilena, (AIR cushion) lita školjka z notranjim praznim prostorom, ergonomsko sedišče v barvi po proizvajalčevi barvni skali, \nErgonomska sediščna školjka iz polipropilena po proizvajalčevi barvni skali - C1, (AIR cushion) lita školjka z notranjim\npraznim prostorom. Školjka ima odprtino v hrbtišču za lažjo manipulacijo. Robovi sediščne školjke so\nzaobljeni. Pritrditev sediščne školjke na podnožje je nevidna.\nS pripadajočimi certifikati: BIFMA, GREENGUARD GOLD, LGA, GS, AGR, CRADLE TO CRADLE, THE GLOBAL COMPACT\nOBDELAVA;\nPodnožje: arctic \nSediščna školjka: light blue"]
[null,"Dim. 33.8 / 37.7 /; višina sedišča 34 cm,\nKot npr.: PantoSwing-Lupo; VS Vereinigte Spezialmöbelfabriken\nali popolnoma enakovredno (tehnično in oblikovno)"]
[]
[null,"DM - Delovna miza","kos",1,null,null,{"$f":"D376*F376","v":0},{"$f":"+F376*MM","v":0},{"$f":"+H376*D376","v":0},{"$f":"+F376-H376","v":0},{"$f":"+J376*D376","v":0}]
[56,"Pisarniška miza na štirih (4) nogah.\nKonstrukcija iz kovinski profilov, ki so med seboj varjeni in vijačeni, prašno barvani po proizvajalčevi barvni skali, noge na višinsko nastavljivih zaščitnih čepih,\nMizna plošča iz materiala LIGNOpal (iverna plošča je obeh straneh laminirana z dekorativno folijo, prevlečena z melaminsko smolo) v beli barvi, rob mizne plošče v varjenem ABS materialu debeline 2.5mm,\nmizna plošča opremljena z izpusti za elektriko na levi ali desni strani, okrasni kovinski pokrov.\nSpodaj snemljiva rešetka za elektrifikacijo, z držalom za računalnik pod mizo.\nS pripadajočimi certifikati: Greenguard, BIFMA, GS-Geprüfte Sicherheit, PEFC, LGA, THE GLOBAL COMPACT, DIN ISO 38200\nOBDELAVA;\nPodnožje: arctic \nMizna plošča: white"]
[null,"Dim. 180 / 80 cm, višina mizne ploskve 76 cm\nKot npr.: EcoTable-R; VS Vereinigte Spezialmöbelfabriken\nali popolnoma enakovredno (tehnično in oblikovno)"]
[]
[null,"MPR - Mobilni predalnik","kos",1,null,null,{"$f":"D380*F380","v":0},{"$f":"+F380*MM","v":0},{"$f":"+H380*D380","v":0},{"$f":"+F380-H380","v":0},{"$f":"+J380*D380","v":0}]
[57,"Predalnik s štirimi (4) predali na kolesih.\nKonstrukcija - korpus iz materiala LINGOpal v barvi po proizvajalčevi barvni skali, robovi z varjenim ABS robom 1.5mm,\nPodnožje kolesa za trda tla,\nVrata iz materiala LINGOpal v barvi po proizvajalčevi barvni skali, robovi z varjenim ABS robom 1.5mm, \nSistem predalov proti prevrnitvi  (ORGA drawer - odprt je lahko le en predal hkrati),\nRazporeditev predalov; 1.5 + 2 + 2 + 4 HU, \nPredali opremljeni s cilindrično ključavnico, vsak predal ima kovinski ročaj, finalna obdelava nikelj,\nS pripadajočimi certifikati (...)\nOBDELAVA;\nKonstrukcija: white\nVrata - fronte: white"]
[null,"Dim.43 / 80 / 55cm; \nKot npr.: OfficeBox; VS Vereinigte Spezialmöbelfabriken\nali popolnoma enakovredno (tehnično in oblikovno)"]
[]
[null,"ST1 - Stol za zaposlene","kos",1,null,null,{"$f":"D384*F384","v":0},{"$f":"+F384*MM","v":0},{"$f":"+H384*D384","v":0},{"$f":"+F384-H384","v":0},{"$f":"+J384*D384","v":0}]
[58,"Dvižni vrtiljak za učitelje s polipropilensko školjko.\nPet (5) krako zvezda aluminijasto podnožje, prašno barvano po proizvajalčevi barvni skali, na kolesih za trda tla.\nSediščna školjka iz polipropilena, (AIR cushion) lita školjka z notranjim praznim prostorom, ergonomsko sedišče opremljeno s 3D gibljivim mehanizmom pod sediščem (aktivno sedenje) , \nS pripadajočimi certifikati: BIFMA, GREENGUARD GOLD, LGA, GS, AGR, THE GLOBAL COMPACT\nOBDELAVA;\nPodnožje: arctic \nSediščna školjka: green"]
[null,"Dim. 46 / 50 cm; višina sedišča 42,4 - 55,2 cm,\nKot npr.: PantoMove-LuPo; VS Vereinigte Spezialmöbelfabriken\nali popolnoma enakovredno (tehnično in oblikovno)"]
[]
[null,"VIO4 - Visoka omara","kos",2,null,null,{"$f":"D388*F388","v":0},{"$f":"+F388*MM","v":0},{"$f":"+H388*D388","v":0},{"$f":"+F388-H388","v":0},{"$f":"+J388*D388","v":0}]
[59,"Visoka omara z dvojnimi (2) vrati zgoraj in dvojnimi (2) vrati spodaj (v notranjosti s premičnimi policami) in ključavnico.\nKonstrukcija - korpus iz materiala LIGNOpal (iverna plošča je obeh straneh laminirana z dekorativno folijo, prevlečena z melaminsko smolo) v barvi po proizvajalčevi barvni skali, robovi z varjenim ABS robom 1.5mm,\nPodnožje iz materiala LINGOpal v barvi po proizvajalčevi barvni skali, robovi z varjenim ABS robom 1.5mm,\nVrata iz materiala LINGOpal v barvi po proizvajalčevi barvni skali, robovi z varjenim ABS robom 1.5mm, odmična spona 270°,\nVrata opremljena s cilindrično ključavnico, kovinski ročaj, finalna obdelava nikelj,\nS pripadajočimi certifikati: Greenguard, BIFMA, GS-Geprüfte Sicherheit, PEFC, LGA, THE GLOBAL COMPACT, DIN ISO 38200\nOBDELAVA;\nKonstrukcija: white\nPodnožje:  white\nVrata - fronte: white"]
[null,"Dim. 100 / 42,5/ 197 cm,\nKot npr.: Serie 800 Cabinet; VS Vereinigte Spezialmöbelfabriken\nali popolnoma enakovredno (tehnično in oblikovno)"]
[]
[null,"VIO5 - Visoka omara s predali","kos",3,null,null,{"$f":"D392*F392","v":0},{"$f":"+F392*MM","v":0},{"$f":"+H392*D392","v":0},{"$f":"+F392-H392","v":0},{"$f":"+J392*D392","v":0}]
[null,"Visoka omara z dvojnimi (2) vrati zgoraj s ključavnico (v notranjosti s premičnimi policami in desetimi (10) predali spodaj.\nKonstrukcija - korpus iz materiala LIGNOpal (iverna plošča je obeh straneh laminirana z dekorativno folijo, prevlečena z melaminsko smolo) v barvi po proizvajalčevi barvni skali, robovi z varjenim ABS robom 1.5mm,\nPodnožje iz materiala LINGOpal v barvi po proizvajalčevi barvni skali, robovi z varjenim ABS robom 1.5mm,\nVrata iz materiala LINGOpal v barvi po proizvajalčevi barvni skali, robovi z varjenim ABS robom 1.5mm, odmična spona 270°,\nVrata opremljena s cilindrično ključavnico, kovinski ročaj, finalna obdelava nikelj.\nSistem predalov proti prevrnitvi  (ORGA drawer - odprt je lahko le en predal hkrati).\nPredali opremljeni s cilindrično ključavnico, vsak predal ima kovinski ročaj, finalna obdelava nikelj.\nS pripadajočimi certifikati: Greenguard, BIFMA, GS-Geprüfte Sicherheit, PEFC, LGA, THE GLOBAL COMPACT, DIN ISO 38200\nOBDELAVA;\nKonstrukcija: white\nPodnožje:  white\nVrata - fronte: white"]
[null,"Dim. 100 / 42,5/ 197 cm,\nKot npr.: Serie 800 Cabinet; VS Vereinigte Spezialmöbelfabriken\nali popolnoma enakovredno (tehnično in oblikovno)"]
[]
[null,"INZ1 - Interaktivni zaslon na višinsko nastavljivem nosilcu","kos",1,null,null,{"$f":"D396*F396","v":0},{"$f":"+F396*MM","v":0},{"$f":"+H396*D396","v":0},{"$f":"+F396-H396","v":0},{"$f":"+J396*D396","v":0}]
[null,"Diagonala zaslona: 75\" ; Ločljivost: 3840x2160  (4K UHD), Tehnologija dotika: HyPr Touch™ z naprednim IR s podporo za Win10 in macOS; Minimalno 20 hkratnih točk dotika; Svetilnost: : ≥ 350 cd/m²; Vidni kot: 178° 2 x 15W zvočnika na sprednji strani zaslona; Vključena programska oprema: SMART Learning Suite; Poraba električne energije v normalnem načinu delovanja: maksimalno 150W;  Vgrajen računalnik: OS Android verzija 8 ali novejši v slovenskem jeziku, 4GB rama, 32GB vgrajenega spomina; Vgrajen Android računalnik ima pred nameščene aplikacije:\n-\tWhiteboard (digitalna bela površina)\n-\tSpletni brskalnik  \n-\tBrezžično deljenje zaslona mobilnih naprav (pametni telefoni, tablični računalniki, prenosniki) na interaktivni zaslon brez uporabe dodatnih aplikacij\n-\tMožnost vpisa v Android okolje z lastnim računom, ki omogoča uporabniku prilagojene nastavitve, aplikacije in ozadja; Vgrajen računalnik ima možnost nalaganja dodatnih aplikacij iz naložene trgovine z aplikacijami.                                "]
[null,"Vključen stenski nosilec, ki omogoča premikanje in višinsko nastavljivost interaktivnega zaslona navzgor in navzdol (400 mm) z roko (brez potrebe po električni povezavi) na podlagi vzmetnega sistema uravnoteženja."]
[null,"Dim. Interaktivnega zaslona: Š 174,4 cm x V 106,3 cm x G 10,4 cm\nKot npr.: SMART Board MX275 interaktivni zaslon z iQ tehnologijo in SMART Learning Suite programsko opremo\nDim. Višinsko nastavljivega nosilca: Š 55,6 cm x V 59,2 cm x G 8,1 cm  Kot npr.: BalanceBox ® 400 Light"]
[]
[null,"K2- Koš za smeti, npr. kovinski mrežasti","kos",1,null,null,{"$f":"D401*F401","v":0},{"$f":"+F401*MM","v":0},{"$f":"+H401*D401","v":0},{"$f":"+F401-H401","v":0},{"$f":"+J401*D401","v":0}]
[null,"Kovinski mrežasti koš za smeti\nVolumen 18 litrov\nDimenzije: višina 35,5 cm, premer 29,5                                                                                           Barva: črna\nhttps://www.11st-oprema.si/drugo/kosi-za-smeti/kovinski-mrezasti-kos-za-smeti"]
[]
[null,"SKUPAJ OPREMA 1. NADSTROPJE",null,null,null,null,{"$f":"SUM(G8:G403)","v":0},null,{"$f":"SUM(I8:I403)","v":0},null,{"$f":"SUM(K8:K403)","v":0}]

{"sheet":"CDE-OPREMA 2 NADSTROPJE","index":123,"n_rows":283,"n_cols":11,"rows_kept":283,"cut":false,"hidden":false,"merged":[]}
[null,"Objekt C, D in E,  OPREMA KLET"]
[]
["ZAP. ŠT.","OPIS","     ME","KOLIČUNA","SLIKA","CENA/ENOTO","SKUPAJ","POPUST","POPUST SKUPAJ","CENA/ENOTO S POPUSTOM","SKUPAJ S POPUSTOM"]
[]
["I.","OPREMA"]
[]
[null,"SPLOŠNE ZAHTEVE"]
[]
["I.3.","OPREMA DRUGEGA NADSTROPJA"]
[]
[null,"2. nadstropje - 1. triada - učilnica 4: N2C_04"]
[]
[1,"M7 - Miza za učence","kos",12,null,null,{"$f":"D13*F13","v":0},{"$f":"+F13*MM","v":0},{"$f":"+H13*D13","v":0},{"$f":"+F13-H13","v":0},{"$f":"+J13*D13","v":0}]
[null,"Miza na dveh (2) nogah (T-podnožje), z zaščitnimi čepki prilagojeni za obstoječa tla. Konstrukcija iz ovalnih jeklenih cevi, ki so med seboj vijačene in varjene, prašno barvane v barvi po proizvajalčevi barvni skali. Opcijsko na voljo kavelj za torbo in kovinska polica, plastični pladenj ali nosilec za stol. Iverna mizna plošča (LIGNOpal-PUR), na obeh straneh laminirana z dekorativno folijo, prevlečena z melaminsko smolo, v barvi po proizvajalčevi barvni skali, s trpežnim poliuretanskim robom, ki se zlije z iverno ploščo in ne prepušča vode.\nS pripadajočimi certifikati: Greenguard, BIFMA, GS-Geprüfte Sicherheit, PEFC, LGA, THE GLOBAL COMPACT, DIN ISO 38200\nOBDELAVA;\nPodnožje: arctic \nMizna plošča: white"]
[null,"Dim. 58,6 / 79,7 cm; višina mizne ploskve 53 cm,\nKot npr.: UnoBean, VS Vereinigte Spezialmöbelfabriken\nali popolnoma enakovredno (tehnično in oblikovno)"]
[]
[2,"M8 - Miza za učence","kos",12,null,null,{"$f":"D17*F17","v":0},{"$f":"+F17*MM","v":0},{"$f":"+H17*D17","v":0},{"$f":"+F17-H17","v":0},{"$f":"+J17*D17","v":0}]
[null,"Miza na dveh (2) nogah (T-podnožje), z zaščitnimi čepki prilagojeni za obstoječa tla. Konstrukcija iz ovalnih jeklenih cevi, ki so med seboj vijačene in varjene, prašno barvane v barvi po proizvajalčevi barvni skali. Opcijsko na voljo kavelj za torbo in kovinska polica, plastični pladenj ali nosilec za stol. Iverna mizna plošča (LIGNOpal-PUR), na obeh straneh laminirana z dekorativno folijo, prevlečena z melaminsko smolo, v barvi po proizvajalčevi barvni skali, s trpežnim poliuretanskim robom, ki se zlije z iverno ploščo in ne prepušča vode.\nS pripadajočimi certifikati: Greenguard, BIFMA, GS-Geprüfte Sicherheit, PEFC, LGA, THE GLOBAL COMPACT, DIN ISO 38200\nOBDELAVA;\nPodnožje: arctic \nMizna plošča: white"]
[null,"Dim. 58,6 / 79,7 cm; višina mizne ploskve 59 cm,\nKot npr.: UnoBean, VS Vereinigte Spezialmöbelfabriken\nali popolnoma enakovredno (tehnično in oblikovno)"]
[]
[3,"ST9 - Stol za učence","kos",12,null,null,{"$f":"D21*F21","v":0},{"$f":"+F21*MM","v":0},{"$f":"+H21*D21","v":0},{"$f":"+F21-H21","v":0},{"$f":"+J21*D21","v":0}]
[null,"Stol s polipropilensko školjko na C podnožju.\nPodnožje iz krivljenih jeklenih cevi krožnega prereza, dodatna prečka varjena na podnožje, prašno barvano po proizvajalčevi barvni skali, na zaščitnih čepih za trda tla (filc),\nopremljeno s piggy-back sistemom (nalaganje na mizo),\nSediščna školjka iz polipropilena, (AIR cushion) lita školjka z notranjim praznim prostorom, ergonomsko sedišče v barvi po proizvajalčevi barvni skali, \nErgonomska sediščna školjka iz polipropilena po proizvajalčevi barvni skali - C1, (AIR cushion) lita školjka z notranjim\npraznim prostorom. Školjka ima odprtino v hrbtišču za lažjo manipulacijo. Robovi sediščne školjke so\nzaobljeni. Pritrditev sediščne školjke na podnožje je nevidna.\nS pripadajočimi certifikati: BIFMA, GREENGUARD GOLD, LGA, GS, AGR, CRADLE TO CRADLE, THE GLOBAL COMPACT\nOBDELAVA;\nPodnožje: arctic \nSediščna školjka: light blue"]
[null,"Dim. 33.8 / 37.7 /; višina sedišča 31 cm,\nKot npr.: PantoSwing-Lupo; VS Vereinigte Spezialmöbelfabriken\nali popolnoma enakovredno (tehnično in oblikovno)"]
[]
[4,"ST10 - Stol za učence","kos",12,null,null,{"$f":"D25*F25","v":0},{"$f":"+F25*MM","v":0},{"$f":"+H25*D25","v":0},{"$f":"+F25-H25","v":0},{"$f":"+J25*D25","v":0}]
[null,"Stol s polipropilensko školjko na C podnožju.\nPodnožje iz krivljenih jeklenih cevi krožnega prereza, dodatna prečka varjena na podnožje, prašno barvano po proizvajalčevi barvni skali, na zaščitnih čepih za trda tla (filc),\nopremljeno s piggy-back sistemom (nalaganje na mizo),\nSediščna školjka iz polipropilena, (AIR cushion) lita školjka z notranjim praznim prostorom, ergonomsko sedišče v barvi po proizvajalčevi barvni skali, \nErgonomska sediščna školjka iz polipropilena po proizvajalčevi barvni skali - C1, (AIR cushion) lita školjka z notranjim\npraznim prostorom. Školjka ima odprtino v hrbtišču za lažjo manipulacijo. Robovi sediščne školjke so\nzaobljeni. Pritrditev sediščne školjke na podnožje je nevidna.\nS pripadajočimi certifikati: BIFMA, GREENGUARD GOLD, LGA, GS, AGR, CRADLE TO CRADLE, THE GLOBAL COMPACT\nOBDELAVA;\nPodnožje: arctic \nSediščna školjka: light blue"]
[null,"Dim. 33.8 / 37.7 /; višina sedišča 34 cm,\nKot npr.: PantoSwing-Lupo; VS Vereinigte Spezialmöbelfabriken\nali popolnoma enakovredno (tehnično in oblikovno)"]
[]
[5,"DM - Delovna miza","kos",1,null,null,{"$f":"D29*F29","v":0},{"$f":"+F29*MM","v":0},{"$f":"+H29*D29","v":0},{"$f":"+F29-H29","v":0},{"$f":"+J29*D29","v":0}]
[null,"Pisarniška miza na štirih (4) nogah.\nKonstrukcija iz kovinski profilov, ki so med seboj varjeni in vijačeni, prašno barvani po proizvajalčevi barvni skali, noge na višinsko nastavljivih zaščitnih čepih,\nMizna plošča iz materiala LIGNOpal (iverna plošča je obeh straneh laminirana z dekorativno folijo, prevlečena z melaminsko smolo) v beli barvi, rob mizne plošče v varjenem ABS materialu debeline 2.5mm,\nmizna plošča opremljena z izpusti za elektriko na levi ali desni strani, okrasni kovinski pokrov.\nSpodaj snemljiva rešetka za elektrifikacijo, z držalom za računalnik pod mizo.\nS pripadajočimi certifikati: Greenguard, BIFMA, GS-Geprüfte Sicherheit, PEFC, LGA, THE GLOBAL COMPACT, DIN ISO 38200\nOBDELAVA;\nPodnožje: arctic \nMizna plošča: white"]
[null,"Dim. 180 / 80 cm, višina mizne ploskve 76 cm\nKot npr.: EcoTable-R; VS Vereinigte Spezialmöbelfabriken\nali popolnoma enakovredno (tehnično in oblikovno)"]
[]
[6,"MPR - Mobilni predalnik","kos",1,null,null,{"$f":"D33*F33","v":0},{"$f":"+F33*MM","v":0},{"$f":"+H33*D33","v":0},{"$f":"+F33-H33","v":0},{"$f":"+J33*D33","v":0}]
[null,"Predalnik s štirimi (4) predali na kolesih.\nKonstrukcija - korpus iz materiala LINGOpal v barvi po proizvajalčevi barvni skali, robovi z varjenim ABS robom 1.5mm,\nPodnožje kolesa za trda tla,\nVrata iz materiala LINGOpal v barvi po proizvajalčevi barvni skali, robovi z varjenim ABS robom 1.5mm, \nSistem predalov proti prevrnitvi  (ORGA drawer - odprt je lahko le en predal hkrati),\nRazporeditev predalov; 1.5 + 2 + 2 + 4 HU, \nPredali opremljeni s cilindrično ključavnico, vsak predal ima kovinski ročaj, finalna obdelava nikelj,\nS pripadajočimi certifikati (...)\nOBDELAVA;\nKonstrukcija: white\nVrata - fronte: white"]
[null,"Dim.43 / 80 / 55cm; \nKot npr.: OfficeBox; VS Vereinigte Spezialmöbelfabriken\nali popolnoma enakovredno (tehnično in oblikovno)"]
[]
[7,"ST1 - Stol za zaposlene","kos",1,null,null,{"$f":"D37*F37","v":0},{"$f":"+F37*MM","v":0},{"$f":"+H37*D37","v":0},{"$f":"+F37-H37","v":0},{"$f":"+J37*D37","v":0}]
[null,"Dvižni vrtiljak za učitelje s polipropilensko školjko.\nPet (5) krako zvezda aluminijasto podnožje, prašno barvano po proizvajalčevi barvni skali, na kolesih za trda tla.\nSediščna školjka iz polipropilena, (AIR cushion) lita školjka z notranjim praznim prostorom, ergonomsko sedišče opremljeno s 3D gibljivim mehanizmom pod sediščem (aktivno sedenje) , \nS pripadajočimi certifikati: BIFMA, GREENGUARD GOLD, LGA, GS, AGR, THE GLOBAL COMPACT\nOBDELAVA;\nPodnožje: arctic \nSediščna školjka: green"]
[null,"Dim. 46 / 50 cm; višina sedišča 42,4 - 55,2 cm,\nKot npr.: PantoMove-LuPo; VS Vereinigte Spezialmöbelfabriken\nali popolnoma enakovredno (tehnično in oblikovno)"]
[]
[8,"VIO4 - Visoka omara","kos",2,null,null,{"$f":"D41*F41","v":0},{"$f":"+F41*MM","v":0},{"$f":"+H41*D41","v":0},{"$f":"+F41-H41","v":0},{"$f":"+J41*D41","v":0}]
[null,"Visoka omara z dvojnimi (2) vrati zgoraj in dvojnimi (2) vrati spodaj (v notranjosti s premičnimi policami) in ključavnico.\nKonstrukcija - korpus iz materiala LIGNOpal (iverna plošča je obeh straneh laminirana z dekorativno folijo, prevlečena z melaminsko smolo) v barvi po proizvajalčevi barvni skali, robovi z varjenim ABS robom 1.5mm,\nPodnožje iz materiala LINGOpal v barvi po proizvajalčevi barvni skali, robovi z varjenim ABS robom 1.5mm,\nVrata iz materiala LINGOpal v barvi po proizvajalčevi barvni skali, robovi z varjenim ABS robom 1.5mm, odmična spona 270°,\nVrata opremljena s cilindrično ključavnico, kovinski ročaj, finalna obdelava nikelj,\nS pripadajočimi certifikati: Greenguard, BIFMA, GS-Geprüfte Sicherheit, PEFC, LGA, THE GLOBAL COMPACT, DIN ISO 38200\nOBDELAVA;\nKonstrukcija: white\nPodnožje:  white\nVrata - fronte: white"]
[null,"Dim. 100 / 42,5/ 197 cm,\nKot npr.: Serie 800 Cabinet; VS Vereinigte Spezialmöbelfabriken\nali popolnoma enakovredno (tehnično in oblikovno)"]
[]
[9,"VIO5 - Visoka omara s predali","kos",3,null,null,{"$f":"D45*F45","v":0},{"$f":"+F45*MM","v":0},{"$f":"+H45*D45","v":0},{"$f":"+F45-H45","v":0},{"$f":"+J45*D45","v":0}]
[null,"Visoka omara z dvojnimi (2) vrati zgoraj s ključavnico (v notranjosti s premičnimi policami in desetimi (10) predali spodaj.\nKonstrukcija - korpus iz materiala LIGNOpal (iverna plošča je obeh straneh laminirana z dekorativno folijo, prevlečena z melaminsko smolo) v barvi po proizvajalčevi barvni skali, robovi z varjenim ABS robom 1.5mm,\nPodnožje iz materiala LINGOpal v barvi po proizvajalčevi barvni skali, robovi z varjenim ABS robom 1.5mm,\nVrata iz materiala LINGOpal v barvi po proizvajalčevi barvni skali, robovi z varjenim ABS robom 1.5mm, odmična spona 270°,\nVrata opremljena s cilindrično ključavnico, kovinski ročaj, finalna obdelava nikelj.\nSistem predalov proti prevrnitvi  (ORGA drawer - odprt je lahko le en predal hkrati).\nPredali opremljeni s cilindrično ključavnico, vsak predal ima kovinski ročaj, finalna obdelava nikelj.\nS pripadajočimi certifikati: Greenguard, BIFMA, GS-Geprüfte Sicherheit, PEFC, LGA, THE GLOBAL COMPACT, DIN ISO 38200\nOBDELAVA;\nKonstrukcija: white\nPodnožje:  white\nVrata - fronte: white"]
[null,"Dim. 100 / 42,5/ 197 cm,\nKot npr.: Serie 800 Cabinet; VS Vereinigte Spezialmöbelfabriken\nali popolnoma enakovredno (tehnično in oblikovno)"]
[]
[null,"INZ1 - Interaktivni zaslon na višinsko nastavljivem nosilcu","kos",1,null,null,{"$f":"D49*F49","v":0},{"$f":"+F49*MM","v":0},{"$f":"+H49*D49","v":0},{"$f":"+F49-H49","v":0},{"$f":"+J49*D49","v":0}]
[null,"Diagonala zaslona: 75\" ; Ločljivost: 3840x2160  (4K UHD), Tehnologija dotika: HyPr Touch™ z naprednim IR s podporo za Win10 in macOS; Minimalno 20 hkratnih točk dotika; Svetilnost: : ≥ 350 cd/m²; Vidni kot: 178° 2 x 15W zvočnika na sprednji strani zaslona; Vključena programska oprema: SMART Learning Suite; Poraba električne energije v normalnem načinu delovanja: maksimalno 150W;  Vgrajen računalnik: OS Android verzija 8 ali novejši v slovenskem jeziku, 4GB rama, 32GB vgrajenega spomina; Vgrajen Android računalnik ima pred nameščene aplikacije:\n-\tWhiteboard (digitalna bela površina)\n-\tSpletni brskalnik  \n-\tBrezžično deljenje zaslona mobilnih naprav (pametni telefoni, tablični računalniki, prenosniki) na interaktivni zaslon brez uporabe dodatnih aplikacij\n-\tMožnost vpisa v Android okolje z lastnim računom, ki omogoča uporabniku prilagojene nastavitve, aplikacije in ozadja; Vgrajen računalnik ima možnost nalaganja dodatnih aplikacij iz naložene trgovine z aplikacijami.                                "]
[null,"Vključen stenski nosilec, ki omogoča premikanje in višinsko nastavljivost interaktivnega zaslona navzgor in navzdol (400 mm) z roko (brez potrebe po električni povezavi) na podlagi vzmetnega sistema uravnoteženja."]
[null,"Dim. Interaktivnega zaslona: Š 174,4 cm x V 106,3 cm x G 10,4 cm\nKot npr.: SMART Board MX275 interaktivni zaslon z iQ tehnologijo in SMART Learning Suite programsko opremo\nDim. Višinsko nastavljivega nosilca: Š 55,6 cm x V 59,2 cm x G 8,1 cm  Kot npr.: BalanceBox ® 400 Light"]
[]
[null,"K2- Koš za smeti, npr. kovinski mrežasti","kos",1,null,null,{"$f":"D54*F54","v":0},{"$f":"+F54*MM","v":0},{"$f":"+H54*D54","v":0},{"$f":"+F54-H54","v":0},{"$f":"+J54*D54","v":0}]
[null,"Kovinski mrežasti koš za smeti\nVolumen 18 litrov\nDimenzije: višina 35,5 cm, premer 29,5                                                                                       Barva: črna\nhttps://www.11st-oprema.si/drugo/kosi-za-smeti/kovinski-mrezasti-kos-za-smeti"]
[]
[null,"1. nadstropje - 1. triada - učilnica 5: N1C_05"]
[]
[10,"M8 - Miza za učence","kos",12,null,null,{"$f":"D59*F59","v":0},{"$f":"+F59*MM","v":0},{"$f":"+H59*D59","v":0},{"$f":"+F59-H59","v":0},{"$f":"+J59*D59","v":0}]
[null,"Miza na dveh (2) nogah (T-podnožje), z zaščitnimi čepki prilagojeni za obstoječa tla. Konstrukcija iz ovalnih jeklenih cevi, ki so med seboj vijačene in varjene, prašno barvane v barvi po proizvajalčevi barvni skali. Opcijsko na voljo kavelj za torbo in kovinska polica, plastični pladenj ali nosilec za stol. Iverna mizna plošča (LIGNOpal-PUR), na obeh straneh laminirana z dekorativno folijo, prevlečena z melaminsko smolo, v barvi po proizvajalčevi barvni skali, s trpežnim poliuretanskim robom, ki se zlije z iverno ploščo in ne prepušča vode.\nS pripadajočimi certifikati: Greenguard, BIFMA, GS-Geprüfte Sicherheit, PEFC, LGA, THE GLOBAL COMPACT, DIN ISO 38200\nOBDELAVA;\nPodnožje: arctic \nMizna plošča: white"]
[null,"Dim. 58,6 / 79,7 cm; višina mizne ploskve 59 cm,\nKot npr.: UnoBean, VS Vereinigte Spezialmöbelfabriken\nali popolnoma enakovredno (tehnično in oblikovno)"]
[]
[11,"M9 - Miza za učence","kos",12,null,null,{"$f":"D63*F63","v":0},{"$f":"+F63*MM","v":0},{"$f":"+H63*D63","v":0},{"$f":"+F63-H63","v":0},{"$f":"+J63*D63","v":0}]
[null,"Miza na dveh (2) nogah (T-podnožje), z zaščitnimi čepki prilagojeni za obstoječa tla. Konstrukcija iz ovalnih jeklenih cevi, ki so med seboj vijačene in varjene, prašno barvane v barvi po proizvajalčevi barvni skali. Opcijsko na voljo kavelj za torbo in kovinska polica, plastični pladenj ali nosilec za stol. Iverna mizna plošča (LIGNOpal-PUR), na obeh straneh laminirana z dekorativno folijo, prevlečena z melaminsko smolo, v barvi po proizvajalčevi barvni skali, s trpežnim poliuretanskim robom, ki se zlije z iverno ploščo in ne prepušča vode.\nS pripadajočimi certifikati: Greenguard, BIFMA, GS-Geprüfte Sicherheit, PEFC, LGA, THE GLOBAL COMPACT, DIN ISO 38200\nOBDELAVA;\nPodnožje: arctic \nMizna plošča: white"]
[null,"Dim. 58,6 / 79,7 cm; višina mizne ploskve 64 cm,\nKot npr.: UnoBean, VS Vereinigte Spezialmöbelfabriken\nali popolnoma enakovredno (tehnično in oblikovno)"]
[]
[12,"ST10 - Stol za učence","kos",12,null,null,{"$f":"D67*F67","v":0},{"$f":"+F67*MM","v":0},{"$f":"+H67*D67","v":0},{"$f":"+F67-H67","v":0},{"$f":"+J67*D67","v":0}]
[null,"Stol s polipropilensko školjko na C podnožju.\nPodnožje iz krivljenih jeklenih cevi krožnega prereza, dodatna prečka varjena na podnožje, prašno barvano po proizvajalčevi barvni skali, na zaščitnih čepih za trda tla (filc),\nopremljeno s piggy-back sistemom (nalaganje na mizo),\nSediščna školjka iz polipropilena, (AIR cushion) lita školjka z notranjim praznim prostorom, ergonomsko sedišče v barvi po proizvajalčevi barvni skali, \nErgonomska sediščna školjka iz polipropilena po proizvajalčevi barvni skali - C1, (AIR cushion) lita školjka z notranjim\npraznim prostorom. Školjka ima odprtino v hrbtišču za lažjo manipulacijo. Robovi sediščne školjke so\nzaobljeni. Pritrditev sediščne školjke na podnožje je nevidna.\nS pripadajočimi certifikati: BIFMA, GREENGUARD GOLD, LGA, GS, AGR, CRADLE TO CRADLE, THE GLOBAL COMPACT\nOBDELAVA;\nPodnožje: arctic \nSediščna školjka: light blue"]
[null,"Dim. 33.8 / 37.7 /; višina sedišča 34 cm,\nKot npr.: PantoSwing-Lupo; VS Vereinigte Spezialmöbelfabriken\nali popolnoma enakovredno (tehnično in oblikovno)"]
[]
[13,"ST15 - Stol za učence","kos",12,null,null,{"$f":"D71*F71","v":0},{"$f":"+F71*MM","v":0},{"$f":"+H71*D71","v":0},{"$f":"+F71-H71","v":0},{"$f":"+J71*D71","v":0}]
[null,"Stol s polipropilensko školjko na C podnožju.\nPodnožje iz krivljenih jeklenih cevi krožnega prereza, dodatna prečka varjena na podnožje, prašno barvano po proizvajalčevi barvni skali, na zaščitnih čepih za trda tla (filc),\nopremljeno s piggy-back sistemom (nalaganje na mizo),\nSediščna školjka iz polipropilena, (AIR cushion) lita školjka z notranjim praznim prostorom, ergonomsko sedišče v barvi po proizvajalčevi barvni skali, \nErgonomska sediščna školjka iz polipropilena po proizvajalčevi barvni skali - C1, (AIR cushion) lita školjka z notranjim\npraznim prostorom. Školjka ima odprtino v hrbtišču za lažjo manipulacijo. Robovi sediščne školjke so\nzaobljeni. Pritrditev sediščne školjke na podnožje je nevidna.\nS pripadajočimi certifikati: BIFMA, GREENGUARD GOLD, LGA, GS, AGR, CRADLE TO CRADLE, THE GLOBAL COMPACT\nOBDELAVA;\nPodnožje: arctic \nSediščna školjka: light blue"]
[null,"Dim. 33.8 / 37.7 /; višina sedišča 43 cm,\nKot npr.: PantoSwing-Lupo; VS Vereinigte Spezialmöbelfabriken\nali popolnoma enakovredno (tehnično in oblikovno)"]
[]
[14,"DM - Delovna miza","kos",1,null,null,{"$f":"D75*F75","v":0},{"$f":"+F75*MM","v":0},{"$f":"+H75*D75","v":0},{"$f":"+F75-H75","v":0},{"$f":"+J75*D75","v":0}]
[null,"Pisarniška miza na štirih (4) nogah.\nKonstrukcija iz kovinski profilov, ki so med seboj varjeni in vijačeni, prašno barvani po proizvajalčevi barvni skali, noge na višinsko nastavljivih zaščitnih čepih,\nMizna plošča iz materiala LIGNOpal (iverna plošča je obeh straneh laminirana z dekorativno folijo, prevlečena z melaminsko smolo) v beli barvi, rob mizne plošče v varjenem ABS materialu debeline 2.5mm,\nmizna plošča opremljena z izpusti za elektriko na levi ali desni strani, okrasni kovinski pokrov.\nSpodaj snemljiva rešetka za elektrifikacijo, z držalom za računalnik pod mizo.\nS pripadajočimi certifikati: Greenguard, BIFMA, GS-Geprüfte Sicherheit, PEFC, LGA, THE GLOBAL COMPACT, DIN ISO 38200\nOBDELAVA;\nPodnožje: arctic \nMizna plošča: white"]
[null,"Dim. 180 / 80 cm, višina mizne ploskve 76 cm\nKot npr.: EcoTable-R; VS Vereinigte Spezialmöbelfabriken\nali popolnoma enakovredno (tehnično in oblikovno)"]
[]
[15,"MPR - Mobilni predalnik","kos",1,null,null,{"$f":"D79*F79","v":0},{"$f":"+F79*MM","v":0},{"$f":"+H79*D79","v":0},{"$f":"+F79-H79","v":0},{"$f":"+J79*D79","v":0}]
[null,"Predalnik s štirimi (4) predali na kolesih.\nKonstrukcija - korpus iz materiala LINGOpal v barvi po proizvajalčevi barvni skali, robovi z varjenim ABS robom 1.5mm,\nPodnožje kolesa za trda tla,\nVrata iz materiala LINGOpal v barvi po proizvajalčevi barvni skali, robovi z varjenim ABS robom 1.5mm, \nSistem predalov proti prevrnitvi  (ORGA drawer - odprt je lahko le en predal hkrati),\nRazporeditev predalov; 1.5 + 2 + 2 + 4 HU, \nPredali opremljeni s cilindrično ključavnico, vsak predal ima kovinski ročaj, finalna obdelava nikelj,\nS pripadajočimi certifikati (...)\nOBDELAVA;\nKonstrukcija: white\nVrata - fronte: white"]
[null,"Dim.43 / 80 / 55cm; \nKot npr.: OfficeBox; VS Vereinigte Spezialmöbelfabriken\nali popolnoma enakovredno (tehnično in oblikovno)"]
[]
[16,"ST1 - Stol za zaposlene","kos",1,null,null,{"$f":"D83*F83","v":0},{"$f":"+F83*MM","v":0},{"$f":"+H83*D83","v":0},{"$f":"+F83-H83","v":0},{"$f":"+J83*D83","v":0}]
[null,"Dvižni vrtiljak za učitelje s polipropilensko školjko.\nPet (5) krako zvezda aluminijasto podnožje, prašno barvano po proizvajalčevi barvni skali, na kolesih za trda tla.\nSediščna školjka iz polipropilena, (AIR cushion) lita školjka z notranjim praznim prostorom, ergonomsko sedišče opremljeno s 3D gibljivim mehanizmom pod sediščem (aktivno sedenje) , \nS pripadajočimi certifikati: BIFMA, GREENGUARD GOLD, LGA, GS, AGR, THE GLOBAL COMPACT\nOBDELAVA;\nPodnožje: arctic \nSediščna školjka: green"]
[null,"Dim. 46 / 50 cm; višina sedišča 42,4 - 55,2 cm,\nKot npr.: PantoMove-LuPo; VS Vereinigte Spezialmöbelfabriken\nali popolnoma enakovredno (tehnično in oblikovno)"]
[]
[17,"VIO4 - Visoka omara","kos",2,null,null,{"$f":"D87*F87","v":0},{"$f":"+F87*MM","v":0},{"$f":"+H87*D87","v":0},{"$f":"+F87-H87","v":0},{"$f":"+J87*D87","v":0}]
[null,"Visoka omara z dvojnimi (2) vrati zgoraj in dvojnimi (2) vrati spodaj (v notranjosti s premičnimi policami) in ključavnico.\nKonstrukcija - korpus iz materiala LIGNOpal (iverna plošča je obeh straneh laminirana z dekorativno folijo, prevlečena z melaminsko smolo) v barvi po proizvajalčevi barvni skali, robovi z varjenim ABS robom 1.5mm,\nPodnožje iz materiala LINGOpal v barvi po proizvajalčevi barvni skali, robovi z varjenim ABS robom 1.5mm,\nVrata iz materiala LINGOpal v barvi po proizvajalčevi barvni skali, robovi z varjenim ABS robom 1.5mm, odmična spona 270°,\nVrata opremljena s cilindrično ključavnico, kovinski ročaj, finalna obdelava nikelj,\nS pripadajočimi certifikati: Greenguard, BIFMA, GS-Geprüfte Sicherheit, PEFC, LGA, THE GLOBAL COMPACT, DIN ISO 38200\nOBDELAVA;\nKonstrukcija: white\nPodnožje:  white\nVrata - fronte: white"]
[null,"Dim. 100 / 42,5/ 197 cm,\nKot npr.: Serie 800 Cabinet; VS Vereinigte Spezialmöbelfabriken\nali popolnoma enakovredno (tehnično in oblikovno)"]
[]
[18,"VIO5 - Visoka omara s predali","kos",3,null,null,{"$f":"D91*F91","v":0},{"$f":"+F91*MM","v":0},{"$f":"+H91*D91","v":0},{"$f":"+F91-H91","v":0},{"$f":"+J91*D91","v":0}]
[null,"Visoka omara z dvojnimi (2) vrati zgoraj s ključavnico (v notranjosti s premičnimi policami in desetimi (10) predali spodaj.\nKonstrukcija - korpus iz materiala LIGNOpal (iverna plošča je obeh straneh laminirana z dekorativno folijo, prevlečena z melaminsko smolo) v barvi po proizvajalčevi barvni skali, robovi z varjenim ABS robom 1.5mm,\nPodnožje iz materiala LINGOpal v barvi po proizvajalčevi barvni skali, robovi z varjenim ABS robom 1.5mm,\nVrata iz materiala LINGOpal v barvi po proizvajalčevi barvni skali, robovi z varjenim ABS robom 1.5mm, odmična spona 270°,\nVrata opremljena s cilindrično ključavnico, kovinski ročaj, finalna obdelava nikelj.\nSistem predalov proti prevrnitvi  (ORGA drawer - odprt je lahko le en predal hkrati).\nPredali opremljeni s cilindrično ključavnico, vsak predal ima kovinski ročaj, finalna obdelava nikelj.\nS pripadajočimi certifikati: Greenguard, BIFMA, GS-Geprüfte Sicherheit, PEFC, LGA, THE GLOBAL COMPACT, DIN ISO 38200\nOBDELAVA;\nKonstrukcija: white\nPodnožje:  white\nVrata - fronte: white"]
[null,"Dim. 100 / 42,5/ 197 cm,\nKot npr.: Serie 800 Cabinet; VS Vereinigte Spezialmöbelfabriken\nali popolnoma enakovredno (tehnično in oblikovno)"]
[]
[null,"INZ1 - Interaktivni zaslon na višinsko nastavljivem nosilcu","kos",1,null,null,{"$f":"D95*F95","v":0},{"$f":"+F95*MM","v":0},{"$f":"+H95*D95","v":0},{"$f":"+F95-H95","v":0},{"$f":"+J95*D95","v":0}]
[null,"Diagonala zaslona: 75\" ; Ločljivost: 3840x2160  (4K UHD), Tehnologija dotika: HyPr Touch™ z naprednim IR s podporo za Win10 in macOS; Minimalno 20 hkratnih točk dotika; Svetilnost: : ≥ 350 cd/m²; Vidni kot: 178° 2 x 15W zvočnika na sprednji strani zaslona; Vključena programska oprema: SMART Learning Suite; Poraba električne energije v normalnem načinu delovanja: maksimalno 150W;  Vgrajen računalnik: OS Android verzija 8 ali novejši v slovenskem jeziku, 4GB rama, 32GB vgrajenega spomina; Vgrajen Android računalnik ima pred nameščene aplikacije:\n-\tWhiteboard (digitalna bela površina)\n-\tSpletni brskalnik  \n-\tBrezžično deljenje zaslona mobilnih naprav (pametni telefoni, tablični računalniki, prenosniki) na interaktivni zaslon brez uporabe dodatnih aplikacij\n-\tMožnost vpisa v Android okolje z lastnim računom, ki omogoča uporabniku prilagojene nastavitve, aplikacije in ozadja; Vgrajen računalnik ima možnost nalaganja dodatnih aplikacij iz naložene trgovine z aplikacijami.                                "]
[null,"Vključen stenski nosilec, ki omogoča premikanje in višinsko nastavljivost interaktivnega zaslona navzgor in navzdol (400 mm) z roko (brez potrebe po električni povezavi) na podlagi vzmetnega sistema uravnoteženja."]
[null,"Dim. Interaktivnega zaslona: Š 174,4 cm x V 106,3 cm x G 10,4 cm\nKot npr.: SMART Board MX275 interaktivni zaslon z iQ tehnologijo in SMART Learning Suite programsko opremo\nDim. Višinsko nastavljivega nosilca: Š 55,6 cm x V 59,2 cm x G 8,1 cm  Kot npr.: BalanceBox ® 400 Light"]
[]
[null,"K2- Koš za smeti, npr. kovinski mrežasti"]
[null,"Kovinski mrežasti koš za smeti\nVolumen 18 litrov\nDimenzije: višina 35,5 cm, premer 29,5                                                                                           Barva: črna\nhttps://www.11st-oprema.si/drugo/kosi-za-smeti/kovinski-mrezasti-kos-za-smeti"]
[]
[null,"2. nadstropje - 1. triada - učilnica 6: N2C_06"]
[]
[19,"M8 - Miza za učence","kos",12,null,null,{"$f":"D105*F105","v":0},{"$f":"+F105*MM","v":0},{"$f":"+H105*D105","v":0},{"$f":"+F105-H105","v":0},{"$f":"+J105*D105","v":0}]
[null,"Miza na dveh (2) nogah (T-podnožje), z zaščitnimi čepki prilagojeni za obstoječa tla. Konstrukcija iz ovalnih jeklenih cevi, ki so med seboj vijačene in varjene, prašno barvane v barvi po proizvajalčevi barvni skali. Opcijsko na voljo kavelj za torbo in kovinska polica, plastični pladenj ali nosilec za stol. Iverna mizna plošča (LIGNOpal-PUR), na obeh straneh laminirana z dekorativno folijo, prevlečena z melaminsko smolo, v barvi po proizvajalčevi barvni skali, s trpežnim poliuretanskim robom, ki se zlije z iverno ploščo in ne prepušča vode.\nS pripadajočimi certifikati: Greenguard, BIFMA, GS-Geprüfte Sicherheit, PEFC, LGA, THE GLOBAL COMPACT, DIN ISO 38200\nOBDELAVA;\nPodnožje: arctic \nMizna plošča: white"]
[null,"Dim. 58,6 / 79,7 cm; višina mizne ploskve 59 cm,\nKot npr.: UnoBean, VS Vereinigte Spezialmöbelfabriken\nali popolnoma enakovredno (tehnično in oblikovno)"]
[]
[20,"M9 - Miza za učence","kos",12,null,null,{"$f":"D109*F109","v":0},{"$f":"+F109*MM","v":0},{"$f":"+H109*D109","v":0},{"$f":"+F109-H109","v":0},{"$f":"+J109*D109","v":0}]
[null,"Miza na dveh (2) nogah (T-podnožje), z zaščitnimi čepki prilagojeni za obstoječa tla. Konstrukcija iz ovalnih jeklenih cevi, ki so med seboj vijačene in varjene, prašno barvane v barvi po proizvajalčevi barvni skali. Opcijsko na voljo kavelj za torbo in kovinska polica, plastični pladenj ali nosilec za stol. Iverna mizna plošča (LIGNOpal-PUR), na obeh straneh laminirana z dekorativno folijo, prevlečena z melaminsko smolo, v barvi po proizvajalčevi barvni skali, s trpežnim poliuretanskim robom, ki se zlije z iverno ploščo in ne prepušča vode.\nS pripadajočimi certifikati: Greenguard, BIFMA, GS-Geprüfte Sicherheit, PEFC, LGA, THE GLOBAL COMPACT, DIN ISO 38200\nOBDELAVA;\nPodnožje: arctic \nMizna plošča: white"]
[null,"Dim. 58,6 / 79,7 cm; višina mizne ploskve 64 cm,\nKot npr.: UnoBean, VS Vereinigte Spezialmöbelfabriken\nali popolnoma enakovredno (tehnično in oblikovno)"]
[]
[21,"ST10 - Stol za učence","kos",12,null,null,{"$f":"D113*F113","v":0},{"$f":"+F113*MM","v":0},{"$f":"+H113*D113","v":0},{"$f":"+F113-H113","v":0},{"$f":"+J113*D113","v":0}]
[null,"Stol s polipropilensko školjko na C podnožju.\nPodnožje iz krivljenih jeklenih cevi krožnega prereza, dodatna prečka varjena na podnožje, prašno barvano po proizvajalčevi barvni skali, na zaščitnih čepih za trda tla (filc),\nopremljeno s piggy-back sistemom (nalaganje na mizo),\nSediščna školjka iz polipropilena, (AIR cushion) lita školjka z notranjim praznim prostorom, ergonomsko sedišče v barvi po proizvajalčevi barvni skali, \nErgonomska sediščna školjka iz polipropilena po proizvajalčevi barvni skali - C1, (AIR cushion) lita školjka z notranjim\npraznim prostorom. Školjka ima odprtino v hrbtišču za lažjo manipulacijo. Robovi sediščne školjke so\nzaobljeni. Pritrditev sediščne školjke na podnožje je nevidna.\nS pripadajočimi certifikati: BIFMA, GREENGUARD GOLD, LGA, GS, AGR, CRADLE TO CRADLE, THE GLOBAL COMPACT\nOBDELAVA;\nPodnožje: arctic \nSediščna školjka: light blue"]
[null,"Dim. 33.8 / 37.7 /; višina sedišča 38 cm,\nKot npr.: PantoSwing-Lupo; VS Vereinigte Spezialmöbelfabriken\nali popolnoma enakovredno (tehnično in oblikovno)"]
[]
[22,"ST15 - Stol za učence","kos",12,null,null,{"$f":"D117*F117","v":0},{"$f":"+F117*MM","v":0},{"$f":"+H117*D117","v":0},{"$f":"+F117-H117","v":0},{"$f":"+J117*D117","v":0}]
[null,"Stol s polipropilensko školjko na C podnožju.\nPodnožje iz krivljenih jeklenih cevi krožnega prereza, dodatna prečka varjena na podnožje, prašno barvano po proizvajalčevi barvni skali, na zaščitnih čepih za trda tla (filc),\nopremljeno s piggy-back sistemom (nalaganje na mizo),\nSediščna školjka iz polipropilena, (AIR cushion) lita školjka z notranjim praznim prostorom, ergonomsko sedišče v barvi po proizvajalčevi barvni skali, \nErgonomska sediščna školjka iz polipropilena po proizvajalčevi barvni skali - C1, (AIR cushion) lita školjka z notranjim\npraznim prostorom. Školjka ima odprtino v hrbtišču za lažjo manipulacijo. Robovi sediščne školjke so\nzaobljeni. Pritrditev sediščne školjke na podnožje je nevidna.\nS pripadajočimi certifikati: BIFMA, GREENGUARD GOLD, LGA, GS, AGR, CRADLE TO CRADLE, THE GLOBAL COMPACT\nOBDELAVA;\nPodnožje: arctic \nSediščna školjka: light blue"]
[null,"Dim. 33.8 / 37.7 /; višina sedišča 43 cm,\nKot npr.: PantoSwing-Lupo; VS Vereinigte Spezialmöbelfabriken\nali popolnoma enakovredno (tehnično in oblikovno)"]
[]
[23,"DM - Delovna miza","kos",1,null,null,{"$f":"D121*F121","v":0},{"$f":"+F121*MM","v":0},{"$f":"+H121*D121","v":0},{"$f":"+F121-H121","v":0},{"$f":"+J121*D121","v":0}]
[null,"Pisarniška miza na štirih (4) nogah.\nKonstrukcija iz kovinski profilov, ki so med seboj varjeni in vijačeni, prašno barvani po proizvajalčevi barvni skali, noge na višinsko nastavljivih zaščitnih čepih,\nMizna plošča iz materiala LIGNOpal (iverna plošča je obeh straneh laminirana z dekorativno folijo, prevlečena z melaminsko smolo) v beli barvi, rob mizne plošče v varjenem ABS materialu debeline 2.5mm,\nmizna plošča opremljena z izpusti za elektriko na levi ali desni strani, okrasni kovinski pokrov.\nSpodaj snemljiva rešetka za elektrifikacijo, z držalom za računalnik pod mizo.\nS pripadajočimi certifikati: Greenguard, BIFMA, GS-Geprüfte Sicherheit, PEFC, LGA, THE GLOBAL COMPACT, DIN ISO 38200\nOBDELAVA;\nPodnožje: arctic \nMizna plošča: white"]
[null,"Dim. 180 / 80 cm, višina mizne ploskve 76 cm\nKot npr.: EcoTable-R; VS Vereinigte Spezialmöbelfabriken\nali popolnoma enakovredno (tehnično in oblikovno)"]
[]
[24,"MPR - Mobilni predalnik","kos",1,null,null,{"$f":"D125*F125","v":0},{"$f":"+F125*MM","v":0},{"$f":"+H125*D125","v":0},{"$f":"+F125-H125","v":0},{"$f":"+J125*D125","v":0}]
[null,"Predalnik s štirimi (4) predali na kolesih.\nKonstrukcija - korpus iz materiala LINGOpal v barvi po proizvajalčevi barvni skali, robovi z varjenim ABS robom 1.5mm,\nPodnožje kolesa za trda tla,\nVrata iz materiala LINGOpal v barvi po proizvajalčevi barvni skali, robovi z varjenim ABS robom 1.5mm, \nSistem predalov proti prevrnitvi  (ORGA drawer - odprt je lahko le en predal hkrati),\nRazporeditev predalov; 1.5 + 2 + 2 + 4 HU, \nPredali opremljeni s cilindrično ključavnico, vsak predal ima kovinski ročaj, finalna obdelava nikelj,\nS pripadajočimi certifikati (...)\nOBDELAVA;\nKonstrukcija: white\nVrata - fronte: white"]
[null,"Dim.43 / 80 / 55cm; \nKot npr.: OfficeBox; VS Vereinigte Spezialmöbelfabriken\nali popolnoma enakovredno (tehnično in oblikovno)"]
[]
[25,"ST1 - Stol za zaposlene","kos",1,null,null,{"$f":"D129*F129","v":0},{"$f":"+F129*MM","v":0},{"$f":"+H129*D129","v":0},{"$f":"+F129-H129","v":0},{"$f":"+J129*D129","v":0}]
[null,"Dvižni vrtiljak za učitelje s polipropilensko školjko.\nPet (5) krako zvezda aluminijasto podnožje, prašno barvano po proizvajalčevi barvni skali, na kolesih za trda tla.\nSediščna školjka iz polipropilena, (AIR cushion) lita školjka z notranjim praznim prostorom, ergonomsko sedišče opremljeno s 3D gibljivim mehanizmom pod sediščem (aktivno sedenje) , \nS pripadajočimi certifikati: BIFMA, GREENGUARD GOLD, LGA, GS, AGR, THE GLOBAL COMPACT\nOBDELAVA;\nPodnožje: arctic \nSediščna školjka: green"]
[null,"Dim. 46 / 50 cm; višina sedišča 42,4 - 55,2 cm,\nKot npr.: PantoMove-LuPo; VS Vereinigte Spezialmöbelfabriken\nali popolnoma enakovredno (tehnično in oblikovno)"]
[]
[26,"VIO4 - Visoka omara","kos",2,null,null,{"$f":"D133*F133","v":0},{"$f":"+F133*MM","v":0},{"$f":"+H133*D133","v":0},{"$f":"+F133-H133","v":0},{"$f":"+J133*D133","v":0}]
[null,"Visoka omara z dvojnimi (2) vrati zgoraj in dvojnimi (2) vrati spodaj (v notranjosti s premičnimi policami) in ključavnico.\nKonstrukcija - korpus iz materiala LIGNOpal (iverna plošča je obeh straneh laminirana z dekorativno folijo, prevlečena z melaminsko smolo) v barvi po proizvajalčevi barvni skali, robovi z varjenim ABS robom 1.5mm,\nPodnožje iz materiala LINGOpal v barvi po proizvajalčevi barvni skali, robovi z varjenim ABS robom 1.5mm,\nVrata iz materiala LINGOpal v barvi po proizvajalčevi barvni skali, robovi z varjenim ABS robom 1.5mm, odmična spona 270°,\nVrata opremljena s cilindrično ključavnico, kovinski ročaj, finalna obdelava nikelj,\nS pripadajočimi certifikati: Greenguard, BIFMA, GS-Geprüfte Sicherheit, PEFC, LGA, THE GLOBAL COMPACT, DIN ISO 38200\nOBDELAVA;\nKonstrukcija: white\nPodnožje:  white\nVrata - fronte: white"]
[null,"Dim. 100 / 42,5/ 197 cm,\nKot npr.: Serie 800 Cabinet; VS Vereinigte Spezialmöbelfabriken\nali popolnoma enakovredno (tehnično in oblikovno)"]
[]
[27,"VIO5 - Visoka omara s predali","kos",3,null,null,{"$f":"D137*F137","v":0},{"$f":"+F137*MM","v":0},{"$f":"+H137*D137","v":0},{"$f":"+F137-H137","v":0},{"$f":"+J137*D137","v":0}]
[null,"Visoka omara z dvojnimi (2) vrati zgoraj s ključavnico (v notranjosti s premičnimi policami in desetimi (10) predali spodaj.\nKonstrukcija - korpus iz materiala LIGNOpal (iverna plošča je obeh straneh laminirana z dekorativno folijo, prevlečena z melaminsko smolo) v barvi po proizvajalčevi barvni skali, robovi z varjenim ABS robom 1.5mm,\nPodnožje iz materiala LINGOpal v barvi po proizvajalčevi barvni skali, robovi z varjenim ABS robom 1.5mm,\nVrata iz materiala LINGOpal v barvi po proizvajalčevi barvni skali, robovi z varjenim ABS robom 1.5mm, odmična spona 270°,\nVrata opremljena s cilindrično ključavnico, kovinski ročaj, finalna obdelava nikelj.\nSistem predalov proti prevrnitvi  (ORGA drawer - odprt je lahko le en predal hkrati).\nPredali opremljeni s cilindrično ključavnico, vsak predal ima kovinski ročaj, finalna obdelava nikelj.\nS pripadajočimi certifikati: Greenguard, BIFMA, GS-Geprüfte Sicherheit, PEFC, LGA, THE GLOBAL COMPACT, DIN ISO 38200\nOBDELAVA;\nKonstrukcija: white\nPodnožje:  white\nVrata - fronte: white"]
[null,"Dim. 100 / 42,5/ 197 cm,\nKot npr.: Serie 800 Cabinet; VS Vereinigte Spezialmöbelfabriken\nali popolnoma enakovredno (tehnično in oblikovno)"]
[]
[null,"INZ1 - Interaktivni zaslon na višinsko nastavljivem nosilcu","kos",1,null,null,{"$f":"D141*F141","v":0},{"$f":"+F141*MM","v":0},{"$f":"+H141*D141","v":0},{"$f":"+F141-H141","v":0},{"$f":"+J141*D141","v":0}]
[null,"Diagonala zaslona: 75\" ; Ločljivost: 3840x2160  (4K UHD), Tehnologija dotika: HyPr Touch™ z naprednim IR s podporo za Win10 in macOS; Minimalno 20 hkratnih točk dotika; Svetilnost: : ≥ 350 cd/m²; Vidni kot: 178° 2 x 15W zvočnika na sprednji strani zaslona; Vključena programska oprema: SMART Learning Suite; Poraba električne energije v normalnem načinu delovanja: maksimalno 150W;  Vgrajen računalnik: OS Android verzija 8 ali novejši v slovenskem jeziku, 4GB rama, 32GB vgrajenega spomina; Vgrajen Android računalnik ima pred nameščene aplikacije:\n-\tWhiteboard (digitalna bela površina)\n-\tSpletni brskalnik  \n-\tBrezžično deljenje zaslona mobilnih naprav (pametni telefoni, tablični računalniki, prenosniki) na interaktivni zaslon brez uporabe dodatnih aplikacij\n-\tMožnost vpisa v Android okolje z lastnim računom, ki omogoča uporabniku prilagojene nastavitve, aplikacije in ozadja; Vgrajen računalnik ima možnost nalaganja dodatnih aplikacij iz naložene trgovine z aplikacijami.                                "]
[null,"Vključen stenski nosilec, ki omogoča premikanje in višinsko nastavljivost interaktivnega zaslona navzgor in navzdol (400 mm) z roko (brez potrebe po električni povezavi) na podlagi vzmetnega sistema uravnoteženja."]
[null,"Dim. Interaktivnega zaslona: Š 174,4 cm x V 106,3 cm x G 10,4 cm\nKot npr.: SMART Board MX275 interaktivni zaslon z iQ tehnologijo in SMART Learning Suite programsko opremo\nDim. Višinsko nastavljivega nosilca: Š 55,6 cm x V 59,2 cm x G 8,1 cm  Kot npr.: BalanceBox ® 400 Light"]
[]
[null,"K2- Koš za smeti, npr. kovinski mrežasti","kos",1,null,null,{"$f":"D146*F146","v":0},{"$f":"+F146*MM","v":0},{"$f":"+H146*D146","v":0},{"$f":"+F146-H146","v":0},{"$f":"+J146*D146","v":0}]
[null,"Kovinski mrežasti koš za smeti\nVolumen 18 litrov\nDimenzije: višina 35,5 cm, premer 29,5                                                                                           Barva: črna\nhttps://www.11st-oprema.si/drugo/kosi-za-smeti/kovinski-mrezasti-kos-za-smeti"]
[]
[null,"2. nadstropje - Kabinet: N2C_07"]
[]
[28,"DM - Delovna miza","kos",2,null,null,{"$f":"D151*F151","v":0},{"$f":"+F151*MM","v":0},{"$f":"+H151*D151","v":0},{"$f":"+F151-H151","v":0},{"$f":"+J151*D151","v":0}]
[null,"Pisarniška miza na štirih (4) nogah.\nKonstrukcija iz kovinski profilov, ki so med seboj varjeni in vijačeni, prašno barvani po proizvajalčevi barvni skali, noge na višinsko nastavljivih zaščitnih čepih,\nMizna plošča iz materiala LIGNOpal (iverna plošča je obeh straneh laminirana z dekorativno folijo, prevlečena z melaminsko smolo) v beli barvi, rob mizne plošče v varjenem ABS materialu debeline 2.5mm,\nmizna plošča opremljena z izpusti za elektriko na levi ali desni strani, okrasni kovinski pokrov.\nSpodaj snemljiva rešetka za elektrifikacijo, z držalom za računalnik pod mizo.\nS pripadajočimi certifikati: Greenguard, BIFMA, GS-Geprüfte Sicherheit, PEFC, LGA, THE GLOBAL COMPACT, DIN ISO 38200\nOBDELAVA;\nPodnožje: arctic \nMizna plošča: white"]
[null,"Dim. 180 / 80 cm, višina mizne ploskve 76 cm\nKot npr.: EcoTable-R; VS Vereinigte Spezialmöbelfabriken\nali popolnoma enakovredno (tehnično in oblikovno)"]
[]
[29,"MPR - Mobilni predalnik","kos",2,null,null,{"$f":"D155*F155","v":0},{"$f":"+F155*MM","v":0},{"$f":"+H155*D155","v":0},{"$f":"+F155-H155","v":0},{"$f":"+J155*D155","v":0}]
[null,"Predalnik s štirimi (4) predali na kolesih.\nKonstrukcija - korpus iz materiala LINGOpal v barvi po proizvajalčevi barvni skali, robovi z varjenim ABS robom 1.5mm,\nPodnožje kolesa za trda tla,\nVrata iz materiala LINGOpal v barvi po proizvajalčevi barvni skali, robovi z varjenim ABS robom 1.5mm, \nSistem predalov proti prevrnitvi  (ORGA drawer - odprt je lahko le en predal hkrati),\nRazporeditev predalov; 1.5 + 2 + 2 + 4 HU, \nPredali opremljeni s cilindrično ključavnico, vsak predal ima kovinski ročaj, finalna obdelava nikelj,\nS pripadajočimi certifikati: Greenguard, BIFMA, GS-Geprüfte Sicherheit, PEFC, LGA, THE GLOBAL COMPACT, DIN ISO 38200\nOBDELAVA;\nKonstrukcija: white\nVrata - fronte: white"]
[null,"Dim.43 / 80 / 55cm; \nKot npr.: OfficeBox; VS Vereinigte Spezialmöbelfabriken\nali popolnoma enakovredno (tehnično in oblikovno)"]
[]
[30,"ST1 - Stol za zaposlene","kos",2,null,null,{"$f":"D159*F159","v":0},{"$f":"+F159*MM","v":0},{"$f":"+H159*D159","v":0},{"$f":"+F159-H159","v":0},{"$f":"+J159*D159","v":0}]
[null,"Dvižni vrtiljak za učitelje s polipropilensko školjko.\nPet (5) krako zvezda aluminijasto podnožje, prašno barvano po proizvajalčevi barvni skali, na kolesih za trda tla.\nSediščna školjka iz polipropilena, (AIR cushion) lita školjka z notranjim praznim prostorom, ergonomsko sedišče opremljeno s 3D gibljivim mehanizmom pod sediščem (aktivno sedenje) , \nS pripadajočimi certifikati: BIFMA, GREENGUARD GOLD, LGA, GS, AGR, THE GLOBAL COMPACT\nOBDELAVA;\nPodnožje: arctic \nSediščna školjka: green"]
[null,"Dim. 46 / 50 cm; višina sedišča 42,4 - 55,2 cm,\nKot npr.: PantoMove-LuPo; VS Vereinigte Spezialmöbelfabriken\nali popolnoma enakovredno (tehnično in oblikovno)"]
[]
[31,"VIO3 - Visoka omara","kos",3,null,null,{"$f":"D163*F163","v":0},{"$f":"+F163*MM","v":0},{"$f":"+H163*D163","v":0},{"$f":"+F163-H163","v":0},{"$f":"+J163*D163","v":0}]
[null,"Visoka omara z dvojnimi (2) vrati zgoraj in dvojnimi (2) vrati spodaj (v notranjosti s premičnimi policami) in ključavnico,\nKonstrukcija - korpus iz materiala LIGNOpal (iverna plošča je obeh straneh laminirana z dekorativno folijo, prevlečena z melaminsko smolo) v barvi po proizvajalčevi barvni skali, robovi z varjenim ABS robom 1.5mm,\nPodnožje iz materiala LINGOpal v barvi po proizvajalčevi barvni skali, robovi z varjenim ABS robom 1.5mm,\nVrata iz materiala LINGOpal v barvi po proizvajalčevi barvni skali, robovi z varjenim ABS robom 1.5mm, odmična spona 270°,\nVrata opremljena s cilindrično ključavnico, kovinski ročaj, finalna obdelava nikelj,\nS pripadajočimi certifikati: Greenguard, BIFMA, GS-Geprüfte Sicherheit, PEFC, LGA, THE GLOBAL COMPACT, DIN ISO 38200\nOBDELAVA;\nKonstrukcija: white\nPodnožje:  white\nVrata - fronte: white"]
[null,"Dim. 100 / 42,5/ 197 cm,\nKot npr.: Serie 800 Cabinet; VS Vereinigte Spezialmöbelfabriken\nali popolnoma enakovredno (tehnično in oblikovno)"]
[]
[32,"NIO2 - Nizka omara","kos",1,null,null,{"$f":"D167*F167","v":0},{"$f":"+F167*MM","v":0},{"$f":"+H167*D167","v":0},{"$f":"+F167-H167","v":0},{"$f":"+J167*D167","v":0}]
[null,"Nizka omara dvojnimi (2) vrati, v notranjosti s premičnimi policami in ključavnico. Konstrukcija - korpus iz materiala LIGNOpal (iverna plošča je obeh straneh laminirana z dekorativno folijo, prevlečena z melaminsko smolo) v barvi po proizvajalčevi barvni skali, robovi z varjenim ABS robom 1.5mm,\nPodnožje iz materiala LINGOpal v barvi po proizvajalčevi barvni skali, robovi z varjenim ABS robom 1.5mm,\nVrata iz materiala LINGOpal v barvi po proizvajalčevi barvni skali, robovi z varjenim ABS robom 1.5mm, odmična spona 270°,\nVrata opremljena s cilindrično ključavnico, kovinski ročaj, finalna obdelava nikelj,\nS pripadajočimi certifikati: Greenguard, BIFMA, GS-Geprüfte Sicherheit, PEFC, LGA, THE GLOBAL COMPACT, DIN ISO 38200\nOBDELAVA;\nKonstrukcija: white\nPodnožje: white\nVrata - fronte: white"]
[null,"Dim. 100 / 42,5/ 84,5 cm,\nKot npr.: Serie 800 Cabinet; VS Vereinigte Spezialmöbelfabriken\nali popolnoma enakovredno (tehnično in oblikovno)"]
[]
[33,"NIO3 - Nizka omara","kos",1,null,null,{"$f":"D171*F171","v":0},{"$f":"+F171*MM","v":0},{"$f":"+H171*D171","v":0},{"$f":"+F171-H171","v":0},{"$f":"+J171*D171","v":0}]
[null,"Nizka omara dvojnimi (2) vrati, v notranjosti s premičnimi policami in ključavnico. Konstrukcija - korpus iz materiala LIGNOpal (iverna plošča je obeh straneh laminirana z dekorativno folijo, prevlečena z melaminsko smolo) v barvi po proizvajalčevi barvni skali, robovi z varjenim ABS robom 1.5mm,\nPodnožje iz materiala LINGOpal v barvi po proizvajalčevi barvni skali, robovi z varjenim ABS robom 1.5mm,\nVrata iz materiala LINGOpal v barvi po proizvajalčevi barvni skali, robovi z varjenim ABS robom 1.5mm, odmična spona 270°,\nVrata opremljena s cilindrično ključavnico, kovinski ročaj, finalna obdelava nikelj,\nS pripadajočimi certifikati: Greenguard, BIFMA, GS-Geprüfte Sicherheit, PEFC, LGA, THE GLOBAL COMPACT, DIN ISO 38200\nOBDELAVA;\nKonstrukcija: white\nPodnožje: white\nVrata - fronte: white"]
[null,"Dim. 50/ 42,5/ 84,5 cm,\nKot npr.: Serie 800 Cabinet; VS Vereinigte Spezialmöbelfabriken\nali popolnoma enakovredno (tehnično in oblikovno)"]
[]
[null,"K2- Koš za smeti, npr. kovinski mrežasti","kos",2,null,null,{"$f":"D175*F175","v":0},{"$f":"+F175*MM","v":0},{"$f":"+H175*D175","v":0},{"$f":"+F175-H175","v":0},{"$f":"+J175*D175","v":0}]
[null,"Kovinski mrežasti koš za smeti\nVolumen 18 litrov\nDimenzije: višina 35,5 cm, premer 29,5                                                                                           Barva: črna\nhttps://www.11st-oprema.si/drugo/kosi-za-smeti/kovinski-mrezasti-kos-za-smeti"]
[]
[null,"O1- obešalnik, npr.GENT RUSKO","kos",1,null,null,{"$f":"D178*F178","v":0},{"$f":"+F178*MM","v":0},{"$f":"+H178*D178","v":0},{"$f":"+F178-H178","v":0},{"$f":"+J178*D178","v":0}]
[null,"kovinski obešalnik  v beli barvi\ndimenzije: 46 x 46 x 170 cm\nmaterial: kovina, les\nbarva: bela                                                                                                        https://www.shoppster.com/sl-SI/p/0695800/obesalniki-in-stojala/gent-obesalnik-rusko-bel"]
[]
[null,"2. nadstropje - Prostor za individualno pomoč: N2C_08"]
[]
[33,"DM - Delovna miza","kos",1,null,null,{"$f":"D183*F183","v":0},{"$f":"+F183*MM","v":0},{"$f":"+H183*D183","v":0},{"$f":"+F183-H183","v":0},{"$f":"+J183*D183","v":0}]
[null,"Pisarniška miza na štirih (4) nogah.\nKonstrukcija iz kovinski profilov, ki so med seboj varjeni in vijačeni, prašno barvani po proizvajalčevi barvni skali, noge na višinsko nastavljivih zaščitnih čepih,\nMizna plošča iz materiala LIGNOpal (iverna plošča je obeh straneh laminirana z dekorativno folijo, prevlečena z melaminsko smolo) v beli barvi, rob mizne plošče v varjenem ABS materialu debeline 2.5mm,\nmizna plošča opremljena z izpusti za elektriko na levi ali desni strani, okrasni kovinski pokrov.\nSpodaj snemljiva rešetka za elektrifikacijo, z držalom za računalnik pod mizo.\nS pripadajočimi certifikati: Greenguard, BIFMA, GS-Geprüfte Sicherheit, PEFC, LGA, THE GLOBAL COMPACT, DIN ISO 38200\nOBDELAVA;\nPodnožje: arctic \nMizna plošča: white"]
[null,"Dim. 180 / 80 cm, višina mizne ploskve 76 cm\nKot npr.: EcoTable-R; VS Vereinigte Spezialmöbelfabriken\nali popolnoma enakovredno (tehnično in oblikovno)"]
[]
[34,"MPR - Mobilni predalnik","kos",1,null,null,{"$f":"D187*F187","v":0},{"$f":"+F187*MM","v":0},{"$f":"+H187*D187","v":0},{"$f":"+F187-H187","v":0},{"$f":"+J187*D187","v":0}]
[null,"Predalnik s štirimi (4) predali na kolesih.\nKonstrukcija - korpus iz materiala LINGOpal v barvi po proizvajalčevi barvni skali, robovi z varjenim ABS robom 1.5mm,\nPodnožje kolesa za trda tla,\nVrata iz materiala LINGOpal v barvi po proizvajalčevi barvni skali, robovi z varjenim ABS robom 1.5mm, \nSistem predalov proti prevrnitvi  (ORGA drawer - odprt je lahko le en predal hkrati),\nRazporeditev predalov; 1.5 + 2 + 2 + 4 HU, \nPredali opremljeni s cilindrično ključavnico, vsak predal ima kovinski ročaj, finalna obdelava nikelj,\nS pripadajočimi certifikati: Greenguard, BIFMA, GS-Geprüfte Sicherheit, PEFC, LGA, THE GLOBAL COMPACT, DIN ISO 38200\nOBDELAVA;\nKonstrukcija: white\nVrata - fronte: white"]
[null,"Dim.43 / 80 / 55cm; \nKot npr.: OfficeBox; VS Vereinigte Spezialmöbelfabriken\nali popolnoma enakovredno (tehnično in oblikovno)"]
[]
[35,"ST1 - Stol za zaposlene","kos",1,null,null,{"$f":"D191*F191","v":0},{"$f":"+F191*MM","v":0},{"$f":"+H191*D191","v":0},{"$f":"+F191-H191","v":0},{"$f":"+J191*D191","v":0}]
[null,"Dvižni vrtiljak za učitelje s polipropilensko školjko.\nPet (5) krako zvezda aluminijasto podnožje, prašno barvano po proizvajalčevi barvni skali, na kolesih za trda tla.\nSediščna školjka iz polipropilena, (AIR cushion) lita školjka z notranjim praznim prostorom, ergonomsko sedišče opremljeno s 3D gibljivim mehanizmom pod sediščem (aktivno sedenje) , \nS pripadajočimi certifikati: BIFMA, GREENGUARD GOLD, LGA, GS, AGR, THE GLOBAL COMPACT\nOBDELAVA;\nPodnožje: arctic \nSediščna školjka: green"]
[null,"Dim. 46 / 50 cm; višina sedišča 42,4 - 55,2 cm,\nKot npr.: PantoMove-LuPo; VS Vereinigte Spezialmöbelfabriken\nali popolnoma enakovredno (tehnično in oblikovno)"]
[]
[36,"VIO3 - Visoka omara","kos",2,null,null,{"$f":"D195*F195","v":0},{"$f":"+F195*MM","v":0},{"$f":"+H195*D195","v":0},{"$f":"+F195-H195","v":0},{"$f":"+J195*D195","v":0}]
[null,"Visoka omara z dvojnimi (2) vrati zgoraj in dvojnimi (2) vrati spodaj (v notranjosti s premičnimi policami) in ključavnico,\nKonstrukcija - korpus iz materiala LIGNOpal (iverna plošča je obeh straneh laminirana z dekorativno folijo, prevlečena z melaminsko smolo) v barvi po proizvajalčevi barvni skali, robovi z varjenim ABS robom 1.5mm,\nPodnožje iz materiala LINGOpal v barvi po proizvajalčevi barvni skali, robovi z varjenim ABS robom 1.5mm,\nVrata iz materiala LINGOpal v barvi po proizvajalčevi barvni skali, robovi z varjenim ABS robom 1.5mm, odmična spona 270°,\nVrata opremljena s cilindrično ključavnico, kovinski ročaj, finalna obdelava nikelj,\nS pripadajočimi certifikati: Greenguard, BIFMA, GS-Geprüfte Sicherheit, PEFC, LGA, THE GLOBAL COMPACT, DIN ISO 38200\nOBDELAVA;\nKonstrukcija: white\nPodnožje:  white\nVrata - fronte: white"]
[null,"Dim. 100 / 42,5/ 197 cm,\nKot npr.: Serie 800 Cabinet; VS Vereinigte Spezialmöbelfabriken\nali popolnoma enakovredno (tehnično in oblikovno)"]
[]
[37,"NIO3 - nizka omara","kos",1,null,null,{"$f":"D199*F199","v":0},{"$f":"+F199*MM","v":0},{"$f":"+H199*D199","v":0},{"$f":"+F199-H199","v":0},{"$f":"+J199*D199","v":0}]
[null,"Nizka omara dvojnimi (2) vrati, v notranjosti s premičnimi policami in ključavnico. Konstrukcija - korpus iz materiala LIGNOpal (iverna plošča je obeh straneh laminirana z dekorativno folijo, prevlečena z melaminsko smolo) v barvi po proizvajalčevi barvni skali, robovi z varjenim ABS robom 1.5mm,\nPodnožje iz materiala LINGOpal v barvi po proizvajalčevi barvni skali, robovi z varjenim ABS robom 1.5mm,\nVrata iz materiala LINGOpal v barvi po proizvajalčevi barvni skali, robovi z varjenim ABS robom 1.5mm, odmična spona 270°,\nVrata opremljena s cilindrično ključavnico, kovinski ročaj, finalna obdelava nikelj,\nS pripadajočimi certifikati: Greenguard, BIFMA, GS-Geprüfte Sicherheit, PEFC, LGA, THE GLOBAL COMPACT, DIN ISO 38200\nOBDELAVA;\nKonstrukcija: white\nPodnožje: white\nVrata - fronte: white"]
[null,"Dim. 50/ 42,5/ 84,5 cm,\nKot npr.: Serie 800 Cabinet; VS Vereinigte Spezialmöbelfabriken\nali popolnoma enakovredno (tehnično in oblikovno)"]
[]
[38,"ST6 - Višinsko nastavljivi stol","kos",2,null,null,{"$f":"D203*F203","v":0},{"$f":"+F203*MM","v":0},{"$f":"+H203*D203","v":0},{"$f":"+F203-H203","v":0},{"$f":"+J203*D203","v":0}]
[null,"Stol brez hrbtišča za aktivno sedenje. Konstrukcija stola je iz polipropilena v barvi po proizvajalčevi barvni skali - C2. Osnova stola ima konveksno obliko, v notranjosti je obtežena in omogoča gibanje s 360 stopinjskim vrtenjem. Stol je opremljen s plinskim dvižnim mehanizmom, sprostitev je možna z vseh strani pod sedežem.\nKonveksno dno oblečeno v gumo sega preko robov. Sedišče stola je ergonomsko oblikovano, oblazinjeno z mehkejšo peno.\nS pripadajočimi certifikati: BIFMA, GREENGUARD GOLD, LGA, GS, AGR, THE GLOBAL COMPACT\nOBDELAVA;\nSediščna školjka: Traffic red"]
[null,"Dim. 35 / 35 cm; višina sedišča 38-50 cm,\nKot npr.: Hokki; VS Vereinigte Spezialmöbelfabriken\nali popolnoma enakovredno (tehnično in oblikovno)"]
[]
[39,"ST8 - Stol z višinsko nastavljivim naslonom za nogo","kos",1,null,null,{"$f":"D207*F207","v":0},{"$f":"+F207*MM","v":0},{"$f":"+H207*D207","v":0},{"$f":"+F207-H207","v":0},{"$f":"+J207*D207","v":0}]
[null,"Stol na fiksnem podnožju s polipropilensko školjko z dvema prečnima opornikoma iz krivljenih jeklenih cevi, ki so med seboj varjene, prašno barvane v barvi po proizvajalčevi barvni skali, z zaščitnimi čepki (drsniki prilagojenimi za obstoječa tla) z višinsko nastavljivim naslonom za nogo.\nErgonomska sediščna školjka iz polipropilena po proizvajalčevi barvni skali - C1, (AIR cushion) lita školjka z notranjim praznim prostorom. Školjka ima odprtino v hrbtišču za lažjo manipulacijo. Robovi sediščne školjke so zaobljeni. Pritrditev sediščne školjke na podnožje je nevidna.\nS pripadajočimi certifikati: BIFMA, GREENGUARD GOLD, LGA, GS, AGR, THE GLOBAL COMPACT\nOBDELAVA;\nPodnožje: Arctic\nSediščna školjka: Light green"]
[null,"Dim. 51,6 / 56,4 cm; višina sedišča 46 cm,\nKot npr.: Level-Lupo; VS Vereinigte Spezialmöbelfabriken\nali popolnoma enakovredno (tehnično in oblikovno)"]
[]
[null,"K2- Koš za smeti, npr. kovinski mrežasti","kos",1,null,null,{"$f":"D211*F211","v":0},{"$f":"+F211*MM","v":0},{"$f":"+H211*D211","v":0},{"$f":"+F211-H211","v":0},{"$f":"+J211*D211","v":0}]
[null,"Kovinski mrežasti koš za smeti\nVolumen 18 litrov\nDimenzije: višina 35,5 cm, premer 29,5                                                                                Barva: črna\nhttps://www.11st-oprema.si/drugo/kosi-za-smeti/kovinski-mrezasti-kos-za-smeti"]
[]
[null,"O1- obešalnik, npr.GENT RUSKO","kos",1,null,null,{"$f":"D214*F214","v":0},{"$f":"+F214*MM","v":0},{"$f":"+H214*D214","v":0},{"$f":"+F214-H214","v":0},{"$f":"+J214*D214","v":0}]
[null,"kovinski obešalnik  v beli barvi\ndimenzije: 46 x 46 x 170 cm\nmaterial: kovina, les\nbarva: bela                                                                                                        https://www.shoppster.com/sl-SI/p/0695800/obesalniki-in-stojala/gent-obesalnik-rusko-bel"]
[]
[null,"2. nadstropje - Predprostor z garderobami in skupnim prostor: N2C_03"]
[]
[40,"OSM3 - Oblazinjeni sedežni modul","kos",6,null,null,{"$f":"D219*F219","v":0},{"$f":"+F219*MM","v":0},{"$f":"+H219*D219","v":0},{"$f":"+F219-H219","v":0},{"$f":"+J219*D219","v":0}]
[null,"Oblazinjeni sedežni modul - unikatne ukrivljene oblike, ki je popolnoma oblazinjen.\nKonstrukcija iz vezane plošče, podnožje na zaščitnih čepih prilogenim tlem (filc),\nObdano s poliuretansko 3D peno, ter oblazinjeno v več slojnem vodoodpornem kompozitu (Stamskin top; SergeFerrari) v barvi po proizvajalčevi barvni skali. Požarna odpornost v skladu s standardom DIN 66084 - razredi P-c (nizka) in P-b (srednja). Opcijsko je pri tekstilu\nskupine S40 na voljo tudi z dodatno ognjevarno podlogo MVSS-303 (razred P-a (visok)), ki je všita pod plastjo tkanine.\nS pripadajočimi certifikati: BIFMA, GREENGUARD GOLD, LGA, GS, THE GLOBAL COMPACT, DIN 4102 B1, PEFC, DIN ISO 3820\nOBDELAVA;\nPodnožje: black \nOblazinjenje: green"]
[null,"Dim. 52.8 / 109 cm, višina sedišča 38 cm,\nKot npr.: Shift+ Landscape Seating Elements; VS Vereinigte Spezialmöbelfabriken\nali popolnoma enakovredno (tehnično in oblikovno)"]
[]
[41,"RE - Regal / mizica","kos",2,null,null,{"$f":"D223*F223","v":0},{"$f":"+F223*MM","v":0},{"$f":"+H223*D223","v":0},{"$f":"+F223-H223","v":0},{"$f":"+J223*D223","v":0}]
[null,"Regal / mizica unikatne oblike. Konstrukcija - korpus iz materiala LIGNOpal  (iverna plošča na obeh straneh laminirana z dekorativno folijo, prevlečena z melaminsko smolo) v barvi po proizvajalčevi barvni skali, robovi z varjenim ABS robom 1.5mm. Hrbtišče in stranice iz pločevine z vzorcem (perforacija) v barvi po proizvajalčevi barvni skali. \nS pripadajočimi certifikati: Greenguard, BIFMA, GS-Geprüfte Sicherheit, PEFC, LGA, THE GLOBAL COMPACT, DIN ISO 38200,\nOBDELAVA;\nHrbtišče: arctic \nMizna plošča: white"]
[null,"Dim. 110 / 52,75 / 42 cm,\nKot npr.: Shift+ Landscape Seating Elements; VS Vereinigte Spezialmöbelfabriken\nali popolnoma enakovredno (tehnično in oblikovno)"]
[]
[42,"M9 - Miza","kos",1,null,null,{"$f":"D227*F227","v":0},{"$f":"+F227*MM","v":0},{"$f":"+H227*D227","v":0},{"$f":"+F227-H227","v":0},{"$f":"+J227*D227","v":0}]
[null,"Miza unikatne oblike na štirih (4) nogah.\nKonstrukcija iz jeklenih cevi (noge iz okroglih, vezniki iz kvadratnih), ki so med seboj varjeni in vijačeni, prašno barvani po proizvajalčevi barvni skali - M1, noge na višinsko nastavljivih zaščitnih čepih, prilagojenimi za obstoječa tla.\nIverna mizna plošča (LIGNOpal), na obeh straneh laminirana z dekorativno folijo, prevlečena z melaminsko smolo\n(v barvi po proizvajalčevi barvni skali - L3) s tesno prilegajočim se plastičnim zaključnim robom (ABS 2,5 mm).\nS pripadajočimi certifikati: Greenguard, BIFMA, GS-Geprüfte Sicherheit, PEFC, LGA, THE GLOBAL COMPACT, DIN ISO 38200\nOBDELAVA;\nPodnožje: arctic \nMizna plošča: white"]
[null,"Dim. 165 / 114; višina mizne ploskve 59 cm,\nKot npr.: Puzzle free-form, VS Vereinigte Spezialmöbelfabriken\nali popolnoma enakovredno (tehnično in oblikovno)"]
[]
[43,"ST12 - Stol","kos",5,null,null,{"$f":"D231*F231","v":0},{"$f":"+F231*MM","v":0},{"$f":"+H231*D231","v":0},{"$f":"+F231-H231","v":0},{"$f":"+J231*D231","v":0}]
[null,"Stol brez hrbtišča za aktivno sedenje. Konstrukcija stola je iz polipropilena v barvi po proizvajalčevi barvni skali - C2. Osnova stola ima konveksno obliko, v notranjosti je obtežena in omogoča gibanje s 360 stopinjskim vrtenjem.\nKonveksno dno oblečeno v gumo sega preko robov. Sedišče stola je ergonomsko oblikovano, oblazinjeno z mehkejšo peno.\nS pripadajočimi certifikati: BIFMA, GREENGUARD GOLD, LGA, GS, AGR, THE GLOBAL COMPACT\nOBDELAVA;\nSediščna školjka: Traffic red"]
[null,"Dim. 35 / 35 cm; višina sedišča 38 cm,\nKot npr.: Hokki; VS Vereinigte Spezialmöbelfabriken\nali popolnoma enakovredno (tehnično in oblikovno)"]
[]
[44,"M3 - Okrogla miza","kos",1,null,null,{"$f":"D235*F235","v":0},{"$f":"+F235*MM","v":0},{"$f":"+H235*D235","v":0},{"$f":"+F235-H235","v":0},{"$f":"+J235*D235","v":0}]
[null,"Pisarniška okrogla miza.\nKonstrukcija iz kovinski profilov, ki so med seboj varjeni in vijačeni, prašno barvani po proizvajalčevi barvni skali, noge na višinsko nastavljivih zaščitnih čepih,\nMizna plošča iz materiala LIGNOpal v sivo beli barvi, rob mizne plošče v varjenem ABS materialu debeline 2.5mm,\nS pripadajočimi certifikati: Greenguard, BIFMA, GS-Geprüfte Sicherheit, PEFC, LGA, THE GLOBAL COMPACT, DIN ISO 38200, \nOBDELAVA;\nPodnožje: arctic \nMizna plošča: white"]
[null,"Dim. fi70cm; višina mizne ploskve 74 cm,\nKot npr.: RondoSit-ST; VS Vereinigte Spezialmöbelfabriken\nali popolnoma enakovredno (tehnično in oblikovno)"]
[]
[]
[45,"SGO4 - Sklop garderobnih omaric za 26 učencev","kos",1,null,null,{"$f":"D240*F240","v":0},{"$f":"+F240*MM","v":0},{"$f":"+H240*D240","v":0},{"$f":"+F240-H240","v":0},{"$f":"+J240*D240","v":0}]
[46,"Garderobne omare prirejene za otroke prve triade, sestavljene iz večih enakih ali podobnih sklopov. V najnižjem delu so predali za čevlji, sedalna polica in obešalnik za oblačila nad obešalnikom je predal za razne predmete.\nNad garderobnim delom viseča omara za shranjevanje z eno (1) premično polico in dvojimi (2) vrati .Omara ima hrbtišče iz enakega materiala kot je celotna konstrukcija. Vse omare na vratca imajo ključavnice in omejen dostop.(kapaciteta garderobe za 26 učencev: 5,46 m dolžine za hrambo predmetov,\nKonstrukcija je skladna z ostalo opremo, robovi z varjenim ABS robom 1.5mm. "]
[null,"Dim. 546 / 30 cm / višina; višina sedišča"]
[]
[47,"SGO5 - Sklop garderobnih omaric za 27 učencev","kos",1,null,null,{"$f":"D244*F244","v":0},{"$f":"+F244*MM","v":0},{"$f":"+H244*D244","v":0},{"$f":"+F244-H244","v":0},{"$f":"+J244*D244","v":0}]
[null,"Garderobne omare prirejene za otroke prve triade, sestavljene iz večih enakih ali podobnih sklopov. V najnižjem delu so predali za čevlji, sedalna polica in obešalnik za oblačila nad obešalnikom je predal za razne predmete.\nNad garderobnim delom viseča omara za shranjevanje z eno (1) premično polico in dvojimi (2) vrati .Omara ima hrbtišče iz enakega materiala kot je celotna konstrukcija. Vse omare na vratca imajo ključavnice in omejen dostop. (kapaciteta garderobe za 27 učencev: 5,69 m dolžine za hrambo predmetov,\nKonstrukcija je skladna z ostalo opremo, robovi z varjenim ABS robom 1.5mm. "]
[null,"Dim. 569 / 30 cm / višina; višina sedišča"]
[]
[48,"SGO6 - Sklop garderobnih omaric za 9 učencev","kos",1,null,null,{"$f":"D248*F248","v":0},{"$f":"+F248*MM","v":0},{"$f":"+H248*D248","v":0},{"$f":"+F248-H248","v":0},{"$f":"+J248*D248","v":0}]
[null,"Garderobne omare prirejene za otroke prve triade, sestavljene iz večih enakih ali podobnih sklopov. V najnižjem delu so predali za čevlji, sedalna polica in obešalnik za oblačila nad obešalnikom je predal za razne predmete.\nNad garderobnim delom viseča omara za shranjevanje z eno (1) premično polico in dvojimi (2) vrati .Omara ima hrbtišče iz enakega materiala kot je celotna konstrukcija. Vse omare na vratca imajo ključavnice in omejen dostop.(kapaciteta garderobe za 9 učencev: 1,91 m dolžine za hrambo predmetov,\nKonstrukcija je skladna z ostalo opremo, robovi z varjenim ABS robom 1.5mm. "]
[null,"Dim. 191/ 30 cm / višina; višina sedišča"]
[]
[49,"SGO7 - Sklop garderobnih omaric za 12 učencev","kos",1,null,null,{"$f":"D252*F252","v":0},{"$f":"+F252*MM","v":0},{"$f":"+H252*D252","v":0},{"$f":"+F252-H252","v":0},{"$f":"+J252*D252","v":0}]
[null,"Garderobne omare prirejene za otroke prve triade, sestavljene iz večih enakih ali podobnih sklopov. V najnižjem delu so predali za čevlji, sedalna polica in obešalnik za oblačila nad obešalnikom je predal za razne predmete.\nNad garderobnim delom viseča omara za shranjevanje z eno (1) premično polico in dvojimi (2) vrati .Omara ima hrbtišče iz enakega materiala kot je celotna konstrukcija. Vse omare na vratca imajo ključavnice in omejen dostop.(kapaciteta garderobe za 12 učencev: 1,91 m dolžine za hrambo predmetov,\nKonstrukcija je skladna z ostalo opremo, robovi z varjenim ABS robom 1.5mm. "]
[null,"Dim. 191/ 30 cm / višina; višina sedišča"]
[]
[null,"K2- Koš za smeti, npr. kovinski mrežasti","kos",1,null,null,{"$f":"D256*F256","v":0},{"$f":"+F256*MM","v":0},{"$f":"+H256*D256","v":0},{"$f":"+F256-H256","v":0},{"$f":"+J256*D256","v":0}]
[null,"Kovinski mrežasti koš za smeti\nVolumen 18 litrov\nDimenzije: višina 35,5 cm, premer 29,5                                                                                           Barva: črna\nhttps://www.11st-oprema.si/drugo/kosi-za-smeti/kovinski-mrezasti-kos-za-smeti"]
[]
[null,"2. nadstropje - Sanitarije Ž: N2C_09"]
[]
[null,"K1- Koš za smeti ,npr. HAN GRIP","kos",1,null,null,{"$f":"D261*F261","v":0},{"$f":"+F261*MM","v":0},{"$f":"+H261*D261","v":0},{"$f":"+F261-H261","v":0},{"$f":"+J261*D261","v":0}]
[null,"dimenzije: 312 x 237 x 345 mm (DxGxV)                                                                                 volumen: 18 litrov                                                                                           https://www.enaa.com/kosi-za-smeti/han-kos-za-smeti-grip-siv  "]
[]
[null,"M1- wc ščetka, npr. Poseidon Ewa ","kos",2,null,null,{"$f":"D264*F264","v":0},{"$f":"+F264*MM","v":0},{"$f":"+H264*D264","v":0},{"$f":"+F264-H264","v":0},{"$f":"+J264*D264","v":0}]
[null,"širina: 12,5 cm\ndolžina: 12,5 cm\nvišina: 37 cm\nbarva: bela\nmaterial: umetna masa                                                                                           https://www.bauhaus.si/wc-garnitura-poseidon-ewa-bela-pvc  "]
[]
[null,"2. nadstropje - Sanitarije M: N2C_10"]
[]
[null,"K1- Koš za smeti ,npr. HAN GRIP","kos",1,null,null,{"$f":"D269*F269","v":0},{"$f":"+F269*MM","v":0},{"$f":"+H269*D269","v":0},{"$f":"+F269-H269","v":0},{"$f":"+J269*D269","v":0}]
[null,"dimenzije: 312 x 237 x 345 mm (DxGxV)                                                                                 volumen: 18 litrov                                                                                           https://www.enaa.com/kosi-za-smeti/han-kos-za-smeti-grip-siv  "]
[]
[null,"M1- wc ščetka, npr. Poseidon Ewa ","kos",1,null,null,{"$f":"D272*F272","v":0},{"$f":"+F272*MM","v":0},{"$f":"+H272*D272","v":0},{"$f":"+F272-H272","v":0},{"$f":"+J272*D272","v":0}]
[null,"širina: 12,5 cm\ndolžina: 12,5 cm\nvišina: 37 cm\nbarva: bela\nmaterial: umetna masa                                                                                           https://www.bauhaus.si/wc-garnitura-poseidon-ewa-bela-pvc  "]
[]
[null,"2. nadstropje - Sanitarije zaposleni: N2C_11"]
[]
[null,"K1- Koš za smeti ,npr. HAN GRIP","kos",1,null,null,{"$f":"D277*F277","v":0},{"$f":"+F277*MM","v":0},{"$f":"+H277*D277","v":0},{"$f":"+F277-H277","v":0},{"$f":"+J277*D277","v":0}]
[null,"dimenzije: 312 x 237 x 345 mm (DxGxV)                                                                                 volumen: 18 litrov                                                                                           https://www.enaa.com/kosi-za-smeti/han-kos-za-smeti-grip-siv  "]
[]
[null,"M1- wc ščetka, npr. Poseidon Ewa ","kos",1,null,null,{"$f":"D280*F280","v":0},{"$f":"+F280*MM","v":0},{"$f":"+H280*D280","v":0},{"$f":"+F280-H280","v":0},{"$f":"+J280*D280","v":0}]
[null,"širina: 12,5 cm\ndolžina: 12,5 cm\nvišina: 37 cm\nbarva: bela\nmaterial: umetna masa                                                                                           https://www.bauhaus.si/wc-garnitura-poseidon-ewa-bela-pvc  "]
[]
[null,"SKUPAJ OPREMA 2. NADSTROPJE",null,null,null,null,{"$f":"SUM(G12:G282)","v":0},null,{"$f":"SUM(I12:I282)","v":0},null,{"$f":"SUM(K12:K282)","v":0}]